{"text_format":"1","workbook":"xlsx","n_sheets":10,"sheets":["Cover","Data entry form","Scenario specification","Results","hide_DropdownMenue","hide_backend","hide_backend_figures","hide_2022_LW Database","hide_2021_LW Database","hide_2020_LW Database"],"not_rendered":{"charts":12,"images":4,"macros":1,"external_links":0,"defined_names":28,"comments":6,"pivot_tables":0},"unopened":[],"bounds":{"document_bytes":16777216,"sheet_cells":100000,"rows_first":2000,"rows_last":500,"rows_between":2000,"halvings":0,"cell_chars":16384,"cell_head_chars":4096},"cells_cut":0,"cells_raw":0,"read":"whole","date_system":"1900"}

{"sheet":"Cover","index":0,"n_rows":94,"n_cols":8,"rows_kept":94,"cut":false,"hidden":false,"merged":[[2,0,2,13],[5,0,5,13],[6,0,6,13],[20,5,20,11],[27,5,27,11],[23,5,23,11],[22,5,22,11],[21,5,21,11],[3,0,3,13],[25,5,25,11],[26,5,26,11]]}
[]
[]
["Herramienta de cálculo del salario digno de GIZ"]
["v1.5 (29/12/2022)"]
[]
[]
[]
[]
[]
[null,null,"Acerca de esta herramienta",null,"Esta herramienta ofrece simulaciones de salario digno para empresas que utilizan la matriz salarial."]
[null,null,null,null,"Se calculan y se ilustran diferentes escenarios para reducir la diferencia salarial."]
[]
[null,null,"Datos requeridos",null,"Se completa información de la matriz salarial para una determinada empresa, plantación, etc."]
[]
[null,null,"Cómo utilizarla",null,1,"guardar la herramienta descargada en una carpeta para poder utilizar macros de terceros"]
[null,null,null,null,2,"aceptar macros para que funcione la herramienta de cálculo"]
[null,null,null,null,3,"completar la hoja de entrada de datos con los resultados de la matriz salarial de IDH en el «resumen detallado» agregado"]
[null,null,null,null,4,"ir a especificaciones del escenario para modificar los parámetros de los diferentes escenarios"]
[null,null,null,null,5,"ir a la hoja de resultados y explorar las implicancias de los diferentes escenarios"]
[]
[null,null,"Escenarios posibles",null,"-","considerar a todos los empleados o solo aquellos con ingresos inferiores al salario digno"]
[null,null,null,null,"-","considerar la estructura salarial existente"]
[null,null,null,null,"-","sobre la base de la diferencia salarial media o de la mayor diferencia salarial"]
[null,null,null,null,"-","agregarlo, según la demanda"]
[]
[null,null,"ATENCIÓN",null,"-","la información provista por la Herramienta de cálculo del salario digno de GIZ pretende proporcionar información no vinculante"]
[null,null,null,null,"-","la calidad de las estimaciones proporcionadas depende significativamente de la calidad y confiabilidad de la información"]
[]
[null,null,"Aviso legal",null,"Derechos de autor: ",null,"Deutsche Gesellschaft für Internationale Zusammenarbeit (GIZ) GmbH"]
[null,null,null,null,"Desarrolladores:",null,"Nicola Nuecken, Tim K. Loos, Till Ludwig"]
[null,null,null,null,"Contacto:",null,"ina@giz.de","nicola.nuecken@giz.de"]
[]
[]
[]
[]
[]
[]
[]
[]
[]
[]
[]
[]
[]
[]
[]
[]
[]
[]
[]
[]
[]
[]
[]
[]
[]
[]
[]
[]
[]
[]
[]
[]
[]
[]
[]
[]
[]
[]
[]
[]
[]
[]
[]
[]
[]
[]
[]
[]
[]
[]
[]
[]
[]
[]
[]
[]
[]
[]
[]
[]
[]
[]
[null,null,null,"Cargo","Género","Número de trabajadores"]

{"sheet":"Data entry form","index":1,"n_rows":659,"n_cols":11,"rows_kept":659,"cut":false,"hidden":false,"merged":[[16,2,16,5],[34,2,34,4],[18,2,18,5],[56,2,56,10],[47,2,47,4],[48,2,48,4],[20,2,20,5],[16,9,16,10],[27,9,27,10],[24,2,24,5],[22,2,22,5]]}
[]
[]
[]
[null,null,"Formulario para el registro de los datos"]
[]
[null,null,"Utilice este formulario para registrar toda la información salarial y empresarial relevante informada en "]
[null,null,"   - el informe resumido de su matriz salarial (en línea)"]
[null,null,"   - la hoja de resultados de su matriz salarial (hoja de Excel)"]
[null,null,"   - se puede ingresar la información correspondiente según el cargo o personas en las celdas verdes (Q3)"]
[]
[]
[]
[]
[null,null,"Q1a","Seleccione su país, región y moneda en el menú desplegable."]
[null,null,null,"Se mostrará en la fuente el correspondiente salario digno de referencia: ALINEAR conjunto de datos del salario digno e ingreso digno) "]
[]
[null,null,null,null,null,null,null,{"$f":"IF(C25=2022,IFERROR(INDEX('hide_2022_LW Database'!AZ7:BB68,MATCH('Data entry form'!C17:F17&'Data entry form'!C19:F19,'hide_2022_LW Database'!A7:A68&'hide_2022_LW Database'!BU7:BU68,0),MATCH(I17,'hide_2022_LW Database'!AZ6:BB6,0)),\"No disponible.\"),IF(C25=2021,IFERROR(INDEX('hide_2021_LW Database'!AZ7:BB66,MATCH('Data entry form'!C17:F17&'Data entry form'!C19:F19,'hide_2021_LW Database'!A7:A66&'hide_2021_LW Database'!BU7:BU66,0),MATCH(I17,'hide_2021_LW Database'!AZ6:BB6,0)),\"No disponible.\"),IF(C25=2020,IFERROR(INDEX('hide_2020_LW Database'!AZ7:BB67,MATCH('Data entry form'!C17:F17&'Data entry form'!C19:F19,'hide_2020_LW Database'!A7:A67&'hide_2020_LW Database'!BU7:BU67,0),MATCH(I17,'hide_2020_LW Database'!AZ6:BB6,0)),\"No disponible.\"),\"Año no disponible\")))","v":"Año no disponible"},{"$f":"IF(C21=\"Moneda local (LCU)\",\"LCU\",C21)","v":0},"por trabajador/a al mes"]
[null,null,null,null,null,null,null,{"$f":"IF(BenchmarkValue=\"No disponible.\",\"Compruebe la selección del país y la región.\",IF(BenchmarkValue=0,\"La divisa seleccionada no está disponible\",\"\"))","v":""}]
[]
[]
[]
[]
[null,null,"Opcional: Especificar una moneda más y el correspondiente tipo de cambio",null,null,null,null," Tipo de cambio","Divisa seleccionada"]
[]
[]
[]
[null,null,"Q1b","Ingrese una referencia definida por el usuario solo si usted no desea"]
[null,null,null,"comparar con el salario digno de referencia, p. ej., valor de referencia (BM) utilizado en la matriz salarial",null,null,null,null,{"$f":"C21","v":0},"por trabajador/a al mes"]
[]
[]
[]
[null,null,"Q2","ingrese (o copie y pegue) información clave de su empresa "]
[null,null,null,"indicada en la «Tabla 1: Resumen de la instalación» del informe de la matriz salarial"]
[]
[null,null,"Tabla 1: Resumen granja"]
[null,null,"Nombre del productor"]
[null,null,"Área de producción (ha)"]
[null,null,"Cultivo"]
[null,null,"Variedades cultivadas"]
[null,null,"Ingrese unidad de producción"]
[null,null,"Producción anual total"]
[null,null,"Año en el que se recopiló la información"]
[]
[]
[]
[null,null,"Q3","Ingrese información sobe las regulaciones específicas del país "]
[]
[null,null,"Tasas e impuestos del empleado (en %),\np. ej., contribuciones a la seguridad social",null,null,0]
[null,null,"Tasas e impuestos del empleador (en %),\np. ej., contribuciones a la seguridad social",null,null,0]
[]
[]
[]
[]
[null,null,"Q4","Ingrese (copie/pegue) la información conjunta de los trabajadores y los salarios"]
[null,null,null,"indicada en la «Tabla 4: Resultados detallados» del informe de la matriz salarial"]
[]
[null,null,"Tabla 4: Resultados detallados"]
[]
[null,null,"#","Cargo"," Género","Número de trabajadores","Total bonificaciones\najustadas por mes","Beneficios\nmensuales en especie\n(limitados al 30 %)","Salario mensual\najustado a la semana laboral media","Remuneración\nneta total","Diferencia del salario digno\n(%)"]
[null,null,1,null,null,null,null,null,null,{"$f":"IF(Tabelle3[[#This Row],[Cargo]]<>0,SUM(G60:I60),\"\")","v":""},{"$f":"IF(Tabelle3[[#This Row],[Número de trabajadores]]=0,\"\",IF($H$28<>0,(1-J60/$H$28)*100,IF($H$17<>0,(1-J60/$H$17)*100)))","v":""}]
[null,null,2,null,null,null,null,null,null,{"$f":"IF(Tabelle3[[#This Row],[Cargo]]<>0,SUM(G61:I61),\"\")","v":""},{"$f":"IF(Tabelle3[[#This Row],[Número de trabajadores]]=0,\"\",IF($H$28<>0,(1-J61/$H$28)*100,IF($H$17<>0,(1-J61/$H$17)*100)))","v":""}]
[null,null,3,null,null,null,null,null,null,{"$f":"IF(Tabelle3[[#This Row],[Cargo]]<>0,SUM(G62:I62),\"\")","v":""},{"$f":"IF(Tabelle3[[#This Row],[Número de trabajadores]]=0,\"\",IF($H$28<>0,(1-J62/$H$28)*100,IF($H$17<>0,(1-J62/$H$17)*100)))","v":""}]
[null,null,4,null,null,null,null,null,null,{"$f":"IF(Tabelle3[[#This Row],[Cargo]]<>0,SUM(G63:I63),\"\")","v":""},{"$f":"IF(Tabelle3[[#This Row],[Número de trabajadores]]=0,\"\",IF($H$28<>0,(1-J63/$H$28)*100,IF($H$17<>0,(1-J63/$H$17)*100)))","v":""}]
[null,null,5,null,null,null,null,null,null,{"$f":"IF(Tabelle3[[#This Row],[Cargo]]<>0,SUM(G64:I64),\"\")","v":""},{"$f":"IF(Tabelle3[[#This Row],[Número de trabajadores]]=0,\"\",IF($H$28<>0,(1-J64/$H$28)*100,IF($H$17<>0,(1-J64/$H$17)*100)))","v":""}]
[null,null,6,null,null,null,null,null,null,{"$f":"IF(Tabelle3[[#This Row],[Cargo]]<>0,SUM(G65:I65),\"\")","v":""},{"$f":"IF(Tabelle3[[#This Row],[Número de trabajadores]]=0,\"\",IF($H$28<>0,(1-J65/$H$28)*100,IF($H$17<>0,(1-J65/$H$17)*100)))","v":""}]
[null,null,7,null,null,null,null,null,null,{"$f":"IF(Tabelle3[[#This Row],[Cargo]]<>0,SUM(G66:I66),\"\")","v":""},{"$f":"IF(Tabelle3[[#This Row],[Número de trabajadores]]=0,\"\",IF($H$28<>0,(1-J66/$H$28)*100,IF($H$17<>0,(1-J66/$H$17)*100)))","v":""}]
[null,null,8,null,null,null,null,null,null,{"$f":"IF(Tabelle3[[#This Row],[Cargo]]<>0,SUM(G67:I67),\"\")","v":""},{"$f":"IF(Tabelle3[[#This Row],[Número de trabajadores]]=0,\"\",IF($H$28<>0,(1-J67/$H$28)*100,IF($H$17<>0,(1-J67/$H$17)*100)))","v":""}]
[null,null,9,null,null,null,null,null,null,{"$f":"IF(Tabelle3[[#This Row],[Cargo]]<>0,SUM(G68:I68),\"\")","v":""},{"$f":"IF(Tabelle3[[#This Row],[Número de trabajadores]]=0,\"\",IF($H$28<>0,(1-J68/$H$28)*100,IF($H$17<>0,(1-J68/$H$17)*100)))","v":""}]
[null,null,10,null,null,null,null,null,null,{"$f":"IF(Tabelle3[[#This Row],[Cargo]]<>0,SUM(G69:I69),\"\")","v":""},{"$f":"IF(Tabelle3[[#This Row],[Número de trabajadores]]=0,\"\",IF($H$28<>0,(1-J69/$H$28)*100,IF($H$17<>0,(1-J69/$H$17)*100)))","v":""}]
[null,null,11,null,null,null,null,null,null,{"$f":"IF(Tabelle3[[#This Row],[Cargo]]<>0,SUM(G70:I70),\"\")","v":""},{"$f":"IF(Tabelle3[[#This Row],[Número de trabajadores]]=0,\"\",IF($H$28<>0,(1-J70/$H$28)*100,IF($H$17<>0,(1-J70/$H$17)*100)))","v":""}]
[null,null,12,null,null,null,null,null,null,{"$f":"IF(Tabelle3[[#This Row],[Cargo]]<>0,SUM(G71:I71),\"\")","v":""},{"$f":"IF(Tabelle3[[#This Row],[Número de trabajadores]]=0,\"\",IF($H$28<>0,(1-J71/$H$28)*100,IF($H$17<>0,(1-J71/$H$17)*100)))","v":""}]
[null,null,13,null,null,null,null,null,null,{"$f":"IF(Tabelle3[[#This Row],[Cargo]]<>0,SUM(G72:I72),\"\")","v":""},{"$f":"IF(Tabelle3[[#This Row],[Número de trabajadores]]=0,\"\",IF($H$28<>0,(1-J72/$H$28)*100,IF($H$17<>0,(1-J72/$H$17)*100)))","v":""}]
[null,null,14,null,null,null,null,null,null,{"$f":"IF(Tabelle3[[#This Row],[Cargo]]<>0,SUM(G73:I73),\"\")","v":""},{"$f":"IF(Tabelle3[[#This Row],[Número de trabajadores]]=0,\"\",IF($H$28<>0,(1-J73/$H$28)*100,IF($H$17<>0,(1-J73/$H$17)*100)))","v":""}]
[null,null,15,null,null,null,null,null,null,{"$f":"IF(Tabelle3[[#This Row],[Cargo]]<>0,SUM(G74:I74),\"\")","v":""},{"$f":"IF(Tabelle3[[#This Row],[Número de trabajadores]]=0,\"\",IF($H$28<>0,(1-J74/$H$28)*100,IF($H$17<>0,(1-J74/$H$17)*100)))","v":""}]
[null,null,16,null,null,null,null,null,null,{"$f":"IF(Tabelle3[[#This Row],[Cargo]]<>0,SUM(G75:I75),\"\")","v":""},{"$f":"IF(Tabelle3[[#This Row],[Número de trabajadores]]=0,\"\",IF($H$28<>0,(1-J75/$H$28)*100,IF($H$17<>0,(1-J75/$H$17)*100)))","v":""}]
[null,null,17,null,null,null,null,null,null,{"$f":"IF(Tabelle3[[#This Row],[Cargo]]<>0,SUM(G76:I76),\"\")","v":""},{"$f":"IF(Tabelle3[[#This Row],[Número de trabajadores]]=0,\"\",IF($H$28<>0,(1-J76/$H$28)*100,IF($H$17<>0,(1-J76/$H$17)*100)))","v":""}]
[null,null,18,null,null,null,null,null,null,{"$f":"IF(Tabelle3[[#This Row],[Cargo]]<>0,SUM(G77:I77),\"\")","v":""},{"$f":"IF(Tabelle3[[#This Row],[Número de trabajadores]]=0,\"\",IF($H$28<>0,(1-J77/$H$28)*100,IF($H$17<>0,(1-J77/$H$17)*100)))","v":""}]
[null,null,19,null,null,null,null,null,null,{"$f":"IF(Tabelle3[[#This Row],[Cargo]]<>0,SUM(G78:I78),\"\")","v":""},{"$f":"IF(Tabelle3[[#This Row],[Número de trabajadores]]=0,\"\",IF($H$28<>0,(1-J78/$H$28)*100,IF($H$17<>0,(1-J78/$H$17)*100)))","v":""}]
[null,null,20,null,null,null,null,null,null,{"$f":"IF(Tabelle3[[#This Row],[Cargo]]<>0,SUM(G79:I79),\"\")","v":""},{"$f":"IF(Tabelle3[[#This Row],[Número de trabajadores]]=0,\"\",IF($H$28<>0,(1-J79/$H$28)*100,IF($H$17<>0,(1-J79/$H$17)*100)))","v":""}]
[null,null,21,null,null,null,null,null,null,{"$f":"IF(Tabelle3[[#This Row],[Cargo]]<>0,SUM(G80:I80),\"\")","v":""},{"$f":"IF(Tabelle3[[#This Row],[Número de trabajadores]]=0,\"\",IF($H$28<>0,(1-J80/$H$28)*100,IF($H$17<>0,(1-J80/$H$17)*100)))","v":""}]
[null,null,22,null,null,null,null,null,null,{"$f":"IF(Tabelle3[[#This Row],[Cargo]]<>0,SUM(G81:I81),\"\")","v":""},{"$f":"IF(Tabelle3[[#This Row],[Número de trabajadores]]=0,\"\",IF($H$28<>0,(1-J81/$H$28)*100,IF($H$17<>0,(1-J81/$H$17)*100)))","v":""}]
[null,null,23,null,null,null,null,null,null,{"$f":"IF(Tabelle3[[#This Row],[Cargo]]<>0,SUM(G82:I82),\"\")","v":""},{"$f":"IF(Tabelle3[[#This Row],[Número de trabajadores]]=0,\"\",IF($H$28<>0,(1-J82/$H$28)*100,IF($H$17<>0,(1-J82/$H$17)*100)))","v":""}]
[null,null,24,null,null,null,null,null,null,{"$f":"IF(Tabelle3[[#This Row],[Cargo]]<>0,SUM(G83:I83),\"\")","v":""},{"$f":"IF(Tabelle3[[#This Row],[Número de trabajadores]]=0,\"\",IF($H$28<>0,(1-J83/$H$28)*100,IF($H$17<>0,(1-J83/$H$17)*100)))","v":""}]
[null,null,25,null,null,null,null,null,null,{"$f":"IF(Tabelle3[[#This Row],[Cargo]]<>0,SUM(G84:I84),\"\")","v":""},{"$f":"IF(Tabelle3[[#This Row],[Número de trabajadores]]=0,\"\",IF($H$28<>0,(1-J84/$H$28)*100,IF($H$17<>0,(1-J84/$H$17)*100)))","v":""}]
[null,null,26,null,null,null,null,null,null,{"$f":"IF(Tabelle3[[#This Row],[Cargo]]<>0,SUM(G85:I85),\"\")","v":""},{"$f":"IF(Tabelle3[[#This Row],[Número de trabajadores]]=0,\"\",IF($H$28<>0,(1-J85/$H$28)*100,IF($H$17<>0,(1-J85/$H$17)*100)))","v":""}]
[null,null,27,null,null,null,null,null,null,{"$f":"IF(Tabelle3[[#This Row],[Cargo]]<>0,SUM(G86:I86),\"\")","v":""},{"$f":"IF(Tabelle3[[#This Row],[Número de trabajadores]]=0,\"\",IF($H$28<>0,(1-J86/$H$28)*100,IF($H$17<>0,(1-J86/$H$17)*100)))","v":""}]
[null,null,28,null,null,null,null,null,null,{"$f":"IF(Tabelle3[[#This Row],[Cargo]]<>0,SUM(G87:I87),\"\")","v":""},{"$f":"IF(Tabelle3[[#This Row],[Número de trabajadores]]=0,\"\",IF($H$28<>0,(1-J87/$H$28)*100,IF($H$17<>0,(1-J87/$H$17)*100)))","v":""}]
[null,null,29,null,null,null,null,null,null,{"$f":"IF(Tabelle3[[#This Row],[Cargo]]<>0,SUM(G88:I88),\"\")","v":""},{"$f":"IF(Tabelle3[[#This Row],[Número de trabajadores]]=0,\"\",IF($H$28<>0,(1-J88/$H$28)*100,IF($H$17<>0,(1-J88/$H$17)*100)))","v":""}]
[null,null,30,null,null,null,null,null,null,{"$f":"IF(Tabelle3[[#This Row],[Cargo]]<>0,SUM(G89:I89),\"\")","v":""},{"$f":"IF(Tabelle3[[#This Row],[Número de trabajadores]]=0,\"\",IF($H$28<>0,(1-J89/$H$28)*100,IF($H$17<>0,(1-J89/$H$17)*100)))","v":""}]
[null,null,31,null,null,null,null,null,null,{"$f":"IF(Tabelle3[[#This Row],[Cargo]]<>0,SUM(G90:I90),\"\")","v":""},{"$f":"IF(Tabelle3[[#This Row],[Número de trabajadores]]=0,\"\",IF($H$28<>0,(1-J90/$H$28)*100,IF($H$17<>0,(1-J90/$H$17)*100)))","v":""}]
[null,null,32,null,null,null,null,null,null,{"$f":"IF(Tabelle3[[#This Row],[Cargo]]<>0,SUM(G91:I91),\"\")","v":""},{"$f":"IF(Tabelle3[[#This Row],[Número de trabajadores]]=0,\"\",IF($H$28<>0,(1-J91/$H$28)*100,IF($H$17<>0,(1-J91/$H$17)*100)))","v":""}]
[null,null,33,null,null,null,null,null,null,{"$f":"IF(Tabelle3[[#This Row],[Cargo]]<>0,SUM(G92:I92),\"\")","v":""},{"$f":"IF(Tabelle3[[#This Row],[Número de trabajadores]]=0,\"\",IF($H$28<>0,(1-J92/$H$28)*100,IF($H$17<>0,(1-J92/$H$17)*100)))","v":""}]
[null,null,34,null,null,null,null,null,null,{"$f":"IF(Tabelle3[[#This Row],[Cargo]]<>0,SUM(G93:I93),\"\")","v":""},{"$f":"IF(Tabelle3[[#This Row],[Número de trabajadores]]=0,\"\",IF($H$28<>0,(1-J93/$H$28)*100,IF($H$17<>0,(1-J93/$H$17)*100)))","v":""}]
[null,null,35,null,null,null,null,null,null,{"$f":"IF(Tabelle3[[#This Row],[Cargo]]<>0,SUM(G94:I94),\"\")","v":""},{"$f":"IF(Tabelle3[[#This Row],[Número de trabajadores]]=0,\"\",IF($H$28<>0,(1-J94/$H$28)*100,IF($H$17<>0,(1-J94/$H$17)*100)))","v":""}]
[null,null,36,null,null,null,null,null,null,{"$f":"IF(Tabelle3[[#This Row],[Cargo]]<>0,SUM(G95:I95),\"\")","v":""},{"$f":"IF(Tabelle3[[#This Row],[Número de trabajadores]]=0,\"\",IF($H$28<>0,(1-J95/$H$28)*100,IF($H$17<>0,(1-J95/$H$17)*100)))","v":""}]
[null,null,37,null,null,null,null,null,null,{"$f":"IF(Tabelle3[[#This Row],[Cargo]]<>0,SUM(G96:I96),\"\")","v":""},{"$f":"IF(Tabelle3[[#This Row],[Número de trabajadores]]=0,\"\",IF($H$28<>0,(1-J96/$H$28)*100,IF($H$17<>0,(1-J96/$H$17)*100)))","v":""}]
[null,null,38,null,null,null,null,null,null,{"$f":"IF(Tabelle3[[#This Row],[Cargo]]<>0,SUM(G97:I97),\"\")","v":""},{"$f":"IF(Tabelle3[[#This Row],[Número de trabajadores]]=0,\"\",IF($H$28<>0,(1-J97/$H$28)*100,IF($H$17<>0,(1-J97/$H$17)*100)))","v":""}]
[null,null,39,null,null,null,null,null,null,{"$f":"IF(Tabelle3[[#This Row],[Cargo]]<>0,SUM(G98:I98),\"\")","v":""},{"$f":"IF(Tabelle3[[#This Row],[Número de trabajadores]]=0,\"\",IF($H$28<>0,(1-J98/$H$28)*100,IF($H$17<>0,(1-J98/$H$17)*100)))","v":""}]
[null,null,40,null,null,null,null,null,null,{"$f":"IF(Tabelle3[[#This Row],[Cargo]]<>0,SUM(G99:I99),\"\")","v":""},{"$f":"IF(Tabelle3[[#This Row],[Número de trabajadores]]=0,\"\",IF($H$28<>0,(1-J99/$H$28)*100,IF($H$17<>0,(1-J99/$H$17)*100)))","v":""}]
[null,null,41,null,null,null,null,null,null,{"$f":"IF(Tabelle3[[#This Row],[Cargo]]<>0,SUM(G100:I100),\"\")","v":""},{"$f":"IF(Tabelle3[[#This Row],[Número de trabajadores]]=0,\"\",IF($H$28<>0,(1-J100/$H$28)*100,IF($H$17<>0,(1-J100/$H$17)*100)))","v":""}]
[null,null,42,null,null,null,null,null,null,{"$f":"IF(Tabelle3[[#This Row],[Cargo]]<>0,SUM(G101:I101),\"\")","v":""},{"$f":"IF(Tabelle3[[#This Row],[Número de trabajadores]]=0,\"\",IF($H$28<>0,(1-J101/$H$28)*100,IF($H$17<>0,(1-J101/$H$17)*100)))","v":""}]
[null,null,43,null,null,null,null,null,null,{"$f":"IF(Tabelle3[[#This Row],[Cargo]]<>0,SUM(G102:I102),\"\")","v":""},{"$f":"IF(Tabelle3[[#This Row],[Número de trabajadores]]=0,\"\",IF($H$28<>0,(1-J102/$H$28)*100,IF($H$17<>0,(1-J102/$H$17)*100)))","v":""}]
[null,null,44,null,null,null,null,null,null,{"$f":"IF(Tabelle3[[#This Row],[Cargo]]<>0,SUM(G103:I103),\"\")","v":""},{"$f":"IF(Tabelle3[[#This Row],[Número de trabajadores]]=0,\"\",IF($H$28<>0,(1-J103/$H$28)*100,IF($H$17<>0,(1-J103/$H$17)*100)))","v":""}]
[null,null,45,null,null,null,null,null,null,{"$f":"IF(Tabelle3[[#This Row],[Cargo]]<>0,SUM(G104:I104),\"\")","v":""},{"$f":"IF(Tabelle3[[#This Row],[Número de trabajadores]]=0,\"\",IF($H$28<>0,(1-J104/$H$28)*100,IF($H$17<>0,(1-J104/$H$17)*100)))","v":""}]
[null,null,46,null,null,null,null,null,null,{"$f":"IF(Tabelle3[[#This Row],[Cargo]]<>0,SUM(G105:I105),\"\")","v":""},{"$f":"IF(Tabelle3[[#This Row],[Número de trabajadores]]=0,\"\",IF($H$28<>0,(1-J105/$H$28)*100,IF($H$17<>0,(1-J105/$H$17)*100)))","v":""}]
[null,null,47,null,null,null,null,null,null,{"$f":"IF(Tabelle3[[#This Row],[Cargo]]<>0,SUM(G106:I106),\"\")","v":""},{"$f":"IF(Tabelle3[[#This Row],[Número de trabajadores]]=0,\"\",IF($H$28<>0,(1-J106/$H$28)*100,IF($H$17<>0,(1-J106/$H$17)*100)))","v":""}]
[null,null,48,null,null,null,null,null,null,{"$f":"IF(Tabelle3[[#This Row],[Cargo]]<>0,SUM(G107:I107),\"\")","v":""},{"$f":"IF(Tabelle3[[#This Row],[Número de trabajadores]]=0,\"\",IF($H$28<>0,(1-J107/$H$28)*100,IF($H$17<>0,(1-J107/$H$17)*100)))","v":""}]
[null,null,49,null,null,null,null,null,null,{"$f":"IF(Tabelle3[[#This Row],[Cargo]]<>0,SUM(G108:I108),\"\")","v":""},{"$f":"IF(Tabelle3[[#This Row],[Número de trabajadores]]=0,\"\",IF($H$28<>0,(1-J108/$H$28)*100,IF($H$17<>0,(1-J108/$H$17)*100)))","v":""}]
[null,null,50,null,null,null,null,null,null,{"$f":"IF(Tabelle3[[#This Row],[Cargo]]<>0,SUM(G109:I109),\"\")","v":""},{"$f":"IF(Tabelle3[[#This Row],[Número de trabajadores]]=0,\"\",IF($H$28<>0,(1-J109/$H$28)*100,IF($H$17<>0,(1-J109/$H$17)*100)))","v":""}]
[null,null,51,null,null,null,null,null,null,{"$f":"IF(Tabelle3[[#This Row],[Cargo]]<>0,SUM(G110:I110),\"\")","v":""},{"$f":"IF(Tabelle3[[#This Row],[Número de trabajadores]]=0,\"\",IF($H$28<>0,(1-J110/$H$28)*100,IF($H$17<>0,(1-J110/$H$17)*100)))","v":""}]
[null,null,52,null,null,null,null,null,null,{"$f":"IF(Tabelle3[[#This Row],[Cargo]]<>0,SUM(G111:I111),\"\")","v":""},{"$f":"IF(Tabelle3[[#This Row],[Número de trabajadores]]=0,\"\",IF($H$28<>0,(1-J111/$H$28)*100,IF($H$17<>0,(1-J111/$H$17)*100)))","v":""}]
[null,null,53,null,null,null,null,null,null,{"$f":"IF(Tabelle3[[#This Row],[Cargo]]<>0,SUM(G112:I112),\"\")","v":""},{"$f":"IF(Tabelle3[[#This Row],[Número de trabajadores]]=0,\"\",IF($H$28<>0,(1-J112/$H$28)*100,IF($H$17<>0,(1-J112/$H$17)*100)))","v":""}]
[null,null,54,null,null,null,null,null,null,{"$f":"IF(Tabelle3[[#This Row],[Cargo]]<>0,SUM(G113:I113),\"\")","v":""},{"$f":"IF(Tabelle3[[#This Row],[Número de trabajadores]]=0,\"\",IF($H$28<>0,(1-J113/$H$28)*100,IF($H$17<>0,(1-J113/$H$17)*100)))","v":""}]
[null,null,55,null,null,null,null,null,null,{"$f":"IF(Tabelle3[[#This Row],[Cargo]]<>0,SUM(G114:I114),\"\")","v":""},{"$f":"IF(Tabelle3[[#This Row],[Número de trabajadores]]=0,\"\",IF($H$28<>0,(1-J114/$H$28)*100,IF($H$17<>0,(1-J114/$H$17)*100)))","v":""}]
[null,null,56,null,null,null,null,null,null,{"$f":"IF(Tabelle3[[#This Row],[Cargo]]<>0,SUM(G115:I115),\"\")","v":""},{"$f":"IF(Tabelle3[[#This Row],[Número de trabajadores]]=0,\"\",IF($H$28<>0,(1-J115/$H$28)*100,IF($H$17<>0,(1-J115/$H$17)*100)))","v":""}]
[null,null,57,null,null,null,null,null,null,{"$f":"IF(Tabelle3[[#This Row],[Cargo]]<>0,SUM(G116:I116),\"\")","v":""},{"$f":"IF(Tabelle3[[#This Row],[Número de trabajadores]]=0,\"\",IF($H$28<>0,(1-J116/$H$28)*100,IF($H$17<>0,(1-J116/$H$17)*100)))","v":""}]
[null,null,58,null,null,null,null,null,null,{"$f":"IF(Tabelle3[[#This Row],[Cargo]]<>0,SUM(G117:I117),\"\")","v":""},{"$f":"IF(Tabelle3[[#This Row],[Número de trabajadores]]=0,\"\",IF($H$28<>0,(1-J117/$H$28)*100,IF($H$17<>0,(1-J117/$H$17)*100)))","v":""}]
[null,null,59,null,null,null,null,null,null,{"$f":"IF(Tabelle3[[#This Row],[Cargo]]<>0,SUM(G118:I118),\"\")","v":""},{"$f":"IF(Tabelle3[[#This Row],[Número de trabajadores]]=0,\"\",IF($H$28<>0,(1-J118/$H$28)*100,IF($H$17<>0,(1-J118/$H$17)*100)))","v":""}]
[null,null,60,null,null,null,null,null,null,{"$f":"IF(Tabelle3[[#This Row],[Cargo]]<>0,SUM(G119:I119),\"\")","v":""},{"$f":"IF(Tabelle3[[#This Row],[Número de trabajadores]]=0,\"\",IF($H$28<>0,(1-J119/$H$28)*100,IF($H$17<>0,(1-J119/$H$17)*100)))","v":""}]
[null,null,61,null,null,null,null,null,null,{"$f":"IF(Tabelle3[[#This Row],[Cargo]]<>0,SUM(G120:I120),\"\")","v":""},{"$f":"IF(Tabelle3[[#This Row],[Número de trabajadores]]=0,\"\",IF($H$28<>0,(1-J120/$H$28)*100,IF($H$17<>0,(1-J120/$H$17)*100)))","v":""}]
[null,null,62,null,null,null,null,null,null,{"$f":"IF(Tabelle3[[#This Row],[Cargo]]<>0,SUM(G121:I121),\"\")","v":""},{"$f":"IF(Tabelle3[[#This Row],[Número de trabajadores]]=0,\"\",IF($H$28<>0,(1-J121/$H$28)*100,IF($H$17<>0,(1-J121/$H$17)*100)))","v":""}]
[null,null,63,null,null,null,null,null,null,{"$f":"IF(Tabelle3[[#This Row],[Cargo]]<>0,SUM(G122:I122),\"\")","v":""},{"$f":"IF(Tabelle3[[#This Row],[Número de trabajadores]]=0,\"\",IF($H$28<>0,(1-J122/$H$28)*100,IF($H$17<>0,(1-J122/$H$17)*100)))","v":""}]
[null,null,64,null,null,null,null,null,null,{"$f":"IF(Tabelle3[[#This Row],[Cargo]]<>0,SUM(G123:I123),\"\")","v":""},{"$f":"IF(Tabelle3[[#This Row],[Número de trabajadores]]=0,\"\",IF($H$28<>0,(1-J123/$H$28)*100,IF($H$17<>0,(1-J123/$H$17)*100)))","v":""}]
[null,null,65,null,null,null,null,null,null,{"$f":"IF(Tabelle3[[#This Row],[Cargo]]<>0,SUM(G124:I124),\"\")","v":""},{"$f":"IF(Tabelle3[[#This Row],[Número de trabajadores]]=0,\"\",IF($H$28<>0,(1-J124/$H$28)*100,IF($H$17<>0,(1-J124/$H$17)*100)))","v":""}]
[null,null,66,null,null,null,null,null,null,{"$f":"IF(Tabelle3[[#This Row],[Cargo]]<>0,SUM(G125:I125),\"\")","v":""},{"$f":"IF(Tabelle3[[#This Row],[Número de trabajadores]]=0,\"\",IF($H$28<>0,(1-J125/$H$28)*100,IF($H$17<>0,(1-J125/$H$17)*100)))","v":""}]
[null,null,67,null,null,null,null,null,null,{"$f":"IF(Tabelle3[[#This Row],[Cargo]]<>0,SUM(G126:I126),\"\")","v":""},{"$f":"IF(Tabelle3[[#This Row],[Número de trabajadores]]=0,\"\",IF($H$28<>0,(1-J126/$H$28)*100,IF($H$17<>0,(1-J126/$H$17)*100)))","v":""}]
[null,null,68,null,null,null,null,null,null,{"$f":"IF(Tabelle3[[#This Row],[Cargo]]<>0,SUM(G127:I127),\"\")","v":""},{"$f":"IF(Tabelle3[[#This Row],[Número de trabajadores]]=0,\"\",IF($H$28<>0,(1-J127/$H$28)*100,IF($H$17<>0,(1-J127/$H$17)*100)))","v":""}]
[null,null,69,null,null,null,null,null,null,{"$f":"IF(Tabelle3[[#This Row],[Cargo]]<>0,SUM(G128:I128),\"\")","v":""},{"$f":"IF(Tabelle3[[#This Row],[Número de trabajadores]]=0,\"\",IF($H$28<>0,(1-J128/$H$28)*100,IF($H$17<>0,(1-J128/$H$17)*100)))","v":""}]
[null,null,70,null,null,null,null,null,null,{"$f":"IF(Tabelle3[[#This Row],[Cargo]]<>0,SUM(G129:I129),\"\")","v":""},{"$f":"IF(Tabelle3[[#This Row],[Número de trabajadores]]=0,\"\",IF($H$28<>0,(1-J129/$H$28)*100,IF($H$17<>0,(1-J129/$H$17)*100)))","v":""}]
[null,null,71,null,null,null,null,null,null,{"$f":"IF(Tabelle3[[#This Row],[Cargo]]<>0,SUM(G130:I130),\"\")","v":""},{"$f":"IF(Tabelle3[[#This Row],[Número de trabajadores]]=0,\"\",IF($H$28<>0,(1-J130/$H$28)*100,IF($H$17<>0,(1-J130/$H$17)*100)))","v":""}]
[null,null,72,null,null,null,null,null,null,{"$f":"IF(Tabelle3[[#This Row],[Cargo]]<>0,SUM(G131:I131),\"\")","v":""},{"$f":"IF(Tabelle3[[#This Row],[Número de trabajadores]]=0,\"\",IF($H$28<>0,(1-J131/$H$28)*100,IF($H$17<>0,(1-J131/$H$17)*100)))","v":""}]
[null,null,73,null,null,null,null,null,null,{"$f":"IF(Tabelle3[[#This Row],[Cargo]]<>0,SUM(G132:I132),\"\")","v":""},{"$f":"IF(Tabelle3[[#This Row],[Número de trabajadores]]=0,\"\",IF($H$28<>0,(1-J132/$H$28)*100,IF($H$17<>0,(1-J132/$H$17)*100)))","v":""}]
[null,null,74,null,null,null,null,null,null,{"$f":"IF(Tabelle3[[#This Row],[Cargo]]<>0,SUM(G133:I133),\"\")","v":""},{"$f":"IF(Tabelle3[[#This Row],[Número de trabajadores]]=0,\"\",IF($H$28<>0,(1-J133/$H$28)*100,IF($H$17<>0,(1-J133/$H$17)*100)))","v":""}]
[null,null,75,null,null,null,null,null,null,{"$f":"IF(Tabelle3[[#This Row],[Cargo]]<>0,SUM(G134:I134),\"\")","v":""},{"$f":"IF(Tabelle3[[#This Row],[Número de trabajadores]]=0,\"\",IF($H$28<>0,(1-J134/$H$28)*100,IF($H$17<>0,(1-J134/$H$17)*100)))","v":""}]
[null,null,76,null,null,null,null,null,null,{"$f":"IF(Tabelle3[[#This Row],[Cargo]]<>0,SUM(G135:I135),\"\")","v":""},{"$f":"IF(Tabelle3[[#This Row],[Número de trabajadores]]=0,\"\",IF($H$28<>0,(1-J135/$H$28)*100,IF($H$17<>0,(1-J135/$H$17)*100)))","v":""}]
[null,null,77,null,null,null,null,null,null,{"$f":"IF(Tabelle3[[#This Row],[Cargo]]<>0,SUM(G136:I136),\"\")","v":""},{"$f":"IF(Tabelle3[[#This Row],[Número de trabajadores]]=0,\"\",IF($H$28<>0,(1-J136/$H$28)*100,IF($H$17<>0,(1-J136/$H$17)*100)))","v":""}]
[null,null,78,null,null,null,null,null,null,{"$f":"IF(Tabelle3[[#This Row],[Cargo]]<>0,SUM(G137:I137),\"\")","v":""},{"$f":"IF(Tabelle3[[#This Row],[Número de trabajadores]]=0,\"\",IF($H$28<>0,(1-J137/$H$28)*100,IF($H$17<>0,(1-J137/$H$17)*100)))","v":""}]
[null,null,79,null,null,null,null,null,null,{"$f":"IF(Tabelle3[[#This Row],[Cargo]]<>0,SUM(G138:I138),\"\")","v":""},{"$f":"IF(Tabelle3[[#This Row],[Número de trabajadores]]=0,\"\",IF($H$28<>0,(1-J138/$H$28)*100,IF($H$17<>0,(1-J138/$H$17)*100)))","v":""}]
[null,null,80,null,null,null,null,null,null,{"$f":"IF(Tabelle3[[#This Row],[Cargo]]<>0,SUM(G139:I139),\"\")","v":""},{"$f":"IF(Tabelle3[[#This Row],[Número de trabajadores]]=0,\"\",IF($H$28<>0,(1-J139/$H$28)*100,IF($H$17<>0,(1-J139/$H$17)*100)))","v":""}]
[null,null,81,null,null,null,null,null,null,{"$f":"IF(Tabelle3[[#This Row],[Cargo]]<>0,SUM(G140:I140),\"\")","v":""},{"$f":"IF(Tabelle3[[#This Row],[Número de trabajadores]]=0,\"\",IF($H$28<>0,(1-J140/$H$28)*100,IF($H$17<>0,(1-J140/$H$17)*100)))","v":""}]
[null,null,82,null,null,null,null,null,null,{"$f":"IF(Tabelle3[[#This Row],[Cargo]]<>0,SUM(G141:I141),\"\")","v":""},{"$f":"IF(Tabelle3[[#This Row],[Número de trabajadores]]=0,\"\",IF($H$28<>0,(1-J141/$H$28)*100,IF($H$17<>0,(1-J141/$H$17)*100)))","v":""}]
[null,null,83,null,null,null,null,null,null,{"$f":"IF(Tabelle3[[#This Row],[Cargo]]<>0,SUM(G142:I142),\"\")","v":""},{"$f":"IF(Tabelle3[[#This Row],[Número de trabajadores]]=0,\"\",IF($H$28<>0,(1-J142/$H$28)*100,IF($H$17<>0,(1-J142/$H$17)*100)))","v":""}]
[null,null,84,null,null,null,null,null,null,{"$f":"IF(Tabelle3[[#This Row],[Cargo]]<>0,SUM(G143:I143),\"\")","v":""},{"$f":"IF(Tabelle3[[#This Row],[Número de trabajadores]]=0,\"\",IF($H$28<>0,(1-J143/$H$28)*100,IF($H$17<>0,(1-J143/$H$17)*100)))","v":""}]
[null,null,85,null,null,null,null,null,null,{"$f":"IF(Tabelle3[[#This Row],[Cargo]]<>0,SUM(G144:I144),\"\")","v":""},{"$f":"IF(Tabelle3[[#This Row],[Número de trabajadores]]=0,\"\",IF($H$28<>0,(1-J144/$H$28)*100,IF($H$17<>0,(1-J144/$H$17)*100)))","v":""}]
[null,null,86,null,null,null,null,null,null,{"$f":"IF(Tabelle3[[#This Row],[Cargo]]<>0,SUM(G145:I145),\"\")","v":""},{"$f":"IF(Tabelle3[[#This Row],[Número de trabajadores]]=0,\"\",IF($H$28<>0,(1-J145/$H$28)*100,IF($H$17<>0,(1-J145/$H$17)*100)))","v":""}]
[null,null,87,null,null,null,null,null,null,{"$f":"IF(Tabelle3[[#This Row],[Cargo]]<>0,SUM(G146:I146),\"\")","v":""},{"$f":"IF(Tabelle3[[#This Row],[Número de trabajadores]]=0,\"\",IF($H$28<>0,(1-J146/$H$28)*100,IF($H$17<>0,(1-J146/$H$17)*100)))","v":""}]
[null,null,88,null,null,null,null,null,null,{"$f":"IF(Tabelle3[[#This Row],[Cargo]]<>0,SUM(G147:I147),\"\")","v":""},{"$f":"IF(Tabelle3[[#This Row],[Número de trabajadores]]=0,\"\",IF($H$28<>0,(1-J147/$H$28)*100,IF($H$17<>0,(1-J147/$H$17)*100)))","v":""}]
[null,null,89,null,null,null,null,null,null,{"$f":"IF(Tabelle3[[#This Row],[Cargo]]<>0,SUM(G148:I148),\"\")","v":""},{"$f":"IF(Tabelle3[[#This Row],[Número de trabajadores]]=0,\"\",IF($H$28<>0,(1-J148/$H$28)*100,IF($H$17<>0,(1-J148/$H$17)*100)))","v":""}]
[null,null,90,null,null,null,null,null,null,{"$f":"IF(Tabelle3[[#This Row],[Cargo]]<>0,SUM(G149:I149),\"\")","v":""},{"$f":"IF(Tabelle3[[#This Row],[Número de trabajadores]]=0,\"\",IF($H$28<>0,(1-J149/$H$28)*100,IF($H$17<>0,(1-J149/$H$17)*100)))","v":""}]
[null,null,91,null,null,null,null,null,null,{"$f":"IF(Tabelle3[[#This Row],[Cargo]]<>0,SUM(G150:I150),\"\")","v":""},{"$f":"IF(Tabelle3[[#This Row],[Número de trabajadores]]=0,\"\",IF($H$28<>0,(1-J150/$H$28)*100,IF($H$17<>0,(1-J150/$H$17)*100)))","v":""}]
[null,null,92,null,null,null,null,null,null,{"$f":"IF(Tabelle3[[#This Row],[Cargo]]<>0,SUM(G151:I151),\"\")","v":""},{"$f":"IF(Tabelle3[[#This Row],[Número de trabajadores]]=0,\"\",IF($H$28<>0,(1-J151/$H$28)*100,IF($H$17<>0,(1-J151/$H$17)*100)))","v":""}]
[null,null,93,null,null,null,null,null,null,{"$f":"IF(Tabelle3[[#This Row],[Cargo]]<>0,SUM(G152:I152),\"\")","v":""},{"$f":"IF(Tabelle3[[#This Row],[Número de trabajadores]]=0,\"\",IF($H$28<>0,(1-J152/$H$28)*100,IF($H$17<>0,(1-J152/$H$17)*100)))","v":""}]
[null,null,94,null,null,null,null,null,null,{"$f":"IF(Tabelle3[[#This Row],[Cargo]]<>0,SUM(G153:I153),\"\")","v":""},{"$f":"IF(Tabelle3[[#This Row],[Número de trabajadores]]=0,\"\",IF($H$28<>0,(1-J153/$H$28)*100,IF($H$17<>0,(1-J153/$H$17)*100)))","v":""}]
[null,null,95,null,null,null,null,null,null,{"$f":"IF(Tabelle3[[#This Row],[Cargo]]<>0,SUM(G154:I154),\"\")","v":""},{"$f":"IF(Tabelle3[[#This Row],[Número de trabajadores]]=0,\"\",IF($H$28<>0,(1-J154/$H$28)*100,IF($H$17<>0,(1-J154/$H$17)*100)))","v":""}]
[null,null,96,null,null,null,null,null,null,{"$f":"IF(Tabelle3[[#This Row],[Cargo]]<>0,SUM(G155:I155),\"\")","v":""},{"$f":"IF(Tabelle3[[#This Row],[Número de trabajadores]]=0,\"\",IF($H$28<>0,(1-J155/$H$28)*100,IF($H$17<>0,(1-J155/$H$17)*100)))","v":""}]
[null,null,97,null,null,null,null,null,null,{"$f":"IF(Tabelle3[[#This Row],[Cargo]]<>0,SUM(G156:I156),\"\")","v":""},{"$f":"IF(Tabelle3[[#This Row],[Número de trabajadores]]=0,\"\",IF($H$28<>0,(1-J156/$H$28)*100,IF($H$17<>0,(1-J156/$H$17)*100)))","v":""}]
[null,null,98,null,null,null,null,null,null,{"$f":"IF(Tabelle3[[#This Row],[Cargo]]<>0,SUM(G157:I157),\"\")","v":""},{"$f":"IF(Tabelle3[[#This Row],[Número de trabajadores]]=0,\"\",IF($H$28<>0,(1-J157/$H$28)*100,IF($H$17<>0,(1-J157/$H$17)*100)))","v":""}]
[null,null,99,null,null,null,null,null,null,{"$f":"IF(Tabelle3[[#This Row],[Cargo]]<>0,SUM(G158:I158),\"\")","v":""},{"$f":"IF(Tabelle3[[#This Row],[Número de trabajadores]]=0,\"\",IF($H$28<>0,(1-J158/$H$28)*100,IF($H$17<>0,(1-J158/$H$17)*100)))","v":""}]
[null,null,100,null,null,null,null,null,null,{"$f":"IF(Tabelle3[[#This Row],[Cargo]]<>0,SUM(G159:I159),\"\")","v":""},{"$f":"IF(Tabelle3[[#This Row],[Número de trabajadores]]=0,\"\",IF($H$28<>0,(1-J159/$H$28)*100,IF($H$17<>0,(1-J159/$H$17)*100)))","v":""}]
[null,null,101,null,null,null,null,null,null,{"$f":"IF(Tabelle3[[#This Row],[Cargo]]<>0,SUM(G160:I160),\"\")","v":""},{"$f":"IF(Tabelle3[[#This Row],[Número de trabajadores]]=0,\"\",IF($H$28<>0,(1-J160/$H$28)*100,IF($H$17<>0,(1-J160/$H$17)*100)))","v":""}]
[null,null,102,null,null,null,null,null,null,{"$f":"IF(Tabelle3[[#This Row],[Cargo]]<>0,SUM(G161:I161),\"\")","v":""},{"$f":"IF(Tabelle3[[#This Row],[Número de trabajadores]]=0,\"\",IF($H$28<>0,(1-J161/$H$28)*100,IF($H$17<>0,(1-J161/$H$17)*100)))","v":""}]
[null,null,103,null,null,null,null,null,null,{"$f":"IF(Tabelle3[[#This Row],[Cargo]]<>0,SUM(G162:I162),\"\")","v":""},{"$f":"IF(Tabelle3[[#This Row],[Número de trabajadores]]=0,\"\",IF($H$28<>0,(1-J162/$H$28)*100,IF($H$17<>0,(1-J162/$H$17)*100)))","v":""}]
[null,null,104,null,null,null,null,null,null,{"$f":"IF(Tabelle3[[#This Row],[Cargo]]<>0,SUM(G163:I163),\"\")","v":""},{"$f":"IF(Tabelle3[[#This Row],[Número de trabajadores]]=0,\"\",IF($H$28<>0,(1-J163/$H$28)*100,IF($H$17<>0,(1-J163/$H$17)*100)))","v":""}]
[null,null,105,null,null,null,null,null,null,{"$f":"IF(Tabelle3[[#This Row],[Cargo]]<>0,SUM(G164:I164),\"\")","v":""},{"$f":"IF(Tabelle3[[#This Row],[Número de trabajadores]]=0,\"\",IF($H$28<>0,(1-J164/$H$28)*100,IF($H$17<>0,(1-J164/$H$17)*100)))","v":""}]
[null,null,106,null,null,null,null,null,null,{"$f":"IF(Tabelle3[[#This Row],[Cargo]]<>0,SUM(G165:I165),\"\")","v":""},{"$f":"IF(Tabelle3[[#This Row],[Número de trabajadores]]=0,\"\",IF($H$28<>0,(1-J165/$H$28)*100,IF($H$17<>0,(1-J165/$H$17)*100)))","v":""}]
[null,null,107,null,null,null,null,null,null,{"$f":"IF(Tabelle3[[#This Row],[Cargo]]<>0,SUM(G166:I166),\"\")","v":""},{"$f":"IF(Tabelle3[[#This Row],[Número de trabajadores]]=0,\"\",IF($H$28<>0,(1-J166/$H$28)*100,IF($H$17<>0,(1-J166/$H$17)*100)))","v":""}]
[null,null,108,null,null,null,null,null,null,{"$f":"IF(Tabelle3[[#This Row],[Cargo]]<>0,SUM(G167:I167),\"\")","v":""},{"$f":"IF(Tabelle3[[#This Row],[Número de trabajadores]]=0,\"\",IF($H$28<>0,(1-J167/$H$28)*100,IF($H$17<>0,(1-J167/$H$17)*100)))","v":""}]
[null,null,109,null,null,null,null,null,null,{"$f":"IF(Tabelle3[[#This Row],[Cargo]]<>0,SUM(G168:I168),\"\")","v":""},{"$f":"IF(Tabelle3[[#This Row],[Número de trabajadores]]=0,\"\",IF($H$28<>0,(1-J168/$H$28)*100,IF($H$17<>0,(1-J168/$H$17)*100)))","v":""}]
[null,null,110,null,null,null,null,null,null,{"$f":"IF(Tabelle3[[#This Row],[Cargo]]<>0,SUM(G169:I169),\"\")","v":""},{"$f":"IF(Tabelle3[[#This Row],[Número de trabajadores]]=0,\"\",IF($H$28<>0,(1-J169/$H$28)*100,IF($H$17<>0,(1-J169/$H$17)*100)))","v":""}]
[null,null,111,null,null,null,null,null,null,{"$f":"IF(Tabelle3[[#This Row],[Cargo]]<>0,SUM(G170:I170),\"\")","v":""},{"$f":"IF(Tabelle3[[#This Row],[Número de trabajadores]]=0,\"\",IF($H$28<>0,(1-J170/$H$28)*100,IF($H$17<>0,(1-J170/$H$17)*100)))","v":""}]
[null,null,112,null,null,null,null,null,null,{"$f":"IF(Tabelle3[[#This Row],[Cargo]]<>0,SUM(G171:I171),\"\")","v":""},{"$f":"IF(Tabelle3[[#This Row],[Número de trabajadores]]=0,\"\",IF($H$28<>0,(1-J171/$H$28)*100,IF($H$17<>0,(1-J171/$H$17)*100)))","v":""}]
[null,null,113,null,null,null,null,null,null,{"$f":"IF(Tabelle3[[#This Row],[Cargo]]<>0,SUM(G172:I172),\"\")","v":""},{"$f":"IF(Tabelle3[[#This Row],[Número de trabajadores]]=0,\"\",IF($H$28<>0,(1-J172/$H$28)*100,IF($H$17<>0,(1-J172/$H$17)*100)))","v":""}]
[null,null,114,null,null,null,null,null,null,{"$f":"IF(Tabelle3[[#This Row],[Cargo]]<>0,SUM(G173:I173),\"\")","v":""},{"$f":"IF(Tabelle3[[#This Row],[Número de trabajadores]]=0,\"\",IF($H$28<>0,(1-J173/$H$28)*100,IF($H$17<>0,(1-J173/$H$17)*100)))","v":""}]
[null,null,115,null,null,null,null,null,null,{"$f":"IF(Tabelle3[[#This Row],[Cargo]]<>0,SUM(G174:I174),\"\")","v":""},{"$f":"IF(Tabelle3[[#This Row],[Número de trabajadores]]=0,\"\",IF($H$28<>0,(1-J174/$H$28)*100,IF($H$17<>0,(1-J174/$H$17)*100)))","v":""}]
[null,null,116,null,null,null,null,null,null,{"$f":"IF(Tabelle3[[#This Row],[Cargo]]<>0,SUM(G175:I175),\"\")","v":""},{"$f":"IF(Tabelle3[[#This Row],[Número de trabajadores]]=0,\"\",IF($H$28<>0,(1-J175/$H$28)*100,IF($H$17<>0,(1-J175/$H$17)*100)))","v":""}]
[null,null,117,null,null,null,null,null,null,{"$f":"IF(Tabelle3[[#This Row],[Cargo]]<>0,SUM(G176:I176),\"\")","v":""},{"$f":"IF(Tabelle3[[#This Row],[Número de trabajadores]]=0,\"\",IF($H$28<>0,(1-J176/$H$28)*100,IF($H$17<>0,(1-J176/$H$17)*100)))","v":""}]
[null,null,118,null,null,null,null,null,null,{"$f":"IF(Tabelle3[[#This Row],[Cargo]]<>0,SUM(G177:I177),\"\")","v":""},{"$f":"IF(Tabelle3[[#This Row],[Número de trabajadores]]=0,\"\",IF($H$28<>0,(1-J177/$H$28)*100,IF($H$17<>0,(1-J177/$H$17)*100)))","v":""}]
[null,null,119,null,null,null,null,null,null,{"$f":"IF(Tabelle3[[#This Row],[Cargo]]<>0,SUM(G178:I178),\"\")","v":""},{"$f":"IF(Tabelle3[[#This Row],[Número de trabajadores]]=0,\"\",IF($H$28<>0,(1-J178/$H$28)*100,IF($H$17<>0,(1-J178/$H$17)*100)))","v":""}]
[null,null,120,null,null,null,null,null,null,{"$f":"IF(Tabelle3[[#This Row],[Cargo]]<>0,SUM(G179:I179),\"\")","v":""},{"$f":"IF(Tabelle3[[#This Row],[Número de trabajadores]]=0,\"\",IF($H$28<>0,(1-J179/$H$28)*100,IF($H$17<>0,(1-J179/$H$17)*100)))","v":""}]
[null,null,121,null,null,null,null,null,null,{"$f":"IF(Tabelle3[[#This Row],[Cargo]]<>0,SUM(G180:I180),\"\")","v":""},{"$f":"IF(Tabelle3[[#This Row],[Número de trabajadores]]=0,\"\",IF($H$28<>0,(1-J180/$H$28)*100,IF($H$17<>0,(1-J180/$H$17)*100)))","v":""}]
[null,null,122,null,null,null,null,null,null,{"$f":"IF(Tabelle3[[#This Row],[Cargo]]<>0,SUM(G181:I181),\"\")","v":""},{"$f":"IF(Tabelle3[[#This Row],[Número de trabajadores]]=0,\"\",IF($H$28<>0,(1-J181/$H$28)*100,IF($H$17<>0,(1-J181/$H$17)*100)))","v":""}]
[null,null,123,null,null,null,null,null,null,{"$f":"IF(Tabelle3[[#This Row],[Cargo]]<>0,SUM(G182:I182),\"\")","v":""},{"$f":"IF(Tabelle3[[#This Row],[Número de trabajadores]]=0,\"\",IF($H$28<>0,(1-J182/$H$28)*100,IF($H$17<>0,(1-J182/$H$17)*100)))","v":""}]
[null,null,124,null,null,null,null,null,null,{"$f":"IF(Tabelle3[[#This Row],[Cargo]]<>0,SUM(G183:I183),\"\")","v":""},{"$f":"IF(Tabelle3[[#This Row],[Número de trabajadores]]=0,\"\",IF($H$28<>0,(1-J183/$H$28)*100,IF($H$17<>0,(1-J183/$H$17)*100)))","v":""}]
[null,null,125,null,null,null,null,null,null,{"$f":"IF(Tabelle3[[#This Row],[Cargo]]<>0,SUM(G184:I184),\"\")","v":""},{"$f":"IF(Tabelle3[[#This Row],[Número de trabajadores]]=0,\"\",IF($H$28<>0,(1-J184/$H$28)*100,IF($H$17<>0,(1-J184/$H$17)*100)))","v":""}]
[null,null,126,null,null,null,null,null,null,{"$f":"IF(Tabelle3[[#This Row],[Cargo]]<>0,SUM(G185:I185),\"\")","v":""},{"$f":"IF(Tabelle3[[#This Row],[Número de trabajadores]]=0,\"\",IF($H$28<>0,(1-J185/$H$28)*100,IF($H$17<>0,(1-J185/$H$17)*100)))","v":""}]
[null,null,127,null,null,null,null,null,null,{"$f":"IF(Tabelle3[[#This Row],[Cargo]]<>0,SUM(G186:I186),\"\")","v":""},{"$f":"IF(Tabelle3[[#This Row],[Número de trabajadores]]=0,\"\",IF($H$28<>0,(1-J186/$H$28)*100,IF($H$17<>0,(1-J186/$H$17)*100)))","v":""}]
[null,null,128,null,null,null,null,null,null,{"$f":"IF(Tabelle3[[#This Row],[Cargo]]<>0,SUM(G187:I187),\"\")","v":""},{"$f":"IF(Tabelle3[[#This Row],[Número de trabajadores]]=0,\"\",IF($H$28<>0,(1-J187/$H$28)*100,IF($H$17<>0,(1-J187/$H$17)*100)))","v":""}]
[null,null,129,null,null,null,null,null,null,{"$f":"IF(Tabelle3[[#This Row],[Cargo]]<>0,SUM(G188:I188),\"\")","v":""},{"$f":"IF(Tabelle3[[#This Row],[Número de trabajadores]]=0,\"\",IF($H$28<>0,(1-J188/$H$28)*100,IF($H$17<>0,(1-J188/$H$17)*100)))","v":""}]
[null,null,130,null,null,null,null,null,null,{"$f":"IF(Tabelle3[[#This Row],[Cargo]]<>0,SUM(G189:I189),\"\")","v":""},{"$f":"IF(Tabelle3[[#This Row],[Número de trabajadores]]=0,\"\",IF($H$28<>0,(1-J189/$H$28)*100,IF($H$17<>0,(1-J189/$H$17)*100)))","v":""}]
[null,null,131,null,null,null,null,null,null,{"$f":"IF(Tabelle3[[#This Row],[Cargo]]<>0,SUM(G190:I190),\"\")","v":""},{"$f":"IF(Tabelle3[[#This Row],[Número de trabajadores]]=0,\"\",IF($H$28<>0,(1-J190/$H$28)*100,IF($H$17<>0,(1-J190/$H$17)*100)))","v":""}]
[null,null,132,null,null,null,null,null,null,{"$f":"IF(Tabelle3[[#This Row],[Cargo]]<>0,SUM(G191:I191),\"\")","v":""},{"$f":"IF(Tabelle3[[#This Row],[Número de trabajadores]]=0,\"\",IF($H$28<>0,(1-J191/$H$28)*100,IF($H$17<>0,(1-J191/$H$17)*100)))","v":""}]
[null,null,133,null,null,null,null,null,null,{"$f":"IF(Tabelle3[[#This Row],[Cargo]]<>0,SUM(G192:I192),\"\")","v":""},{"$f":"IF(Tabelle3[[#This Row],[Número de trabajadores]]=0,\"\",IF($H$28<>0,(1-J192/$H$28)*100,IF($H$17<>0,(1-J192/$H$17)*100)))","v":""}]
[null,null,134,null,null,null,null,null,null,{"$f":"IF(Tabelle3[[#This Row],[Cargo]]<>0,SUM(G193:I193),\"\")","v":""},{"$f":"IF(Tabelle3[[#This Row],[Número de trabajadores]]=0,\"\",IF($H$28<>0,(1-J193/$H$28)*100,IF($H$17<>0,(1-J193/$H$17)*100)))","v":""}]
[null,null,135,null,null,null,null,null,null,{"$f":"IF(Tabelle3[[#This Row],[Cargo]]<>0,SUM(G194:I194),\"\")","v":""},{"$f":"IF(Tabelle3[[#This Row],[Número de trabajadores]]=0,\"\",IF($H$28<>0,(1-J194/$H$28)*100,IF($H$17<>0,(1-J194/$H$17)*100)))","v":""}]
[null,null,136,null,null,null,null,null,null,{"$f":"IF(Tabelle3[[#This Row],[Cargo]]<>0,SUM(G195:I195),\"\")","v":""},{"$f":"IF(Tabelle3[[#This Row],[Número de trabajadores]]=0,\"\",IF($H$28<>0,(1-J195/$H$28)*100,IF($H$17<>0,(1-J195/$H$17)*100)))","v":""}]
[null,null,137,null,null,null,null,null,null,{"$f":"IF(Tabelle3[[#This Row],[Cargo]]<>0,SUM(G196:I196),\"\")","v":""},{"$f":"IF(Tabelle3[[#This Row],[Número de trabajadores]]=0,\"\",IF($H$28<>0,(1-J196/$H$28)*100,IF($H$17<>0,(1-J196/$H$17)*100)))","v":""}]
[null,null,138,null,null,null,null,null,null,{"$f":"IF(Tabelle3[[#This Row],[Cargo]]<>0,SUM(G197:I197),\"\")","v":""},{"$f":"IF(Tabelle3[[#This Row],[Número de trabajadores]]=0,\"\",IF($H$28<>0,(1-J197/$H$28)*100,IF($H$17<>0,(1-J197/$H$17)*100)))","v":""}]
[null,null,139,null,null,null,null,null,null,{"$f":"IF(Tabelle3[[#This Row],[Cargo]]<>0,SUM(G198:I198),\"\")","v":""},{"$f":"IF(Tabelle3[[#This Row],[Número de trabajadores]]=0,\"\",IF($H$28<>0,(1-J198/$H$28)*100,IF($H$17<>0,(1-J198/$H$17)*100)))","v":""}]
[null,null,140,null,null,null,null,null,null,{"$f":"IF(Tabelle3[[#This Row],[Cargo]]<>0,SUM(G199:I199),\"\")","v":""},{"$f":"IF(Tabelle3[[#This Row],[Número de trabajadores]]=0,\"\",IF($H$28<>0,(1-J199/$H$28)*100,IF($H$17<>0,(1-J199/$H$17)*100)))","v":""}]
[null,null,141,null,null,null,null,null,null,{"$f":"IF(Tabelle3[[#This Row],[Cargo]]<>0,SUM(G200:I200),\"\")","v":""},{"$f":"IF(Tabelle3[[#This Row],[Número de trabajadores]]=0,\"\",IF($H$28<>0,(1-J200/$H$28)*100,IF($H$17<>0,(1-J200/$H$17)*100)))","v":""}]
[null,null,142,null,null,null,null,null,null,{"$f":"IF(Tabelle3[[#This Row],[Cargo]]<>0,SUM(G201:I201),\"\")","v":""},{"$f":"IF(Tabelle3[[#This Row],[Número de trabajadores]]=0,\"\",IF($H$28<>0,(1-J201/$H$28)*100,IF($H$17<>0,(1-J201/$H$17)*100)))","v":""}]
[null,null,143,null,null,null,null,null,null,{"$f":"IF(Tabelle3[[#This Row],[Cargo]]<>0,SUM(G202:I202),\"\")","v":""},{"$f":"IF(Tabelle3[[#This Row],[Número de trabajadores]]=0,\"\",IF($H$28<>0,(1-J202/$H$28)*100,IF($H$17<>0,(1-J202/$H$17)*100)))","v":""}]
[null,null,144,null,null,null,null,null,null,{"$f":"IF(Tabelle3[[#This Row],[Cargo]]<>0,SUM(G203:I203),\"\")","v":""},{"$f":"IF(Tabelle3[[#This Row],[Número de trabajadores]]=0,\"\",IF($H$28<>0,(1-J203/$H$28)*100,IF($H$17<>0,(1-J203/$H$17)*100)))","v":""}]
[null,null,145,null,null,null,null,null,null,{"$f":"IF(Tabelle3[[#This Row],[Cargo]]<>0,SUM(G204:I204),\"\")","v":""},{"$f":"IF(Tabelle3[[#This Row],[Número de trabajadores]]=0,\"\",IF($H$28<>0,(1-J204/$H$28)*100,IF($H$17<>0,(1-J204/$H$17)*100)))","v":""}]
[null,null,146,null,null,null,null,null,null,{"$f":"IF(Tabelle3[[#This Row],[Cargo]]<>0,SUM(G205:I205),\"\")","v":""},{"$f":"IF(Tabelle3[[#This Row],[Número de trabajadores]]=0,\"\",IF($H$28<>0,(1-J205/$H$28)*100,IF($H$17<>0,(1-J205/$H$17)*100)))","v":""}]
[null,null,147,null,null,null,null,null,null,{"$f":"IF(Tabelle3[[#This Row],[Cargo]]<>0,SUM(G206:I206),\"\")","v":""},{"$f":"IF(Tabelle3[[#This Row],[Número de trabajadores]]=0,\"\",IF($H$28<>0,(1-J206/$H$28)*100,IF($H$17<>0,(1-J206/$H$17)*100)))","v":""}]
[null,null,148,null,null,null,null,null,null,{"$f":"IF(Tabelle3[[#This Row],[Cargo]]<>0,SUM(G207:I207),\"\")","v":""},{"$f":"IF(Tabelle3[[#This Row],[Número de trabajadores]]=0,\"\",IF($H$28<>0,(1-J207/$H$28)*100,IF($H$17<>0,(1-J207/$H$17)*100)))","v":""}]
[null,null,149,null,null,null,null,null,null,{"$f":"IF(Tabelle3[[#This Row],[Cargo]]<>0,SUM(G208:I208),\"\")","v":""},{"$f":"IF(Tabelle3[[#This Row],[Número de trabajadores]]=0,\"\",IF($H$28<>0,(1-J208/$H$28)*100,IF($H$17<>0,(1-J208/$H$17)*100)))","v":""}]
[null,null,150,null,null,null,null,null,null,{"$f":"IF(Tabelle3[[#This Row],[Cargo]]<>0,SUM(G209:I209),\"\")","v":""},{"$f":"IF(Tabelle3[[#This Row],[Número de trabajadores]]=0,\"\",IF($H$28<>0,(1-J209/$H$28)*100,IF($H$17<>0,(1-J209/$H$17)*100)))","v":""}]
[null,null,151,null,null,null,null,null,null,{"$f":"IF(Tabelle3[[#This Row],[Cargo]]<>0,SUM(G210:I210),\"\")","v":""},{"$f":"IF(Tabelle3[[#This Row],[Número de trabajadores]]=0,\"\",IF($H$28<>0,(1-J210/$H$28)*100,IF($H$17<>0,(1-J210/$H$17)*100)))","v":""}]
[null,null,152,null,null,null,null,null,null,{"$f":"IF(Tabelle3[[#This Row],[Cargo]]<>0,SUM(G211:I211),\"\")","v":""},{"$f":"IF(Tabelle3[[#This Row],[Número de trabajadores]]=0,\"\",IF($H$28<>0,(1-J211/$H$28)*100,IF($H$17<>0,(1-J211/$H$17)*100)))","v":""}]
[null,null,153,null,null,null,null,null,null,{"$f":"IF(Tabelle3[[#This Row],[Cargo]]<>0,SUM(G212:I212),\"\")","v":""},{"$f":"IF(Tabelle3[[#This Row],[Número de trabajadores]]=0,\"\",IF($H$28<>0,(1-J212/$H$28)*100,IF($H$17<>0,(1-J212/$H$17)*100)))","v":""}]
[null,null,154,null,null,null,null,null,null,{"$f":"IF(Tabelle3[[#This Row],[Cargo]]<>0,SUM(G213:I213),\"\")","v":""},{"$f":"IF(Tabelle3[[#This Row],[Número de trabajadores]]=0,\"\",IF($H$28<>0,(1-J213/$H$28)*100,IF($H$17<>0,(1-J213/$H$17)*100)))","v":""}]
[null,null,155,null,null,null,null,null,null,{"$f":"IF(Tabelle3[[#This Row],[Cargo]]<>0,SUM(G214:I214),\"\")","v":""},{"$f":"IF(Tabelle3[[#This Row],[Número de trabajadores]]=0,\"\",IF($H$28<>0,(1-J214/$H$28)*100,IF($H$17<>0,(1-J214/$H$17)*100)))","v":""}]
[null,null,156,null,null,null,null,null,null,{"$f":"IF(Tabelle3[[#This Row],[Cargo]]<>0,SUM(G215:I215),\"\")","v":""},{"$f":"IF(Tabelle3[[#This Row],[Número de trabajadores]]=0,\"\",IF($H$28<>0,(1-J215/$H$28)*100,IF($H$17<>0,(1-J215/$H$17)*100)))","v":""}]
[null,null,157,null,null,null,null,null,null,{"$f":"IF(Tabelle3[[#This Row],[Cargo]]<>0,SUM(G216:I216),\"\")","v":""},{"$f":"IF(Tabelle3[[#This Row],[Número de trabajadores]]=0,\"\",IF($H$28<>0,(1-J216/$H$28)*100,IF($H$17<>0,(1-J216/$H$17)*100)))","v":""}]
[null,null,158,null,null,null,null,null,null,{"$f":"IF(Tabelle3[[#This Row],[Cargo]]<>0,SUM(G217:I217),\"\")","v":""},{"$f":"IF(Tabelle3[[#This Row],[Número de trabajadores]]=0,\"\",IF($H$28<>0,(1-J217/$H$28)*100,IF($H$17<>0,(1-J217/$H$17)*100)))","v":""}]
[null,null,159,null,null,null,null,null,null,{"$f":"IF(Tabelle3[[#This Row],[Cargo]]<>0,SUM(G218:I218),\"\")","v":""},{"$f":"IF(Tabelle3[[#This Row],[Número de trabajadores]]=0,\"\",IF($H$28<>0,(1-J218/$H$28)*100,IF($H$17<>0,(1-J218/$H$17)*100)))","v":""}]
[null,null,160,null,null,null,null,null,null,{"$f":"IF(Tabelle3[[#This Row],[Cargo]]<>0,SUM(G219:I219),\"\")","v":""},{"$f":"IF(Tabelle3[[#This Row],[Número de trabajadores]]=0,\"\",IF($H$28<>0,(1-J219/$H$28)*100,IF($H$17<>0,(1-J219/$H$17)*100)))","v":""}]
[null,null,161,null,null,null,null,null,null,{"$f":"IF(Tabelle3[[#This Row],[Cargo]]<>0,SUM(G220:I220),\"\")","v":""},{"$f":"IF(Tabelle3[[#This Row],[Número de trabajadores]]=0,\"\",IF($H$28<>0,(1-J220/$H$28)*100,IF($H$17<>0,(1-J220/$H$17)*100)))","v":""}]
[null,null,162,null,null,null,null,null,null,{"$f":"IF(Tabelle3[[#This Row],[Cargo]]<>0,SUM(G221:I221),\"\")","v":""},{"$f":"IF(Tabelle3[[#This Row],[Número de trabajadores]]=0,\"\",IF($H$28<>0,(1-J221/$H$28)*100,IF($H$17<>0,(1-J221/$H$17)*100)))","v":""}]
[null,null,163,null,null,null,null,null,null,{"$f":"IF(Tabelle3[[#This Row],[Cargo]]<>0,SUM(G222:I222),\"\")","v":""},{"$f":"IF(Tabelle3[[#This Row],[Número de trabajadores]]=0,\"\",IF($H$28<>0,(1-J222/$H$28)*100,IF($H$17<>0,(1-J222/$H$17)*100)))","v":""}]
[null,null,164,null,null,null,null,null,null,{"$f":"IF(Tabelle3[[#This Row],[Cargo]]<>0,SUM(G223:I223),\"\")","v":""},{"$f":"IF(Tabelle3[[#This Row],[Número de trabajadores]]=0,\"\",IF($H$28<>0,(1-J223/$H$28)*100,IF($H$17<>0,(1-J223/$H$17)*100)))","v":""}]
[null,null,165,null,null,null,null,null,null,{"$f":"IF(Tabelle3[[#This Row],[Cargo]]<>0,SUM(G224:I224),\"\")","v":""},{"$f":"IF(Tabelle3[[#This Row],[Número de trabajadores]]=0,\"\",IF($H$28<>0,(1-J224/$H$28)*100,IF($H$17<>0,(1-J224/$H$17)*100)))","v":""}]
[null,null,166,null,null,null,null,null,null,{"$f":"IF(Tabelle3[[#This Row],[Cargo]]<>0,SUM(G225:I225),\"\")","v":""},{"$f":"IF(Tabelle3[[#This Row],[Número de trabajadores]]=0,\"\",IF($H$28<>0,(1-J225/$H$28)*100,IF($H$17<>0,(1-J225/$H$17)*100)))","v":""}]
[null,null,167,null,null,null,null,null,null,{"$f":"IF(Tabelle3[[#This Row],[Cargo]]<>0,SUM(G226:I226),\"\")","v":""},{"$f":"IF(Tabelle3[[#This Row],[Número de trabajadores]]=0,\"\",IF($H$28<>0,(1-J226/$H$28)*100,IF($H$17<>0,(1-J226/$H$17)*100)))","v":""}]
[null,null,168,null,null,null,null,null,null,{"$f":"IF(Tabelle3[[#This Row],[Cargo]]<>0,SUM(G227:I227),\"\")","v":""},{"$f":"IF(Tabelle3[[#This Row],[Número de trabajadores]]=0,\"\",IF($H$28<>0,(1-J227/$H$28)*100,IF($H$17<>0,(1-J227/$H$17)*100)))","v":""}]
[null,null,169,null,null,null,null,null,null,{"$f":"IF(Tabelle3[[#This Row],[Cargo]]<>0,SUM(G228:I228),\"\")","v":""},{"$f":"IF(Tabelle3[[#This Row],[Número de trabajadores]]=0,\"\",IF($H$28<>0,(1-J228/$H$28)*100,IF($H$17<>0,(1-J228/$H$17)*100)))","v":""}]
[null,null,170,null,null,null,null,null,null,{"$f":"IF(Tabelle3[[#This Row],[Cargo]]<>0,SUM(G229:I229),\"\")","v":""},{"$f":"IF(Tabelle3[[#This Row],[Número de trabajadores]]=0,\"\",IF($H$28<>0,(1-J229/$H$28)*100,IF($H$17<>0,(1-J229/$H$17)*100)))","v":""}]
[null,null,171,null,null,null,null,null,null,{"$f":"IF(Tabelle3[[#This Row],[Cargo]]<>0,SUM(G230:I230),\"\")","v":""},{"$f":"IF(Tabelle3[[#This Row],[Número de trabajadores]]=0,\"\",IF($H$28<>0,(1-J230/$H$28)*100,IF($H$17<>0,(1-J230/$H$17)*100)))","v":""}]
[null,null,172,null,null,null,null,null,null,{"$f":"IF(Tabelle3[[#This Row],[Cargo]]<>0,SUM(G231:I231),\"\")","v":""},{"$f":"IF(Tabelle3[[#This Row],[Número de trabajadores]]=0,\"\",IF($H$28<>0,(1-J231/$H$28)*100,IF($H$17<>0,(1-J231/$H$17)*100)))","v":""}]
[null,null,173,null,null,null,null,null,null,{"$f":"IF(Tabelle3[[#This Row],[Cargo]]<>0,SUM(G232:I232),\"\")","v":""},{"$f":"IF(Tabelle3[[#This Row],[Número de trabajadores]]=0,\"\",IF($H$28<>0,(1-J232/$H$28)*100,IF($H$17<>0,(1-J232/$H$17)*100)))","v":""}]
[null,null,174,null,null,null,null,null,null,{"$f":"IF(Tabelle3[[#This Row],[Cargo]]<>0,SUM(G233:I233),\"\")","v":""},{"$f":"IF(Tabelle3[[#This Row],[Número de trabajadores]]=0,\"\",IF($H$28<>0,(1-J233/$H$28)*100,IF($H$17<>0,(1-J233/$H$17)*100)))","v":""}]
[null,null,175,null,null,null,null,null,null,{"$f":"IF(Tabelle3[[#This Row],[Cargo]]<>0,SUM(G234:I234),\"\")","v":""},{"$f":"IF(Tabelle3[[#This Row],[Número de trabajadores]]=0,\"\",IF($H$28<>0,(1-J234/$H$28)*100,IF($H$17<>0,(1-J234/$H$17)*100)))","v":""}]
[null,null,176,null,null,null,null,null,null,{"$f":"IF(Tabelle3[[#This Row],[Cargo]]<>0,SUM(G235:I235),\"\")","v":""},{"$f":"IF(Tabelle3[[#This Row],[Número de trabajadores]]=0,\"\",IF($H$28<>0,(1-J235/$H$28)*100,IF($H$17<>0,(1-J235/$H$17)*100)))","v":""}]
[null,null,177,null,null,null,null,null,null,{"$f":"IF(Tabelle3[[#This Row],[Cargo]]<>0,SUM(G236:I236),\"\")","v":""},{"$f":"IF(Tabelle3[[#This Row],[Número de trabajadores]]=0,\"\",IF($H$28<>0,(1-J236/$H$28)*100,IF($H$17<>0,(1-J236/$H$17)*100)))","v":""}]
[null,null,178,null,null,null,null,null,null,{"$f":"IF(Tabelle3[[#This Row],[Cargo]]<>0,SUM(G237:I237),\"\")","v":""},{"$f":"IF(Tabelle3[[#This Row],[Número de trabajadores]]=0,\"\",IF($H$28<>0,(1-J237/$H$28)*100,IF($H$17<>0,(1-J237/$H$17)*100)))","v":""}]
[null,null,179,null,null,null,null,null,null,{"$f":"IF(Tabelle3[[#This Row],[Cargo]]<>0,SUM(G238:I238),\"\")","v":""},{"$f":"IF(Tabelle3[[#This Row],[Número de trabajadores]]=0,\"\",IF($H$28<>0,(1-J238/$H$28)*100,IF($H$17<>0,(1-J238/$H$17)*100)))","v":""}]
[null,null,180,null,null,null,null,null,null,{"$f":"IF(Tabelle3[[#This Row],[Cargo]]<>0,SUM(G239:I239),\"\")","v":""},{"$f":"IF(Tabelle3[[#This Row],[Número de trabajadores]]=0,\"\",IF($H$28<>0,(1-J239/$H$28)*100,IF($H$17<>0,(1-J239/$H$17)*100)))","v":""}]
[null,null,181,null,null,null,null,null,null,{"$f":"IF(Tabelle3[[#This Row],[Cargo]]<>0,SUM(G240:I240),\"\")","v":""},{"$f":"IF(Tabelle3[[#This Row],[Número de trabajadores]]=0,\"\",IF($H$28<>0,(1-J240/$H$28)*100,IF($H$17<>0,(1-J240/$H$17)*100)))","v":""}]
[null,null,182,null,null,null,null,null,null,{"$f":"IF(Tabelle3[[#This Row],[Cargo]]<>0,SUM(G241:I241),\"\")","v":""},{"$f":"IF(Tabelle3[[#This Row],[Número de trabajadores]]=0,\"\",IF($H$28<>0,(1-J241/$H$28)*100,IF($H$17<>0,(1-J241/$H$17)*100)))","v":""}]
[null,null,183,null,null,null,null,null,null,{"$f":"IF(Tabelle3[[#This Row],[Cargo]]<>0,SUM(G242:I242),\"\")","v":""},{"$f":"IF(Tabelle3[[#This Row],[Número de trabajadores]]=0,\"\",IF($H$28<>0,(1-J242/$H$28)*100,IF($H$17<>0,(1-J242/$H$17)*100)))","v":""}]
[null,null,184,null,null,null,null,null,null,{"$f":"IF(Tabelle3[[#This Row],[Cargo]]<>0,SUM(G243:I243),\"\")","v":""},{"$f":"IF(Tabelle3[[#This Row],[Número de trabajadores]]=0,\"\",IF($H$28<>0,(1-J243/$H$28)*100,IF($H$17<>0,(1-J243/$H$17)*100)))","v":""}]
[null,null,185,null,null,null,null,null,null,{"$f":"IF(Tabelle3[[#This Row],[Cargo]]<>0,SUM(G244:I244),\"\")","v":""},{"$f":"IF(Tabelle3[[#This Row],[Número de trabajadores]]=0,\"\",IF($H$28<>0,(1-J244/$H$28)*100,IF($H$17<>0,(1-J244/$H$17)*100)))","v":""}]
[null,null,186,null,null,null,null,null,null,{"$f":"IF(Tabelle3[[#This Row],[Cargo]]<>0,SUM(G245:I245),\"\")","v":""},{"$f":"IF(Tabelle3[[#This Row],[Número de trabajadores]]=0,\"\",IF($H$28<>0,(1-J245/$H$28)*100,IF($H$17<>0,(1-J245/$H$17)*100)))","v":""}]
[null,null,187,null,null,null,null,null,null,{"$f":"IF(Tabelle3[[#This Row],[Cargo]]<>0,SUM(G246:I246),\"\")","v":""},{"$f":"IF(Tabelle3[[#This Row],[Número de trabajadores]]=0,\"\",IF($H$28<>0,(1-J246/$H$28)*100,IF($H$17<>0,(1-J246/$H$17)*100)))","v":""}]
[null,null,188,null,null,null,null,null,null,{"$f":"IF(Tabelle3[[#This Row],[Cargo]]<>0,SUM(G247:I247),\"\")","v":""},{"$f":"IF(Tabelle3[[#This Row],[Número de trabajadores]]=0,\"\",IF($H$28<>0,(1-J247/$H$28)*100,IF($H$17<>0,(1-J247/$H$17)*100)))","v":""}]
[null,null,189,null,null,null,null,null,null,{"$f":"IF(Tabelle3[[#This Row],[Cargo]]<>0,SUM(G248:I248),\"\")","v":""},{"$f":"IF(Tabelle3[[#This Row],[Número de trabajadores]]=0,\"\",IF($H$28<>0,(1-J248/$H$28)*100,IF($H$17<>0,(1-J248/$H$17)*100)))","v":""}]
[null,null,190,null,null,null,null,null,null,{"$f":"IF(Tabelle3[[#This Row],[Cargo]]<>0,SUM(G249:I249),\"\")","v":""},{"$f":"IF(Tabelle3[[#This Row],[Número de trabajadores]]=0,\"\",IF($H$28<>0,(1-J249/$H$28)*100,IF($H$17<>0,(1-J249/$H$17)*100)))","v":""}]
[null,null,191,null,null,null,null,null,null,{"$f":"IF(Tabelle3[[#This Row],[Cargo]]<>0,SUM(G250:I250),\"\")","v":""},{"$f":"IF(Tabelle3[[#This Row],[Número de trabajadores]]=0,\"\",IF($H$28<>0,(1-J250/$H$28)*100,IF($H$17<>0,(1-J250/$H$17)*100)))","v":""}]
[null,null,192,null,null,null,null,null,null,{"$f":"IF(Tabelle3[[#This Row],[Cargo]]<>0,SUM(G251:I251),\"\")","v":""},{"$f":"IF(Tabelle3[[#This Row],[Número de trabajadores]]=0,\"\",IF($H$28<>0,(1-J251/$H$28)*100,IF($H$17<>0,(1-J251/$H$17)*100)))","v":""}]
[null,null,193,null,null,null,null,null,null,{"$f":"IF(Tabelle3[[#This Row],[Cargo]]<>0,SUM(G252:I252),\"\")","v":""},{"$f":"IF(Tabelle3[[#This Row],[Número de trabajadores]]=0,\"\",IF($H$28<>0,(1-J252/$H$28)*100,IF($H$17<>0,(1-J252/$H$17)*100)))","v":""}]
[null,null,194,null,null,null,null,null,null,{"$f":"IF(Tabelle3[[#This Row],[Cargo]]<>0,SUM(G253:I253),\"\")","v":""},{"$f":"IF(Tabelle3[[#This Row],[Número de trabajadores]]=0,\"\",IF($H$28<>0,(1-J253/$H$28)*100,IF($H$17<>0,(1-J253/$H$17)*100)))","v":""}]
[null,null,195,null,null,null,null,null,null,{"$f":"IF(Tabelle3[[#This Row],[Cargo]]<>0,SUM(G254:I254),\"\")","v":""},{"$f":"IF(Tabelle3[[#This Row],[Número de trabajadores]]=0,\"\",IF($H$28<>0,(1-J254/$H$28)*100,IF($H$17<>0,(1-J254/$H$17)*100)))","v":""}]
[null,null,196,null,null,null,null,null,null,{"$f":"IF(Tabelle3[[#This Row],[Cargo]]<>0,SUM(G255:I255),\"\")","v":""},{"$f":"IF(Tabelle3[[#This Row],[Número de trabajadores]]=0,\"\",IF($H$28<>0,(1-J255/$H$28)*100,IF($H$17<>0,(1-J255/$H$17)*100)))","v":""}]
[null,null,197,null,null,null,null,null,null,{"$f":"IF(Tabelle3[[#This Row],[Cargo]]<>0,SUM(G256:I256),\"\")","v":""},{"$f":"IF(Tabelle3[[#This Row],[Número de trabajadores]]=0,\"\",IF($H$28<>0,(1-J256/$H$28)*100,IF($H$17<>0,(1-J256/$H$17)*100)))","v":""}]
[null,null,198,null,null,null,null,null,null,{"$f":"IF(Tabelle3[[#This Row],[Cargo]]<>0,SUM(G257:I257),\"\")","v":""},{"$f":"IF(Tabelle3[[#This Row],[Número de trabajadores]]=0,\"\",IF($H$28<>0,(1-J257/$H$28)*100,IF($H$17<>0,(1-J257/$H$17)*100)))","v":""}]
[null,null,199,null,null,null,null,null,null,{"$f":"IF(Tabelle3[[#This Row],[Cargo]]<>0,SUM(G258:I258),\"\")","v":""},{"$f":"IF(Tabelle3[[#This Row],[Número de trabajadores]]=0,\"\",IF($H$28<>0,(1-J258/$H$28)*100,IF($H$17<>0,(1-J258/$H$17)*100)))","v":""}]
[null,null,200,null,null,null,null,null,null,{"$f":"IF(Tabelle3[[#This Row],[Cargo]]<>0,SUM(G259:I259),\"\")","v":""},{"$f":"IF(Tabelle3[[#This Row],[Número de trabajadores]]=0,\"\",IF($H$28<>0,(1-J259/$H$28)*100,IF($H$17<>0,(1-J259/$H$17)*100)))","v":""}]
[null,null,201,null,null,null,null,null,null,{"$f":"IF(Tabelle3[[#This Row],[Cargo]]<>0,SUM(G260:I260),\"\")","v":""},{"$f":"IF(Tabelle3[[#This Row],[Número de trabajadores]]=0,\"\",IF($H$28<>0,(1-J260/$H$28)*100,IF($H$17<>0,(1-J260/$H$17)*100)))","v":""}]
[null,null,202,null,null,null,null,null,null,{"$f":"IF(Tabelle3[[#This Row],[Cargo]]<>0,SUM(G261:I261),\"\")","v":""},{"$f":"IF(Tabelle3[[#This Row],[Número de trabajadores]]=0,\"\",IF($H$28<>0,(1-J261/$H$28)*100,IF($H$17<>0,(1-J261/$H$17)*100)))","v":""}]
[null,null,203,null,null,null,null,null,null,{"$f":"IF(Tabelle3[[#This Row],[Cargo]]<>0,SUM(G262:I262),\"\")","v":""},{"$f":"IF(Tabelle3[[#This Row],[Número de trabajadores]]=0,\"\",IF($H$28<>0,(1-J262/$H$28)*100,IF($H$17<>0,(1-J262/$H$17)*100)))","v":""}]
[null,null,204,null,null,null,null,null,null,{"$f":"IF(Tabelle3[[#This Row],[Cargo]]<>0,SUM(G263:I263),\"\")","v":""},{"$f":"IF(Tabelle3[[#This Row],[Número de trabajadores]]=0,\"\",IF($H$28<>0,(1-J263/$H$28)*100,IF($H$17<>0,(1-J263/$H$17)*100)))","v":""}]
[null,null,205,null,null,null,null,null,null,{"$f":"IF(Tabelle3[[#This Row],[Cargo]]<>0,SUM(G264:I264),\"\")","v":""},{"$f":"IF(Tabelle3[[#This Row],[Número de trabajadores]]=0,\"\",IF($H$28<>0,(1-J264/$H$28)*100,IF($H$17<>0,(1-J264/$H$17)*100)))","v":""}]
[null,null,206,null,null,null,null,null,null,{"$f":"IF(Tabelle3[[#This Row],[Cargo]]<>0,SUM(G265:I265),\"\")","v":""},{"$f":"IF(Tabelle3[[#This Row],[Número de trabajadores]]=0,\"\",IF($H$28<>0,(1-J265/$H$28)*100,IF($H$17<>0,(1-J265/$H$17)*100)))","v":""}]
[null,null,207,null,null,null,null,null,null,{"$f":"IF(Tabelle3[[#This Row],[Cargo]]<>0,SUM(G266:I266),\"\")","v":""},{"$f":"IF(Tabelle3[[#This Row],[Número de trabajadores]]=0,\"\",IF($H$28<>0,(1-J266/$H$28)*100,IF($H$17<>0,(1-J266/$H$17)*100)))","v":""}]
[null,null,208,null,null,null,null,null,null,{"$f":"IF(Tabelle3[[#This Row],[Cargo]]<>0,SUM(G267:I267),\"\")","v":""},{"$f":"IF(Tabelle3[[#This Row],[Número de trabajadores]]=0,\"\",IF($H$28<>0,(1-J267/$H$28)*100,IF($H$17<>0,(1-J267/$H$17)*100)))","v":""}]
[null,null,209,null,null,null,null,null,null,{"$f":"IF(Tabelle3[[#This Row],[Cargo]]<>0,SUM(G268:I268),\"\")","v":""},{"$f":"IF(Tabelle3[[#This Row],[Número de trabajadores]]=0,\"\",IF($H$28<>0,(1-J268/$H$28)*100,IF($H$17<>0,(1-J268/$H$17)*100)))","v":""}]
[null,null,210,null,null,null,null,null,null,{"$f":"IF(Tabelle3[[#This Row],[Cargo]]<>0,SUM(G269:I269),\"\")","v":""},{"$f":"IF(Tabelle3[[#This Row],[Número de trabajadores]]=0,\"\",IF($H$28<>0,(1-J269/$H$28)*100,IF($H$17<>0,(1-J269/$H$17)*100)))","v":""}]
[null,null,211,null,null,null,null,null,null,{"$f":"IF(Tabelle3[[#This Row],[Cargo]]<>0,SUM(G270:I270),\"\")","v":""},{"$f":"IF(Tabelle3[[#This Row],[Número de trabajadores]]=0,\"\",IF($H$28<>0,(1-J270/$H$28)*100,IF($H$17<>0,(1-J270/$H$17)*100)))","v":""}]
[null,null,212,null,null,null,null,null,null,{"$f":"IF(Tabelle3[[#This Row],[Cargo]]<>0,SUM(G271:I271),\"\")","v":""},{"$f":"IF(Tabelle3[[#This Row],[Número de trabajadores]]=0,\"\",IF($H$28<>0,(1-J271/$H$28)*100,IF($H$17<>0,(1-J271/$H$17)*100)))","v":""}]
[null,null,213,null,null,null,null,null,null,{"$f":"IF(Tabelle3[[#This Row],[Cargo]]<>0,SUM(G272:I272),\"\")","v":""},{"$f":"IF(Tabelle3[[#This Row],[Número de trabajadores]]=0,\"\",IF($H$28<>0,(1-J272/$H$28)*100,IF($H$17<>0,(1-J272/$H$17)*100)))","v":""}]
[null,null,214,null,null,null,null,null,null,{"$f":"IF(Tabelle3[[#This Row],[Cargo]]<>0,SUM(G273:I273),\"\")","v":""},{"$f":"IF(Tabelle3[[#This Row],[Número de trabajadores]]=0,\"\",IF($H$28<>0,(1-J273/$H$28)*100,IF($H$17<>0,(1-J273/$H$17)*100)))","v":""}]
[null,null,215,null,null,null,null,null,null,{"$f":"IF(Tabelle3[[#This Row],[Cargo]]<>0,SUM(G274:I274),\"\")","v":""},{"$f":"IF(Tabelle3[[#This Row],[Número de trabajadores]]=0,\"\",IF($H$28<>0,(1-J274/$H$28)*100,IF($H$17<>0,(1-J274/$H$17)*100)))","v":""}]
[null,null,216,null,null,null,null,null,null,{"$f":"IF(Tabelle3[[#This Row],[Cargo]]<>0,SUM(G275:I275),\"\")","v":""},{"$f":"IF(Tabelle3[[#This Row],[Número de trabajadores]]=0,\"\",IF($H$28<>0,(1-J275/$H$28)*100,IF($H$17<>0,(1-J275/$H$17)*100)))","v":""}]
[null,null,217,null,null,null,null,null,null,{"$f":"IF(Tabelle3[[#This Row],[Cargo]]<>0,SUM(G276:I276),\"\")","v":""},{"$f":"IF(Tabelle3[[#This Row],[Número de trabajadores]]=0,\"\",IF($H$28<>0,(1-J276/$H$28)*100,IF($H$17<>0,(1-J276/$H$17)*100)))","v":""}]
[null,null,218,null,null,null,null,null,null,{"$f":"IF(Tabelle3[[#This Row],[Cargo]]<>0,SUM(G277:I277),\"\")","v":""},{"$f":"IF(Tabelle3[[#This Row],[Número de trabajadores]]=0,\"\",IF($H$28<>0,(1-J277/$H$28)*100,IF($H$17<>0,(1-J277/$H$17)*100)))","v":""}]
[null,null,219,null,null,null,null,null,null,{"$f":"IF(Tabelle3[[#This Row],[Cargo]]<>0,SUM(G278:I278),\"\")","v":""},{"$f":"IF(Tabelle3[[#This Row],[Número de trabajadores]]=0,\"\",IF($H$28<>0,(1-J278/$H$28)*100,IF($H$17<>0,(1-J278/$H$17)*100)))","v":""}]
[null,null,220,null,null,null,null,null,null,{"$f":"IF(Tabelle3[[#This Row],[Cargo]]<>0,SUM(G279:I279),\"\")","v":""},{"$f":"IF(Tabelle3[[#This Row],[Número de trabajadores]]=0,\"\",IF($H$28<>0,(1-J279/$H$28)*100,IF($H$17<>0,(1-J279/$H$17)*100)))","v":""}]
[null,null,221,null,null,null,null,null,null,{"$f":"IF(Tabelle3[[#This Row],[Cargo]]<>0,SUM(G280:I280),\"\")","v":""},{"$f":"IF(Tabelle3[[#This Row],[Número de trabajadores]]=0,\"\",IF($H$28<>0,(1-J280/$H$28)*100,IF($H$17<>0,(1-J280/$H$17)*100)))","v":""}]
[null,null,222,null,null,null,null,null,null,{"$f":"IF(Tabelle3[[#This Row],[Cargo]]<>0,SUM(G281:I281),\"\")","v":""},{"$f":"IF(Tabelle3[[#This Row],[Número de trabajadores]]=0,\"\",IF($H$28<>0,(1-J281/$H$28)*100,IF($H$17<>0,(1-J281/$H$17)*100)))","v":""}]
[null,null,223,null,null,null,null,null,null,{"$f":"IF(Tabelle3[[#This Row],[Cargo]]<>0,SUM(G282:I282),\"\")","v":""},{"$f":"IF(Tabelle3[[#This Row],[Número de trabajadores]]=0,\"\",IF($H$28<>0,(1-J282/$H$28)*100,IF($H$17<>0,(1-J282/$H$17)*100)))","v":""}]
[null,null,224,null,null,null,null,null,null,{"$f":"IF(Tabelle3[[#This Row],[Cargo]]<>0,SUM(G283:I283),\"\")","v":""},{"$f":"IF(Tabelle3[[#This Row],[Número de trabajadores]]=0,\"\",IF($H$28<>0,(1-J283/$H$28)*100,IF($H$17<>0,(1-J283/$H$17)*100)))","v":""}]
[null,null,225,null,null,null,null,null,null,{"$f":"IF(Tabelle3[[#This Row],[Cargo]]<>0,SUM(G284:I284),\"\")","v":""},{"$f":"IF(Tabelle3[[#This Row],[Número de trabajadores]]=0,\"\",IF($H$28<>0,(1-J284/$H$28)*100,IF($H$17<>0,(1-J284/$H$17)*100)))","v":""}]
[null,null,226,null,null,null,null,null,null,{"$f":"IF(Tabelle3[[#This Row],[Cargo]]<>0,SUM(G285:I285),\"\")","v":""},{"$f":"IF(Tabelle3[[#This Row],[Número de trabajadores]]=0,\"\",IF($H$28<>0,(1-J285/$H$28)*100,IF($H$17<>0,(1-J285/$H$17)*100)))","v":""}]
[null,null,227,null,null,null,null,null,null,{"$f":"IF(Tabelle3[[#This Row],[Cargo]]<>0,SUM(G286:I286),\"\")","v":""},{"$f":"IF(Tabelle3[[#This Row],[Número de trabajadores]]=0,\"\",IF($H$28<>0,(1-J286/$H$28)*100,IF($H$17<>0,(1-J286/$H$17)*100)))","v":""}]
[null,null,228,null,null,null,null,null,null,{"$f":"IF(Tabelle3[[#This Row],[Cargo]]<>0,SUM(G287:I287),\"\")","v":""},{"$f":"IF(Tabelle3[[#This Row],[Número de trabajadores]]=0,\"\",IF($H$28<>0,(1-J287/$H$28)*100,IF($H$17<>0,(1-J287/$H$17)*100)))","v":""}]
[null,null,229,null,null,null,null,null,null,{"$f":"IF(Tabelle3[[#This Row],[Cargo]]<>0,SUM(G288:I288),\"\")","v":""},{"$f":"IF(Tabelle3[[#This Row],[Número de trabajadores]]=0,\"\",IF($H$28<>0,(1-J288/$H$28)*100,IF($H$17<>0,(1-J288/$H$17)*100)))","v":""}]
[null,null,230,null,null,null,null,null,null,{"$f":"IF(Tabelle3[[#This Row],[Cargo]]<>0,SUM(G289:I289),\"\")","v":""},{"$f":"IF(Tabelle3[[#This Row],[Número de trabajadores]]=0,\"\",IF($H$28<>0,(1-J289/$H$28)*100,IF($H$17<>0,(1-J289/$H$17)*100)))","v":""}]
[null,null,231,null,null,null,null,null,null,{"$f":"IF(Tabelle3[[#This Row],[Cargo]]<>0,SUM(G290:I290),\"\")","v":""},{"$f":"IF(Tabelle3[[#This Row],[Número de trabajadores]]=0,\"\",IF($H$28<>0,(1-J290/$H$28)*100,IF($H$17<>0,(1-J290/$H$17)*100)))","v":""}]
[null,null,232,null,null,null,null,null,null,{"$f":"IF(Tabelle3[[#This Row],[Cargo]]<>0,SUM(G291:I291),\"\")","v":""},{"$f":"IF(Tabelle3[[#This Row],[Número de trabajadores]]=0,\"\",IF($H$28<>0,(1-J291/$H$28)*100,IF($H$17<>0,(1-J291/$H$17)*100)))","v":""}]
[null,null,233,null,null,null,null,null,null,{"$f":"IF(Tabelle3[[#This Row],[Cargo]]<>0,SUM(G292:I292),\"\")","v":""},{"$f":"IF(Tabelle3[[#This Row],[Número de trabajadores]]=0,\"\",IF($H$28<>0,(1-J292/$H$28)*100,IF($H$17<>0,(1-J292/$H$17)*100)))","v":""}]
[null,null,234,null,null,null,null,null,null,{"$f":"IF(Tabelle3[[#This Row],[Cargo]]<>0,SUM(G293:I293),\"\")","v":""},{"$f":"IF(Tabelle3[[#This Row],[Número de trabajadores]]=0,\"\",IF($H$28<>0,(1-J293/$H$28)*100,IF($H$17<>0,(1-J293/$H$17)*100)))","v":""}]
[null,null,235,null,null,null,null,null,null,{"$f":"IF(Tabelle3[[#This Row],[Cargo]]<>0,SUM(G294:I294),\"\")","v":""},{"$f":"IF(Tabelle3[[#This Row],[Número de trabajadores]]=0,\"\",IF($H$28<>0,(1-J294/$H$28)*100,IF($H$17<>0,(1-J294/$H$17)*100)))","v":""}]
[null,null,236,null,null,null,null,null,null,{"$f":"IF(Tabelle3[[#This Row],[Cargo]]<>0,SUM(G295:I295),\"\")","v":""},{"$f":"IF(Tabelle3[[#This Row],[Número de trabajadores]]=0,\"\",IF($H$28<>0,(1-J295/$H$28)*100,IF($H$17<>0,(1-J295/$H$17)*100)))","v":""}]
[null,null,237,null,null,null,null,null,null,{"$f":"IF(Tabelle3[[#This Row],[Cargo]]<>0,SUM(G296:I296),\"\")","v":""},{"$f":"IF(Tabelle3[[#This Row],[Número de trabajadores]]=0,\"\",IF($H$28<>0,(1-J296/$H$28)*100,IF($H$17<>0,(1-J296/$H$17)*100)))","v":""}]
[null,null,238,null,null,null,null,null,null,{"$f":"IF(Tabelle3[[#This Row],[Cargo]]<>0,SUM(G297:I297),\"\")","v":""},{"$f":"IF(Tabelle3[[#This Row],[Número de trabajadores]]=0,\"\",IF($H$28<>0,(1-J297/$H$28)*100,IF($H$17<>0,(1-J297/$H$17)*100)))","v":""}]
[null,null,239,null,null,null,null,null,null,{"$f":"IF(Tabelle3[[#This Row],[Cargo]]<>0,SUM(G298:I298),\"\")","v":""},{"$f":"IF(Tabelle3[[#This Row],[Número de trabajadores]]=0,\"\",IF($H$28<>0,(1-J298/$H$28)*100,IF($H$17<>0,(1-J298/$H$17)*100)))","v":""}]
[null,null,240,null,null,null,null,null,null,{"$f":"IF(Tabelle3[[#This Row],[Cargo]]<>0,SUM(G299:I299),\"\")","v":""},{"$f":"IF(Tabelle3[[#This Row],[Número de trabajadores]]=0,\"\",IF($H$28<>0,(1-J299/$H$28)*100,IF($H$17<>0,(1-J299/$H$17)*100)))","v":""}]
[null,null,241,null,null,null,null,null,null,{"$f":"IF(Tabelle3[[#This Row],[Cargo]]<>0,SUM(G300:I300),\"\")","v":""},{"$f":"IF(Tabelle3[[#This Row],[Número de trabajadores]]=0,\"\",IF($H$28<>0,(1-J300/$H$28)*100,IF($H$17<>0,(1-J300/$H$17)*100)))","v":""}]
[null,null,242,null,null,null,null,null,null,{"$f":"IF(Tabelle3[[#This Row],[Cargo]]<>0,SUM(G301:I301),\"\")","v":""},{"$f":"IF(Tabelle3[[#This Row],[Número de trabajadores]]=0,\"\",IF($H$28<>0,(1-J301/$H$28)*100,IF($H$17<>0,(1-J301/$H$17)*100)))","v":""}]
[null,null,243,null,null,null,null,null,null,{"$f":"IF(Tabelle3[[#This Row],[Cargo]]<>0,SUM(G302:I302),\"\")","v":""},{"$f":"IF(Tabelle3[[#This Row],[Número de trabajadores]]=0,\"\",IF($H$28<>0,(1-J302/$H$28)*100,IF($H$17<>0,(1-J302/$H$17)*100)))","v":""}]
[null,null,244,null,null,null,null,null,null,{"$f":"IF(Tabelle3[[#This Row],[Cargo]]<>0,SUM(G303:I303),\"\")","v":""},{"$f":"IF(Tabelle3[[#This Row],[Número de trabajadores]]=0,\"\",IF($H$28<>0,(1-J303/$H$28)*100,IF($H$17<>0,(1-J303/$H$17)*100)))","v":""}]
[null,null,245,null,null,null,null,null,null,{"$f":"IF(Tabelle3[[#This Row],[Cargo]]<>0,SUM(G304:I304),\"\")","v":""},{"$f":"IF(Tabelle3[[#This Row],[Número de trabajadores]]=0,\"\",IF($H$28<>0,(1-J304/$H$28)*100,IF($H$17<>0,(1-J304/$H$17)*100)))","v":""}]
[null,null,246,null,null,null,null,null,null,{"$f":"IF(Tabelle3[[#This Row],[Cargo]]<>0,SUM(G305:I305),\"\")","v":""},{"$f":"IF(Tabelle3[[#This Row],[Número de trabajadores]]=0,\"\",IF($H$28<>0,(1-J305/$H$28)*100,IF($H$17<>0,(1-J305/$H$17)*100)))","v":""}]
[null,null,247,null,null,null,null,null,null,{"$f":"IF(Tabelle3[[#This Row],[Cargo]]<>0,SUM(G306:I306),\"\")","v":""},{"$f":"IF(Tabelle3[[#This Row],[Número de trabajadores]]=0,\"\",IF($H$28<>0,(1-J306/$H$28)*100,IF($H$17<>0,(1-J306/$H$17)*100)))","v":""}]
[null,null,248,null,null,null,null,null,null,{"$f":"IF(Tabelle3[[#This Row],[Cargo]]<>0,SUM(G307:I307),\"\")","v":""},{"$f":"IF(Tabelle3[[#This Row],[Número de trabajadores]]=0,\"\",IF($H$28<>0,(1-J307/$H$28)*100,IF($H$17<>0,(1-J307/$H$17)*100)))","v":""}]
[null,null,249,null,null,null,null,null,null,{"$f":"IF(Tabelle3[[#This Row],[Cargo]]<>0,SUM(G308:I308),\"\")","v":""},{"$f":"IF(Tabelle3[[#This Row],[Número de trabajadores]]=0,\"\",IF($H$28<>0,(1-J308/$H$28)*100,IF($H$17<>0,(1-J308/$H$17)*100)))","v":""}]
[null,null,250,null,null,null,null,null,null,{"$f":"IF(Tabelle3[[#This Row],[Cargo]]<>0,SUM(G309:I309),\"\")","v":""},{"$f":"IF(Tabelle3[[#This Row],[Número de trabajadores]]=0,\"\",IF($H$28<>0,(1-J309/$H$28)*100,IF($H$17<>0,(1-J309/$H$17)*100)))","v":""}]
[null,null,251,null,null,null,null,null,null,{"$f":"IF(Tabelle3[[#This Row],[Cargo]]<>0,SUM(G310:I310),\"\")","v":""},{"$f":"IF(Tabelle3[[#This Row],[Número de trabajadores]]=0,\"\",IF($H$28<>0,(1-J310/$H$28)*100,IF($H$17<>0,(1-J310/$H$17)*100)))","v":""}]
[null,null,252,null,null,null,null,null,null,{"$f":"IF(Tabelle3[[#This Row],[Cargo]]<>0,SUM(G311:I311),\"\")","v":""},{"$f":"IF(Tabelle3[[#This Row],[Número de trabajadores]]=0,\"\",IF($H$28<>0,(1-J311/$H$28)*100,IF($H$17<>0,(1-J311/$H$17)*100)))","v":""}]
[null,null,253,null,null,null,null,null,null,{"$f":"IF(Tabelle3[[#This Row],[Cargo]]<>0,SUM(G312:I312),\"\")","v":""},{"$f":"IF(Tabelle3[[#This Row],[Número de trabajadores]]=0,\"\",IF($H$28<>0,(1-J312/$H$28)*100,IF($H$17<>0,(1-J312/$H$17)*100)))","v":""}]
[null,null,254,null,null,null,null,null,null,{"$f":"IF(Tabelle3[[#This Row],[Cargo]]<>0,SUM(G313:I313),\"\")","v":""},{"$f":"IF(Tabelle3[[#This Row],[Número de trabajadores]]=0,\"\",IF($H$28<>0,(1-J313/$H$28)*100,IF($H$17<>0,(1-J313/$H$17)*100)))","v":""}]
[null,null,255,null,null,null,null,null,null,{"$f":"IF(Tabelle3[[#This Row],[Cargo]]<>0,SUM(G314:I314),\"\")","v":""},{"$f":"IF(Tabelle3[[#This Row],[Número de trabajadores]]=0,\"\",IF($H$28<>0,(1-J314/$H$28)*100,IF($H$17<>0,(1-J314/$H$17)*100)))","v":""}]
[null,null,256,null,null,null,null,null,null,{"$f":"IF(Tabelle3[[#This Row],[Cargo]]<>0,SUM(G315:I315),\"\")","v":""},{"$f":"IF(Tabelle3[[#This Row],[Número de trabajadores]]=0,\"\",IF($H$28<>0,(1-J315/$H$28)*100,IF($H$17<>0,(1-J315/$H$17)*100)))","v":""}]
[null,null,257,null,null,null,null,null,null,{"$f":"IF(Tabelle3[[#This Row],[Cargo]]<>0,SUM(G316:I316),\"\")","v":""},{"$f":"IF(Tabelle3[[#This Row],[Número de trabajadores]]=0,\"\",IF($H$28<>0,(1-J316/$H$28)*100,IF($H$17<>0,(1-J316/$H$17)*100)))","v":""}]
[null,null,258,null,null,null,null,null,null,{"$f":"IF(Tabelle3[[#This Row],[Cargo]]<>0,SUM(G317:I317),\"\")","v":""},{"$f":"IF(Tabelle3[[#This Row],[Número de trabajadores]]=0,\"\",IF($H$28<>0,(1-J317/$H$28)*100,IF($H$17<>0,(1-J317/$H$17)*100)))","v":""}]
[null,null,259,null,null,null,null,null,null,{"$f":"IF(Tabelle3[[#This Row],[Cargo]]<>0,SUM(G318:I318),\"\")","v":""},{"$f":"IF(Tabelle3[[#This Row],[Número de trabajadores]]=0,\"\",IF($H$28<>0,(1-J318/$H$28)*100,IF($H$17<>0,(1-J318/$H$17)*100)))","v":""}]
[null,null,260,null,null,null,null,null,null,{"$f":"IF(Tabelle3[[#This Row],[Cargo]]<>0,SUM(G319:I319),\"\")","v":""},{"$f":"IF(Tabelle3[[#This Row],[Número de trabajadores]]=0,\"\",IF($H$28<>0,(1-J319/$H$28)*100,IF($H$17<>0,(1-J319/$H$17)*100)))","v":""}]
[null,null,261,null,null,null,null,null,null,{"$f":"IF(Tabelle3[[#This Row],[Cargo]]<>0,SUM(G320:I320),\"\")","v":""},{"$f":"IF(Tabelle3[[#This Row],[Número de trabajadores]]=0,\"\",IF($H$28<>0,(1-J320/$H$28)*100,IF($H$17<>0,(1-J320/$H$17)*100)))","v":""}]
[null,null,262,null,null,null,null,null,null,{"$f":"IF(Tabelle3[[#This Row],[Cargo]]<>0,SUM(G321:I321),\"\")","v":""},{"$f":"IF(Tabelle3[[#This Row],[Número de trabajadores]]=0,\"\",IF($H$28<>0,(1-J321/$H$28)*100,IF($H$17<>0,(1-J321/$H$17)*100)))","v":""}]
[null,null,263,null,null,null,null,null,null,{"$f":"IF(Tabelle3[[#This Row],[Cargo]]<>0,SUM(G322:I322),\"\")","v":""},{"$f":"IF(Tabelle3[[#This Row],[Número de trabajadores]]=0,\"\",IF($H$28<>0,(1-J322/$H$28)*100,IF($H$17<>0,(1-J322/$H$17)*100)))","v":""}]
[null,null,264,null,null,null,null,null,null,{"$f":"IF(Tabelle3[[#This Row],[Cargo]]<>0,SUM(G323:I323),\"\")","v":""},{"$f":"IF(Tabelle3[[#This Row],[Número de trabajadores]]=0,\"\",IF($H$28<>0,(1-J323/$H$28)*100,IF($H$17<>0,(1-J323/$H$17)*100)))","v":""}]
[null,null,265,null,null,null,null,null,null,{"$f":"IF(Tabelle3[[#This Row],[Cargo]]<>0,SUM(G324:I324),\"\")","v":""},{"$f":"IF(Tabelle3[[#This Row],[Número de trabajadores]]=0,\"\",IF($H$28<>0,(1-J324/$H$28)*100,IF($H$17<>0,(1-J324/$H$17)*100)))","v":""}]
[null,null,266,null,null,null,null,null,null,{"$f":"IF(Tabelle3[[#This Row],[Cargo]]<>0,SUM(G325:I325),\"\")","v":""},{"$f":"IF(Tabelle3[[#This Row],[Número de trabajadores]]=0,\"\",IF($H$28<>0,(1-J325/$H$28)*100,IF($H$17<>0,(1-J325/$H$17)*100)))","v":""}]
[null,null,267,null,null,null,null,null,null,{"$f":"IF(Tabelle3[[#This Row],[Cargo]]<>0,SUM(G326:I326),\"\")","v":""},{"$f":"IF(Tabelle3[[#This Row],[Número de trabajadores]]=0,\"\",IF($H$28<>0,(1-J326/$H$28)*100,IF($H$17<>0,(1-J326/$H$17)*100)))","v":""}]
[null,null,268,null,null,null,null,null,null,{"$f":"IF(Tabelle3[[#This Row],[Cargo]]<>0,SUM(G327:I327),\"\")","v":""},{"$f":"IF(Tabelle3[[#This Row],[Número de trabajadores]]=0,\"\",IF($H$28<>0,(1-J327/$H$28)*100,IF($H$17<>0,(1-J327/$H$17)*100)))","v":""}]
[null,null,269,null,null,null,null,null,null,{"$f":"IF(Tabelle3[[#This Row],[Cargo]]<>0,SUM(G328:I328),\"\")","v":""},{"$f":"IF(Tabelle3[[#This Row],[Número de trabajadores]]=0,\"\",IF($H$28<>0,(1-J328/$H$28)*100,IF($H$17<>0,(1-J328/$H$17)*100)))","v":""}]
[null,null,270,null,null,null,null,null,null,{"$f":"IF(Tabelle3[[#This Row],[Cargo]]<>0,SUM(G329:I329),\"\")","v":""},{"$f":"IF(Tabelle3[[#This Row],[Número de trabajadores]]=0,\"\",IF($H$28<>0,(1-J329/$H$28)*100,IF($H$17<>0,(1-J329/$H$17)*100)))","v":""}]
[null,null,271,null,null,null,null,null,null,{"$f":"IF(Tabelle3[[#This Row],[Cargo]]<>0,SUM(G330:I330),\"\")","v":""},{"$f":"IF(Tabelle3[[#This Row],[Número de trabajadores]]=0,\"\",IF($H$28<>0,(1-J330/$H$28)*100,IF($H$17<>0,(1-J330/$H$17)*100)))","v":""}]
[null,null,272,null,null,null,null,null,null,{"$f":"IF(Tabelle3[[#This Row],[Cargo]]<>0,SUM(G331:I331),\"\")","v":""},{"$f":"IF(Tabelle3[[#This Row],[Número de trabajadores]]=0,\"\",IF($H$28<>0,(1-J331/$H$28)*100,IF($H$17<>0,(1-J331/$H$17)*100)))","v":""}]
[null,null,273,null,null,null,null,null,null,{"$f":"IF(Tabelle3[[#This Row],[Cargo]]<>0,SUM(G332:I332),\"\")","v":""},{"$f":"IF(Tabelle3[[#This Row],[Número de trabajadores]]=0,\"\",IF($H$28<>0,(1-J332/$H$28)*100,IF($H$17<>0,(1-J332/$H$17)*100)))","v":""}]
[null,null,274,null,null,null,null,null,null,{"$f":"IF(Tabelle3[[#This Row],[Cargo]]<>0,SUM(G333:I333),\"\")","v":""},{"$f":"IF(Tabelle3[[#This Row],[Número de trabajadores]]=0,\"\",IF($H$28<>0,(1-J333/$H$28)*100,IF($H$17<>0,(1-J333/$H$17)*100)))","v":""}]
[null,null,275,null,null,null,null,null,null,{"$f":"IF(Tabelle3[[#This Row],[Cargo]]<>0,SUM(G334:I334),\"\")","v":""},{"$f":"IF(Tabelle3[[#This Row],[Número de trabajadores]]=0,\"\",IF($H$28<>0,(1-J334/$H$28)*100,IF($H$17<>0,(1-J334/$H$17)*100)))","v":""}]
[null,null,276,null,null,null,null,null,null,{"$f":"IF(Tabelle3[[#This Row],[Cargo]]<>0,SUM(G335:I335),\"\")","v":""},{"$f":"IF(Tabelle3[[#This Row],[Número de trabajadores]]=0,\"\",IF($H$28<>0,(1-J335/$H$28)*100,IF($H$17<>0,(1-J335/$H$17)*100)))","v":""}]
[null,null,277,null,null,null,null,null,null,{"$f":"IF(Tabelle3[[#This Row],[Cargo]]<>0,SUM(G336:I336),\"\")","v":""},{"$f":"IF(Tabelle3[[#This Row],[Número de trabajadores]]=0,\"\",IF($H$28<>0,(1-J336/$H$28)*100,IF($H$17<>0,(1-J336/$H$17)*100)))","v":""}]
[null,null,278,null,null,null,null,null,null,{"$f":"IF(Tabelle3[[#This Row],[Cargo]]<>0,SUM(G337:I337),\"\")","v":""},{"$f":"IF(Tabelle3[[#This Row],[Número de trabajadores]]=0,\"\",IF($H$28<>0,(1-J337/$H$28)*100,IF($H$17<>0,(1-J337/$H$17)*100)))","v":""}]
[null,null,279,null,null,null,null,null,null,{"$f":"IF(Tabelle3[[#This Row],[Cargo]]<>0,SUM(G338:I338),\"\")","v":""},{"$f":"IF(Tabelle3[[#This Row],[Número de trabajadores]]=0,\"\",IF($H$28<>0,(1-J338/$H$28)*100,IF($H$17<>0,(1-J338/$H$17)*100)))","v":""}]
[null,null,280,null,null,null,null,null,null,{"$f":"IF(Tabelle3[[#This Row],[Cargo]]<>0,SUM(G339:I339),\"\")","v":""},{"$f":"IF(Tabelle3[[#This Row],[Número de trabajadores]]=0,\"\",IF($H$28<>0,(1-J339/$H$28)*100,IF($H$17<>0,(1-J339/$H$17)*100)))","v":""}]
[null,null,281,null,null,null,null,null,null,{"$f":"IF(Tabelle3[[#This Row],[Cargo]]<>0,SUM(G340:I340),\"\")","v":""},{"$f":"IF(Tabelle3[[#This Row],[Número de trabajadores]]=0,\"\",IF($H$28<>0,(1-J340/$H$28)*100,IF($H$17<>0,(1-J340/$H$17)*100)))","v":""}]
[null,null,282,null,null,null,null,null,null,{"$f":"IF(Tabelle3[[#This Row],[Cargo]]<>0,SUM(G341:I341),\"\")","v":""},{"$f":"IF(Tabelle3[[#This Row],[Número de trabajadores]]=0,\"\",IF($H$28<>0,(1-J341/$H$28)*100,IF($H$17<>0,(1-J341/$H$17)*100)))","v":""}]
[null,null,283,null,null,null,null,null,null,{"$f":"IF(Tabelle3[[#This Row],[Cargo]]<>0,SUM(G342:I342),\"\")","v":""},{"$f":"IF(Tabelle3[[#This Row],[Número de trabajadores]]=0,\"\",IF($H$28<>0,(1-J342/$H$28)*100,IF($H$17<>0,(1-J342/$H$17)*100)))","v":""}]
[null,null,284,null,null,null,null,null,null,{"$f":"IF(Tabelle3[[#This Row],[Cargo]]<>0,SUM(G343:I343),\"\")","v":""},{"$f":"IF(Tabelle3[[#This Row],[Número de trabajadores]]=0,\"\",IF($H$28<>0,(1-J343/$H$28)*100,IF($H$17<>0,(1-J343/$H$17)*100)))","v":""}]
[null,null,285,null,null,null,null,null,null,{"$f":"IF(Tabelle3[[#This Row],[Cargo]]<>0,SUM(G344:I344),\"\")","v":""},{"$f":"IF(Tabelle3[[#This Row],[Número de trabajadores]]=0,\"\",IF($H$28<>0,(1-J344/$H$28)*100,IF($H$17<>0,(1-J344/$H$17)*100)))","v":""}]
[null,null,286,null,null,null,null,null,null,{"$f":"IF(Tabelle3[[#This Row],[Cargo]]<>0,SUM(G345:I345),\"\")","v":""},{"$f":"IF(Tabelle3[[#This Row],[Número de trabajadores]]=0,\"\",IF($H$28<>0,(1-J345/$H$28)*100,IF($H$17<>0,(1-J345/$H$17)*100)))","v":""}]
[null,null,287,null,null,null,null,null,null,{"$f":"IF(Tabelle3[[#This Row],[Cargo]]<>0,SUM(G346:I346),\"\")","v":""},{"$f":"IF(Tabelle3[[#This Row],[Número de trabajadores]]=0,\"\",IF($H$28<>0,(1-J346/$H$28)*100,IF($H$17<>0,(1-J346/$H$17)*100)))","v":""}]
[null,null,288,null,null,null,null,null,null,{"$f":"IF(Tabelle3[[#This Row],[Cargo]]<>0,SUM(G347:I347),\"\")","v":""},{"$f":"IF(Tabelle3[[#This Row],[Número de trabajadores]]=0,\"\",IF($H$28<>0,(1-J347/$H$28)*100,IF($H$17<>0,(1-J347/$H$17)*100)))","v":""}]
[null,null,289,null,null,null,null,null,null,{"$f":"IF(Tabelle3[[#This Row],[Cargo]]<>0,SUM(G348:I348),\"\")","v":""},{"$f":"IF(Tabelle3[[#This Row],[Número de trabajadores]]=0,\"\",IF($H$28<>0,(1-J348/$H$28)*100,IF($H$17<>0,(1-J348/$H$17)*100)))","v":""}]
[null,null,290,null,null,null,null,null,null,{"$f":"IF(Tabelle3[[#This Row],[Cargo]]<>0,SUM(G349:I349),\"\")","v":""},{"$f":"IF(Tabelle3[[#This Row],[Número de trabajadores]]=0,\"\",IF($H$28<>0,(1-J349/$H$28)*100,IF($H$17<>0,(1-J349/$H$17)*100)))","v":""}]
[null,null,291,null,null,null,null,null,null,{"$f":"IF(Tabelle3[[#This Row],[Cargo]]<>0,SUM(G350:I350),\"\")","v":""},{"$f":"IF(Tabelle3[[#This Row],[Número de trabajadores]]=0,\"\",IF($H$28<>0,(1-J350/$H$28)*100,IF($H$17<>0,(1-J350/$H$17)*100)))","v":""}]
[null,null,292,null,null,null,null,null,null,{"$f":"IF(Tabelle3[[#This Row],[Cargo]]<>0,SUM(G351:I351),\"\")","v":""},{"$f":"IF(Tabelle3[[#This Row],[Número de trabajadores]]=0,\"\",IF($H$28<>0,(1-J351/$H$28)*100,IF($H$17<>0,(1-J351/$H$17)*100)))","v":""}]
[null,null,293,null,null,null,null,null,null,{"$f":"IF(Tabelle3[[#This Row],[Cargo]]<>0,SUM(G352:I352),\"\")","v":""},{"$f":"IF(Tabelle3[[#This Row],[Número de trabajadores]]=0,\"\",IF($H$28<>0,(1-J352/$H$28)*100,IF($H$17<>0,(1-J352/$H$17)*100)))","v":""}]
[null,null,294,null,null,null,null,null,null,{"$f":"IF(Tabelle3[[#This Row],[Cargo]]<>0,SUM(G353:I353),\"\")","v":""},{"$f":"IF(Tabelle3[[#This Row],[Número de trabajadores]]=0,\"\",IF($H$28<>0,(1-J353/$H$28)*100,IF($H$17<>0,(1-J353/$H$17)*100)))","v":""}]
[null,null,295,null,null,null,null,null,null,{"$f":"IF(Tabelle3[[#This Row],[Cargo]]<>0,SUM(G354:I354),\"\")","v":""},{"$f":"IF(Tabelle3[[#This Row],[Número de trabajadores]]=0,\"\",IF($H$28<>0,(1-J354/$H$28)*100,IF($H$17<>0,(1-J354/$H$17)*100)))","v":""}]
[null,null,296,null,null,null,null,null,null,{"$f":"IF(Tabelle3[[#This Row],[Cargo]]<>0,SUM(G355:I355),\"\")","v":""},{"$f":"IF(Tabelle3[[#This Row],[Número de trabajadores]]=0,\"\",IF($H$28<>0,(1-J355/$H$28)*100,IF($H$17<>0,(1-J355/$H$17)*100)))","v":""}]
[null,null,297,null,null,null,null,null,null,{"$f":"IF(Tabelle3[[#This Row],[Cargo]]<>0,SUM(G356:I356),\"\")","v":""},{"$f":"IF(Tabelle3[[#This Row],[Número de trabajadores]]=0,\"\",IF($H$28<>0,(1-J356/$H$28)*100,IF($H$17<>0,(1-J356/$H$17)*100)))","v":""}]
[null,null,298,null,null,null,null,null,null,{"$f":"IF(Tabelle3[[#This Row],[Cargo]]<>0,SUM(G357:I357),\"\")","v":""},{"$f":"IF(Tabelle3[[#This Row],[Número de trabajadores]]=0,\"\",IF($H$28<>0,(1-J357/$H$28)*100,IF($H$17<>0,(1-J357/$H$17)*100)))","v":""}]
[null,null,299,null,null,null,null,null,null,{"$f":"IF(Tabelle3[[#This Row],[Cargo]]<>0,SUM(G358:I358),\"\")","v":""},{"$f":"IF(Tabelle3[[#This Row],[Número de trabajadores]]=0,\"\",IF($H$28<>0,(1-J358/$H$28)*100,IF($H$17<>0,(1-J358/$H$17)*100)))","v":""}]
[null,null,300,null,null,null,null,null,null,{"$f":"IF(Tabelle3[[#This Row],[Cargo]]<>0,SUM(G359:I359),\"\")","v":""},{"$f":"IF(Tabelle3[[#This Row],[Número de trabajadores]]=0,\"\",IF($H$28<>0,(1-J359/$H$28)*100,IF($H$17<>0,(1-J359/$H$17)*100)))","v":""}]
[null,null,301,null,null,null,null,null,null,{"$f":"IF(Tabelle3[[#This Row],[Cargo]]<>0,SUM(G360:I360),\"\")","v":""},{"$f":"IF(Tabelle3[[#This Row],[Número de trabajadores]]=0,\"\",IF($H$28<>0,(1-J360/$H$28)*100,IF($H$17<>0,(1-J360/$H$17)*100)))","v":""}]
[null,null,302,null,null,null,null,null,null,{"$f":"IF(Tabelle3[[#This Row],[Cargo]]<>0,SUM(G361:I361),\"\")","v":""},{"$f":"IF(Tabelle3[[#This Row],[Número de trabajadores]]=0,\"\",IF($H$28<>0,(1-J361/$H$28)*100,IF($H$17<>0,(1-J361/$H$17)*100)))","v":""}]
[null,null,303,null,null,null,null,null,null,{"$f":"IF(Tabelle3[[#This Row],[Cargo]]<>0,SUM(G362:I362),\"\")","v":""},{"$f":"IF(Tabelle3[[#This Row],[Número de trabajadores]]=0,\"\",IF($H$28<>0,(1-J362/$H$28)*100,IF($H$17<>0,(1-J362/$H$17)*100)))","v":""}]
[null,null,304,null,null,null,null,null,null,{"$f":"IF(Tabelle3[[#This Row],[Cargo]]<>0,SUM(G363:I363),\"\")","v":""},{"$f":"IF(Tabelle3[[#This Row],[Número de trabajadores]]=0,\"\",IF($H$28<>0,(1-J363/$H$28)*100,IF($H$17<>0,(1-J363/$H$17)*100)))","v":""}]
[null,null,305,null,null,null,null,null,null,{"$f":"IF(Tabelle3[[#This Row],[Cargo]]<>0,SUM(G364:I364),\"\")","v":""},{"$f":"IF(Tabelle3[[#This Row],[Número de trabajadores]]=0,\"\",IF($H$28<>0,(1-J364/$H$28)*100,IF($H$17<>0,(1-J364/$H$17)*100)))","v":""}]
[null,null,306,null,null,null,null,null,null,{"$f":"IF(Tabelle3[[#This Row],[Cargo]]<>0,SUM(G365:I365),\"\")","v":""},{"$f":"IF(Tabelle3[[#This Row],[Número de trabajadores]]=0,\"\",IF($H$28<>0,(1-J365/$H$28)*100,IF($H$17<>0,(1-J365/$H$17)*100)))","v":""}]
[null,null,307,null,null,null,null,null,null,{"$f":"IF(Tabelle3[[#This Row],[Cargo]]<>0,SUM(G366:I366),\"\")","v":""},{"$f":"IF(Tabelle3[[#This Row],[Número de trabajadores]]=0,\"\",IF($H$28<>0,(1-J366/$H$28)*100,IF($H$17<>0,(1-J366/$H$17)*100)))","v":""}]
[null,null,308,null,null,null,null,null,null,{"$f":"IF(Tabelle3[[#This Row],[Cargo]]<>0,SUM(G367:I367),\"\")","v":""},{"$f":"IF(Tabelle3[[#This Row],[Número de trabajadores]]=0,\"\",IF($H$28<>0,(1-J367/$H$28)*100,IF($H$17<>0,(1-J367/$H$17)*100)))","v":""}]
[null,null,309,null,null,null,null,null,null,{"$f":"IF(Tabelle3[[#This Row],[Cargo]]<>0,SUM(G368:I368),\"\")","v":""},{"$f":"IF(Tabelle3[[#This Row],[Número de trabajadores]]=0,\"\",IF($H$28<>0,(1-J368/$H$28)*100,IF($H$17<>0,(1-J368/$H$17)*100)))","v":""}]
[null,null,310,null,null,null,null,null,null,{"$f":"IF(Tabelle3[[#This Row],[Cargo]]<>0,SUM(G369:I369),\"\")","v":""},{"$f":"IF(Tabelle3[[#This Row],[Número de trabajadores]]=0,\"\",IF($H$28<>0,(1-J369/$H$28)*100,IF($H$17<>0,(1-J369/$H$17)*100)))","v":""}]
[null,null,311,null,null,null,null,null,null,{"$f":"IF(Tabelle3[[#This Row],[Cargo]]<>0,SUM(G370:I370),\"\")","v":""},{"$f":"IF(Tabelle3[[#This Row],[Número de trabajadores]]=0,\"\",IF($H$28<>0,(1-J370/$H$28)*100,IF($H$17<>0,(1-J370/$H$17)*100)))","v":""}]
[null,null,312,null,null,null,null,null,null,{"$f":"IF(Tabelle3[[#This Row],[Cargo]]<>0,SUM(G371:I371),\"\")","v":""},{"$f":"IF(Tabelle3[[#This Row],[Número de trabajadores]]=0,\"\",IF($H$28<>0,(1-J371/$H$28)*100,IF($H$17<>0,(1-J371/$H$17)*100)))","v":""}]
[null,null,313,null,null,null,null,null,null,{"$f":"IF(Tabelle3[[#This Row],[Cargo]]<>0,SUM(G372:I372),\"\")","v":""},{"$f":"IF(Tabelle3[[#This Row],[Número de trabajadores]]=0,\"\",IF($H$28<>0,(1-J372/$H$28)*100,IF($H$17<>0,(1-J372/$H$17)*100)))","v":""}]
[null,null,314,null,null,null,null,null,null,{"$f":"IF(Tabelle3[[#This Row],[Cargo]]<>0,SUM(G373:I373),\"\")","v":""},{"$f":"IF(Tabelle3[[#This Row],[Número de trabajadores]]=0,\"\",IF($H$28<>0,(1-J373/$H$28)*100,IF($H$17<>0,(1-J373/$H$17)*100)))","v":""}]
[null,null,315,null,null,null,null,null,null,{"$f":"IF(Tabelle3[[#This Row],[Cargo]]<>0,SUM(G374:I374),\"\")","v":""},{"$f":"IF(Tabelle3[[#This Row],[Número de trabajadores]]=0,\"\",IF($H$28<>0,(1-J374/$H$28)*100,IF($H$17<>0,(1-J374/$H$17)*100)))","v":""}]
[null,null,316,null,null,null,null,null,null,{"$f":"IF(Tabelle3[[#This Row],[Cargo]]<>0,SUM(G375:I375),\"\")","v":""},{"$f":"IF(Tabelle3[[#This Row],[Número de trabajadores]]=0,\"\",IF($H$28<>0,(1-J375/$H$28)*100,IF($H$17<>0,(1-J375/$H$17)*100)))","v":""}]
[null,null,317,null,null,null,null,null,null,{"$f":"IF(Tabelle3[[#This Row],[Cargo]]<>0,SUM(G376:I376),\"\")","v":""},{"$f":"IF(Tabelle3[[#This Row],[Número de trabajadores]]=0,\"\",IF($H$28<>0,(1-J376/$H$28)*100,IF($H$17<>0,(1-J376/$H$17)*100)))","v":""}]
[null,null,318,null,null,null,null,null,null,{"$f":"IF(Tabelle3[[#This Row],[Cargo]]<>0,SUM(G377:I377),\"\")","v":""},{"$f":"IF(Tabelle3[[#This Row],[Número de trabajadores]]=0,\"\",IF($H$28<>0,(1-J377/$H$28)*100,IF($H$17<>0,(1-J377/$H$17)*100)))","v":""}]
[null,null,319,null,null,null,null,null,null,{"$f":"IF(Tabelle3[[#This Row],[Cargo]]<>0,SUM(G378:I378),\"\")","v":""},{"$f":"IF(Tabelle3[[#This Row],[Número de trabajadores]]=0,\"\",IF($H$28<>0,(1-J378/$H$28)*100,IF($H$17<>0,(1-J378/$H$17)*100)))","v":""}]
[null,null,320,null,null,null,null,null,null,{"$f":"IF(Tabelle3[[#This Row],[Cargo]]<>0,SUM(G379:I379),\"\")","v":""},{"$f":"IF(Tabelle3[[#This Row],[Número de trabajadores]]=0,\"\",IF($H$28<>0,(1-J379/$H$28)*100,IF($H$17<>0,(1-J379/$H$17)*100)))","v":""}]
[null,null,321,null,null,null,null,null,null,{"$f":"IF(Tabelle3[[#This Row],[Cargo]]<>0,SUM(G380:I380),\"\")","v":""},{"$f":"IF(Tabelle3[[#This Row],[Número de trabajadores]]=0,\"\",IF($H$28<>0,(1-J380/$H$28)*100,IF($H$17<>0,(1-J380/$H$17)*100)))","v":""}]
[null,null,322,null,null,null,null,null,null,{"$f":"IF(Tabelle3[[#This Row],[Cargo]]<>0,SUM(G381:I381),\"\")","v":""},{"$f":"IF(Tabelle3[[#This Row],[Número de trabajadores]]=0,\"\",IF($H$28<>0,(1-J381/$H$28)*100,IF($H$17<>0,(1-J381/$H$17)*100)))","v":""}]
[null,null,323,null,null,null,null,null,null,{"$f":"IF(Tabelle3[[#This Row],[Cargo]]<>0,SUM(G382:I382),\"\")","v":""},{"$f":"IF(Tabelle3[[#This Row],[Número de trabajadores]]=0,\"\",IF($H$28<>0,(1-J382/$H$28)*100,IF($H$17<>0,(1-J382/$H$17)*100)))","v":""}]
[null,null,324,null,null,null,null,null,null,{"$f":"IF(Tabelle3[[#This Row],[Cargo]]<>0,SUM(G383:I383),\"\")","v":""},{"$f":"IF(Tabelle3[[#This Row],[Número de trabajadores]]=0,\"\",IF($H$28<>0,(1-J383/$H$28)*100,IF($H$17<>0,(1-J383/$H$17)*100)))","v":""}]
[null,null,325,null,null,null,null,null,null,{"$f":"IF(Tabelle3[[#This Row],[Cargo]]<>0,SUM(G384:I384),\"\")","v":""},{"$f":"IF(Tabelle3[[#This Row],[Número de trabajadores]]=0,\"\",IF($H$28<>0,(1-J384/$H$28)*100,IF($H$17<>0,(1-J384/$H$17)*100)))","v":""}]
[null,null,326,null,null,null,null,null,null,{"$f":"IF(Tabelle3[[#This Row],[Cargo]]<>0,SUM(G385:I385),\"\")","v":""},{"$f":"IF(Tabelle3[[#This Row],[Número de trabajadores]]=0,\"\",IF($H$28<>0,(1-J385/$H$28)*100,IF($H$17<>0,(1-J385/$H$17)*100)))","v":""}]
[null,null,327,null,null,null,null,null,null,{"$f":"IF(Tabelle3[[#This Row],[Cargo]]<>0,SUM(G386:I386),\"\")","v":""},{"$f":"IF(Tabelle3[[#This Row],[Número de trabajadores]]=0,\"\",IF($H$28<>0,(1-J386/$H$28)*100,IF($H$17<>0,(1-J386/$H$17)*100)))","v":""}]
[null,null,328,null,null,null,null,null,null,{"$f":"IF(Tabelle3[[#This Row],[Cargo]]<>0,SUM(G387:I387),\"\")","v":""},{"$f":"IF(Tabelle3[[#This Row],[Número de trabajadores]]=0,\"\",IF($H$28<>0,(1-J387/$H$28)*100,IF($H$17<>0,(1-J387/$H$17)*100)))","v":""}]
[null,null,329,null,null,null,null,null,null,{"$f":"IF(Tabelle3[[#This Row],[Cargo]]<>0,SUM(G388:I388),\"\")","v":""},{"$f":"IF(Tabelle3[[#This Row],[Número de trabajadores]]=0,\"\",IF($H$28<>0,(1-J388/$H$28)*100,IF($H$17<>0,(1-J388/$H$17)*100)))","v":""}]
[null,null,330,null,null,null,null,null,null,{"$f":"IF(Tabelle3[[#This Row],[Cargo]]<>0,SUM(G389:I389),\"\")","v":""},{"$f":"IF(Tabelle3[[#This Row],[Número de trabajadores]]=0,\"\",IF($H$28<>0,(1-J389/$H$28)*100,IF($H$17<>0,(1-J389/$H$17)*100)))","v":""}]
[null,null,331,null,null,null,null,null,null,{"$f":"IF(Tabelle3[[#This Row],[Cargo]]<>0,SUM(G390:I390),\"\")","v":""},{"$f":"IF(Tabelle3[[#This Row],[Número de trabajadores]]=0,\"\",IF($H$28<>0,(1-J390/$H$28)*100,IF($H$17<>0,(1-J390/$H$17)*100)))","v":""}]
[null,null,332,null,null,null,null,null,null,{"$f":"IF(Tabelle3[[#This Row],[Cargo]]<>0,SUM(G391:I391),\"\")","v":""},{"$f":"IF(Tabelle3[[#This Row],[Número de trabajadores]]=0,\"\",IF($H$28<>0,(1-J391/$H$28)*100,IF($H$17<>0,(1-J391/$H$17)*100)))","v":""}]
[null,null,333,null,null,null,null,null,null,{"$f":"IF(Tabelle3[[#This Row],[Cargo]]<>0,SUM(G392:I392),\"\")","v":""},{"$f":"IF(Tabelle3[[#This Row],[Número de trabajadores]]=0,\"\",IF($H$28<>0,(1-J392/$H$28)*100,IF($H$17<>0,(1-J392/$H$17)*100)))","v":""}]
[null,null,334,null,null,null,null,null,null,{"$f":"IF(Tabelle3[[#This Row],[Cargo]]<>0,SUM(G393:I393),\"\")","v":""},{"$f":"IF(Tabelle3[[#This Row],[Número de trabajadores]]=0,\"\",IF($H$28<>0,(1-J393/$H$28)*100,IF($H$17<>0,(1-J393/$H$17)*100)))","v":""}]
[null,null,335,null,null,null,null,null,null,{"$f":"IF(Tabelle3[[#This Row],[Cargo]]<>0,SUM(G394:I394),\"\")","v":""},{"$f":"IF(Tabelle3[[#This Row],[Número de trabajadores]]=0,\"\",IF($H$28<>0,(1-J394/$H$28)*100,IF($H$17<>0,(1-J394/$H$17)*100)))","v":""}]
[null,null,336,null,null,null,null,null,null,{"$f":"IF(Tabelle3[[#This Row],[Cargo]]<>0,SUM(G395:I395),\"\")","v":""},{"$f":"IF(Tabelle3[[#This Row],[Número de trabajadores]]=0,\"\",IF($H$28<>0,(1-J395/$H$28)*100,IF($H$17<>0,(1-J395/$H$17)*100)))","v":""}]
[null,null,337,null,null,null,null,null,null,{"$f":"IF(Tabelle3[[#This Row],[Cargo]]<>0,SUM(G396:I396),\"\")","v":""},{"$f":"IF(Tabelle3[[#This Row],[Número de trabajadores]]=0,\"\",IF($H$28<>0,(1-J396/$H$28)*100,IF($H$17<>0,(1-J396/$H$17)*100)))","v":""}]
[null,null,338,null,null,null,null,null,null,{"$f":"IF(Tabelle3[[#This Row],[Cargo]]<>0,SUM(G397:I397),\"\")","v":""},{"$f":"IF(Tabelle3[[#This Row],[Número de trabajadores]]=0,\"\",IF($H$28<>0,(1-J397/$H$28)*100,IF($H$17<>0,(1-J397/$H$17)*100)))","v":""}]
[null,null,339,null,null,null,null,null,null,{"$f":"IF(Tabelle3[[#This Row],[Cargo]]<>0,SUM(G398:I398),\"\")","v":""},{"$f":"IF(Tabelle3[[#This Row],[Número de trabajadores]]=0,\"\",IF($H$28<>0,(1-J398/$H$28)*100,IF($H$17<>0,(1-J398/$H$17)*100)))","v":""}]
[null,null,340,null,null,null,null,null,null,{"$f":"IF(Tabelle3[[#This Row],[Cargo]]<>0,SUM(G399:I399),\"\")","v":""},{"$f":"IF(Tabelle3[[#This Row],[Número de trabajadores]]=0,\"\",IF($H$28<>0,(1-J399/$H$28)*100,IF($H$17<>0,(1-J399/$H$17)*100)))","v":""}]
[null,null,341,null,null,null,null,null,null,{"$f":"IF(Tabelle3[[#This Row],[Cargo]]<>0,SUM(G400:I400),\"\")","v":""},{"$f":"IF(Tabelle3[[#This Row],[Número de trabajadores]]=0,\"\",IF($H$28<>0,(1-J400/$H$28)*100,IF($H$17<>0,(1-J400/$H$17)*100)))","v":""}]
[null,null,342,null,null,null,null,null,null,{"$f":"IF(Tabelle3[[#This Row],[Cargo]]<>0,SUM(G401:I401),\"\")","v":""},{"$f":"IF(Tabelle3[[#This Row],[Número de trabajadores]]=0,\"\",IF($H$28<>0,(1-J401/$H$28)*100,IF($H$17<>0,(1-J401/$H$17)*100)))","v":""}]
[null,null,343,null,null,null,null,null,null,{"$f":"IF(Tabelle3[[#This Row],[Cargo]]<>0,SUM(G402:I402),\"\")","v":""},{"$f":"IF(Tabelle3[[#This Row],[Número de trabajadores]]=0,\"\",IF($H$28<>0,(1-J402/$H$28)*100,IF($H$17<>0,(1-J402/$H$17)*100)))","v":""}]
[null,null,344,null,null,null,null,null,null,{"$f":"IF(Tabelle3[[#This Row],[Cargo]]<>0,SUM(G403:I403),\"\")","v":""},{"$f":"IF(Tabelle3[[#This Row],[Número de trabajadores]]=0,\"\",IF($H$28<>0,(1-J403/$H$28)*100,IF($H$17<>0,(1-J403/$H$17)*100)))","v":""}]
[null,null,345,null,null,null,null,null,null,{"$f":"IF(Tabelle3[[#This Row],[Cargo]]<>0,SUM(G404:I404),\"\")","v":""},{"$f":"IF(Tabelle3[[#This Row],[Número de trabajadores]]=0,\"\",IF($H$28<>0,(1-J404/$H$28)*100,IF($H$17<>0,(1-J404/$H$17)*100)))","v":""}]
[null,null,346,null,null,null,null,null,null,{"$f":"IF(Tabelle3[[#This Row],[Cargo]]<>0,SUM(G405:I405),\"\")","v":""},{"$f":"IF(Tabelle3[[#This Row],[Número de trabajadores]]=0,\"\",IF($H$28<>0,(1-J405/$H$28)*100,IF($H$17<>0,(1-J405/$H$17)*100)))","v":""}]
[null,null,347,null,null,null,null,null,null,{"$f":"IF(Tabelle3[[#This Row],[Cargo]]<>0,SUM(G406:I406),\"\")","v":""},{"$f":"IF(Tabelle3[[#This Row],[Número de trabajadores]]=0,\"\",IF($H$28<>0,(1-J406/$H$28)*100,IF($H$17<>0,(1-J406/$H$17)*100)))","v":""}]
[null,null,348,null,null,null,null,null,null,{"$f":"IF(Tabelle3[[#This Row],[Cargo]]<>0,SUM(G407:I407),\"\")","v":""},{"$f":"IF(Tabelle3[[#This Row],[Número de trabajadores]]=0,\"\",IF($H$28<>0,(1-J407/$H$28)*100,IF($H$17<>0,(1-J407/$H$17)*100)))","v":""}]
[null,null,349,null,null,null,null,null,null,{"$f":"IF(Tabelle3[[#This Row],[Cargo]]<>0,SUM(G408:I408),\"\")","v":""},{"$f":"IF(Tabelle3[[#This Row],[Número de trabajadores]]=0,\"\",IF($H$28<>0,(1-J408/$H$28)*100,IF($H$17<>0,(1-J408/$H$17)*100)))","v":""}]
[null,null,350,null,null,null,null,null,null,{"$f":"IF(Tabelle3[[#This Row],[Cargo]]<>0,SUM(G409:I409),\"\")","v":""},{"$f":"IF(Tabelle3[[#This Row],[Número de trabajadores]]=0,\"\",IF($H$28<>0,(1-J409/$H$28)*100,IF($H$17<>0,(1-J409/$H$17)*100)))","v":""}]
[null,null,351,null,null,null,null,null,null,{"$f":"IF(Tabelle3[[#This Row],[Cargo]]<>0,SUM(G410:I410),\"\")","v":""},{"$f":"IF(Tabelle3[[#This Row],[Número de trabajadores]]=0,\"\",IF($H$28<>0,(1-J410/$H$28)*100,IF($H$17<>0,(1-J410/$H$17)*100)))","v":""}]
[null,null,352,null,null,null,null,null,null,{"$f":"IF(Tabelle3[[#This Row],[Cargo]]<>0,SUM(G411:I411),\"\")","v":""},{"$f":"IF(Tabelle3[[#This Row],[Número de trabajadores]]=0,\"\",IF($H$28<>0,(1-J411/$H$28)*100,IF($H$17<>0,(1-J411/$H$17)*100)))","v":""}]
[null,null,353,null,null,null,null,null,null,{"$f":"IF(Tabelle3[[#This Row],[Cargo]]<>0,SUM(G412:I412),\"\")","v":""},{"$f":"IF(Tabelle3[[#This Row],[Número de trabajadores]]=0,\"\",IF($H$28<>0,(1-J412/$H$28)*100,IF($H$17<>0,(1-J412/$H$17)*100)))","v":""}]
[null,null,354,null,null,null,null,null,null,{"$f":"IF(Tabelle3[[#This Row],[Cargo]]<>0,SUM(G413:I413),\"\")","v":""},{"$f":"IF(Tabelle3[[#This Row],[Número de trabajadores]]=0,\"\",IF($H$28<>0,(1-J413/$H$28)*100,IF($H$17<>0,(1-J413/$H$17)*100)))","v":""}]
[null,null,355,null,null,null,null,null,null,{"$f":"IF(Tabelle3[[#This Row],[Cargo]]<>0,SUM(G414:I414),\"\")","v":""},{"$f":"IF(Tabelle3[[#This Row],[Número de trabajadores]]=0,\"\",IF($H$28<>0,(1-J414/$H$28)*100,IF($H$17<>0,(1-J414/$H$17)*100)))","v":""}]
[null,null,356,null,null,null,null,null,null,{"$f":"IF(Tabelle3[[#This Row],[Cargo]]<>0,SUM(G415:I415),\"\")","v":""},{"$f":"IF(Tabelle3[[#This Row],[Número de trabajadores]]=0,\"\",IF($H$28<>0,(1-J415/$H$28)*100,IF($H$17<>0,(1-J415/$H$17)*100)))","v":""}]
[null,null,357,null,null,null,null,null,null,{"$f":"IF(Tabelle3[[#This Row],[Cargo]]<>0,SUM(G416:I416),\"\")","v":""},{"$f":"IF(Tabelle3[[#This Row],[Número de trabajadores]]=0,\"\",IF($H$28<>0,(1-J416/$H$28)*100,IF($H$17<>0,(1-J416/$H$17)*100)))","v":""}]
[null,null,358,null,null,null,null,null,null,{"$f":"IF(Tabelle3[[#This Row],[Cargo]]<>0,SUM(G417:I417),\"\")","v":""},{"$f":"IF(Tabelle3[[#This Row],[Número de trabajadores]]=0,\"\",IF($H$28<>0,(1-J417/$H$28)*100,IF($H$17<>0,(1-J417/$H$17)*100)))","v":""}]
[null,null,359,null,null,null,null,null,null,{"$f":"IF(Tabelle3[[#This Row],[Cargo]]<>0,SUM(G418:I418),\"\")","v":""},{"$f":"IF(Tabelle3[[#This Row],[Número de trabajadores]]=0,\"\",IF($H$28<>0,(1-J418/$H$28)*100,IF($H$17<>0,(1-J418/$H$17)*100)))","v":""}]
[null,null,360,null,null,null,null,null,null,{"$f":"IF(Tabelle3[[#This Row],[Cargo]]<>0,SUM(G419:I419),\"\")","v":""},{"$f":"IF(Tabelle3[[#This Row],[Número de trabajadores]]=0,\"\",IF($H$28<>0,(1-J419/$H$28)*100,IF($H$17<>0,(1-J419/$H$17)*100)))","v":""}]
[null,null,361,null,null,null,null,null,null,{"$f":"IF(Tabelle3[[#This Row],[Cargo]]<>0,SUM(G420:I420),\"\")","v":""},{"$f":"IF(Tabelle3[[#This Row],[Número de trabajadores]]=0,\"\",IF($H$28<>0,(1-J420/$H$28)*100,IF($H$17<>0,(1-J420/$H$17)*100)))","v":""}]
[null,null,362,null,null,null,null,null,null,{"$f":"IF(Tabelle3[[#This Row],[Cargo]]<>0,SUM(G421:I421),\"\")","v":""},{"$f":"IF(Tabelle3[[#This Row],[Número de trabajadores]]=0,\"\",IF($H$28<>0,(1-J421/$H$28)*100,IF($H$17<>0,(1-J421/$H$17)*100)))","v":""}]
[null,null,363,null,null,null,null,null,null,{"$f":"IF(Tabelle3[[#This Row],[Cargo]]<>0,SUM(G422:I422),\"\")","v":""},{"$f":"IF(Tabelle3[[#This Row],[Número de trabajadores]]=0,\"\",IF($H$28<>0,(1-J422/$H$28)*100,IF($H$17<>0,(1-J422/$H$17)*100)))","v":""}]
[null,null,364,null,null,null,null,null,null,{"$f":"IF(Tabelle3[[#This Row],[Cargo]]<>0,SUM(G423:I423),\"\")","v":""},{"$f":"IF(Tabelle3[[#This Row],[Número de trabajadores]]=0,\"\",IF($H$28<>0,(1-J423/$H$28)*100,IF($H$17<>0,(1-J423/$H$17)*100)))","v":""}]
[null,null,365,null,null,null,null,null,null,{"$f":"IF(Tabelle3[[#This Row],[Cargo]]<>0,SUM(G424:I424),\"\")","v":""},{"$f":"IF(Tabelle3[[#This Row],[Número de trabajadores]]=0,\"\",IF($H$28<>0,(1-J424/$H$28)*100,IF($H$17<>0,(1-J424/$H$17)*100)))","v":""}]
[null,null,366,null,null,null,null,null,null,{"$f":"IF(Tabelle3[[#This Row],[Cargo]]<>0,SUM(G425:I425),\"\")","v":""},{"$f":"IF(Tabelle3[[#This Row],[Número de trabajadores]]=0,\"\",IF($H$28<>0,(1-J425/$H$28)*100,IF($H$17<>0,(1-J425/$H$17)*100)))","v":""}]
[null,null,367,null,null,null,null,null,null,{"$f":"IF(Tabelle3[[#This Row],[Cargo]]<>0,SUM(G426:I426),\"\")","v":""},{"$f":"IF(Tabelle3[[#This Row],[Número de trabajadores]]=0,\"\",IF($H$28<>0,(1-J426/$H$28)*100,IF($H$17<>0,(1-J426/$H$17)*100)))","v":""}]
[null,null,368,null,null,null,null,null,null,{"$f":"IF(Tabelle3[[#This Row],[Cargo]]<>0,SUM(G427:I427),\"\")","v":""},{"$f":"IF(Tabelle3[[#This Row],[Número de trabajadores]]=0,\"\",IF($H$28<>0,(1-J427/$H$28)*100,IF($H$17<>0,(1-J427/$H$17)*100)))","v":""}]
[null,null,369,null,null,null,null,null,null,{"$f":"IF(Tabelle3[[#This Row],[Cargo]]<>0,SUM(G428:I428),\"\")","v":""},{"$f":"IF(Tabelle3[[#This Row],[Número de trabajadores]]=0,\"\",IF($H$28<>0,(1-J428/$H$28)*100,IF($H$17<>0,(1-J428/$H$17)*100)))","v":""}]
[null,null,370,null,null,null,null,null,null,{"$f":"IF(Tabelle3[[#This Row],[Cargo]]<>0,SUM(G429:I429),\"\")","v":""},{"$f":"IF(Tabelle3[[#This Row],[Número de trabajadores]]=0,\"\",IF($H$28<>0,(1-J429/$H$28)*100,IF($H$17<>0,(1-J429/$H$17)*100)))","v":""}]
[null,null,371,null,null,null,null,null,null,{"$f":"IF(Tabelle3[[#This Row],[Cargo]]<>0,SUM(G430:I430),\"\")","v":""},{"$f":"IF(Tabelle3[[#This Row],[Número de trabajadores]]=0,\"\",IF($H$28<>0,(1-J430/$H$28)*100,IF($H$17<>0,(1-J430/$H$17)*100)))","v":""}]
[null,null,372,null,null,null,null,null,null,{"$f":"IF(Tabelle3[[#This Row],[Cargo]]<>0,SUM(G431:I431),\"\")","v":""},{"$f":"IF(Tabelle3[[#This Row],[Número de trabajadores]]=0,\"\",IF($H$28<>0,(1-J431/$H$28)*100,IF($H$17<>0,(1-J431/$H$17)*100)))","v":""}]
[null,null,373,null,null,null,null,null,null,{"$f":"IF(Tabelle3[[#This Row],[Cargo]]<>0,SUM(G432:I432),\"\")","v":""},{"$f":"IF(Tabelle3[[#This Row],[Número de trabajadores]]=0,\"\",IF($H$28<>0,(1-J432/$H$28)*100,IF($H$17<>0,(1-J432/$H$17)*100)))","v":""}]
[null,null,374,null,null,null,null,null,null,{"$f":"IF(Tabelle3[[#This Row],[Cargo]]<>0,SUM(G433:I433),\"\")","v":""},{"$f":"IF(Tabelle3[[#This Row],[Número de trabajadores]]=0,\"\",IF($H$28<>0,(1-J433/$H$28)*100,IF($H$17<>0,(1-J433/$H$17)*100)))","v":""}]
[null,null,375,null,null,null,null,null,null,{"$f":"IF(Tabelle3[[#This Row],[Cargo]]<>0,SUM(G434:I434),\"\")","v":""},{"$f":"IF(Tabelle3[[#This Row],[Número de trabajadores]]=0,\"\",IF($H$28<>0,(1-J434/$H$28)*100,IF($H$17<>0,(1-J434/$H$17)*100)))","v":""}]
[null,null,376,null,null,null,null,null,null,{"$f":"IF(Tabelle3[[#This Row],[Cargo]]<>0,SUM(G435:I435),\"\")","v":""},{"$f":"IF(Tabelle3[[#This Row],[Número de trabajadores]]=0,\"\",IF($H$28<>0,(1-J435/$H$28)*100,IF($H$17<>0,(1-J435/$H$17)*100)))","v":""}]
[null,null,377,null,null,null,null,null,null,{"$f":"IF(Tabelle3[[#This Row],[Cargo]]<>0,SUM(G436:I436),\"\")","v":""},{"$f":"IF(Tabelle3[[#This Row],[Número de trabajadores]]=0,\"\",IF($H$28<>0,(1-J436/$H$28)*100,IF($H$17<>0,(1-J436/$H$17)*100)))","v":""}]
[null,null,378,null,null,null,null,null,null,{"$f":"IF(Tabelle3[[#This Row],[Cargo]]<>0,SUM(G437:I437),\"\")","v":""},{"$f":"IF(Tabelle3[[#This Row],[Número de trabajadores]]=0,\"\",IF($H$28<>0,(1-J437/$H$28)*100,IF($H$17<>0,(1-J437/$H$17)*100)))","v":""}]
[null,null,379,null,null,null,null,null,null,{"$f":"IF(Tabelle3[[#This Row],[Cargo]]<>0,SUM(G438:I438),\"\")","v":""},{"$f":"IF(Tabelle3[[#This Row],[Número de trabajadores]]=0,\"\",IF($H$28<>0,(1-J438/$H$28)*100,IF($H$17<>0,(1-J438/$H$17)*100)))","v":""}]
[null,null,380,null,null,null,null,null,null,{"$f":"IF(Tabelle3[[#This Row],[Cargo]]<>0,SUM(G439:I439),\"\")","v":""},{"$f":"IF(Tabelle3[[#This Row],[Número de trabajadores]]=0,\"\",IF($H$28<>0,(1-J439/$H$28)*100,IF($H$17<>0,(1-J439/$H$17)*100)))","v":""}]
[null,null,381,null,null,null,null,null,null,{"$f":"IF(Tabelle3[[#This Row],[Cargo]]<>0,SUM(G440:I440),\"\")","v":""},{"$f":"IF(Tabelle3[[#This Row],[Número de trabajadores]]=0,\"\",IF($H$28<>0,(1-J440/$H$28)*100,IF($H$17<>0,(1-J440/$H$17)*100)))","v":""}]
[null,null,382,null,null,null,null,null,null,{"$f":"IF(Tabelle3[[#This Row],[Cargo]]<>0,SUM(G441:I441),\"\")","v":""},{"$f":"IF(Tabelle3[[#This Row],[Número de trabajadores]]=0,\"\",IF($H$28<>0,(1-J441/$H$28)*100,IF($H$17<>0,(1-J441/$H$17)*100)))","v":""}]
[null,null,383,null,null,null,null,null,null,{"$f":"IF(Tabelle3[[#This Row],[Cargo]]<>0,SUM(G442:I442),\"\")","v":""},{"$f":"IF(Tabelle3[[#This Row],[Número de trabajadores]]=0,\"\",IF($H$28<>0,(1-J442/$H$28)*100,IF($H$17<>0,(1-J442/$H$17)*100)))","v":""}]
[null,null,384,null,null,null,null,null,null,{"$f":"IF(Tabelle3[[#This Row],[Cargo]]<>0,SUM(G443:I443),\"\")","v":""},{"$f":"IF(Tabelle3[[#This Row],[Número de trabajadores]]=0,\"\",IF($H$28<>0,(1-J443/$H$28)*100,IF($H$17<>0,(1-J443/$H$17)*100)))","v":""}]
[null,null,385,null,null,null,null,null,null,{"$f":"IF(Tabelle3[[#This Row],[Cargo]]<>0,SUM(G444:I444),\"\")","v":""},{"$f":"IF(Tabelle3[[#This Row],[Número de trabajadores]]=0,\"\",IF($H$28<>0,(1-J444/$H$28)*100,IF($H$17<>0,(1-J444/$H$17)*100)))","v":""}]
[null,null,386,null,null,null,null,null,null,{"$f":"IF(Tabelle3[[#This Row],[Cargo]]<>0,SUM(G445:I445),\"\")","v":""},{"$f":"IF(Tabelle3[[#This Row],[Número de trabajadores]]=0,\"\",IF($H$28<>0,(1-J445/$H$28)*100,IF($H$17<>0,(1-J445/$H$17)*100)))","v":""}]
[null,null,387,null,null,null,null,null,null,{"$f":"IF(Tabelle3[[#This Row],[Cargo]]<>0,SUM(G446:I446),\"\")","v":""},{"$f":"IF(Tabelle3[[#This Row],[Número de trabajadores]]=0,\"\",IF($H$28<>0,(1-J446/$H$28)*100,IF($H$17<>0,(1-J446/$H$17)*100)))","v":""}]
[null,null,388,null,null,null,null,null,null,{"$f":"IF(Tabelle3[[#This Row],[Cargo]]<>0,SUM(G447:I447),\"\")","v":""},{"$f":"IF(Tabelle3[[#This Row],[Número de trabajadores]]=0,\"\",IF($H$28<>0,(1-J447/$H$28)*100,IF($H$17<>0,(1-J447/$H$17)*100)))","v":""}]
[null,null,389,null,null,null,null,null,null,{"$f":"IF(Tabelle3[[#This Row],[Cargo]]<>0,SUM(G448:I448),\"\")","v":""},{"$f":"IF(Tabelle3[[#This Row],[Número de trabajadores]]=0,\"\",IF($H$28<>0,(1-J448/$H$28)*100,IF($H$17<>0,(1-J448/$H$17)*100)))","v":""}]
[null,null,390,null,null,null,null,null,null,{"$f":"IF(Tabelle3[[#This Row],[Cargo]]<>0,SUM(G449:I449),\"\")","v":""},{"$f":"IF(Tabelle3[[#This Row],[Número de trabajadores]]=0,\"\",IF($H$28<>0,(1-J449/$H$28)*100,IF($H$17<>0,(1-J449/$H$17)*100)))","v":""}]
[null,null,391,null,null,null,null,null,null,{"$f":"IF(Tabelle3[[#This Row],[Cargo]]<>0,SUM(G450:I450),\"\")","v":""},{"$f":"IF(Tabelle3[[#This Row],[Número de trabajadores]]=0,\"\",IF($H$28<>0,(1-J450/$H$28)*100,IF($H$17<>0,(1-J450/$H$17)*100)))","v":""}]
[null,null,392,null,null,null,null,null,null,{"$f":"IF(Tabelle3[[#This Row],[Cargo]]<>0,SUM(G451:I451),\"\")","v":""},{"$f":"IF(Tabelle3[[#This Row],[Número de trabajadores]]=0,\"\",IF($H$28<>0,(1-J451/$H$28)*100,IF($H$17<>0,(1-J451/$H$17)*100)))","v":""}]
[null,null,393,null,null,null,null,null,null,{"$f":"IF(Tabelle3[[#This Row],[Cargo]]<>0,SUM(G452:I452),\"\")","v":""},{"$f":"IF(Tabelle3[[#This Row],[Número de trabajadores]]=0,\"\",IF($H$28<>0,(1-J452/$H$28)*100,IF($H$17<>0,(1-J452/$H$17)*100)))","v":""}]
[null,null,394,null,null,null,null,null,null,{"$f":"IF(Tabelle3[[#This Row],[Cargo]]<>0,SUM(G453:I453),\"\")","v":""},{"$f":"IF(Tabelle3[[#This Row],[Número de trabajadores]]=0,\"\",IF($H$28<>0,(1-J453/$H$28)*100,IF($H$17<>0,(1-J453/$H$17)*100)))","v":""}]
[null,null,395,null,null,null,null,null,null,{"$f":"IF(Tabelle3[[#This Row],[Cargo]]<>0,SUM(G454:I454),\"\")","v":""},{"$f":"IF(Tabelle3[[#This Row],[Número de trabajadores]]=0,\"\",IF($H$28<>0,(1-J454/$H$28)*100,IF($H$17<>0,(1-J454/$H$17)*100)))","v":""}]
[null,null,396,null,null,null,null,null,null,{"$f":"IF(Tabelle3[[#This Row],[Cargo]]<>0,SUM(G455:I455),\"\")","v":""},{"$f":"IF(Tabelle3[[#This Row],[Número de trabajadores]]=0,\"\",IF($H$28<>0,(1-J455/$H$28)*100,IF($H$17<>0,(1-J455/$H$17)*100)))","v":""}]
[null,null,397,null,null,null,null,null,null,{"$f":"IF(Tabelle3[[#This Row],[Cargo]]<>0,SUM(G456:I456),\"\")","v":""},{"$f":"IF(Tabelle3[[#This Row],[Número de trabajadores]]=0,\"\",IF($H$28<>0,(1-J456/$H$28)*100,IF($H$17<>0,(1-J456/$H$17)*100)))","v":""}]
[null,null,398,null,null,null,null,null,null,{"$f":"IF(Tabelle3[[#This Row],[Cargo]]<>0,SUM(G457:I457),\"\")","v":""},{"$f":"IF(Tabelle3[[#This Row],[Número de trabajadores]]=0,\"\",IF($H$28<>0,(1-J457/$H$28)*100,IF($H$17<>0,(1-J457/$H$17)*100)))","v":""}]
[null,null,399,null,null,null,null,null,null,{"$f":"IF(Tabelle3[[#This Row],[Cargo]]<>0,SUM(G458:I458),\"\")","v":""},{"$f":"IF(Tabelle3[[#This Row],[Número de trabajadores]]=0,\"\",IF($H$28<>0,(1-J458/$H$28)*100,IF($H$17<>0,(1-J458/$H$17)*100)))","v":""}]
[null,null,400,null,null,null,null,null,null,{"$f":"IF(Tabelle3[[#This Row],[Cargo]]<>0,SUM(G459:I459),\"\")","v":""},{"$f":"IF(Tabelle3[[#This Row],[Número de trabajadores]]=0,\"\",IF($H$28<>0,(1-J459/$H$28)*100,IF($H$17<>0,(1-J459/$H$17)*100)))","v":""}]
[null,null,401,null,null,null,null,null,null,{"$f":"IF(Tabelle3[[#This Row],[Cargo]]<>0,SUM(G460:I460),\"\")","v":""},{"$f":"IF(Tabelle3[[#This Row],[Número de trabajadores]]=0,\"\",IF($H$28<>0,(1-J460/$H$28)*100,IF($H$17<>0,(1-J460/$H$17)*100)))","v":""}]
[null,null,402,null,null,null,null,null,null,{"$f":"IF(Tabelle3[[#This Row],[Cargo]]<>0,SUM(G461:I461),\"\")","v":""},{"$f":"IF(Tabelle3[[#This Row],[Número de trabajadores]]=0,\"\",IF($H$28<>0,(1-J461/$H$28)*100,IF($H$17<>0,(1-J461/$H$17)*100)))","v":""}]
[null,null,403,null,null,null,null,null,null,{"$f":"IF(Tabelle3[[#This Row],[Cargo]]<>0,SUM(G462:I462),\"\")","v":""},{"$f":"IF(Tabelle3[[#This Row],[Número de trabajadores]]=0,\"\",IF($H$28<>0,(1-J462/$H$28)*100,IF($H$17<>0,(1-J462/$H$17)*100)))","v":""}]
[null,null,404,null,null,null,null,null,null,{"$f":"IF(Tabelle3[[#This Row],[Cargo]]<>0,SUM(G463:I463),\"\")","v":""},{"$f":"IF(Tabelle3[[#This Row],[Número de trabajadores]]=0,\"\",IF($H$28<>0,(1-J463/$H$28)*100,IF($H$17<>0,(1-J463/$H$17)*100)))","v":""}]
[null,null,405,null,null,null,null,null,null,{"$f":"IF(Tabelle3[[#This Row],[Cargo]]<>0,SUM(G464:I464),\"\")","v":""},{"$f":"IF(Tabelle3[[#This Row],[Número de trabajadores]]=0,\"\",IF($H$28<>0,(1-J464/$H$28)*100,IF($H$17<>0,(1-J464/$H$17)*100)))","v":""}]
[null,null,406,null,null,null,null,null,null,{"$f":"IF(Tabelle3[[#This Row],[Cargo]]<>0,SUM(G465:I465),\"\")","v":""},{"$f":"IF(Tabelle3[[#This Row],[Número de trabajadores]]=0,\"\",IF($H$28<>0,(1-J465/$H$28)*100,IF($H$17<>0,(1-J465/$H$17)*100)))","v":""}]
[null,null,407,null,null,null,null,null,null,{"$f":"IF(Tabelle3[[#This Row],[Cargo]]<>0,SUM(G466:I466),\"\")","v":""},{"$f":"IF(Tabelle3[[#This Row],[Número de trabajadores]]=0,\"\",IF($H$28<>0,(1-J466/$H$28)*100,IF($H$17<>0,(1-J466/$H$17)*100)))","v":""}]
[null,null,408,null,null,null,null,null,null,{"$f":"IF(Tabelle3[[#This Row],[Cargo]]<>0,SUM(G467:I467),\"\")","v":""},{"$f":"IF(Tabelle3[[#This Row],[Número de trabajadores]]=0,\"\",IF($H$28<>0,(1-J467/$H$28)*100,IF($H$17<>0,(1-J467/$H$17)*100)))","v":""}]
[null,null,409,null,null,null,null,null,null,{"$f":"IF(Tabelle3[[#This Row],[Cargo]]<>0,SUM(G468:I468),\"\")","v":""},{"$f":"IF(Tabelle3[[#This Row],[Número de trabajadores]]=0,\"\",IF($H$28<>0,(1-J468/$H$28)*100,IF($H$17<>0,(1-J468/$H$17)*100)))","v":""}]
[null,null,410,null,null,null,null,null,null,{"$f":"IF(Tabelle3[[#This Row],[Cargo]]<>0,SUM(G469:I469),\"\")","v":""},{"$f":"IF(Tabelle3[[#This Row],[Número de trabajadores]]=0,\"\",IF($H$28<>0,(1-J469/$H$28)*100,IF($H$17<>0,(1-J469/$H$17)*100)))","v":""}]
[null,null,411,null,null,null,null,null,null,{"$f":"IF(Tabelle3[[#This Row],[Cargo]]<>0,SUM(G470:I470),\"\")","v":""},{"$f":"IF(Tabelle3[[#This Row],[Número de trabajadores]]=0,\"\",IF($H$28<>0,(1-J470/$H$28)*100,IF($H$17<>0,(1-J470/$H$17)*100)))","v":""}]
[null,null,412,null,null,null,null,null,null,{"$f":"IF(Tabelle3[[#This Row],[Cargo]]<>0,SUM(G471:I471),\"\")","v":""},{"$f":"IF(Tabelle3[[#This Row],[Número de trabajadores]]=0,\"\",IF($H$28<>0,(1-J471/$H$28)*100,IF($H$17<>0,(1-J471/$H$17)*100)))","v":""}]
[null,null,413,null,null,null,null,null,null,{"$f":"IF(Tabelle3[[#This Row],[Cargo]]<>0,SUM(G472:I472),\"\")","v":""},{"$f":"IF(Tabelle3[[#This Row],[Número de trabajadores]]=0,\"\",IF($H$28<>0,(1-J472/$H$28)*100,IF($H$17<>0,(1-J472/$H$17)*100)))","v":""}]
[null,null,414,null,null,null,null,null,null,{"$f":"IF(Tabelle3[[#This Row],[Cargo]]<>0,SUM(G473:I473),\"\")","v":""},{"$f":"IF(Tabelle3[[#This Row],[Número de trabajadores]]=0,\"\",IF($H$28<>0,(1-J473/$H$28)*100,IF($H$17<>0,(1-J473/$H$17)*100)))","v":""}]
[null,null,415,null,null,null,null,null,null,{"$f":"IF(Tabelle3[[#This Row],[Cargo]]<>0,SUM(G474:I474),\"\")","v":""},{"$f":"IF(Tabelle3[[#This Row],[Número de trabajadores]]=0,\"\",IF($H$28<>0,(1-J474/$H$28)*100,IF($H$17<>0,(1-J474/$H$17)*100)))","v":""}]
[null,null,416,null,null,null,null,null,null,{"$f":"IF(Tabelle3[[#This Row],[Cargo]]<>0,SUM(G475:I475),\"\")","v":""},{"$f":"IF(Tabelle3[[#This Row],[Número de trabajadores]]=0,\"\",IF($H$28<>0,(1-J475/$H$28)*100,IF($H$17<>0,(1-J475/$H$17)*100)))","v":""}]
[null,null,417,null,null,null,null,null,null,{"$f":"IF(Tabelle3[[#This Row],[Cargo]]<>0,SUM(G476:I476),\"\")","v":""},{"$f":"IF(Tabelle3[[#This Row],[Número de trabajadores]]=0,\"\",IF($H$28<>0,(1-J476/$H$28)*100,IF($H$17<>0,(1-J476/$H$17)*100)))","v":""}]
[null,null,418,null,null,null,null,null,null,{"$f":"IF(Tabelle3[[#This Row],[Cargo]]<>0,SUM(G477:I477),\"\")","v":""},{"$f":"IF(Tabelle3[[#This Row],[Número de trabajadores]]=0,\"\",IF($H$28<>0,(1-J477/$H$28)*100,IF($H$17<>0,(1-J477/$H$17)*100)))","v":""}]
[null,null,419,null,null,null,null,null,null,{"$f":"IF(Tabelle3[[#This Row],[Cargo]]<>0,SUM(G478:I478),\"\")","v":""},{"$f":"IF(Tabelle3[[#This Row],[Número de trabajadores]]=0,\"\",IF($H$28<>0,(1-J478/$H$28)*100,IF($H$17<>0,(1-J478/$H$17)*100)))","v":""}]
[null,null,420,null,null,null,null,null,null,{"$f":"IF(Tabelle3[[#This Row],[Cargo]]<>0,SUM(G479:I479),\"\")","v":""},{"$f":"IF(Tabelle3[[#This Row],[Número de trabajadores]]=0,\"\",IF($H$28<>0,(1-J479/$H$28)*100,IF($H$17<>0,(1-J479/$H$17)*100)))","v":""}]
[null,null,421,null,null,null,null,null,null,{"$f":"IF(Tabelle3[[#This Row],[Cargo]]<>0,SUM(G480:I480),\"\")","v":""},{"$f":"IF(Tabelle3[[#This Row],[Número de trabajadores]]=0,\"\",IF($H$28<>0,(1-J480/$H$28)*100,IF($H$17<>0,(1-J480/$H$17)*100)))","v":""}]
[null,null,422,null,null,null,null,null,null,{"$f":"IF(Tabelle3[[#This Row],[Cargo]]<>0,SUM(G481:I481),\"\")","v":""},{"$f":"IF(Tabelle3[[#This Row],[Número de trabajadores]]=0,\"\",IF($H$28<>0,(1-J481/$H$28)*100,IF($H$17<>0,(1-J481/$H$17)*100)))","v":""}]
[null,null,423,null,null,null,null,null,null,{"$f":"IF(Tabelle3[[#This Row],[Cargo]]<>0,SUM(G482:I482),\"\")","v":""},{"$f":"IF(Tabelle3[[#This Row],[Número de trabajadores]]=0,\"\",IF($H$28<>0,(1-J482/$H$28)*100,IF($H$17<>0,(1-J482/$H$17)*100)))","v":""}]
[null,null,424,null,null,null,null,null,null,{"$f":"IF(Tabelle3[[#This Row],[Cargo]]<>0,SUM(G483:I483),\"\")","v":""},{"$f":"IF(Tabelle3[[#This Row],[Número de trabajadores]]=0,\"\",IF($H$28<>0,(1-J483/$H$28)*100,IF($H$17<>0,(1-J483/$H$17)*100)))","v":""}]
[null,null,425,null,null,null,null,null,null,{"$f":"IF(Tabelle3[[#This Row],[Cargo]]<>0,SUM(G484:I484),\"\")","v":""},{"$f":"IF(Tabelle3[[#This Row],[Número de trabajadores]]=0,\"\",IF($H$28<>0,(1-J484/$H$28)*100,IF($H$17<>0,(1-J484/$H$17)*100)))","v":""}]
[null,null,426,null,null,null,null,null,null,{"$f":"IF(Tabelle3[[#This Row],[Cargo]]<>0,SUM(G485:I485),\"\")","v":""},{"$f":"IF(Tabelle3[[#This Row],[Número de trabajadores]]=0,\"\",IF($H$28<>0,(1-J485/$H$28)*100,IF($H$17<>0,(1-J485/$H$17)*100)))","v":""}]
[null,null,427,null,null,null,null,null,null,{"$f":"IF(Tabelle3[[#This Row],[Cargo]]<>0,SUM(G486:I486),\"\")","v":""},{"$f":"IF(Tabelle3[[#This Row],[Número de trabajadores]]=0,\"\",IF($H$28<>0,(1-J486/$H$28)*100,IF($H$17<>0,(1-J486/$H$17)*100)))","v":""}]
[null,null,428,null,null,null,null,null,null,{"$f":"IF(Tabelle3[[#This Row],[Cargo]]<>0,SUM(G487:I487),\"\")","v":""},{"$f":"IF(Tabelle3[[#This Row],[Número de trabajadores]]=0,\"\",IF($H$28<>0,(1-J487/$H$28)*100,IF($H$17<>0,(1-J487/$H$17)*100)))","v":""}]
[null,null,429,null,null,null,null,null,null,{"$f":"IF(Tabelle3[[#This Row],[Cargo]]<>0,SUM(G488:I488),\"\")","v":""},{"$f":"IF(Tabelle3[[#This Row],[Número de trabajadores]]=0,\"\",IF($H$28<>0,(1-J488/$H$28)*100,IF($H$17<>0,(1-J488/$H$17)*100)))","v":""}]
[null,null,430,null,null,null,null,null,null,{"$f":"IF(Tabelle3[[#This Row],[Cargo]]<>0,SUM(G489:I489),\"\")","v":""},{"$f":"IF(Tabelle3[[#This Row],[Número de trabajadores]]=0,\"\",IF($H$28<>0,(1-J489/$H$28)*100,IF($H$17<>0,(1-J489/$H$17)*100)))","v":""}]
[null,null,431,null,null,null,null,null,null,{"$f":"IF(Tabelle3[[#This Row],[Cargo]]<>0,SUM(G490:I490),\"\")","v":""},{"$f":"IF(Tabelle3[[#This Row],[Número de trabajadores]]=0,\"\",IF($H$28<>0,(1-J490/$H$28)*100,IF($H$17<>0,(1-J490/$H$17)*100)))","v":""}]
[null,null,432,null,null,null,null,null,null,{"$f":"IF(Tabelle3[[#This Row],[Cargo]]<>0,SUM(G491:I491),\"\")","v":""},{"$f":"IF(Tabelle3[[#This Row],[Número de trabajadores]]=0,\"\",IF($H$28<>0,(1-J491/$H$28)*100,IF($H$17<>0,(1-J491/$H$17)*100)))","v":""}]
[null,null,433,null,null,null,null,null,null,{"$f":"IF(Tabelle3[[#This Row],[Cargo]]<>0,SUM(G492:I492),\"\")","v":""},{"$f":"IF(Tabelle3[[#This Row],[Número de trabajadores]]=0,\"\",IF($H$28<>0,(1-J492/$H$28)*100,IF($H$17<>0,(1-J492/$H$17)*100)))","v":""}]
[null,null,434,null,null,null,null,null,null,{"$f":"IF(Tabelle3[[#This Row],[Cargo]]<>0,SUM(G493:I493),\"\")","v":""},{"$f":"IF(Tabelle3[[#This Row],[Número de trabajadores]]=0,\"\",IF($H$28<>0,(1-J493/$H$28)*100,IF($H$17<>0,(1-J493/$H$17)*100)))","v":""}]
[null,null,435,null,null,null,null,null,null,{"$f":"IF(Tabelle3[[#This Row],[Cargo]]<>0,SUM(G494:I494),\"\")","v":""},{"$f":"IF(Tabelle3[[#This Row],[Número de trabajadores]]=0,\"\",IF($H$28<>0,(1-J494/$H$28)*100,IF($H$17<>0,(1-J494/$H$17)*100)))","v":""}]
[null,null,436,null,null,null,null,null,null,{"$f":"IF(Tabelle3[[#This Row],[Cargo]]<>0,SUM(G495:I495),\"\")","v":""},{"$f":"IF(Tabelle3[[#This Row],[Número de trabajadores]]=0,\"\",IF($H$28<>0,(1-J495/$H$28)*100,IF($H$17<>0,(1-J495/$H$17)*100)))","v":""}]
[null,null,437,null,null,null,null,null,null,{"$f":"IF(Tabelle3[[#This Row],[Cargo]]<>0,SUM(G496:I496),\"\")","v":""},{"$f":"IF(Tabelle3[[#This Row],[Número de trabajadores]]=0,\"\",IF($H$28<>0,(1-J496/$H$28)*100,IF($H$17<>0,(1-J496/$H$17)*100)))","v":""}]
[null,null,438,null,null,null,null,null,null,{"$f":"IF(Tabelle3[[#This Row],[Cargo]]<>0,SUM(G497:I497),\"\")","v":""},{"$f":"IF(Tabelle3[[#This Row],[Número de trabajadores]]=0,\"\",IF($H$28<>0,(1-J497/$H$28)*100,IF($H$17<>0,(1-J497/$H$17)*100)))","v":""}]
[null,null,439,null,null,null,null,null,null,{"$f":"IF(Tabelle3[[#This Row],[Cargo]]<>0,SUM(G498:I498),\"\")","v":""},{"$f":"IF(Tabelle3[[#This Row],[Número de trabajadores]]=0,\"\",IF($H$28<>0,(1-J498/$H$28)*100,IF($H$17<>0,(1-J498/$H$17)*100)))","v":""}]
[null,null,440,null,null,null,null,null,null,{"$f":"IF(Tabelle3[[#This Row],[Cargo]]<>0,SUM(G499:I499),\"\")","v":""},{"$f":"IF(Tabelle3[[#This Row],[Número de trabajadores]]=0,\"\",IF($H$28<>0,(1-J499/$H$28)*100,IF($H$17<>0,(1-J499/$H$17)*100)))","v":""}]
[null,null,441,null,null,null,null,null,null,{"$f":"IF(Tabelle3[[#This Row],[Cargo]]<>0,SUM(G500:I500),\"\")","v":""},{"$f":"IF(Tabelle3[[#This Row],[Número de trabajadores]]=0,\"\",IF($H$28<>0,(1-J500/$H$28)*100,IF($H$17<>0,(1-J500/$H$17)*100)))","v":""}]
[null,null,442,null,null,null,null,null,null,{"$f":"IF(Tabelle3[[#This Row],[Cargo]]<>0,SUM(G501:I501),\"\")","v":""},{"$f":"IF(Tabelle3[[#This Row],[Número de trabajadores]]=0,\"\",IF($H$28<>0,(1-J501/$H$28)*100,IF($H$17<>0,(1-J501/$H$17)*100)))","v":""}]
[null,null,443,null,null,null,null,null,null,{"$f":"IF(Tabelle3[[#This Row],[Cargo]]<>0,SUM(G502:I502),\"\")","v":""},{"$f":"IF(Tabelle3[[#This Row],[Número de trabajadores]]=0,\"\",IF($H$28<>0,(1-J502/$H$28)*100,IF($H$17<>0,(1-J502/$H$17)*100)))","v":""}]
[null,null,444,null,null,null,null,null,null,{"$f":"IF(Tabelle3[[#This Row],[Cargo]]<>0,SUM(G503:I503),\"\")","v":""},{"$f":"IF(Tabelle3[[#This Row],[Número de trabajadores]]=0,\"\",IF($H$28<>0,(1-J503/$H$28)*100,IF($H$17<>0,(1-J503/$H$17)*100)))","v":""}]
[null,null,445,null,null,null,null,null,null,{"$f":"IF(Tabelle3[[#This Row],[Cargo]]<>0,SUM(G504:I504),\"\")","v":""},{"$f":"IF(Tabelle3[[#This Row],[Número de trabajadores]]=0,\"\",IF($H$28<>0,(1-J504/$H$28)*100,IF($H$17<>0,(1-J504/$H$17)*100)))","v":""}]
[null,null,446,null,null,null,null,null,null,{"$f":"IF(Tabelle3[[#This Row],[Cargo]]<>0,SUM(G505:I505),\"\")","v":""},{"$f":"IF(Tabelle3[[#This Row],[Número de trabajadores]]=0,\"\",IF($H$28<>0,(1-J505/$H$28)*100,IF($H$17<>0,(1-J505/$H$17)*100)))","v":""}]
[null,null,447,null,null,null,null,null,null,{"$f":"IF(Tabelle3[[#This Row],[Cargo]]<>0,SUM(G506:I506),\"\")","v":""},{"$f":"IF(Tabelle3[[#This Row],[Número de trabajadores]]=0,\"\",IF($H$28<>0,(1-J506/$H$28)*100,IF($H$17<>0,(1-J506/$H$17)*100)))","v":""}]
[null,null,448,null,null,null,null,null,null,{"$f":"IF(Tabelle3[[#This Row],[Cargo]]<>0,SUM(G507:I507),\"\")","v":""},{"$f":"IF(Tabelle3[[#This Row],[Número de trabajadores]]=0,\"\",IF($H$28<>0,(1-J507/$H$28)*100,IF($H$17<>0,(1-J507/$H$17)*100)))","v":""}]
[null,null,449,null,null,null,null,null,null,{"$f":"IF(Tabelle3[[#This Row],[Cargo]]<>0,SUM(G508:I508),\"\")","v":""},{"$f":"IF(Tabelle3[[#This Row],[Número de trabajadores]]=0,\"\",IF($H$28<>0,(1-J508/$H$28)*100,IF($H$17<>0,(1-J508/$H$17)*100)))","v":""}]
[null,null,450,null,null,null,null,null,null,{"$f":"IF(Tabelle3[[#This Row],[Cargo]]<>0,SUM(G509:I509),\"\")","v":""},{"$f":"IF(Tabelle3[[#This Row],[Número de trabajadores]]=0,\"\",IF($H$28<>0,(1-J509/$H$28)*100,IF($H$17<>0,(1-J509/$H$17)*100)))","v":""}]
[null,null,451,null,null,null,null,null,null,{"$f":"IF(Tabelle3[[#This Row],[Cargo]]<>0,SUM(G510:I510),\"\")","v":""},{"$f":"IF(Tabelle3[[#This Row],[Número de trabajadores]]=0,\"\",IF($H$28<>0,(1-J510/$H$28)*100,IF($H$17<>0,(1-J510/$H$17)*100)))","v":""}]
[null,null,452,null,null,null,null,null,null,{"$f":"IF(Tabelle3[[#This Row],[Cargo]]<>0,SUM(G511:I511),\"\")","v":""},{"$f":"IF(Tabelle3[[#This Row],[Número de trabajadores]]=0,\"\",IF($H$28<>0,(1-J511/$H$28)*100,IF($H$17<>0,(1-J511/$H$17)*100)))","v":""}]
[null,null,453,null,null,null,null,null,null,{"$f":"IF(Tabelle3[[#This Row],[Cargo]]<>0,SUM(G512:I512),\"\")","v":""},{"$f":"IF(Tabelle3[[#This Row],[Número de trabajadores]]=0,\"\",IF($H$28<>0,(1-J512/$H$28)*100,IF($H$17<>0,(1-J512/$H$17)*100)))","v":""}]
[null,null,454,null,null,null,null,null,null,{"$f":"IF(Tabelle3[[#This Row],[Cargo]]<>0,SUM(G513:I513),\"\")","v":""},{"$f":"IF(Tabelle3[[#This Row],[Número de trabajadores]]=0,\"\",IF($H$28<>0,(1-J513/$H$28)*100,IF($H$17<>0,(1-J513/$H$17)*100)))","v":""}]
[null,null,455,null,null,null,null,null,null,{"$f":"IF(Tabelle3[[#This Row],[Cargo]]<>0,SUM(G514:I514),\"\")","v":""},{"$f":"IF(Tabelle3[[#This Row],[Número de trabajadores]]=0,\"\",IF($H$28<>0,(1-J514/$H$28)*100,IF($H$17<>0,(1-J514/$H$17)*100)))","v":""}]
[null,null,456,null,null,null,null,null,null,{"$f":"IF(Tabelle3[[#This Row],[Cargo]]<>0,SUM(G515:I515),\"\")","v":""},{"$f":"IF(Tabelle3[[#This Row],[Número de trabajadores]]=0,\"\",IF($H$28<>0,(1-J515/$H$28)*100,IF($H$17<>0,(1-J515/$H$17)*100)))","v":""}]
[null,null,457,null,null,null,null,null,null,{"$f":"IF(Tabelle3[[#This Row],[Cargo]]<>0,SUM(G516:I516),\"\")","v":""},{"$f":"IF(Tabelle3[[#This Row],[Número de trabajadores]]=0,\"\",IF($H$28<>0,(1-J516/$H$28)*100,IF($H$17<>0,(1-J516/$H$17)*100)))","v":""}]
[null,null,458,null,null,null,null,null,null,{"$f":"IF(Tabelle3[[#This Row],[Cargo]]<>0,SUM(G517:I517),\"\")","v":""},{"$f":"IF(Tabelle3[[#This Row],[Número de trabajadores]]=0,\"\",IF($H$28<>0,(1-J517/$H$28)*100,IF($H$17<>0,(1-J517/$H$17)*100)))","v":""}]
[null,null,459,null,null,null,null,null,null,{"$f":"IF(Tabelle3[[#This Row],[Cargo]]<>0,SUM(G518:I518),\"\")","v":""},{"$f":"IF(Tabelle3[[#This Row],[Número de trabajadores]]=0,\"\",IF($H$28<>0,(1-J518/$H$28)*100,IF($H$17<>0,(1-J518/$H$17)*100)))","v":""}]
[null,null,460,null,null,null,null,null,null,{"$f":"IF(Tabelle3[[#This Row],[Cargo]]<>0,SUM(G519:I519),\"\")","v":""},{"$f":"IF(Tabelle3[[#This Row],[Número de trabajadores]]=0,\"\",IF($H$28<>0,(1-J519/$H$28)*100,IF($H$17<>0,(1-J519/$H$17)*100)))","v":""}]
[null,null,461,null,null,null,null,null,null,{"$f":"IF(Tabelle3[[#This Row],[Cargo]]<>0,SUM(G520:I520),\"\")","v":""},{"$f":"IF(Tabelle3[[#This Row],[Número de trabajadores]]=0,\"\",IF($H$28<>0,(1-J520/$H$28)*100,IF($H$17<>0,(1-J520/$H$17)*100)))","v":""}]
[null,null,462,null,null,null,null,null,null,{"$f":"IF(Tabelle3[[#This Row],[Cargo]]<>0,SUM(G521:I521),\"\")","v":""},{"$f":"IF(Tabelle3[[#This Row],[Número de trabajadores]]=0,\"\",IF($H$28<>0,(1-J521/$H$28)*100,IF($H$17<>0,(1-J521/$H$17)*100)))","v":""}]
[null,null,463,null,null,null,null,null,null,{"$f":"IF(Tabelle3[[#This Row],[Cargo]]<>0,SUM(G522:I522),\"\")","v":""},{"$f":"IF(Tabelle3[[#This Row],[Número de trabajadores]]=0,\"\",IF($H$28<>0,(1-J522/$H$28)*100,IF($H$17<>0,(1-J522/$H$17)*100)))","v":""}]
[null,null,464,null,null,null,null,null,null,{"$f":"IF(Tabelle3[[#This Row],[Cargo]]<>0,SUM(G523:I523),\"\")","v":""},{"$f":"IF(Tabelle3[[#This Row],[Número de trabajadores]]=0,\"\",IF($H$28<>0,(1-J523/$H$28)*100,IF($H$17<>0,(1-J523/$H$17)*100)))","v":""}]
[null,null,465,null,null,null,null,null,null,{"$f":"IF(Tabelle3[[#This Row],[Cargo]]<>0,SUM(G524:I524),\"\")","v":""},{"$f":"IF(Tabelle3[[#This Row],[Número de trabajadores]]=0,\"\",IF($H$28<>0,(1-J524/$H$28)*100,IF($H$17<>0,(1-J524/$H$17)*100)))","v":""}]
[null,null,466,null,null,null,null,null,null,{"$f":"IF(Tabelle3[[#This Row],[Cargo]]<>0,SUM(G525:I525),\"\")","v":""},{"$f":"IF(Tabelle3[[#This Row],[Número de trabajadores]]=0,\"\",IF($H$28<>0,(1-J525/$H$28)*100,IF($H$17<>0,(1-J525/$H$17)*100)))","v":""}]
[null,null,467,null,null,null,null,null,null,{"$f":"IF(Tabelle3[[#This Row],[Cargo]]<>0,SUM(G526:I526),\"\")","v":""},{"$f":"IF(Tabelle3[[#This Row],[Número de trabajadores]]=0,\"\",IF($H$28<>0,(1-J526/$H$28)*100,IF($H$17<>0,(1-J526/$H$17)*100)))","v":""}]
[null,null,468,null,null,null,null,null,null,{"$f":"IF(Tabelle3[[#This Row],[Cargo]]<>0,SUM(G527:I527),\"\")","v":""},{"$f":"IF(Tabelle3[[#This Row],[Número de trabajadores]]=0,\"\",IF($H$28<>0,(1-J527/$H$28)*100,IF($H$17<>0,(1-J527/$H$17)*100)))","v":""}]
[null,null,469,null,null,null,null,null,null,{"$f":"IF(Tabelle3[[#This Row],[Cargo]]<>0,SUM(G528:I528),\"\")","v":""},{"$f":"IF(Tabelle3[[#This Row],[Número de trabajadores]]=0,\"\",IF($H$28<>0,(1-J528/$H$28)*100,IF($H$17<>0,(1-J528/$H$17)*100)))","v":""}]
[null,null,470,null,null,null,null,null,null,{"$f":"IF(Tabelle3[[#This Row],[Cargo]]<>0,SUM(G529:I529),\"\")","v":""},{"$f":"IF(Tabelle3[[#This Row],[Número de trabajadores]]=0,\"\",IF($H$28<>0,(1-J529/$H$28)*100,IF($H$17<>0,(1-J529/$H$17)*100)))","v":""}]
[null,null,471,null,null,null,null,null,null,{"$f":"IF(Tabelle3[[#This Row],[Cargo]]<>0,SUM(G530:I530),\"\")","v":""},{"$f":"IF(Tabelle3[[#This Row],[Número de trabajadores]]=0,\"\",IF($H$28<>0,(1-J530/$H$28)*100,IF($H$17<>0,(1-J530/$H$17)*100)))","v":""}]
[null,null,472,null,null,null,null,null,null,{"$f":"IF(Tabelle3[[#This Row],[Cargo]]<>0,SUM(G531:I531),\"\")","v":""},{"$f":"IF(Tabelle3[[#This Row],[Número de trabajadores]]=0,\"\",IF($H$28<>0,(1-J531/$H$28)*100,IF($H$17<>0,(1-J531/$H$17)*100)))","v":""}]
[null,null,473,null,null,null,null,null,null,{"$f":"IF(Tabelle3[[#This Row],[Cargo]]<>0,SUM(G532:I532),\"\")","v":""},{"$f":"IF(Tabelle3[[#This Row],[Número de trabajadores]]=0,\"\",IF($H$28<>0,(1-J532/$H$28)*100,IF($H$17<>0,(1-J532/$H$17)*100)))","v":""}]
[null,null,474,null,null,null,null,null,null,{"$f":"IF(Tabelle3[[#This Row],[Cargo]]<>0,SUM(G533:I533),\"\")","v":""},{"$f":"IF(Tabelle3[[#This Row],[Número de trabajadores]]=0,\"\",IF($H$28<>0,(1-J533/$H$28)*100,IF($H$17<>0,(1-J533/$H$17)*100)))","v":""}]
[null,null,475,null,null,null,null,null,null,{"$f":"IF(Tabelle3[[#This Row],[Cargo]]<>0,SUM(G534:I534),\"\")","v":""},{"$f":"IF(Tabelle3[[#This Row],[Número de trabajadores]]=0,\"\",IF($H$28<>0,(1-J534/$H$28)*100,IF($H$17<>0,(1-J534/$H$17)*100)))","v":""}]
[null,null,476,null,null,null,null,null,null,{"$f":"IF(Tabelle3[[#This Row],[Cargo]]<>0,SUM(G535:I535),\"\")","v":""},{"$f":"IF(Tabelle3[[#This Row],[Número de trabajadores]]=0,\"\",IF($H$28<>0,(1-J535/$H$28)*100,IF($H$17<>0,(1-J535/$H$17)*100)))","v":""}]
[null,null,477,null,null,null,null,null,null,{"$f":"IF(Tabelle3[[#This Row],[Cargo]]<>0,SUM(G536:I536),\"\")","v":""},{"$f":"IF(Tabelle3[[#This Row],[Número de trabajadores]]=0,\"\",IF($H$28<>0,(1-J536/$H$28)*100,IF($H$17<>0,(1-J536/$H$17)*100)))","v":""}]
[null,null,478,null,null,null,null,null,null,{"$f":"IF(Tabelle3[[#This Row],[Cargo]]<>0,SUM(G537:I537),\"\")","v":""},{"$f":"IF(Tabelle3[[#This Row],[Número de trabajadores]]=0,\"\",IF($H$28<>0,(1-J537/$H$28)*100,IF($H$17<>0,(1-J537/$H$17)*100)))","v":""}]
[null,null,479,null,null,null,null,null,null,{"$f":"IF(Tabelle3[[#This Row],[Cargo]]<>0,SUM(G538:I538),\"\")","v":""},{"$f":"IF(Tabelle3[[#This Row],[Número de trabajadores]]=0,\"\",IF($H$28<>0,(1-J538/$H$28)*100,IF($H$17<>0,(1-J538/$H$17)*100)))","v":""}]
[null,null,480,null,null,null,null,null,null,{"$f":"IF(Tabelle3[[#This Row],[Cargo]]<>0,SUM(G539:I539),\"\")","v":""},{"$f":"IF(Tabelle3[[#This Row],[Número de trabajadores]]=0,\"\",IF($H$28<>0,(1-J539/$H$28)*100,IF($H$17<>0,(1-J539/$H$17)*100)))","v":""}]
[null,null,481,null,null,null,null,null,null,{"$f":"IF(Tabelle3[[#This Row],[Cargo]]<>0,SUM(G540:I540),\"\")","v":""},{"$f":"IF(Tabelle3[[#This Row],[Número de trabajadores]]=0,\"\",IF($H$28<>0,(1-J540/$H$28)*100,IF($H$17<>0,(1-J540/$H$17)*100)))","v":""}]
[null,null,482,null,null,null,null,null,null,{"$f":"IF(Tabelle3[[#This Row],[Cargo]]<>0,SUM(G541:I541),\"\")","v":""},{"$f":"IF(Tabelle3[[#This Row],[Número de trabajadores]]=0,\"\",IF($H$28<>0,(1-J541/$H$28)*100,IF($H$17<>0,(1-J541/$H$17)*100)))","v":""}]
[null,null,483,null,null,null,null,null,null,{"$f":"IF(Tabelle3[[#This Row],[Cargo]]<>0,SUM(G542:I542),\"\")","v":""},{"$f":"IF(Tabelle3[[#This Row],[Número de trabajadores]]=0,\"\",IF($H$28<>0,(1-J542/$H$28)*100,IF($H$17<>0,(1-J542/$H$17)*100)))","v":""}]
[null,null,484,null,null,null,null,null,null,{"$f":"IF(Tabelle3[[#This Row],[Cargo]]<>0,SUM(G543:I543),\"\")","v":""},{"$f":"IF(Tabelle3[[#This Row],[Número de trabajadores]]=0,\"\",IF($H$28<>0,(1-J543/$H$28)*100,IF($H$17<>0,(1-J543/$H$17)*100)))","v":""}]
[null,null,485,null,null,null,null,null,null,{"$f":"IF(Tabelle3[[#This Row],[Cargo]]<>0,SUM(G544:I544),\"\")","v":""},{"$f":"IF(Tabelle3[[#This Row],[Número de trabajadores]]=0,\"\",IF($H$28<>0,(1-J544/$H$28)*100,IF($H$17<>0,(1-J544/$H$17)*100)))","v":""}]
[null,null,486,null,null,null,null,null,null,{"$f":"IF(Tabelle3[[#This Row],[Cargo]]<>0,SUM(G545:I545),\"\")","v":""},{"$f":"IF(Tabelle3[[#This Row],[Número de trabajadores]]=0,\"\",IF($H$28<>0,(1-J545/$H$28)*100,IF($H$17<>0,(1-J545/$H$17)*100)))","v":""}]
[null,null,487,null,null,null,null,null,null,{"$f":"IF(Tabelle3[[#This Row],[Cargo]]<>0,SUM(G546:I546),\"\")","v":""},{"$f":"IF(Tabelle3[[#This Row],[Número de trabajadores]]=0,\"\",IF($H$28<>0,(1-J546/$H$28)*100,IF($H$17<>0,(1-J546/$H$17)*100)))","v":""}]
[null,null,488,null,null,null,null,null,null,{"$f":"IF(Tabelle3[[#This Row],[Cargo]]<>0,SUM(G547:I547),\"\")","v":""},{"$f":"IF(Tabelle3[[#This Row],[Número de trabajadores]]=0,\"\",IF($H$28<>0,(1-J547/$H$28)*100,IF($H$17<>0,(1-J547/$H$17)*100)))","v":""}]
[null,null,489,null,null,null,null,null,null,{"$f":"IF(Tabelle3[[#This Row],[Cargo]]<>0,SUM(G548:I548),\"\")","v":""},{"$f":"IF(Tabelle3[[#This Row],[Número de trabajadores]]=0,\"\",IF($H$28<>0,(1-J548/$H$28)*100,IF($H$17<>0,(1-J548/$H$17)*100)))","v":""}]
[null,null,490,null,null,null,null,null,null,{"$f":"IF(Tabelle3[[#This Row],[Cargo]]<>0,SUM(G549:I549),\"\")","v":""},{"$f":"IF(Tabelle3[[#This Row],[Número de trabajadores]]=0,\"\",IF($H$28<>0,(1-J549/$H$28)*100,IF($H$17<>0,(1-J549/$H$17)*100)))","v":""}]
[null,null,491,null,null,null,null,null,null,{"$f":"IF(Tabelle3[[#This Row],[Cargo]]<>0,SUM(G550:I550),\"\")","v":""},{"$f":"IF(Tabelle3[[#This Row],[Número de trabajadores]]=0,\"\",IF($H$28<>0,(1-J550/$H$28)*100,IF($H$17<>0,(1-J550/$H$17)*100)))","v":""}]
[null,null,492,null,null,null,null,null,null,{"$f":"IF(Tabelle3[[#This Row],[Cargo]]<>0,SUM(G551:I551),\"\")","v":""},{"$f":"IF(Tabelle3[[#This Row],[Número de trabajadores]]=0,\"\",IF($H$28<>0,(1-J551/$H$28)*100,IF($H$17<>0,(1-J551/$H$17)*100)))","v":""}]
[null,null,493,null,null,null,null,null,null,{"$f":"IF(Tabelle3[[#This Row],[Cargo]]<>0,SUM(G552:I552),\"\")","v":""},{"$f":"IF(Tabelle3[[#This Row],[Número de trabajadores]]=0,\"\",IF($H$28<>0,(1-J552/$H$28)*100,IF($H$17<>0,(1-J552/$H$17)*100)))","v":""}]
[null,null,494,null,null,null,null,null,null,{"$f":"IF(Tabelle3[[#This Row],[Cargo]]<>0,SUM(G553:I553),\"\")","v":""},{"$f":"IF(Tabelle3[[#This Row],[Número de trabajadores]]=0,\"\",IF($H$28<>0,(1-J553/$H$28)*100,IF($H$17<>0,(1-J553/$H$17)*100)))","v":""}]
[null,null,495,null,null,null,null,null,null,{"$f":"IF(Tabelle3[[#This Row],[Cargo]]<>0,SUM(G554:I554),\"\")","v":""},{"$f":"IF(Tabelle3[[#This Row],[Número de trabajadores]]=0,\"\",IF($H$28<>0,(1-J554/$H$28)*100,IF($H$17<>0,(1-J554/$H$17)*100)))","v":""}]
[null,null,496,null,null,null,null,null,null,{"$f":"IF(Tabelle3[[#This Row],[Cargo]]<>0,SUM(G555:I555),\"\")","v":""},{"$f":"IF(Tabelle3[[#This Row],[Número de trabajadores]]=0,\"\",IF($H$28<>0,(1-J555/$H$28)*100,IF($H$17<>0,(1-J555/$H$17)*100)))","v":""}]
[null,null,497,null,null,null,null,null,null,{"$f":"IF(Tabelle3[[#This Row],[Cargo]]<>0,SUM(G556:I556),\"\")","v":""},{"$f":"IF(Tabelle3[[#This Row],[Número de trabajadores]]=0,\"\",IF($H$28<>0,(1-J556/$H$28)*100,IF($H$17<>0,(1-J556/$H$17)*100)))","v":""}]
[null,null,498,null,null,null,null,null,null,{"$f":"IF(Tabelle3[[#This Row],[Cargo]]<>0,SUM(G557:I557),\"\")","v":""},{"$f":"IF(Tabelle3[[#This Row],[Número de trabajadores]]=0,\"\",IF($H$28<>0,(1-J557/$H$28)*100,IF($H$17<>0,(1-J557/$H$17)*100)))","v":""}]
[null,null,499,null,null,null,null,null,null,{"$f":"IF(Tabelle3[[#This Row],[Cargo]]<>0,SUM(G558:I558),\"\")","v":""},{"$f":"IF(Tabelle3[[#This Row],[Número de trabajadores]]=0,\"\",IF($H$28<>0,(1-J558/$H$28)*100,IF($H$17<>0,(1-J558/$H$17)*100)))","v":""}]
[null,null,500,null,null,null,null,null,null,{"$f":"IF(Tabelle3[[#This Row],[Cargo]]<>0,SUM(G559:I559),\"\")","v":""},{"$f":"IF(Tabelle3[[#This Row],[Número de trabajadores]]=0,\"\",IF($H$28<>0,(1-J559/$H$28)*100,IF($H$17<>0,(1-J559/$H$17)*100)))","v":""}]
[null,null,501,null,null,null,null,null,null,{"$f":"IF(Tabelle3[[#This Row],[Cargo]]<>0,SUM(G560:I560),\"\")","v":""},{"$f":"IF(Tabelle3[[#This Row],[Número de trabajadores]]=0,\"\",IF($H$28<>0,(1-J560/$H$28)*100,IF($H$17<>0,(1-J560/$H$17)*100)))","v":""}]
[null,null,502,null,null,null,null,null,null,{"$f":"IF(Tabelle3[[#This Row],[Cargo]]<>0,SUM(G561:I561),\"\")","v":""},{"$f":"IF(Tabelle3[[#This Row],[Número de trabajadores]]=0,\"\",IF($H$28<>0,(1-J561/$H$28)*100,IF($H$17<>0,(1-J561/$H$17)*100)))","v":""}]
[null,null,503,null,null,null,null,null,null,{"$f":"IF(Tabelle3[[#This Row],[Cargo]]<>0,SUM(G562:I562),\"\")","v":""},{"$f":"IF(Tabelle3[[#This Row],[Número de trabajadores]]=0,\"\",IF($H$28<>0,(1-J562/$H$28)*100,IF($H$17<>0,(1-J562/$H$17)*100)))","v":""}]
[null,null,504,null,null,null,null,null,null,{"$f":"IF(Tabelle3[[#This Row],[Cargo]]<>0,SUM(G563:I563),\"\")","v":""},{"$f":"IF(Tabelle3[[#This Row],[Número de trabajadores]]=0,\"\",IF($H$28<>0,(1-J563/$H$28)*100,IF($H$17<>0,(1-J563/$H$17)*100)))","v":""}]
[null,null,505,null,null,null,null,null,null,{"$f":"IF(Tabelle3[[#This Row],[Cargo]]<>0,SUM(G564:I564),\"\")","v":""},{"$f":"IF(Tabelle3[[#This Row],[Número de trabajadores]]=0,\"\",IF($H$28<>0,(1-J564/$H$28)*100,IF($H$17<>0,(1-J564/$H$17)*100)))","v":""}]
[null,null,506,null,null,null,null,null,null,{"$f":"IF(Tabelle3[[#This Row],[Cargo]]<>0,SUM(G565:I565),\"\")","v":""},{"$f":"IF(Tabelle3[[#This Row],[Número de trabajadores]]=0,\"\",IF($H$28<>0,(1-J565/$H$28)*100,IF($H$17<>0,(1-J565/$H$17)*100)))","v":""}]
[null,null,507,null,null,null,null,null,null,{"$f":"IF(Tabelle3[[#This Row],[Cargo]]<>0,SUM(G566:I566),\"\")","v":""},{"$f":"IF(Tabelle3[[#This Row],[Número de trabajadores]]=0,\"\",IF($H$28<>0,(1-J566/$H$28)*100,IF($H$17<>0,(1-J566/$H$17)*100)))","v":""}]
[null,null,508,null,null,null,null,null,null,{"$f":"IF(Tabelle3[[#This Row],[Cargo]]<>0,SUM(G567:I567),\"\")","v":""},{"$f":"IF(Tabelle3[[#This Row],[Número de trabajadores]]=0,\"\",IF($H$28<>0,(1-J567/$H$28)*100,IF($H$17<>0,(1-J567/$H$17)*100)))","v":""}]
[null,null,509,null,null,null,null,null,null,{"$f":"IF(Tabelle3[[#This Row],[Cargo]]<>0,SUM(G568:I568),\"\")","v":""},{"$f":"IF(Tabelle3[[#This Row],[Número de trabajadores]]=0,\"\",IF($H$28<>0,(1-J568/$H$28)*100,IF($H$17<>0,(1-J568/$H$17)*100)))","v":""}]
[null,null,510,null,null,null,null,null,null,{"$f":"IF(Tabelle3[[#This Row],[Cargo]]<>0,SUM(G569:I569),\"\")","v":""},{"$f":"IF(Tabelle3[[#This Row],[Número de trabajadores]]=0,\"\",IF($H$28<>0,(1-J569/$H$28)*100,IF($H$17<>0,(1-J569/$H$17)*100)))","v":""}]
[null,null,511,null,null,null,null,null,null,{"$f":"IF(Tabelle3[[#This Row],[Cargo]]<>0,SUM(G570:I570),\"\")","v":""},{"$f":"IF(Tabelle3[[#This Row],[Número de trabajadores]]=0,\"\",IF($H$28<>0,(1-J570/$H$28)*100,IF($H$17<>0,(1-J570/$H$17)*100)))","v":""}]
[null,null,512,null,null,null,null,null,null,{"$f":"IF(Tabelle3[[#This Row],[Cargo]]<>0,SUM(G571:I571),\"\")","v":""},{"$f":"IF(Tabelle3[[#This Row],[Número de trabajadores]]=0,\"\",IF($H$28<>0,(1-J571/$H$28)*100,IF($H$17<>0,(1-J571/$H$17)*100)))","v":""}]
[null,null,513,null,null,null,null,null,null,{"$f":"IF(Tabelle3[[#This Row],[Cargo]]<>0,SUM(G572:I572),\"\")","v":""},{"$f":"IF(Tabelle3[[#This Row],[Número de trabajadores]]=0,\"\",IF($H$28<>0,(1-J572/$H$28)*100,IF($H$17<>0,(1-J572/$H$17)*100)))","v":""}]
[null,null,514,null,null,null,null,null,null,{"$f":"IF(Tabelle3[[#This Row],[Cargo]]<>0,SUM(G573:I573),\"\")","v":""},{"$f":"IF(Tabelle3[[#This Row],[Número de trabajadores]]=0,\"\",IF($H$28<>0,(1-J573/$H$28)*100,IF($H$17<>0,(1-J573/$H$17)*100)))","v":""}]
[null,null,515,null,null,null,null,null,null,{"$f":"IF(Tabelle3[[#This Row],[Cargo]]<>0,SUM(G574:I574),\"\")","v":""},{"$f":"IF(Tabelle3[[#This Row],[Número de trabajadores]]=0,\"\",IF($H$28<>0,(1-J574/$H$28)*100,IF($H$17<>0,(1-J574/$H$17)*100)))","v":""}]
[null,null,516,null,null,null,null,null,null,{"$f":"IF(Tabelle3[[#This Row],[Cargo]]<>0,SUM(G575:I575),\"\")","v":""},{"$f":"IF(Tabelle3[[#This Row],[Número de trabajadores]]=0,\"\",IF($H$28<>0,(1-J575/$H$28)*100,IF($H$17<>0,(1-J575/$H$17)*100)))","v":""}]
[null,null,517,null,null,null,null,null,null,{"$f":"IF(Tabelle3[[#This Row],[Cargo]]<>0,SUM(G576:I576),\"\")","v":""},{"$f":"IF(Tabelle3[[#This Row],[Número de trabajadores]]=0,\"\",IF($H$28<>0,(1-J576/$H$28)*100,IF($H$17<>0,(1-J576/$H$17)*100)))","v":""}]
[null,null,518,null,null,null,null,null,null,{"$f":"IF(Tabelle3[[#This Row],[Cargo]]<>0,SUM(G577:I577),\"\")","v":""},{"$f":"IF(Tabelle3[[#This Row],[Número de trabajadores]]=0,\"\",IF($H$28<>0,(1-J577/$H$28)*100,IF($H$17<>0,(1-J577/$H$17)*100)))","v":""}]
[null,null,519,null,null,null,null,null,null,{"$f":"IF(Tabelle3[[#This Row],[Cargo]]<>0,SUM(G578:I578),\"\")","v":""},{"$f":"IF(Tabelle3[[#This Row],[Número de trabajadores]]=0,\"\",IF($H$28<>0,(1-J578/$H$28)*100,IF($H$17<>0,(1-J578/$H$17)*100)))","v":""}]
[null,null,520,null,null,null,null,null,null,{"$f":"IF(Tabelle3[[#This Row],[Cargo]]<>0,SUM(G579:I579),\"\")","v":""},{"$f":"IF(Tabelle3[[#This Row],[Número de trabajadores]]=0,\"\",IF($H$28<>0,(1-J579/$H$28)*100,IF($H$17<>0,(1-J579/$H$17)*100)))","v":""}]
[null,null,521,null,null,null,null,null,null,{"$f":"IF(Tabelle3[[#This Row],[Cargo]]<>0,SUM(G580:I580),\"\")","v":""},{"$f":"IF(Tabelle3[[#This Row],[Número de trabajadores]]=0,\"\",IF($H$28<>0,(1-J580/$H$28)*100,IF($H$17<>0,(1-J580/$H$17)*100)))","v":""}]
[null,null,522,null,null,null,null,null,null,{"$f":"IF(Tabelle3[[#This Row],[Cargo]]<>0,SUM(G581:I581),\"\")","v":""},{"$f":"IF(Tabelle3[[#This Row],[Número de trabajadores]]=0,\"\",IF($H$28<>0,(1-J581/$H$28)*100,IF($H$17<>0,(1-J581/$H$17)*100)))","v":""}]
[null,null,523,null,null,null,null,null,null,{"$f":"IF(Tabelle3[[#This Row],[Cargo]]<>0,SUM(G582:I582),\"\")","v":""},{"$f":"IF(Tabelle3[[#This Row],[Número de trabajadores]]=0,\"\",IF($H$28<>0,(1-J582/$H$28)*100,IF($H$17<>0,(1-J582/$H$17)*100)))","v":""}]
[null,null,524,null,null,null,null,null,null,{"$f":"IF(Tabelle3[[#This Row],[Cargo]]<>0,SUM(G583:I583),\"\")","v":""},{"$f":"IF(Tabelle3[[#This Row],[Número de trabajadores]]=0,\"\",IF($H$28<>0,(1-J583/$H$28)*100,IF($H$17<>0,(1-J583/$H$17)*100)))","v":""}]
[null,null,525,null,null,null,null,null,null,{"$f":"IF(Tabelle3[[#This Row],[Cargo]]<>0,SUM(G584:I584),\"\")","v":""},{"$f":"IF(Tabelle3[[#This Row],[Número de trabajadores]]=0,\"\",IF($H$28<>0,(1-J584/$H$28)*100,IF($H$17<>0,(1-J584/$H$17)*100)))","v":""}]
[null,null,526,null,null,null,null,null,null,{"$f":"IF(Tabelle3[[#This Row],[Cargo]]<>0,SUM(G585:I585),\"\")","v":""},{"$f":"IF(Tabelle3[[#This Row],[Número de trabajadores]]=0,\"\",IF($H$28<>0,(1-J585/$H$28)*100,IF($H$17<>0,(1-J585/$H$17)*100)))","v":""}]
[null,null,527,null,null,null,null,null,null,{"$f":"IF(Tabelle3[[#This Row],[Cargo]]<>0,SUM(G586:I586),\"\")","v":""},{"$f":"IF(Tabelle3[[#This Row],[Número de trabajadores]]=0,\"\",IF($H$28<>0,(1-J586/$H$28)*100,IF($H$17<>0,(1-J586/$H$17)*100)))","v":""}]
[null,null,528,null,null,null,null,null,null,{"$f":"IF(Tabelle3[[#This Row],[Cargo]]<>0,SUM(G587:I587),\"\")","v":""},{"$f":"IF(Tabelle3[[#This Row],[Número de trabajadores]]=0,\"\",IF($H$28<>0,(1-J587/$H$28)*100,IF($H$17<>0,(1-J587/$H$17)*100)))","v":""}]
[null,null,529,null,null,null,null,null,null,{"$f":"IF(Tabelle3[[#This Row],[Cargo]]<>0,SUM(G588:I588),\"\")","v":""},{"$f":"IF(Tabelle3[[#This Row],[Número de trabajadores]]=0,\"\",IF($H$28<>0,(1-J588/$H$28)*100,IF($H$17<>0,(1-J588/$H$17)*100)))","v":""}]
[null,null,530,null,null,null,null,null,null,{"$f":"IF(Tabelle3[[#This Row],[Cargo]]<>0,SUM(G589:I589),\"\")","v":""},{"$f":"IF(Tabelle3[[#This Row],[Número de trabajadores]]=0,\"\",IF($H$28<>0,(1-J589/$H$28)*100,IF($H$17<>0,(1-J589/$H$17)*100)))","v":""}]
[null,null,531,null,null,null,null,null,null,{"$f":"IF(Tabelle3[[#This Row],[Cargo]]<>0,SUM(G590:I590),\"\")","v":""},{"$f":"IF(Tabelle3[[#This Row],[Número de trabajadores]]=0,\"\",IF($H$28<>0,(1-J590/$H$28)*100,IF($H$17<>0,(1-J590/$H$17)*100)))","v":""}]
[null,null,532,null,null,null,null,null,null,{"$f":"IF(Tabelle3[[#This Row],[Cargo]]<>0,SUM(G591:I591),\"\")","v":""},{"$f":"IF(Tabelle3[[#This Row],[Número de trabajadores]]=0,\"\",IF($H$28<>0,(1-J591/$H$28)*100,IF($H$17<>0,(1-J591/$H$17)*100)))","v":""}]
[null,null,533,null,null,null,null,null,null,{"$f":"IF(Tabelle3[[#This Row],[Cargo]]<>0,SUM(G592:I592),\"\")","v":""},{"$f":"IF(Tabelle3[[#This Row],[Número de trabajadores]]=0,\"\",IF($H$28<>0,(1-J592/$H$28)*100,IF($H$17<>0,(1-J592/$H$17)*100)))","v":""}]
[null,null,534,null,null,null,null,null,null,{"$f":"IF(Tabelle3[[#This Row],[Cargo]]<>0,SUM(G593:I593),\"\")","v":""},{"$f":"IF(Tabelle3[[#This Row],[Número de trabajadores]]=0,\"\",IF($H$28<>0,(1-J593/$H$28)*100,IF($H$17<>0,(1-J593/$H$17)*100)))","v":""}]
[null,null,535,null,null,null,null,null,null,{"$f":"IF(Tabelle3[[#This Row],[Cargo]]<>0,SUM(G594:I594),\"\")","v":""},{"$f":"IF(Tabelle3[[#This Row],[Número de trabajadores]]=0,\"\",IF($H$28<>0,(1-J594/$H$28)*100,IF($H$17<>0,(1-J594/$H$17)*100)))","v":""}]
[null,null,536,null,null,null,null,null,null,{"$f":"IF(Tabelle3[[#This Row],[Cargo]]<>0,SUM(G595:I595),\"\")","v":""},{"$f":"IF(Tabelle3[[#This Row],[Número de trabajadores]]=0,\"\",IF($H$28<>0,(1-J595/$H$28)*100,IF($H$17<>0,(1-J595/$H$17)*100)))","v":""}]
[null,null,537,null,null,null,null,null,null,{"$f":"IF(Tabelle3[[#This Row],[Cargo]]<>0,SUM(G596:I596),\"\")","v":""},{"$f":"IF(Tabelle3[[#This Row],[Número de trabajadores]]=0,\"\",IF($H$28<>0,(1-J596/$H$28)*100,IF($H$17<>0,(1-J596/$H$17)*100)))","v":""}]
[null,null,538,null,null,null,null,null,null,{"$f":"IF(Tabelle3[[#This Row],[Cargo]]<>0,SUM(G597:I597),\"\")","v":""},{"$f":"IF(Tabelle3[[#This Row],[Número de trabajadores]]=0,\"\",IF($H$28<>0,(1-J597/$H$28)*100,IF($H$17<>0,(1-J597/$H$17)*100)))","v":""}]
[null,null,539,null,null,null,null,null,null,{"$f":"IF(Tabelle3[[#This Row],[Cargo]]<>0,SUM(G598:I598),\"\")","v":""},{"$f":"IF(Tabelle3[[#This Row],[Número de trabajadores]]=0,\"\",IF($H$28<>0,(1-J598/$H$28)*100,IF($H$17<>0,(1-J598/$H$17)*100)))","v":""}]
[null,null,540,null,null,null,null,null,null,{"$f":"IF(Tabelle3[[#This Row],[Cargo]]<>0,SUM(G599:I599),\"\")","v":""},{"$f":"IF(Tabelle3[[#This Row],[Número de trabajadores]]=0,\"\",IF($H$28<>0,(1-J599/$H$28)*100,IF($H$17<>0,(1-J599/$H$17)*100)))","v":""}]
[null,null,541,null,null,null,null,null,null,{"$f":"IF(Tabelle3[[#This Row],[Cargo]]<>0,SUM(G600:I600),\"\")","v":""},{"$f":"IF(Tabelle3[[#This Row],[Número de trabajadores]]=0,\"\",IF($H$28<>0,(1-J600/$H$28)*100,IF($H$17<>0,(1-J600/$H$17)*100)))","v":""}]
[null,null,542,null,null,null,null,null,null,{"$f":"IF(Tabelle3[[#This Row],[Cargo]]<>0,SUM(G601:I601),\"\")","v":""},{"$f":"IF(Tabelle3[[#This Row],[Número de trabajadores]]=0,\"\",IF($H$28<>0,(1-J601/$H$28)*100,IF($H$17<>0,(1-J601/$H$17)*100)))","v":""}]
[null,null,543,null,null,null,null,null,null,{"$f":"IF(Tabelle3[[#This Row],[Cargo]]<>0,SUM(G602:I602),\"\")","v":""},{"$f":"IF(Tabelle3[[#This Row],[Número de trabajadores]]=0,\"\",IF($H$28<>0,(1-J602/$H$28)*100,IF($H$17<>0,(1-J602/$H$17)*100)))","v":""}]
[null,null,544,null,null,null,null,null,null,{"$f":"IF(Tabelle3[[#This Row],[Cargo]]<>0,SUM(G603:I603),\"\")","v":""},{"$f":"IF(Tabelle3[[#This Row],[Número de trabajadores]]=0,\"\",IF($H$28<>0,(1-J603/$H$28)*100,IF($H$17<>0,(1-J603/$H$17)*100)))","v":""}]
[null,null,545,null,null,null,null,null,null,{"$f":"IF(Tabelle3[[#This Row],[Cargo]]<>0,SUM(G604:I604),\"\")","v":""},{"$f":"IF(Tabelle3[[#This Row],[Número de trabajadores]]=0,\"\",IF($H$28<>0,(1-J604/$H$28)*100,IF($H$17<>0,(1-J604/$H$17)*100)))","v":""}]
[null,null,546,null,null,null,null,null,null,{"$f":"IF(Tabelle3[[#This Row],[Cargo]]<>0,SUM(G605:I605),\"\")","v":""},{"$f":"IF(Tabelle3[[#This Row],[Número de trabajadores]]=0,\"\",IF($H$28<>0,(1-J605/$H$28)*100,IF($H$17<>0,(1-J605/$H$17)*100)))","v":""}]
[null,null,547,null,null,null,null,null,null,{"$f":"IF(Tabelle3[[#This Row],[Cargo]]<>0,SUM(G606:I606),\"\")","v":""},{"$f":"IF(Tabelle3[[#This Row],[Número de trabajadores]]=0,\"\",IF($H$28<>0,(1-J606/$H$28)*100,IF($H$17<>0,(1-J606/$H$17)*100)))","v":""}]
[null,null,548,null,null,null,null,null,null,{"$f":"IF(Tabelle3[[#This Row],[Cargo]]<>0,SUM(G607:I607),\"\")","v":""},{"$f":"IF(Tabelle3[[#This Row],[Número de trabajadores]]=0,\"\",IF($H$28<>0,(1-J607/$H$28)*100,IF($H$17<>0,(1-J607/$H$17)*100)))","v":""}]
[null,null,549,null,null,null,null,null,null,{"$f":"IF(Tabelle3[[#This Row],[Cargo]]<>0,SUM(G608:I608),\"\")","v":""},{"$f":"IF(Tabelle3[[#This Row],[Número de trabajadores]]=0,\"\",IF($H$28<>0,(1-J608/$H$28)*100,IF($H$17<>0,(1-J608/$H$17)*100)))","v":""}]
[null,null,550,null,null,null,null,null,null,{"$f":"IF(Tabelle3[[#This Row],[Cargo]]<>0,SUM(G609:I609),\"\")","v":""},{"$f":"IF(Tabelle3[[#This Row],[Número de trabajadores]]=0,\"\",IF($H$28<>0,(1-J609/$H$28)*100,IF($H$17<>0,(1-J609/$H$17)*100)))","v":""}]
[null,null,551,null,null,null,null,null,null,{"$f":"IF(Tabelle3[[#This Row],[Cargo]]<>0,SUM(G610:I610),\"\")","v":""},{"$f":"IF(Tabelle3[[#This Row],[Número de trabajadores]]=0,\"\",IF($H$28<>0,(1-J610/$H$28)*100,IF($H$17<>0,(1-J610/$H$17)*100)))","v":""}]
[null,null,552,null,null,null,null,null,null,{"$f":"IF(Tabelle3[[#This Row],[Cargo]]<>0,SUM(G611:I611),\"\")","v":""},{"$f":"IF(Tabelle3[[#This Row],[Número de trabajadores]]=0,\"\",IF($H$28<>0,(1-J611/$H$28)*100,IF($H$17<>0,(1-J611/$H$17)*100)))","v":""}]
[null,null,553,null,null,null,null,null,null,{"$f":"IF(Tabelle3[[#This Row],[Cargo]]<>0,SUM(G612:I612),\"\")","v":""},{"$f":"IF(Tabelle3[[#This Row],[Número de trabajadores]]=0,\"\",IF($H$28<>0,(1-J612/$H$28)*100,IF($H$17<>0,(1-J612/$H$17)*100)))","v":""}]
[null,null,554,null,null,null,null,null,null,{"$f":"IF(Tabelle3[[#This Row],[Cargo]]<>0,SUM(G613:I613),\"\")","v":""},{"$f":"IF(Tabelle3[[#This Row],[Número de trabajadores]]=0,\"\",IF($H$28<>0,(1-J613/$H$28)*100,IF($H$17<>0,(1-J613/$H$17)*100)))","v":""}]
[null,null,555,null,null,null,null,null,null,{"$f":"IF(Tabelle3[[#This Row],[Cargo]]<>0,SUM(G614:I614),\"\")","v":""},{"$f":"IF(Tabelle3[[#This Row],[Número de trabajadores]]=0,\"\",IF($H$28<>0,(1-J614/$H$28)*100,IF($H$17<>0,(1-J614/$H$17)*100)))","v":""}]
[null,null,556,null,null,null,null,null,null,{"$f":"IF(Tabelle3[[#This Row],[Cargo]]<>0,SUM(G615:I615),\"\")","v":""},{"$f":"IF(Tabelle3[[#This Row],[Número de trabajadores]]=0,\"\",IF($H$28<>0,(1-J615/$H$28)*100,IF($H$17<>0,(1-J615/$H$17)*100)))","v":""}]
[null,null,557,null,null,null,null,null,null,{"$f":"IF(Tabelle3[[#This Row],[Cargo]]<>0,SUM(G616:I616),\"\")","v":""},{"$f":"IF(Tabelle3[[#This Row],[Número de trabajadores]]=0,\"\",IF($H$28<>0,(1-J616/$H$28)*100,IF($H$17<>0,(1-J616/$H$17)*100)))","v":""}]
[null,null,558,null,null,null,null,null,null,{"$f":"IF(Tabelle3[[#This Row],[Cargo]]<>0,SUM(G617:I617),\"\")","v":""},{"$f":"IF(Tabelle3[[#This Row],[Número de trabajadores]]=0,\"\",IF($H$28<>0,(1-J617/$H$28)*100,IF($H$17<>0,(1-J617/$H$17)*100)))","v":""}]
[null,null,559,null,null,null,null,null,null,{"$f":"IF(Tabelle3[[#This Row],[Cargo]]<>0,SUM(G618:I618),\"\")","v":""},{"$f":"IF(Tabelle3[[#This Row],[Número de trabajadores]]=0,\"\",IF($H$28<>0,(1-J618/$H$28)*100,IF($H$17<>0,(1-J618/$H$17)*100)))","v":""}]
[null,null,560,null,null,null,null,null,null,{"$f":"IF(Tabelle3[[#This Row],[Cargo]]<>0,SUM(G619:I619),\"\")","v":""},{"$f":"IF(Tabelle3[[#This Row],[Número de trabajadores]]=0,\"\",IF($H$28<>0,(1-J619/$H$28)*100,IF($H$17<>0,(1-J619/$H$17)*100)))","v":""}]
[null,null,561,null,null,null,null,null,null,{"$f":"IF(Tabelle3[[#This Row],[Cargo]]<>0,SUM(G620:I620),\"\")","v":""},{"$f":"IF(Tabelle3[[#This Row],[Número de trabajadores]]=0,\"\",IF($H$28<>0,(1-J620/$H$28)*100,IF($H$17<>0,(1-J620/$H$17)*100)))","v":""}]
[null,null,562,null,null,null,null,null,null,{"$f":"IF(Tabelle3[[#This Row],[Cargo]]<>0,SUM(G621:I621),\"\")","v":""},{"$f":"IF(Tabelle3[[#This Row],[Número de trabajadores]]=0,\"\",IF($H$28<>0,(1-J621/$H$28)*100,IF($H$17<>0,(1-J621/$H$17)*100)))","v":""}]
[null,null,563,null,null,null,null,null,null,{"$f":"IF(Tabelle3[[#This Row],[Cargo]]<>0,SUM(G622:I622),\"\")","v":""},{"$f":"IF(Tabelle3[[#This Row],[Número de trabajadores]]=0,\"\",IF($H$28<>0,(1-J622/$H$28)*100,IF($H$17<>0,(1-J622/$H$17)*100)))","v":""}]
[null,null,564,null,null,null,null,null,null,{"$f":"IF(Tabelle3[[#This Row],[Cargo]]<>0,SUM(G623:I623),\"\")","v":""},{"$f":"IF(Tabelle3[[#This Row],[Número de trabajadores]]=0,\"\",IF($H$28<>0,(1-J623/$H$28)*100,IF($H$17<>0,(1-J623/$H$17)*100)))","v":""}]
[null,null,565,null,null,null,null,null,null,{"$f":"IF(Tabelle3[[#This Row],[Cargo]]<>0,SUM(G624:I624),\"\")","v":""},{"$f":"IF(Tabelle3[[#This Row],[Número de trabajadores]]=0,\"\",IF($H$28<>0,(1-J624/$H$28)*100,IF($H$17<>0,(1-J624/$H$17)*100)))","v":""}]
[null,null,566,null,null,null,null,null,null,{"$f":"IF(Tabelle3[[#This Row],[Cargo]]<>0,SUM(G625:I625),\"\")","v":""},{"$f":"IF(Tabelle3[[#This Row],[Número de trabajadores]]=0,\"\",IF($H$28<>0,(1-J625/$H$28)*100,IF($H$17<>0,(1-J625/$H$17)*100)))","v":""}]
[null,null,567,null,null,null,null,null,null,{"$f":"IF(Tabelle3[[#This Row],[Cargo]]<>0,SUM(G626:I626),\"\")","v":""},{"$f":"IF(Tabelle3[[#This Row],[Número de trabajadores]]=0,\"\",IF($H$28<>0,(1-J626/$H$28)*100,IF($H$17<>0,(1-J626/$H$17)*100)))","v":""}]
[null,null,568,null,null,null,null,null,null,{"$f":"IF(Tabelle3[[#This Row],[Cargo]]<>0,SUM(G627:I627),\"\")","v":""},{"$f":"IF(Tabelle3[[#This Row],[Número de trabajadores]]=0,\"\",IF($H$28<>0,(1-J627/$H$28)*100,IF($H$17<>0,(1-J627/$H$17)*100)))","v":""}]
[null,null,569,null,null,null,null,null,null,{"$f":"IF(Tabelle3[[#This Row],[Cargo]]<>0,SUM(G628:I628),\"\")","v":""},{"$f":"IF(Tabelle3[[#This Row],[Número de trabajadores]]=0,\"\",IF($H$28<>0,(1-J628/$H$28)*100,IF($H$17<>0,(1-J628/$H$17)*100)))","v":""}]
[null,null,570,null,null,null,null,null,null,{"$f":"IF(Tabelle3[[#This Row],[Cargo]]<>0,SUM(G629:I629),\"\")","v":""},{"$f":"IF(Tabelle3[[#This Row],[Número de trabajadores]]=0,\"\",IF($H$28<>0,(1-J629/$H$28)*100,IF($H$17<>0,(1-J629/$H$17)*100)))","v":""}]
[null,null,571,null,null,null,null,null,null,{"$f":"IF(Tabelle3[[#This Row],[Cargo]]<>0,SUM(G630:I630),\"\")","v":""},{"$f":"IF(Tabelle3[[#This Row],[Número de trabajadores]]=0,\"\",IF($H$28<>0,(1-J630/$H$28)*100,IF($H$17<>0,(1-J630/$H$17)*100)))","v":""}]
[null,null,572,null,null,null,null,null,null,{"$f":"IF(Tabelle3[[#This Row],[Cargo]]<>0,SUM(G631:I631),\"\")","v":""},{"$f":"IF(Tabelle3[[#This Row],[Número de trabajadores]]=0,\"\",IF($H$28<>0,(1-J631/$H$28)*100,IF($H$17<>0,(1-J631/$H$17)*100)))","v":""}]
[null,null,573,null,null,null,null,null,null,{"$f":"IF(Tabelle3[[#This Row],[Cargo]]<>0,SUM(G632:I632),\"\")","v":""},{"$f":"IF(Tabelle3[[#This Row],[Número de trabajadores]]=0,\"\",IF($H$28<>0,(1-J632/$H$28)*100,IF($H$17<>0,(1-J632/$H$17)*100)))","v":""}]
[null,null,574,null,null,null,null,null,null,{"$f":"IF(Tabelle3[[#This Row],[Cargo]]<>0,SUM(G633:I633),\"\")","v":""},{"$f":"IF(Tabelle3[[#This Row],[Número de trabajadores]]=0,\"\",IF($H$28<>0,(1-J633/$H$28)*100,IF($H$17<>0,(1-J633/$H$17)*100)))","v":""}]
[null,null,575,null,null,null,null,null,null,{"$f":"IF(Tabelle3[[#This Row],[Cargo]]<>0,SUM(G634:I634),\"\")","v":""},{"$f":"IF(Tabelle3[[#This Row],[Número de trabajadores]]=0,\"\",IF($H$28<>0,(1-J634/$H$28)*100,IF($H$17<>0,(1-J634/$H$17)*100)))","v":""}]
[null,null,576,null,null,null,null,null,null,{"$f":"IF(Tabelle3[[#This Row],[Cargo]]<>0,SUM(G635:I635),\"\")","v":""},{"$f":"IF(Tabelle3[[#This Row],[Número de trabajadores]]=0,\"\",IF($H$28<>0,(1-J635/$H$28)*100,IF($H$17<>0,(1-J635/$H$17)*100)))","v":""}]
[null,null,577,null,null,null,null,null,null,{"$f":"IF(Tabelle3[[#This Row],[Cargo]]<>0,SUM(G636:I636),\"\")","v":""},{"$f":"IF(Tabelle3[[#This Row],[Número de trabajadores]]=0,\"\",IF($H$28<>0,(1-J636/$H$28)*100,IF($H$17<>0,(1-J636/$H$17)*100)))","v":""}]
[null,null,578,null,null,null,null,null,null,{"$f":"IF(Tabelle3[[#This Row],[Cargo]]<>0,SUM(G637:I637),\"\")","v":""},{"$f":"IF(Tabelle3[[#This Row],[Número de trabajadores]]=0,\"\",IF($H$28<>0,(1-J637/$H$28)*100,IF($H$17<>0,(1-J637/$H$17)*100)))","v":""}]
[null,null,579,null,null,null,null,null,null,{"$f":"IF(Tabelle3[[#This Row],[Cargo]]<>0,SUM(G638:I638),\"\")","v":""},{"$f":"IF(Tabelle3[[#This Row],[Número de trabajadores]]=0,\"\",IF($H$28<>0,(1-J638/$H$28)*100,IF($H$17<>0,(1-J638/$H$17)*100)))","v":""}]
[null,null,580,null,null,null,null,null,null,{"$f":"IF(Tabelle3[[#This Row],[Cargo]]<>0,SUM(G639:I639),\"\")","v":""},{"$f":"IF(Tabelle3[[#This Row],[Número de trabajadores]]=0,\"\",IF($H$28<>0,(1-J639/$H$28)*100,IF($H$17<>0,(1-J639/$H$17)*100)))","v":""}]
[null,null,581,null,null,null,null,null,null,{"$f":"IF(Tabelle3[[#This Row],[Cargo]]<>0,SUM(G640:I640),\"\")","v":""},{"$f":"IF(Tabelle3[[#This Row],[Número de trabajadores]]=0,\"\",IF($H$28<>0,(1-J640/$H$28)*100,IF($H$17<>0,(1-J640/$H$17)*100)))","v":""}]
[null,null,582,null,null,null,null,null,null,{"$f":"IF(Tabelle3[[#This Row],[Cargo]]<>0,SUM(G641:I641),\"\")","v":""},{"$f":"IF(Tabelle3[[#This Row],[Número de trabajadores]]=0,\"\",IF($H$28<>0,(1-J641/$H$28)*100,IF($H$17<>0,(1-J641/$H$17)*100)))","v":""}]
[null,null,583,null,null,null,null,null,null,{"$f":"IF(Tabelle3[[#This Row],[Cargo]]<>0,SUM(G642:I642),\"\")","v":""},{"$f":"IF(Tabelle3[[#This Row],[Número de trabajadores]]=0,\"\",IF($H$28<>0,(1-J642/$H$28)*100,IF($H$17<>0,(1-J642/$H$17)*100)))","v":""}]
[null,null,584,null,null,null,null,null,null,{"$f":"IF(Tabelle3[[#This Row],[Cargo]]<>0,SUM(G643:I643),\"\")","v":""},{"$f":"IF(Tabelle3[[#This Row],[Número de trabajadores]]=0,\"\",IF($H$28<>0,(1-J643/$H$28)*100,IF($H$17<>0,(1-J643/$H$17)*100)))","v":""}]
[null,null,585,null,null,null,null,null,null,{"$f":"IF(Tabelle3[[#This Row],[Cargo]]<>0,SUM(G644:I644),\"\")","v":""},{"$f":"IF(Tabelle3[[#This Row],[Número de trabajadores]]=0,\"\",IF($H$28<>0,(1-J644/$H$28)*100,IF($H$17<>0,(1-J644/$H$17)*100)))","v":""}]
[null,null,586,null,null,null,null,null,null,{"$f":"IF(Tabelle3[[#This Row],[Cargo]]<>0,SUM(G645:I645),\"\")","v":""},{"$f":"IF(Tabelle3[[#This Row],[Número de trabajadores]]=0,\"\",IF($H$28<>0,(1-J645/$H$28)*100,IF($H$17<>0,(1-J645/$H$17)*100)))","v":""}]
[null,null,587,null,null,null,null,null,null,{"$f":"IF(Tabelle3[[#This Row],[Cargo]]<>0,SUM(G646:I646),\"\")","v":""},{"$f":"IF(Tabelle3[[#This Row],[Número de trabajadores]]=0,\"\",IF($H$28<>0,(1-J646/$H$28)*100,IF($H$17<>0,(1-J646/$H$17)*100)))","v":""}]
[null,null,588,null,null,null,null,null,null,{"$f":"IF(Tabelle3[[#This Row],[Cargo]]<>0,SUM(G647:I647),\"\")","v":""},{"$f":"IF(Tabelle3[[#This Row],[Número de trabajadores]]=0,\"\",IF($H$28<>0,(1-J647/$H$28)*100,IF($H$17<>0,(1-J647/$H$17)*100)))","v":""}]
[null,null,589,null,null,null,null,null,null,{"$f":"IF(Tabelle3[[#This Row],[Cargo]]<>0,SUM(G648:I648),\"\")","v":""},{"$f":"IF(Tabelle3[[#This Row],[Número de trabajadores]]=0,\"\",IF($H$28<>0,(1-J648/$H$28)*100,IF($H$17<>0,(1-J648/$H$17)*100)))","v":""}]
[null,null,590,null,null,null,null,null,null,{"$f":"IF(Tabelle3[[#This Row],[Cargo]]<>0,SUM(G649:I649),\"\")","v":""},{"$f":"IF(Tabelle3[[#This Row],[Número de trabajadores]]=0,\"\",IF($H$28<>0,(1-J649/$H$28)*100,IF($H$17<>0,(1-J649/$H$17)*100)))","v":""}]
[null,null,591,null,null,null,null,null,null,{"$f":"IF(Tabelle3[[#This Row],[Cargo]]<>0,SUM(G650:I650),\"\")","v":""},{"$f":"IF(Tabelle3[[#This Row],[Número de trabajadores]]=0,\"\",IF($H$28<>0,(1-J650/$H$28)*100,IF($H$17<>0,(1-J650/$H$17)*100)))","v":""}]
[null,null,592,null,null,null,null,null,null,{"$f":"IF(Tabelle3[[#This Row],[Cargo]]<>0,SUM(G651:I651),\"\")","v":""},{"$f":"IF(Tabelle3[[#This Row],[Número de trabajadores]]=0,\"\",IF($H$28<>0,(1-J651/$H$28)*100,IF($H$17<>0,(1-J651/$H$17)*100)))","v":""}]
[null,null,593,null,null,null,null,null,null,{"$f":"IF(Tabelle3[[#This Row],[Cargo]]<>0,SUM(G652:I652),\"\")","v":""},{"$f":"IF(Tabelle3[[#This Row],[Número de trabajadores]]=0,\"\",IF($H$28<>0,(1-J652/$H$28)*100,IF($H$17<>0,(1-J652/$H$17)*100)))","v":""}]
[null,null,594,null,null,null,null,null,null,{"$f":"IF(Tabelle3[[#This Row],[Cargo]]<>0,SUM(G653:I653),\"\")","v":""},{"$f":"IF(Tabelle3[[#This Row],[Número de trabajadores]]=0,\"\",IF($H$28<>0,(1-J653/$H$28)*100,IF($H$17<>0,(1-J653/$H$17)*100)))","v":""}]
[null,null,595,null,null,null,null,null,null,{"$f":"IF(Tabelle3[[#This Row],[Cargo]]<>0,SUM(G654:I654),\"\")","v":""},{"$f":"IF(Tabelle3[[#This Row],[Número de trabajadores]]=0,\"\",IF($H$28<>0,(1-J654/$H$28)*100,IF($H$17<>0,(1-J654/$H$17)*100)))","v":""}]
[null,null,596,null,null,null,null,null,null,{"$f":"IF(Tabelle3[[#This Row],[Cargo]]<>0,SUM(G655:I655),\"\")","v":""},{"$f":"IF(Tabelle3[[#This Row],[Número de trabajadores]]=0,\"\",IF($H$28<>0,(1-J655/$H$28)*100,IF($H$17<>0,(1-J655/$H$17)*100)))","v":""}]
[null,null,597,null,null,null,null,null,null,{"$f":"IF(Tabelle3[[#This Row],[Cargo]]<>0,SUM(G656:I656),\"\")","v":""},{"$f":"IF(Tabelle3[[#This Row],[Número de trabajadores]]=0,\"\",IF($H$28<>0,(1-J656/$H$28)*100,IF($H$17<>0,(1-J656/$H$17)*100)))","v":""}]
[null,null,598,null,null,null,null,null,null,{"$f":"IF(Tabelle3[[#This Row],[Cargo]]<>0,SUM(G657:I657),\"\")","v":""},{"$f":"IF(Tabelle3[[#This Row],[Número de trabajadores]]=0,\"\",IF($H$28<>0,(1-J657/$H$28)*100,IF($H$17<>0,(1-J657/$H$17)*100)))","v":""}]
[null,null,599,null,null,null,null,null,null,{"$f":"IF(Tabelle3[[#This Row],[Cargo]]<>0,SUM(G658:I658),\"\")","v":""},{"$f":"IF(Tabelle3[[#This Row],[Número de trabajadores]]=0,\"\",IF($H$28<>0,(1-J658/$H$28)*100,IF($H$17<>0,(1-J658/$H$17)*100)))","v":""}]
[null,null,600,null,null,null,null,null,null,{"$f":"IF(Tabelle3[[#This Row],[Cargo]]<>0,SUM(G659:I659),\"\")","v":""},{"$f":"IF(Tabelle3[[#This Row],[Número de trabajadores]]=0,\"\",IF($H$28<>0,(1-J659/$H$28)*100,IF($H$17<>0,(1-J659/$H$17)*100)))","v":""}]

{"sheet":"Scenario specification","index":2,"n_rows":95,"n_cols":11,"rows_kept":95,"cut":false,"hidden":false,"merged":[[90,7,90,9],[90,4,91,6],[79,4,83,10],[46,4,50,10],[74,7,74,9],[71,4,72,10],[60,4,67,10],[74,4,75,6],[76,4,77,7],[28,7,28,9],[30,4,35,10],[15,4,20,10],[13,4,13,10],[87,4,88,10],[42,7,42,9],[39,4,40,10],[25,4,26,10]]}
[]
[]
[]
[null,null,"Especificaciones del escenario"]
[]
[null,null,"Existen 5 escenarios disponibles en esta versión de la herramienta"]
[null,null,"Utilice este formulario para especificar y definir los parámetros relevantes de cada escenario (donde corresponda)"]
[null,null,"Agradeceremos cualquier sugerencia o modificación para los desarrolladores"]
[]
[]
[]
[]
[]
[null,null,"Escenario 1",null,"Reducir la diferencia del salario digno incrementando los niveles salariales de todos los trabajadores con ingresos por debajo del salario digno hasta alcanzar el salario digno"]
[]
[null,null,"Comentarios",null,"Este escenario reduce cualquier diferencia de salario digno de todos los trabajadores por debajo del salario digno. Los niveles de salario de los trabajadores por encima del salario digno permanecen invariables.  \nMientras que este escenario incluye a todos y reduce la diferencia completa, distorsiona la estructura salarial de la granja y puede tener consecuencias sociales impredecibles potencialmente negativas. Aconsejamos encarecidamente considerar las posibles consecuencias negativas de distorsionar la estructura salarial y de aumentar los salarios de forma diferente entre grupos, como el malestar, el aumento de la enemistad y la división social."]
[]
[]
[]
[]
[]
[]
[]
[]
[]
[null,null,"Escenario 2",null,"Reducir la diferencia del salario digno mediante un aumento salarial absoluto igual a la mayor diferencia salarial (cargo con la menor retribución)"]
[]
[]
[null,null,"Especificaciones",null,"Seleccione los trabajadores afectados",null,null,null,null,null,{"$f":"HYPERLINK(\"#\"&ADDRESS(ROW(),COLUMN()-1),CHAR(128))","v":"€"}]
[]
[null,null,"Comentarios",null,"Este escenario se concentra en la mayor diferencia salarial, p. ej., $ 80 y añade este valor absoluto al salario de todos los trabajadores o de los trabajadores cuyo ingreso esté por debajo del salario digno. Por lo tanto, el cargo con el menor salario recibirá un salario digno y todos los demás trabajadores ganarán más que el salario digno. \nTenga en cuenta que si solo se consideran los trabajadores con ingresos por debajo del salario digno, este escenario distorsionará la estructura salarial de los trabajadores con ingresos cercanos al salario digno de referencia, p. ej., aquellos trabajadores con ingresos justo por debajo del salario digno percibirán más que un trabajador con ingresos justo por encima del salario digno."]
[]
[]
[]
[]
[]
[]
[]
[]
[null,null,"Escenario 3",null,"Reducir la diferencia del salario digno con un aumento absoluto del salario equivalente a un porcentaje especificado de la diferencia media salarial de los trabajadores con ingresos por debajo del salario digno"]
[]
[]
[null,null,"Especificaciones",null,"Seleccione los trabajadores afectados",null,null,null,null,null,{"$f":"HYPERLINK(\"#\"&ADDRESS(ROW(),COLUMN()-1),CHAR(128))","v":"€"}]
[]
[null,null,null,null,"Especifique el porcentaje objetivo o la diferencia media del salario digno ",null,null,null,null,"%"]
[]
[null,null,"Comentarios",null,"Este escenario hace que surja una diferencia salarial para los cargos que perciben menos que el salario medio de los trabajadores con ingresos por debajo del salario digno, es decir, que no alcanzan el salario digno. Sin embargo, considera la estructura social de la granja y permite un aumento salarial progresivo. \nEs decir, que este escenario puede afectar también a los cargos que ya perciben un salario digno, lo que puede elevar los costes. Es probable que sea el escenario más aceptado para las negociaciones salariales."]
[]
[]
[]
[]
[]
[]
[]
[null,null,"Escenario 4",null,"Reducir la diferencia salarial con un incremento salarial variable pero con un aumento mínimo"]
[]
[null,null,"Especificación",null,"Ingrese el aumento salarial previsto en términos de porcentaje",null,null,null,null,"%"]
[]
[null,null,null,null,"Ingrese un incremento salarial mínimo absoluto",null,null,null,null,{"$f":"IF('Data entry form'!I17=0,\"\",'Data entry form'!I17)","v":""}]
[]
[null,null,"Comentarios",null,"Mientras se tiene en cuenta la estructura salarial actual, este escenario puede dejar a trabajadores con ingresos inferiores al salario digno.\nEste escenario incrementa todos los salarios y, al mismo tiempo, asegura un aumento mínimo y absoluto para los trabajadores con ingresos bajos. El incremento salarial mínimo y absoluto afectará en su mayoría a los trabajadores con ingresos bajos mientras que el incremento porcentual llevará a un valor absoluto mayor para trabajadores con ingresos más altos. Al incrementar todos los salarios en términos de porcentaje, se considera la estructura salarial de los trabajadores. \nEste escenario también afecta los cargos que ya perciben un salario digno, lo que puede elevar los costes. Es probable que sea el escenario más aceptado para las negociaciones salariales."]
[]
[]
[]
[]
[]
[]
[]
[]
[]
[]
[null,null,"Escenario 5",null,"Reducir la diferencia de salario mínimo y un incremento porcentual específico del salario o de la diferencia salarial media para todos los trabajadores con ingresos por encima del salario digno"]
[]
[]
[null,null,"Especificaciones",null,"Seleccione las especificaciones para el incremento porcentual"]
[]
[null,null,null,null,"Ingrese el incremento porcentual previsto para los trabajadores con ingresos por encima del salario digno (de la diferencia media de salario digno o del salario actual)",null,null,null,null,"%"]
[]
[]
[null,null,"Comentarios",null,"Este escenario reúne los escenarios 1, 3 y 4. \nReduce la diferencia salarial completa, es decir, ningún trabajador percibe ingresos por debajo del salario digno. Adicionalmente, al incrementar los ingresos de los trabajadores por encima del salario digno se intenta considerar la estructura salarial ya existente.\nEste escenario también afecta los cargos que ya perciben un salario digno, lo que puede elevar los costes. Es probable que sea el escenario más aceptado para las negociaciones salariales."]
[]
[]
[]
[]
[]
[]
[]
[null,null,"Escenario 6",null,"Reducir la diferencia salarial según el cargo con un incremento porcentual específico de la remuneración neta total correspondiente o la diferencia salarial media (de los trabajadores con ingresos por debajo del salario digno)"]
[]
[]
[null,null,"Especificaciones",null,"Seleccione las especificaciones para el incremento porcentual"]
[]
[]
[null,null,null,"Cargo","Género","Número de trabajadores","Ingrese el incremento porcentual previsto según el cargo"]
[null,null,null,null,null,null,null,null,"%"]

{"sheet":"Results","index":3,"n_rows":202,"n_cols":46,"rows_kept":202,"cut":false,"hidden":false,"merged":[[95,9,95,12],[54,11,54,14],[153,9,153,12],[122,10,122,13],[123,10,123,15],[124,10,124,13],[91,9,91,12],[111,1,111,18],[18,10,22,15],[29,10,33,15],[49,9,49,12],[84,9,84,12],[25,9,25,12],[51,10,53,15],[41,1,41,18],[76,1,76,18],[64,10,68,15],[60,9,60,12],[191,10,191,13],[192,10,192,14],[193,9,193,12],[194,9,194,12],[197,9,197,12],[189,10,190,15],[160,9,160,12],[159,9,159,12],[181,1,181,19],[187,9,187,12],[273,10,277,15],[214,1,214,18],[133,10,137,15],[99,10,103,15],[86,10,87,15],[145,1,145,19],[167,10,171,15],[155,10,155,15],[156,10,156,15],[158,10,158,14],[157,10,157,13],[121,10,121,15],[119,9,119,12],[129,9,129,12],[163,9,163,12],[201,10,205,15],[2,2,5,14],[15,22,17,22],[15,23,17,23],[15,24,17,24],[15,25,17,25],[8,1,8,18],[16,9,16,12],[15,36,16,36],[15,37,17,37],[15,38,16,38],[15,39,17,39],[6,21,11,29],[15,28,16,28],[15,30,16,30],[15,32,16,32],[15,34,16,34],[15,33,17,33],[15,35,17,35],[15,29,17,29],[15,31,17,31],[15,26,17,26],[15,27,17,27],[15,40,17,40],[15,41,17,41],[15,42,17,42],[15,43,17,43],[15,44,17,44],[15,45,17,45],[15,46,17,46],[15,47,17,47],[15,48,17,48],[20,47,22,47]]}
[]
[]
[null,null,"Atención, algunos trabajadores todavía no recibirán un salario digno, porque:\n- puede que tengan miembros de la familia trabajando en la plantación que el número asumido por familia como el hogar típico\n- trabajan menos tiempo de lo que podrían o que la media incl. por semana/mes y/o mano de obra estacional\n- su familia tiene más miembros que una familia típica (y, por lo tanto, un valor de referencia mayor)"]
[]
[]
[]
[null,null,null,null,null,null,null,null,null,null,null,null,null,null,null,null,null,null,null,null,null," Para tener en cuenta:\n\n- Para calcular la diferencia media del salario digno para todos los trabajadores con ingresos inferiores al salario digno, se calculan las diferencias salariales individuales según el cargo, se suman y se dividen por el número de trabajadores con ingresos inferiores al salario digno. \n   Solo entonces se dividen por el valor de referencia del salario digno.\n- Se calculan valores medios en vez de medianas. Tenga en cuenta que los valores atípicos pueden tener efecto en los valores presentados. "]
[]
[null,"Escenario 1"]
[]
[]
[]
[]
[]
[null,null,null,null,null,null,null,null,null,{"$f":"IF('Data entry form'!$H$28>0,\"Referencia definida por el usuario\",\"Salario digno de referencia\")","v":"Salario digno de referencia"},null,null,null,{"$f":"IF('Data entry form'!$H$28>0,'Data entry form'!$H$28,BenchmarkValue)","v":"Año no disponible"},{"$f":"'Data entry form'!$I$17","v":0},null,{"$f":"IF('Data entry form'!H24=\"\",\"\",N15*'Data entry form'!H24)","v":""},{"$f":"IF('Data entry form'!I24=\"\",\"\",'Data entry form'!I24)","v":""}]
[null,null,null,null,null,null,null,null,null,{"$f":"IF('Data entry form'!$H$28>0,\"Empleados por debajo de la referencia\",\"Empleados por debajo del salario digno\")","v":"Empleados por debajo del salario digno"},null,null,null,{"$f":"hide_backend!$O$9","v":{"$error":"#DIV/0!"}},"%",null,null,null,null,null,null,null,"Cargo","Género","Número de trabajadores","Remuneración neta total","Valor de la diferencia del salario digno (absoluto del individuo)","Valor de la diferencia del salario digno (suma según el cargo)","Escenario 1: Remuneración neta total","Escenario 1: Diferencia restante del valor del salario digno (suma según el cargo)","Escenario 1: Coste según el cargo (con inclusión de tasas e impuestos)","Escenario 2: Remuneración neta total","Escenario 2: Diferencia restante del valor del salario digno (suma según el cargo)","Escenario 2: Coste según el cargo (con inclusión de tasas e impuestos)","Escenario 3: Remuneración neta total","Escenario 3: Diferencia restante del valor del salario digno (suma según el cargo)","Escenario 3: Coste según el cargo (con inclusión de tasas e impuestos)","Escenario 4: Remuneración neta total","Escenario 4: Diferencia restante del valor del salario digno (suma según el cargo)","Escenario 4: Coste según el cargo (con inclusión de tasas e impuestos)","Escenario 5: Remuneración neta total","Escenario 5: Diferencia restante del valor del salario digno (suma según el cargo)","Escenario 5: Coste según el cargo (con inclusión de tasas e impuestos)","Escenario 6: Remuneración neta total","Escenario 6: Diferencia restante del valor del salario digno (suma según el cargo)","Escenario 6: Coste según el cargo (con inclusión de tasas e impuestos)"]
[null,null,null,null,null,null,null,null,null,{"$f":"IF('Data entry form'!$H$28>0,\"Diferencia salarial media actual\n(de todos los empleados por debajo de la referencia)\",\"Diferencia salarial media actual\n(de todos los empleados por debajo del salario digno)\")","v":"Diferencia salarial media actual\n(de todos los empleados por debajo del salario digno)"},null,null,null,{"$f":"IFERROR(hide_backend!$E$10,\"sin brecha\")","v":"sin brecha"},"%"]
[]
[null,null,null,null,null,null,null,null,null,"Escenario 1",{"$f":"IF('Data entry form'!$H$28>0,\"Reducir la diferencia del salario digno incrementando el nivel salarial de todos los trabajadores con ingresos por debajo de la referencia definida hasta alcanzar la referencia.\",\"Reducir la diferencia del salario digno incrementando el nivel salarial de todos los trabajadores con ingresos por debajo del salario digno hasta alcanzar el salario digno.\")","v":"Reducir la diferencia del salario digno incrementando el nivel salarial de todos los trabajadores con ingresos por debajo del salario digno hasta alcanzar el salario digno."}]
[null,null,null,null,null,null,null,null,null,null,null,null,null,null,null,null,null,null,null,null,null,null,null,null,null,"","","","","","","","","","","","","","","","","","","","",0]
[]
[]
[]
[]
[null,null,null,null,null,null,null,null,null,"Costes implicados por unidad",null,null,null,{"$f":"hide_backend!CV4","v":{"$error":"#DIV/0!"}},{"$f":"'Data entry form'!I17","v":0},{"$f":"'Data entry form'!$E$40","v":0},{"$f":"IF('Data entry form'!H24=\"\",\"\",N25*'Data entry form'!H24)","v":""},{"$f":"IF('Data entry form'!I24=\"\",\"\",'Data entry form'!I24)","v":""}]
[null,null,null,null,null,null,null,null,null,"Costes laborales adicionales en total\n(incl. tasas e impuestos)",null,null,null,{"$f":"N25*'Data entry form'!$E$41","v":{"$error":"#DIV/0!"}},{"$f":"'Data entry form'!I17","v":0},null,{"$f":"IF('Data entry form'!H24=\"\",\"\",N26*'Data entry form'!H24)","v":""},{"$f":"IF('Data entry form'!I24=\"\",\"\",'Data entry form'!I24)","v":""}]
[null,null,null,null,null,null,null,null,null,{"$f":"IF('Data entry form'!$H$28>0,\"Empleados por debajo de la referencia (nuevo)\",\"Empleados por debajo del salario digno (nuevo)\")","v":"Empleados por debajo del salario digno (nuevo)"},null,null,null,{"$f":"hide_backend!CY4","v":{"$error":"#DIV/0!"}},"%"]
[null,null,null,null,null,null,null,null,null,"Diferencia salarial media restante (nueva)",null,null,null,{"$f":"hide_backend!CX4","v":{"$error":"#VALUE!"}},"%"]
[]
[null,null,null,null,null,null,null,null,null,"Comentarios",{"$f":"IF('Data entry form'!$H$28>0,\"Este escenario distorsiona la estructura salarial de todos los trabajadores con ingresos por debajo de la referencia definida por el usuario.\",\"Este escenario distorsiona la estructura salarial de todos los trabajadores con ingresos por debajo del salario digno.\")","v":"Este escenario distorsiona la estructura salarial de todos los trabajadores con ingresos por debajo del salario digno."}]
[]
[]
[]
[]
[]
[]
[]
[]
[]
[]
[]
[null,"Escenario 2"]
[]
[]
[]
[]
[]
[null,null,null,null,null,null,null,null,null,{"$f":"IF('Data entry form'!$H$28>0,\"Referencia definida por el usuario\",\"Salario digno de referencia\")","v":"Salario digno de referencia"},null,null,null,{"$f":"IF('Data entry form'!$H$28>0,'Data entry form'!$H$28,BenchmarkValue)","v":"Año no disponible"},{"$f":"'Data entry form'!$I$17","v":0},null,{"$f":"IF('Data entry form'!H24=\"\",\"\",N48*'Data entry form'!H24)","v":""},{"$f":"IF('Data entry form'!I24=\"\",\"\",'Data entry form'!I24)","v":""}]
[null,null,null,null,null,null,null,null,null,{"$f":"IF('Data entry form'!$H$28>0,\"Empleados por debajo de la referencia\",\"Empleados por debajo del salario digno\")","v":"Empleados por debajo del salario digno"},null,null,null,{"$f":"hide_backend!$O$9","v":{"$error":"#DIV/0!"}},"%"]
[null,null,null,null,null,null,null,null,null,{"$f":"IF('Data entry form'!$H$28>0,\"Diferencia salarial media actual\n(de todos los empleados por debajo de la referencia)\",\"Diferencia salarial media actual\n(de todos los empleados por debajo del salario digno)\")","v":"Diferencia salarial media actual\n(de todos los empleados por debajo del salario digno)"},null,null,null,{"$f":"IFERROR(hide_backend!$E$10,\"Sin brecha\")","v":"Sin brecha"},"%"]
[]
[null,null,null,null,null,null,null,null,null,"Escenario 2",{"$f":"IF('Data entry form'!$H$28>0,\"Reducir la diferencia salarial mediante un aumento salarial absoluto igual a la mayor diferencia salarial (cargo con la menor retribución).\",\"Reducir la diferencia del salario digno mediante un aumento salarial absoluto igual a la mayor diferencia salarial (cargo con la menor retribución).\")","v":"Reducir la diferencia del salario digno mediante un aumento salarial absoluto igual a la mayor diferencia salarial (cargo con la menor retribución)."}]
[]
[]
[null,null,null,null,null,null,null,null,null,null,"Para",{"$f":"'Scenario specification'!H29","v":0}]
[]
[null,null,null,null,null,null,null,null,null,"Mayor diferencia salarial",null,null,null,{"$f":"hide_backend!$U$16","v":{"$error":"#VALUE!"}},{"$f":"'Data entry form'!I17","v":0},null,{"$f":"IF('Data entry form'!H24=\"\",\"\",N57*'Data entry form'!H24)","v":""},{"$f":"IF('Data entry form'!I24=\"\",\"\",'Data entry form'!I24)","v":""}]
[null,null,null,null,null,null,null,null,null,"Incremento salarial absoluto",null,null,null,{"$f":"hide_backend!$U$16","v":{"$error":"#VALUE!"}},{"$f":"'Data entry form'!I17","v":0},null,{"$f":"IF('Data entry form'!H24=\"\",\"\",N58*'Data entry form'!H24)","v":""},{"$f":"IF('Data entry form'!I24=\"\",\"\",'Data entry form'!I24)","v":""}]
[]
[null,null,null,null,null,null,null,null,null,"Costes implicados",null,null,null,{"$f":"hide_backend!CV5","v":{"$error":"#DIV/0!"}},{"$f":"'Data entry form'!I17","v":0},{"$f":"'Data entry form'!$E$40","v":0},{"$f":"IF('Data entry form'!H24=\"\",\"\",N60*'Data entry form'!H24)","v":""},{"$f":"IF('Data entry form'!I24=\"\",\"\",'Data entry form'!I24)","v":""}]
[null,null,null,null,null,null,null,null,null,"Costes laborales adicionales en total\n(incl. tasas e impuestos)",null,null,null,{"$f":"N60*'Data entry form'!$E$41","v":{"$error":"#DIV/0!"}},{"$f":"'Data entry form'!I17","v":0},null,{"$f":"IF('Data entry form'!H24=\"\",\"\",N61*'Data entry form'!H24)","v":""},{"$f":"IF('Data entry form'!I24=\"\",\"\",'Data entry form'!I24)","v":""}]
[null,null,null,null,null,null,null,null,null,{"$f":"IF('Data entry form'!$H$28>0,\"Empleados por debajo de la referencia (nuevo)\",\"Empleados por debajo del salario digno (nuevo)\")","v":"Empleados por debajo del salario digno (nuevo)"},null,null,null,{"$f":"hide_backend!CY5","v":{"$error":"#DIV/0!"}},"%"]
[null,null,null,null,null,null,null,null,null,"Diferencia salarial media restante (nueva)",null,null,null,{"$f":"hide_backend!CY4","v":{"$error":"#DIV/0!"}},"%"]
[]
[null,null,null,null,null,null,null,null,null,"Comentarios",{"$f":"IF('Data entry form'!$H$28>0,\"Este escenario reduce cualquier diferencia salarial, es decir, ningún trabajador percibe ingresos por debajo de la referencia definida por el usuario, y además se toma en cuenta la estructura salarial de los trabajadores.\",\"Este escenario reduce cualquier diferencia salarial, es decir, ningún trabajador percibe ingresos por debajo del salario digno, y además se toma en cuenta la estructura salarial de los trabajadores.\")","v":"Este escenario reduce cualquier diferencia salarial, es decir, ningún trabajador percibe ingresos por debajo del salario digno, y además se toma en cuenta la estructura salarial de los trabajadores."}]
[]
[]
[]
[]
[]
[]
[]
[]
[]
[]
[]
[null,"Escenario 3"]
[]
[]
[]
[]
[]
[null,null,null,null,null,null,null,null,null,{"$f":"IF('Data entry form'!$H$28>0,\"Referencia definida por el usuario\",\"Salario digno de referencia\")","v":"Salario digno de referencia"},null,null,null,{"$f":"IF('Data entry form'!$H$28>0,'Data entry form'!$H$28,BenchmarkValue)","v":"Año no disponible"},{"$f":"'Data entry form'!$I$17","v":0},null,{"$f":"IF('Data entry form'!H24=\"\",\"\",N83*'Data entry form'!H24)","v":""},{"$f":"IF('Data entry form'!I24=\"\",\"\",'Data entry form'!I24)","v":""}]
[null,null,null,null,null,null,null,null,null,{"$f":"IF('Data entry form'!$H$28>0,\"Empleados por debajo de la referencia\",\"Empleados por debajo del salario digno\")","v":"Empleados por debajo del salario digno"},null,null,null,{"$f":"hide_backend!$O$9","v":{"$error":"#DIV/0!"}},"%"]
[null,null,null,null,null,null,null,null,null,{"$f":"IF('Data entry form'!$H$28>0,\"Diferencia salarial media actual\n(de todos los empleados por debajo de la referencia)\",\"Diferencia salarial media actual\n(de todos los empleados por debajo del salario digno)\")","v":"Diferencia salarial media actual\n(de todos los empleados por debajo del salario digno)"},null,null,null,{"$f":"IFERROR(hide_backend!$E$10,\"No gap\")","v":"No gap"},"%"]
[]
[null,null,null,null,null,null,null,null,null,"Escenario 3","Reducir la diferencia del salario digno con un incremento salarial absoluto igual al "]
[]
[null,null,null,null,null,null,null,null,null,null,{"$f":"'Scenario specification'!I45","v":0},"% de la diferencia salarial media"]
[null,null,null,null,null,null,null,null,null,null,"aplicado a ",null,{"$f":"'Scenario specification'!H43","v":0}]
[]
[null,null,null,null,null,null,null,null,null,{"$f":"IF('Data entry form'!$H$28>0,\"Diferencia salarial media absoluta (de todos los empleados por debajo de la referencia)\",\"Diferencia salarial media absoluta (de todos los empleados por debajo del salario digno)\")","v":"Diferencia salarial media absoluta (de todos los empleados por debajo del salario digno)"},null,null,null,{"$f":"hide_backend!$AA$16","v":{"$error":"#VALUE!"}},{"$f":"'Data entry form'!I17","v":0},null,{"$f":"IF('Data entry form'!H24=\"\",\"\",N92*'Data entry form'!H24)","v":""},{"$f":"IF('Data entry form'!I24=\"\",\"\",'Data entry form'!I24)","v":""}]
[null,null,null,null,null,null,null,null,null,"Incremento salarial absoluto",null,null,null,{"$f":"hide_backend!AV16","v":{"$error":"#VALUE!"}},{"$f":"'Data entry form'!I17","v":0},null,{"$f":"IF('Data entry form'!H24=\"\",\"\",N93*'Data entry form'!H24)","v":""},{"$f":"IF('Data entry form'!I24=\"\",\"\",'Data entry form'!I24)","v":""}]
[null,null,null,"Cargo","Género","Número de trabajadores"]
[null,null,null,null,null,null,null,null,null,"Costes implicados",null,null,null,{"$f":"IFERROR(hide_backend!CV6,\"0,00\")","v":"0,00"},{"$f":"'Data entry form'!I17","v":0},{"$f":"'Data entry form'!$E$40","v":0},{"$f":"IF('Data entry form'!H24=\"\",\"\",N95*'Data entry form'!H24)","v":""},{"$f":"IF('Data entry form'!I24=\"\",\"\",'Data entry form'!I24)","v":""}]
[null,null,null,null,null,null,null,null,null,"Costes laborales adicionales en total\n(incl. tasas e impuestos)",null,null,null,{"$f":"IFERROR(N95*'Data entry form'!$E$41,\"0,00\")","v":0},{"$f":"'Data entry form'!I17","v":0},null,{"$f":"IF('Data entry form'!H24=\"\",\"\",N96*'Data entry form'!H24)","v":""},{"$f":"IF('Data entry form'!I24=\"\",\"\",'Data entry form'!I24)","v":""}]
[null,null,null,null,null,null,null,null,null,{"$f":"IF('Data entry form'!$H$28>0,\"Empleados por debajo de la referencia (nuevo)\",\"Empleados por debajo del salario digno (nuevo)\")","v":"Empleados por debajo del salario digno (nuevo)"},null,null,null,{"$f":"IFERROR(hide_backend!CY6,\"0,00\")","v":"0,00"},"%"]
[null,null,null,null,null,null,null,null,null,"Diferencia salarial media restante (nueva)",null,null,null,{"$f":"IFERROR(hide_backend!CX6,\"0,00\")","v":"0,00"},"%"]
[]
[null,null,null,null,null,null,null,null,null,"Comentarios",{"$f":"IF('Data entry form'!$H$28>0,\"Este escenario hace que haya cargos percibiendo menos que la referencia definida por el usuario, es decir, no alcanzan la referencia.\",\"Este escenario hace que haya cargos percibiendo menos que el salario digno, es decir, no alcanzan el salario digno.\")","v":"Este escenario hace que haya cargos percibiendo menos que el salario digno, es decir, no alcanzan el salario digno."}]
[]
[]
[]
[]
[]
[]
[]
[]
[]
[]
[]
[null,"Escenario 4"]
[]
[]
[]
[]
[]
[null,null,null,null,null,null,null,null,null,{"$f":"IF('Data entry form'!$H$28>0,\"Referencia definida por el usuario\",\"Salario digno de referencia\")","v":"Salario digno de referencia"},null,null,null,{"$f":"IF('Data entry form'!$H$28>0,'Data entry form'!$H$28,BenchmarkValue)","v":"Año no disponible"},{"$f":"'Data entry form'!$I$17","v":0},null,{"$f":"IF('Data entry form'!H24=\"\",\"\",N118*'Data entry form'!H24)","v":""},{"$f":"IF('Data entry form'!I24=\"\",\"\",'Data entry form'!I24)","v":""}]
[null,null,null,null,null,null,null,null,null,{"$f":"IF('Data entry form'!$H$28>0,\"Empleados por debajo de la referencia\",\"Empleados por debajo del salario digno\")","v":"Empleados por debajo del salario digno"},null,null,null,{"$f":"hide_backend!$O$9","v":{"$error":"#DIV/0!"}},"%"]
[null,null,null,null,null,null,null,null,null,{"$f":"IF('Data entry form'!$H$28>0,\"Diferencia salarial media actual\n(de todos los empleados por debajo de la referencia)\",\"Diferencia salarial media actual\n(de todos los empleados por debajo del salario digno)\")","v":"Diferencia salarial media actual\n(de todos los empleados por debajo del salario digno)"},null,null,null,{"$f":"IFERROR(hide_backend!$E$10,\"No gap\")","v":"No gap"},"%"]
[]
[null,null,null,null,null,null,null,null,null,"Escenario 4",{"$f":"IF('Data entry form'!$H$28>0,\"Reducir la diferencia a la referencia definida por el usuario con\",\"Reducir la diferencia del salario digno con\")","v":"Reducir la diferencia del salario digno con"}]
[null,null,null,null,null,null,null,null,null,null,"un incremento salarial variable off ",null,null,null,{"$f":"'Scenario specification'!I57","v":0},"%"]
[null,null,null,null,null,null,null,null,null,null," pero con un aumento mínimo"]
[null,null,null,null,null,null,null,null,null,null,"(de los niveles salariales bajos) igual a",null,null,null,{"$f":"'Scenario specification'!I59","v":0},{"$f":"'Data entry form'!I17","v":0},{"$f":"IF('Data entry form'!H24=\"\",\"\",O125*'Data entry form'!H24)","v":""},{"$f":"IF('Data entry form'!I24=\"\",\"\",'Data entry form'!I24)","v":""}]
[]
[]
[]
[null,null,null,null,null,null,null,null,null,"Costes implicados",null,null,null,{"$f":"IFERROR(hide_backend!CV7,\"0,00\")","v":"0,00"},{"$f":"'Data entry form'!I17","v":0},{"$f":"'Data entry form'!$E$40","v":0},{"$f":"IF('Data entry form'!H24=\"\",\"\",N129*'Data entry form'!H24)","v":""},{"$f":"IF('Data entry form'!I24=\"\",\"\",'Data entry form'!I24)","v":""}]
[null,null,null,null,null,null,null,null,null,"Costes laborales adicionales en total\n(incl. tasas e impuestos)",null,null,null,{"$f":"N129*'Data entry form'!$E$41","v":0},{"$f":"'Data entry form'!I17","v":0},null,{"$f":"IF('Data entry form'!H24=\"\",\"\",N130*'Data entry form'!H24)","v":""},{"$f":"IF('Data entry form'!I24=\"\",\"\",'Data entry form'!I24)","v":""}]
[null,null,null,null,null,null,null,null,null,{"$f":"IF('Data entry form'!$H$28>0,\"Empleados por debajo de la referencia (nuevo)\",\"Empleados por debajo del salario digno (nuevo)\")","v":"Empleados por debajo del salario digno (nuevo)"},null,null,null,{"$f":"IFERROR(hide_backend!CY7,\"0,00\")","v":"0,00"},"%"]
[null,null,null,null,null,null,null,null,null,"Diferencia salarial media restante (nueva)",null,null,null,{"$f":"IFERROR(hide_backend!CX7,\"0,00\")","v":"0,00"},"%"]
[]
[null,null,null,null,null,null,null,null,null,"Comentarios",{"$f":"IF('Data entry form'!$H$28>0,\"Este escenario también afecta los cargos que ya perciben un salario por encima de la referencia definida por el usuario, lo que puede elevar los costes. Es probable que sea el escenario más aceptado para las negociaciones salariales.\",\"Este escenario también afecta los cargos que ya perciben un salario digno, lo que puede elevar los costes. Es probable que sea el escenario más aceptado para las negociaciones salariales.\")","v":"Este escenario también afecta los cargos que ya perciben un salario digno, lo que puede elevar los costes. Es probable que sea el escenario más aceptado para las negociaciones salariales."}]
[]
[]
[]
[]
[]
[]
[]
[]
[]
[]
[]
[null,"Escenario 5"]
[]
[]
[]
[]
[]
[null,null,null,null,null,null,null,null,null,{"$f":"IF('Data entry form'!$H$28>0,\"Referencia definida por el usuario\",\"Salario digno de referencia\")","v":"Salario digno de referencia"},null,null,null,{"$f":"IF('Data entry form'!$H$28>0,'Data entry form'!$H$28,BenchmarkValue)","v":"Año no disponible"},{"$f":"'Data entry form'!$I$17","v":0},null,{"$f":"IF('Data entry form'!H24=\"\",\"\",N152*'Data entry form'!H24)","v":""},{"$f":"IF('Data entry form'!I24=\"\",\"\",'Data entry form'!I24)","v":""}]
[null,null,null,null,null,null,null,null,null,{"$f":"IF('Data entry form'!$H$28>0,\"Empleados por debajo de la referencia\",\"Empleados por debajo del salario digno\")","v":"Empleados por debajo del salario digno"},null,null,null,{"$f":"hide_backend!$O$9","v":{"$error":"#DIV/0!"}},"%"]
[null,null,null,null,null,null,null,null,null,{"$f":"IF('Data entry form'!$H$28>0,\"Diferencia salarial media actual\n(de todos los empleados por debajo de la referencia)\",\"Diferencia salarial media actual\n(de todos los empleados por debajo del salario digno)\")","v":"Diferencia salarial media actual\n(de todos los empleados por debajo del salario digno)"},null,null,null,{"$f":"IFERROR(hide_backend!$E$10,\"No gap\")","v":"No gap"},"%"]
[]
[null,null,null,null,null,null,null,null,null,"Escenario 5",{"$f":"IF('Data entry form'!$H$28>0,\"Reducir la diferencia del salario digno y\",\"Reducir la diferencia del salario digno y\")","v":"Reducir la diferencia del salario digno y"}]
[null,null,null,null,null,null,null,null,null,null,"un incremento porcentual especificado del/ de la "]
[null,null,null,null,null,null,null,null,null,null,{"$f":"'Scenario specification'!H75","v":0},null,null,null,{"$f":"'Scenario specification'!I77","v":0},"%"]
[null,null,null,null,null,null,null,null,null,null,{"$f":"IF('Data entry form'!$H$28>0,\"para todos los trabajadores por encima de la referencia.\",\"para todos los trabajadores por encima del salario digno.\")","v":"para todos los trabajadores por encima del salario digno."}]
[null,null,null,null,null,null,null,null,null,{"$f":"IF('Data entry form'!$H$28>0,\"Diferencia salarial media absoluta (de todos los empleados por debajo de la referencia)\",\"Diferencia salarial media absoluta (de todos los empleados por debajo del salario digno)\")","v":"Diferencia salarial media absoluta (de todos los empleados por debajo del salario digno)"},null,null,null,{"$f":"hide_backend!$AA$16","v":{"$error":"#VALUE!"}},{"$f":"O152","v":0},null,{"$f":"IF('Data entry form'!H24=\"\",\"\",N160*'Data entry form'!H24)","v":""},{"$f":"IF('Data entry form'!I24=\"\",\"\",'Data entry form'!I24)","v":""}]
[null,null,null,null,null,null,null,null,null,{"$f":"IF(hide_backend!BS6=1,\"\",\"Incremento salarial absoluto (para todos los trabajadores por encima de la referencia)\")","v":"Incremento salarial absoluto (para todos los trabajadores por encima de la referencia)"},null,null,null,{"$f":"IF(hide_backend!BS6=1,\"\",hide_backend!BS11*hide_backend!AA16)","v":{"$error":"#VALUE!"}},{"$f":"IF(hide_backend!BS6=1,\"\",O160)","v":0},null,{"$f":"IF(hide_backend!BS6=1,\"\",N161*'Data entry form'!H24)","v":{"$error":"#VALUE!"}},{"$f":"IF(hide_backend!BS6=1,\"\",'Data entry form'!I24)","v":0}]
[]
[null,null,null,null,null,null,null,null,null,"Costes implicados",null,null,null,{"$f":"IFERROR(hide_backend!CV8,\"0,00\")","v":"0,00"},{"$f":"'Data entry form'!I17","v":0},{"$f":"'Data entry form'!$E$40","v":0},{"$f":"IF('Data entry form'!H24=\"\",\"\",N163*'Data entry form'!H24)","v":""},{"$f":"IF('Data entry form'!I24=\"\",\"\",'Data entry form'!I24)","v":""}]
[null,null,null,null,null,null,null,null,null,"Costes laborales adicionales en total\n(incl. tasas e impuestos)",null,null,null,{"$f":"N163*'Data entry form'!$E$41","v":0},{"$f":"'Data entry form'!I17","v":0},null,{"$f":"IF('Data entry form'!H24=\"\",\"\",N164*'Data entry form'!H24)","v":""},{"$f":"IF('Data entry form'!I24=\"\",\"\",'Data entry form'!I24)","v":""}]
[null,null,null,null,null,null,null,null,null,{"$f":"IF('Data entry form'!$H$28>0,\"Empleados por debajo de la referencia (nuevo)\",\"Empleados por debajo del salario digno (nuevo)\")","v":"Empleados por debajo del salario digno (nuevo)"},null,null,null,{"$f":"IFERROR(hide_backend!CY8,\"0,00\")","v":"0,00"},"%"]
[null,null,null,null,null,null,null,null,null,"Diferencia salarial media restante (nueva)",null,null,null,{"$f":"IFERROR(hide_backend!CX8,\"0,00\")","v":"0,00"},"%"]
[]
[null,null,null,null,null,null,null,null,null,"Comentarios","Este escenario también afecta los cargos que ya perciben un salario digno, lo que puede elevar los costes. Es probable que sea el escenario más aceptado para las negociaciones salariales."]
[]
[]
[]
[]
[]
[]
[]
[]
[]
[]
[]
[]
[]
[null,"Escenario 6"]
[]
[]
[]
[null,null,null,null,null,null,null,null,null,{"$f":"IF('Data entry form'!$H$28>0,\"Referencia definida por el usuario\",\"Salario digno de referencia\")","v":"Salario digno de referencia"},null,null,null,{"$f":"IF('Data entry form'!$H$28>0,'Data entry form'!$H$28,BenchmarkValue)","v":"Año no disponible"},{"$f":"'Data entry form'!$I$17","v":0},null,{"$f":"IF('Data entry form'!H24=\"\",\"\",N186*'Data entry form'!H24)","v":""},{"$f":"IF('Data entry form'!I24=\"\",\"\",'Data entry form'!I24)","v":""}]
[null,null,null,null,null,null,null,null,null,{"$f":"IF('Data entry form'!$H$28>0,\"Empleados por debajo de la referencia\",\"Empleados por debajo del salario digno\")","v":"Empleados por debajo del salario digno"},null,null,null,{"$f":"hide_backend!$O$9","v":{"$error":"#DIV/0!"}},"%"]
[null,null,null,null,null,null,null,null,null,{"$f":"IF('Data entry form'!$H$28>0,\"Diferencia salarial media actual\n(de todos los empleados por debajo de la referencia)\",\"Diferencia salarial media actual\n(de todos los empleados por debajo del salario digno)\")","v":"Diferencia salarial media actual\n(de todos los empleados por debajo del salario digno)"},null,null,null,{"$f":"IFERROR(hide_backend!$E$10,\"No gap\")","v":"No gap"},"%"]
[]
[null,null,null,null,null,null,null,null,null,"Escenario 6",{"$f":"IF('Data entry form'!$H$28>0,\"Reducir la diferencia salarial por cargo con un incremento porcentual especificado del\",\"Reducir la diferencia del salario digno por cargo con un incremento porcentual especificado del\")","v":"Reducir la diferencia del salario digno por cargo con un incremento porcentual especificado del"}]
[]
[null,null,null,null,null,null,null,null,null,null,{"$f":"'Scenario specification'!H91","v":0}]
[]
[null,null,null,null,null,null,null,null,null,{"$f":"IF('Data entry form'!$H$28>0,\"Diferencia salarial media absoluta (de todos los empleados por debajo de la referencia)\",\"Diferencia salarial media absoluta (de todos los empleados por debajo del salario digno)\")","v":"Diferencia salarial media absoluta (de todos los empleados por debajo del salario digno)"},null,null,null,{"$f":"hide_backend!$AA$16","v":{"$error":"#VALUE!"}},{"$f":"O186","v":0},null,{"$f":"IF('Data entry form'!H24=\"\",\"\",N194*'Data entry form'!H24)","v":""},{"$f":"IF('Data entry form'!I24=\"\",\"\",'Data entry form'!I24)","v":""}]
[]
[]
[null,null,null,null,null,null,null,null,null,"Costes implicados",null,null,null,{"$f":"IFERROR(hide_backend!CV9,\"0,00\")","v":"0,00"},{"$f":"O186","v":0},{"$f":"'Data entry form'!$E$40","v":0},{"$f":"IF('Data entry form'!H24=\"\",\"\",N197*'Data entry form'!H24)","v":""},{"$f":"IF('Data entry form'!I24=\"\",\"\",'Data entry form'!I24)","v":""}]
[null,null,null,null,null,null,null,null,null,"Costes laborales adicionales en total\n(incl. tasas e impuestos)",null,null,null,{"$f":"N197*'Data entry form'!$E$41","v":0},{"$f":"O186","v":0},null,{"$f":"IF('Data entry form'!H24=\"\",\"\",N198*'Data entry form'!H24)","v":""},{"$f":"IF('Data entry form'!I24=\"\",\"\",'Data entry form'!I24)","v":""}]
[null,null,null,null,null,null,null,null,null,{"$f":"IF('Data entry form'!$H$28>0,\"Empleados por debajo de la referencia (nuevo)\",\"Empleados por debajo del salario digno (nuevo)\")","v":"Empleados por debajo del salario digno (nuevo)"},null,null,null,{"$f":"IFERROR(hide_backend!CY9,\"0,00\")","v":"0,00"},"%"]
[null,null,null,null,null,null,null,null,null,"Diferencia salarial media restante (nueva)",null,null,null,{"$f":"IFERROR(hide_backend!CX9,\"0,00\")","v":"0,00"},"%"]
[]
[null,null,null,null,null,null,null,null,null,"Comentarios",{"$f":"IF('Data entry form'!$H$28>0,\"Este escenario también afecta los cargos que ya perciben un salario igual o superior a la referencia, lo que puede elevar los costes. Es probable que sea el escenario más aceptado para las negociaciones salariales.\",\"Este escenario también afecta los cargos que ya perciben un salario digno, lo que puede elevar los costes. Es probable que sea el escenario más aceptado para las negociaciones salariales.\")","v":"Este escenario también afecta los cargos que ya perciben un salario digno, lo que puede elevar los costes. Es probable que sea el escenario más aceptado para las negociaciones salariales."}]

{"sheet":"hide_DropdownMenue","index":4,"n_rows":44,"n_cols":54,"rows_kept":44,"cut":false,"hidden":true,"merged":[]}
[]
["Countries",null,"Locality",null,"Region",null,"Gender",null,"Currency ",null,null,"Argentina","Bangladesh","Belize","Brazil","Burkina Faso","Cameroon","Chile","China","Colombia","Costa Rica","Cote d'Ivoire","Democratic Republic of Congo","Dominican Republic","Ecuador","Egypt, Arab Rep.","El Salvador","Ethiopia","Gabon","Ghana","Guatemala","Honduras","India","Kenya","Madagascar","Malawi","Mexico","Morocco","Mozambique","Nicaragua","Nigeria","Pakistan","Panama","Papua New Guinea","Peru","Rwanda","South Africa","Sri Lanka","Tanzania","Tunisia","Turkey","Uganda","Vietnam","Other Country"]
["Argentina",null,"Urban",null,"Satellite Cities and Districts Surrounding Dhaka",null,"Hombres",null,"EUR",null,null,"Non-Metropolitan Urban","Urban Satellite Cities and Districts Surrounding Dhaka","Rural","Urban Minas Gerais South/Southwestern Region","Rural","Rural","Non-Metropolitan Urban","Urban Zhengzhou","Urban-Rural Caribbean coast","Rural Limón and Heredia Provinces","Rural","Rural","Rural Northern Region","Rural Southern Coastal Region","Rural","Rural","Non-Metropolitan Urban Ziway Region","Urban","Peri-Urban Lower Volta Region","Rural Central Valley Area","Rural","Urban Tiruppur, Tamil Nadu","Rural Mount Kenya","Rural","Rural Southern Region","Non-metropolitan Urban & Rural Michoacán, northwestern regions","Rural","Rural","Urban Managua Free Trade Zone","Rural","Rural Sialkot","Rural","Rural","Rural","Rural","Rural Western Cape Province","Rural Estate Sector","Rural","Rural","Rural","Rural Lake Victoria Basin","Rural Economic Zone 4","Rural"]
["Bangladesh",null,"Rural",null,"Dhaka City",null,"Mujeres",null,"Moneda local (LCU)",null,null,"Rural","Urban Dhaka City",null,"Non-metropolitan State of São Paulo, non-metropolitan areas",null,null,null,"Urban Chengdu",null,null,"Rural Cocoa growing areas",null,null,null,null,null,null,"Rural","Rural Cocoa growing areas of Ashanti, Central, Eastern, Western Regions",null,null,"Rural Bhadohi, Uttar Pradesh","Non-metropolitan Urban Lake Naivasha",null,null,null,null,null,"Rural-Urban Northwest",null,"Urban Sialkot",null,null,null,null,null,null,"Urban",null,null,null,"Urban Ho Chi Minh City","Urban"]
["Belize",null,"Non-metropolitan",null,"Minas Gerais South/Southwestern Region",null,null,null,"USD",null,null,null,null,null,null,null,null,null,"Urban Hangzhou",null,null,null,null,null,null,null,null,null,null,null,null,null,"Rural Rural Nilgiris, Tamil Nadu",null,null,null,null,null,null,null,null,null,null,null,null,null,null,null,null,null,null,null,null,"Urban-Rural"]
["Brazil",null,"Non-Metropolitan Urban",null,"State of São Paulo, non-metropolitan areas",null,null,null,null,null,null,null,null,null,null,null,null,null,"Urban Shanghai",null,null,null,null,null,null,null,null,null,null,null,null,null,null,null,null,null,null,null,null,null,null,null,null,null,null,null,null,null,null,null,null,null,null,"Non-metropolitan"]
["Burkina Faso",null,"Urban-Rural",null,"Zhengzhou",null,null,null,"Year ",null,null,null,null,null,null,null,null,null,"Urban Shenzhen",null,null,null,null,null,null,null,null,null,null,null,null,null,null,null,null,null,null,null,null,null,null,null,null,null,null,null,null,null,null,null,null,null,null,"Peri-Urban"]
["Cameroon",null,"Peri-Urban",null,"Chengdu",null,null,null,2020,null,null,null,null,null,null,null,null,null,"Urban Suzhou"]
["Chile",null,"Non-metropolitan Urban & Rural",null,"Hangzhou",null,null,null,2021]
["China",null,"Rural-Urban",null,"Shanghai",null,null,null,2022]
["Colombia",null,null,null,"Shenzhen"]
["Costa Rica",null,null,null,"Suzhou"]
["Cote d'Ivoire",null,"Production Scenario",null,"Caribbean coast"]
["Democratic Republic of Congo",null,"Business as ususal",null,"Limón and Heredia Provinces"]
["Dominican Republic",null,"Good Agricultural Practices",null,"Cocoa growing areas"]
["Ecuador",null,"Model data",null,"Northern Region"]
["Egypt, Arab Rep.",null,"Other data",null,"Southern Coastal Region"]
["El Salvador",null,null,null,"Ziway Region"]
["Ethiopia",null,null,null,"Lower Volta Region"]
["Gabon",null,null,null,"Cocoa growing areas of Ashanti, Central, Eastern, Western Regions"]
["Ghana",null,null,null,"Central Valley Area"]
["Guatemala",null,null,null,"Tiruppur, Tamil Nadu"]
["Honduras",null,null,null,"Bhadohi, Uttar Pradesh"]
["India",null,null,null,"Rural Nilgiris, Tamil Nadu"]
["Kenya",null,null,null,"Mount Kenya"]
["Madagascar",null,null,null,"Lake Naivasha"]
["Malawi",null,null,null,"Southern Region"]
["Mexico",null,null,null,"Michoacán, northwestern regions"]
["Morocco",null,null,null,"Managua Free Trade Zone"]
["Mozambique",null,null,null,"Northwest"]
["Nicaragua",null,null,null,"Sialkot"]
["Nigeria",null,null,null,"Western Cape Province"]
["Pakistan",null,null,null,"Estate Sector"]
["Panama",null,null,null,"Lake Victoria Basin"]
["Papua New Guinea",null,null,null,"Economic Zone 4"]
["Peru",null,null,null,"Ho Chi Minh City"]
["Rwanda",null,null,null,"Southern Coastal Region 2021"]
["South Africa",null,null,null,"Southern Coastal Region 2022"]
["Sri Lanka"]
["Tanzania"]
["Tunisia"]
["Turkey"]
["Uganda"]
["Vietnam"]

{"sheet":"hide_backend","index":5,"n_rows":669,"n_cols":109,"rows_kept":669,"cut":false,"hidden":true,"merged":[[6,51,7,52],[13,67,13,72],[13,75,13,82]]}
[]
[null,"Key variables",null,null,null,null,null,null,null,null,null,null,null,null,null,null,null,null,null,"comments",null,null,null,null,null,null,null,null,null,null,null,null,null,null,null,null,null,null,null,null,null,null,null,null,null,null,null,null,null,null,null,null,null,null,null,null,null,null,null,null,null,null,null,null,null,null,null,null,null,null,null,null,null,null,null,null,null,null,null,null,null,null,null,null,null,null,null,null,null,null,null,null,null,null,null,null,null,null,"Results for output"]
[null,"active rows from data entry",null,null,{"$f":"COUNT('Data entry form'!H60:H659)","v":0},null,null,null,null,null,null,null,null,null,null,null,null,null,null,null,null,null,null,null,null,null,null,null,null,null,null,null,null,null,null,null,null,null,null,null,null,null,null,null,null,null,null,null,null,null,null,null,null,null,null,null,null,null,null,null,null,null,null,null,null,null,null,null,null,null,null,null,null,null,null,null,null,null,null,null,null,null,null,null,null,null,null,null,null,null,null,null,null,null,null,null,null,null,null,"additional costs per unit","remaining wage gap (av. per worker)","% remaining wage gap","remaining employees below LW %"]
[null,"Benchmark used (LW or user defined)",null,null,{"$f":"IF('Data entry form'!H28>0,'Data entry form'!H28,BenchmarkValue)","v":"Año no disponible"},{"$f":"'Data entry form'!I17","v":0},null,null,null,null,null,null,null,null,null,null,null,null,null,null,null,null,null,null,null,null,null,null,null,null,null,null,null,null,null,null,null,null,null,null,null,null,null,null,null,null,null,null,null,null,null,null,null,null,null,null,null,null,null,null,null,null,null,null,null,null,null,null,null,null,null,null,null,null,null,null,null,null,null,null,null,null,null,null,null,null,null,null,null,null,null,null,null,null,null,null,null,null,"S1",{"$f":"AI16","v":{"$error":"#DIV/0!"}},{"$f":"IF(SUM(AG16:AG666)=0,\"0\",SUM(AF16:AF666)/SUM(AG16:AG666))","v":"0"},{"$f":"(CW4/$E$4)*100","v":{"$error":"#VALUE!"}},{"$f":"(SUM(AG16:AG666)/$I$9)*100","v":{"$error":"#DIV/0!"}}]
[null,null,null,null,null,null,null,null,null,null,null,null,null,null,null,null,null,null,null,null,null,null,null,null,null,null,null,null,null,null,null,null,null,null,null,null,null,null,null,null,null,null,null,null,null,null,null,null,null,null,null,null,null,null,null,null,null,null,null,null,null,null,null,null,null,null,null,"Dropdown S5",null,null,null,null,null,null,null,"Dropdown S6",null,null,null,null,null,null,null,null,null,null,null,null,null,null,null,null,null,null,null,null,null,null,"S2",{"$f":"AR16","v":{"$error":"#DIV/0!"}},{"$f":"IF(SUM(AP16:AP666)=0,\"0\",SUM(AO16:AO666)/SUM(AP16:AP666))","v":"0"},{"$f":"(CW5/$E$4)*100","v":{"$error":"#VALUE!"}},{"$f":"(SUM(AP16:AP666)/$I$9)*100","v":{"$error":"#DIV/0!"}}]
[null,"Area of production",null,null,{"$f":"'Data entry form'!E37","v":0},"ha",null,null,null,null,null,"Social Security contributions employee ",null,null,{"$f":"'Data entry form'!F48","v":0},null,null,null,null,null,null,null,null,null,null,null,null,null,null,null,null,null,null,null,null,null,null,null,null,"Dropdown S2",null,null,null,null,null,null,"Dropdown S3",null,null,null,null,null,null,null,null,null,null,null,null,null,null,null,null,null,null,null,null,"Specification list",null,"Referenz",{"$f":"IF('Scenario specification'!H75=\"salario real total\",1,IF('Scenario specification'!H75=\"diferencia media del salario digno\",2,VALUE(0)))","v":0},null,null,null,null,"Specification list",null,null,null,null,"Referenz",{"$f":"IF('Scenario specification'!H91=\"salario actual total\",1,IF('Scenario specification'!H91=\"diferencia media del salario digno\",2,\"0\"))","v":"0"},null,null,null,null,null,null,null,null,null,null,null,null,null,null,null,null,"S3",{"$f":"BB16","v":{"$error":"#DIV/0!"}},{"$f":"IF(SUM(AZ16:AZ666)=0,\"0\",SUM(AY16:AY666)/SUM(AZ16:AZ666))","v":"0"},{"$f":"(CW6/$E$4)*100","v":{"$error":"#VALUE!"}},{"$f":"(SUM(AZ16:AZ666)/$I$9)*100","v":{"$error":"#DIV/0!"}}]
[null,"Yield/Production",null,null,{"$f":"'Data entry form'!E41","v":0},{"$f":"'Data entry form'!E40","v":0},null,null,null,null,null,"Social Security contributions employer",null,null,{"$f":"'Data entry form'!F49","v":0},null,null,null,null,null,null,null,null,null,null,null,null,null,null,null,null,null,null,null,null,null,null,null,null,"Specification list",null,"Referenz",{"$f":"IF('Scenario specification'!H29=\"todos los trabajadores\",1,IF('Scenario specification'!H29=\"todos los trabajadores por debajo del salario digno\",2,\"0\"))","v":"0"},null,null,null,"Specification list",null,"Referenz",{"$f":"IF('Scenario specification'!H43=\"todos los trabajadores\",1,IF('Scenario specification'!H43=\"todos los trabajadores por debajo del salario digno\",2,\"0\"))","v":"0"},null,"%-increase of av. wage gap targeted",null,{"$f":"'Scenario specification'!I45","v":0},"%",null,null,null,null,null,null,null,null,null,null,null,null,"seleccione por favor",null,null,0,null,null,null,null,"seleccione por favor",null,null,null,null,null,0,null,null,null,null,null,null,null,null,null,null,null,null,null,null,null,null,"S4",{"$f":"BK16","v":{"$error":"#DIV/0!"}},{"$f":"IF(SUM(BI16:BI666)=0,\"0\",SUM(BH16:BH666)/SUM(BI16:BI666))","v":"0"},{"$f":"(CW7/$E$4)*100","v":{"$error":"#VALUE!"}},{"$f":"(SUM(BI16:BI666)/$I$9)*100","v":{"$error":"#DIV/0!"}}]
[null,null,null,null,null,null,null,null,null,null,null,null,null,null,null,null,null,null,null,null,null,null,null,null,null,null,null,null,null,null,null,null,null,null,null,null,null,null,null,"seleccione por favor",null,null,0,null,null,null,"seleccione por favor",null,null,0,null,null,null,null,null,null,null,null,null,null,null,null,null,null,null,null,null,"salario real total",null,null,1,null,null,null,null,"salario actual total",null,null,null,null,null,1,null,null,null,null,null,null,null,null,null,null,null,null,null,null,null,null,"S5",{"$f":"BU16","v":{"$error":"#DIV/0!"}},{"$f":"IF(SUM(BS16:BS666)=0,\"0\",SUM(BR16:BR666)/SUM(BS16:BS666))","v":"0"},{"$error":"#VALUE!"},{"$f":"(SUM(BS16:BS666)/$I$9)*100","v":{"$error":"#DIV/0!"}}]
[null,"# workers below LW",null,null,{"$f":"SUM(P16:P666)","v":0},null,"# total workers",null,{"$f":"SUM(D16:D666)","v":0},null,null,"share of workers below LW",null,null,{"$f":"E9/I9*100","v":{"$error":"#DIV/0!"}},"%",null,null,null,null,null,null,null,null,null,null,null,null,null,null,null,null,null,null,null,null,null,null,null,"todos los trabajadores",null,null,1,null,null,null,"todos los trabajadores",null,null,1,null,"(1-100) allowed",null,null,null,null,null,null,null,null,null,null,null,null,null,null,null,"diferencia media del salario digno",null,null,2,null,null,null,null,"diferencia media del salario digno",null,null,null,null,null,2,null,null,null,null,null,null,null,null,null,null,null,null,null,null,null,null,"S6",{"$f":"CH16","v":{"$error":"#DIV/0!"}},{"$f":"IF(SUM(CF16:CF666)=0,\"0\",SUM(CE16:CE666)/SUM(CF16:CF666))","v":"0"},{"$f":"(CW9/$E$4)*100","v":{"$error":"#VALUE!"}},{"$f":"(SUM(CF16:CF666)/I9)*100","v":{"$error":"#DIV/0!"}}]
[null,"avg wage gap for workers below LW",null,null,{"$f":"(E11/E4)*100","v":{"$error":"#DIV/0!"}},"%","average wage gap all workers",null,{"$f":"(I11/E4)*100","v":{"$error":"#DIV/0!"}},"%",null,null,null,null,null,null,null,null,null,null,null,null,null,null,null,null,null,null,null,null,null,null,null,null,null,null,null,null,null,"todos los trabajadores por debajo del salario digno",null,null,2,null,null,null,"todos los trabajadores por debajo del salario digno",null,null,2,null,null,null,null,null,null,"Wage increase (percentage)",null,null,null,{"$f":"'Scenario specification'!I57","v":0},"%",null,null,null,null,null,null,null,null,null,null,null,null,null,null,null,null,null,null,null,null,null,null,null,null,null,null,null,null,null,null,null,null,null,null,null,null,"S7",{"$f":"CR16","v":{"$error":"#DIV/0!"}},{"$f":"IF(SUM(CP16:CP666)=0,\"0\",SUM(CO16:CO666)/SUM(CP16:CP666))","v":"0"},{"$error":"#VALUE!"},{"$f":"(SUM(CP16:CP666)/$I$9)*100","v":{"$error":"#DIV/0!"}}]
[null,null,null,null,{"$f":"SUM(N16:N666)/E9","v":{"$error":"#DIV/0!"}},{"$f":"'Data entry form'!I17","v":0},null,null,{"$f":"SUM(K16:K666)/I9","v":{"$error":"#DIV/0!"}},"USD",null,null,null,null,null,null,null,null,null,null,null,null,null,null,null,null,null,null,null,null,null,null,null,"Additional costs per [unit] of output",null,null,null,null,null,null,null,null,null,null,null,null,null,null,null,null,null,null,null,null,null,null,"Minimum wage increase (for low wages)",null,null,null,{"$f":"'Scenario specification'!I59","v":0},{"$f":"'Scenario specification'!J59","v":""},null,null,null,null,null,"Wage increase (percentage)",null,{"$f":"'Scenario specification'!I77","v":0},{"$f":"BR11/100","v":0},null,null,null,null,"Wage increase (percentage) is taken directly from scenario specification"]
[null,null,null,null,null,null,null,null,null,null,null,null,null,null,null,null,null,null,null,null,null,null,null,null,null,null,null,null,null,null,null,null,null,null,null,null,null,"Scenario 2",null,null,null,null,null,null,null,null,"Scenario 3"]
[null,null,null,null,null,null,null,null,null,null,null,null,null,null,null,null,null,null,null,null,null,null,null,null,null,null,null,null,null,null,null,null,null,"Scenario 1",null,null,null,"absolute wage increase equal to the lowest category wage gap",null,null,null,null,null,null,null,null,"absolute wage increase equal to X% of the average LW gap",null,null,null,null,null,null,null,null,null,"Scenario 4",null,null,null,null,null,null,null,null,null,null,"Scenario 5",null,null,null,null,null,null,null,"Scenario 6",null,null,null,null,null,null,null,null,null,null,null,null,"Scenario 7"]
[null,"Table 4: Detailed Results",null,null,null,null,null,null,null,null,"Calculation",null,null,null,null,null,null,null,null,"lowest worker",null,null,null,"average worker",null,null,null,null,null,null,null,null,null,"all below LW are increased to LW",null,null,null,"optional all or all below LW",null,null,null,null,null,null,null,null,"optional all or all below LW",null,null,null,null,null,null,null,null,null,"relative wge increas",null,null,null,null,null,null,null,null,null,null,"Closing of the living wage gap and a specified percentage increase of the wage or the average wage gap for all workers above living wage",null,null,null,null,null,null,null,"Closing of the living wage gap per job category by a specified percentage increase of the respective wage or the average wage gap",null,null,null,null,null,null,null,null,null,null,null,null,"Free to change",null,null,null,null,null,null,null,null,null,"Results for figures (total take home remuneration, individual)"]
[null,"Job Category","Gender","Number of Workers","Monthly in-kind benefits: (capped at 30%)","Bonuses adjusted per month","Monthly wage","Total take-home remuneration","Living Wage Gap",null,"Costs per category","costs per category below LW","value of living wage gap for individual","Value of living wage gap (sum by category)","Value of living wage gap (absolute for individual)","number of workers below LW",null,"Total value of living wage gap (LW differential)",null,"lowest wage category (individual level)","wage gap for lowest category (individual level)","wage step, absolute (by individual)","wage step, relative (factor)","wage of average worker (individual level)","wage of agerage worker below LW (individual level)","average wage gap (all workers)","average wage gap (below LW)",null,"S1 - Total take-home remuneration","absolute wage increase per job category","additional costs per category incl. social security","remaining gap (by group)","remaining number of workers below LW","total costs to close LW gap (scenario 1)","additional labor costs per [unit]","[unit]",null,"S2 - total take-home remuneration","absolute wage increase per job category","additional costs per category incl. social security","remaining gap (by group)","remaining number of workers below LW","total costs to close LW gap (scenario 2)","additional labor costs per [unit]","[unit]",null,"S3 - total take-home remuneration of average worker below LW","absolute wage increase ","total take home remuneration (new)","additional costs per category incl. social security","remaining gap (by group)","remaining number of workers below LW","total costs to close LW gap (scenario 6)","additional labor costs per [unit]","[unit]",null,"S4 - total take-home remuneration (new)","absolute wage increase per job category","additional costs per category incl. social security","remaining gap (total by category)","remaining number of workers below LW","total costs to close LW gap (scenario 4)","additional labor costs per [unit]","[unit]",null,"S5 - total take-home remuneration of average worker below LW","absolute wage increase per job category","total take-home remuneration (new)","additional costs per category incl. social security","remaining gap (by group)","remaining number of workers below LW","total costs to close LW gap (scenario 5)","additional labor costs per [unit]","[unit]",null,"S6 - total take-home remuneration of average worker below LW","av. wage gap of worker below LW","total take home remuneration (old)","specified percentage increase","absolute wage increase per job category","total take home remuneration (new)","additional costs per category incl. social security","remaining gap (by group)","remaining number of workers below LW","total costs to close LW gap (scenario 6)","additional labor costs per [unit]","[unit]",null,"S7 - total take-home remuneration of average worker","70% wage gap","total take home remuneration (new)","additional costs per category","remaining gap (by group)","remaining number of workers below LW","total costs to close LW gap (scenario 7)","additional labor costs per [unit]","[unit]",null,"Cargo","Género","Remuneración\nneta total","Escenario 1","Escenario 2","Escenario 3","Escenario 4","Escenario 5","Escenario 6","Escenario 7","Legende"]
[null,null,null,null,null,null,null,"","",null,{"$f":"IF(D16=\"\",\"\",H16*D16)","v":""},{"$f":"IF(D16=\"\",\"\",IF(H16>=$E$4,0,K16))","v":""},{"$f":"IF(D16=\"\",\"\",IF(H16>=$E$4,0,$E$4-H16))","v":""},{"$f":"IF(D16=\"\",\"\",M16*D16)","v":""},{"$f":"IF(D16=\"\",\"\",$E$4-H16)","v":""},{"$f":"IF(D16=\"\",\"\",IF(N16=0,VALUE(0),D16))","v":""},null,{"$f":"SUM(N16:N666)","v":0},null,{"$f":"MIN(IF(H16:H666>0,H16:H666))","v":0},{"$f":"E4-T16","v":{"$error":"#VALUE!"}},{"$f":"IF(D16=\"\",\"\",IF(H16-$T$16>0,H16-$T$16,0))","v":""},{"$f":"IF(D16=\"\",\"\",H16/$T$16)","v":""},{"$f":"SUM(K16:K666)/I9","v":{"$error":"#DIV/0!"}},{"$f":"SUM(L16:L666)/E9","v":{"$error":"#DIV/0!"}},{"$f":"$E$4-X16","v":{"$error":"#VALUE!"}},{"$f":"$E$4-Y16","v":{"$error":"#VALUE!"}},null,{"$f":"IF(D16=\"\",\"\",IF(H16>=$E$4,H16,$E$4))","v":""},{"$f":"IF(D16=\"\",\"\",AC16-H16)","v":""},{"$f":"IF(D16=\"\",\"\",D16*(AD16*(1+($O$6+$O$7))))","v":""},{"$f":"IF(D16=\"\",\"\",IF(AC16-$E$4>=0,VALUE(0),($E$4-AC16)*D16))","v":""},{"$f":"IF(D16=\"\",\"\",IF(AC16-$E$4>=0,VALUE(0),D16))","v":""},{"$f":"SUM(AE16:AE666)*12","v":0},{"$f":"AH16/$E$7","v":{"$error":"#DIV/0!"}},{"$f":"$F$7","v":0},null,{"$f":"IF(D16=\"\",\"\",IF($AQ$7=0,\"especificar el escenario\",IF($AQ$7=2,IF(H16>=$E$4,H16,H16+$U$16),IF($AQ$7=1,H16+$U$16,\"\"))))","v":""},{"$f":"IF(D16=\"\",\"\",AL16-H16)","v":""},{"$f":"IF(D16=\"\",\"\",D16*(AM16*(1+($O$6+$O$7))))","v":""},{"$f":"IF(D16=\"\",\"\",IF(AL16-$E$4>=0,VALUE(0),($E$4-AL16)*D16))","v":""},{"$f":"IF(D16=\"\",\"\",IF(AL16-$E$4>=0,VALUE(0),D16))","v":""},{"$f":"SUM(AN16:AN666)*12","v":0},{"$f":"AQ16/$E$7","v":{"$error":"#DIV/0!"}},{"$f":"$F$7","v":0},null,{"$f":"Y16","v":{"$error":"#DIV/0!"}},{"$f":"(E4-Y16)*(BB7/100)","v":{"$error":"#VALUE!"}},{"$f":"IF(D16=\"\",\"\",IF($AX$7=0,\"especificar el escenario\",IF($AX$7=2,IF(H16>=$E$4,H16,H16+$AV$16),IF($AX$7=1,$AV$16+H16,\"especificar el escenario\"))))","v":""},{"$f":"IF(D16=\"\",\"\",D16*($AV$16*(1+($O$6+$O$7))))","v":""},{"$f":"IF(D16=\"\",\"\",IF(AW16-$E$4>=0,VALUE(0),($E$4-AW16)*D16))","v":""},{"$f":"IF(D16=\"\",\"\",IF(AW16-$E$4>=0,VALUE(0),D16))","v":""},{"$f":"SUM(AX16:AX666)*12","v":0},{"$f":"BA16/$E$7","v":{"$error":"#DIV/0!"}},{"$f":"$F$7","v":0},null,{"$f":"IF(D16=\"\",\"\",IF((H16*(1+$BI$10/100))>(H16+$BI$11),(H16*(1+$BI$10/100)),(H16+$BI$11)))","v":""},{"$f":"IF(D16=\"\",\"\",BE16-H16)","v":""},{"$f":"IF(D16=\"\",\"\",D16*(BF16*(1+(($O$6+$O$7)))))","v":""},{"$f":"IF(D16=\"\",\"\",IF(BE16-$E$4>=0,VALUE(0),($E$4-BE16)*D16))","v":""},{"$f":"IF(D16=\"\",\"\",IF(BE16-$E$4>=0,VALUE(0),D16))","v":""},{"$f":"SUM(BG16:BG666)*12","v":0},{"$f":"BJ16/$E$7","v":{"$error":"#DIV/0!"}},{"$f":"$F$7","v":0},null,{"$f":"Y16","v":{"$error":"#DIV/0!"}},{"$f":"IF(D16=\"\",\"\",BP16-H16)","v":""},{"$f":"IF(D16=\"\",\"\",IF(H16<$E$4,$E$4,IF($BS$6=0,\"especificar el escenario\",IF($BS$6=1,H16*(1+$BS$11),IF($BS$6=2,H16+($AA$16*$BS$11))))))","v":""},{"$f":"IF(D16=\"\",\"\",D16*((BP16-H16)*(1+($O$6+$O$7))))","v":""},{"$f":"IF(D16=\"\",\"\",IF(BP16-$E$4>=0,VALUE(0),($E$4-BP16)*D16))","v":""},{"$f":"IF(D16=\"\",\"\",IF(BP16-$E$4>=0,VALUE(0),D16))","v":""},{"$f":"SUM(BQ16:BQ666)*12","v":0},{"$f":"BT16/$E$7","v":{"$error":"#DIV/0!"}},{"$f":"$F$7","v":0},null,{"$f":"Y16","v":{"$error":"#DIV/0!"}},{"$f":"E4-BX16","v":{"$error":"#VALUE!"}},{"$f":"H16","v":""},{"$f":"'Scenario specification'!H95/100","v":0},{"$f":"IF(D16=\"\",\"\",CC16-BZ16)","v":""},{"$f":"IF(D16=\"\",\"\",IF($CD$6=0,\"specify scenario\",IF($CD$6=2,(H16+($BY$16*CA16)),IF($CD$6=1,(H16*(1+CA16))))))","v":""},{"$f":"IF(D16=\"\",\"\",D16*(CB16*(1+($O$6+$O$7))))","v":""},{"$f":"IF(D16=\"\",\"\",IF(CC16-$E$4>=0,VALUE(0),($E$4-CC16)*D16))","v":""},{"$f":"IF(D16=\"\",\"\",IF(CC16-$E$4>=0,VALUE(0),D16))","v":""},{"$f":"SUM(CD16:CD666)*12","v":0},{"$f":"CG16/$E$7","v":{"$error":"#DIV/0!"}},{"$f":"$F$7","v":0},null,{"$f":"BX16","v":{"$error":"#DIV/0!"}},{"$f":"(E4-BX16)*0.7","v":{"$error":"#VALUE!"}},{"$f":"IF(D16=\"\",\"\",$CL$16+H16)","v":""},{"$f":"IF(D16=\"\",\"\",(CM16-H16)*D16*(1+(($O$6+$O$7)/100)))","v":""},{"$f":"IF(D16=\"\",\"\",IF(CM16-$E$4>=0,VALUE(0),($E$4-CM16)*D16))","v":""},{"$f":"IF(D16=\"\",\"\",IF(CM16-$E$4>=0,VALUE(0),D16))","v":""},{"$f":"SUM(CN16:CN666)*12","v":0},{"$f":"CQ16/$E$7","v":{"$error":"#DIV/0!"}},{"$f":"$F$7","v":0},null,{"$f":"IF(D16=\"\",\"\",B16)","v":""},{"$f":"IF(D16=\"\",\"\",C16)","v":""},{"$f":"IF(D16=\"\",\"\",H16)","v":""},{"$f":"IF(D16=\"\",\"\",AC16)","v":""},{"$f":"IF(D16=\"\",\"\",AL16)","v":""},{"$f":"IF(D16=\"\",\"\",AW16)","v":""},{"$f":"IF(D16=\"\",\"\",BE16)","v":""},{"$f":"IF(D16=\"\",\"\",BP16)","v":""},{"$f":"IF(D16=\"\",\"\",CC16)","v":""},{"$f":"IF(D16=\"\",\"\",CM16)","v":""},{"$f":"IF(D16=\"\",\"\",CU16&\" \"&CV16)","v":""}]
[null,null,null,null,null,null,null,null,null,null,{"$f":"IF(D17=\"\",\"\",H17*D17)","v":""},{"$f":"IF(D17=\"\",\"\",IF(H17>=$E$4,0,K17))","v":""},{"$f":"IF(D17=\"\",\"\",IF(H17>=$E$4,0,$E$4-H17))","v":""},{"$f":"IF(D17=\"\",\"\",M17*D17)","v":""},{"$f":"IF(D17=\"\",\"\",$E$4-H17)","v":""},{"$f":"IF(D17=\"\",\"\",IF(N17=0,VALUE(0),D17))","v":""},null,null,null,null,null,{"$f":"IF(D17=\"\",\"\",IF(H17-$T$16>0,H17-$T$16,0))","v":""},{"$f":"IF(D17=\"\",\"\",H17/$T$16)","v":""},null,null,null,null,null,{"$f":"IF(D17=\"\",\"\",IF(H17>=$E$4,H17,$E$4))","v":""},{"$f":"IF(D17=\"\",\"\",AC17-H17)","v":""},{"$f":"IF(D17=\"\",\"\",D17*(AD17*(1+($O$6+$O$7))))","v":""},{"$f":"IF(D17=\"\",\"\",IF(AC17-$E$4>=0,VALUE(0),($E$4-AC17)*D17))","v":""},{"$f":"IF(D17=\"\",\"\",IF(AC17-$E$4>=0,VALUE(0),D17))","v":""},null,null,null,null,{"$f":"IF(D17=\"\",\"\",IF($AQ$7=0,\"especificar el escenario\",IF($AQ$7=2,IF(H17>=$E$4,H17,H17+$U$16),IF($AQ$7=1,H17+$U$16,\"\"))))","v":""},{"$f":"IF(D17=\"\",\"\",AL17-H17)","v":""},{"$f":"IF(D17=\"\",\"\",D17*(AM17*(1+($O$6+$O$7))))","v":""},{"$f":"IF(D17=\"\",\"\",IF(AL17-$E$4>=0,VALUE(0),($E$4-AL17)*D17))","v":""},{"$f":"IF(D17=\"\",\"\",IF(AL17-$E$4>=0,VALUE(0),D17))","v":""},null,null,null,null,null,null,{"$f":"IF(D17=\"\",\"\",IF($AX$7=0,\"especificar el escenario\",IF($AX$7=2,IF(H17>=$E$4,H17,H17+$AV$16),IF($AX$7=1,$AV$16+H17,\"especificar el escenario\"))))","v":""},{"$f":"IF(D17=\"\",\"\",D17*($AV$16*(1+($O$6+$O$7))))","v":""},{"$f":"IF(D17=\"\",\"\",IF(AW17-$E$4>=0,VALUE(0),($E$4-AW17)*D17))","v":""},{"$f":"IF(D17=\"\",\"\",IF(AW17-$E$4>=0,VALUE(0),D17))","v":""},null,null,null,null,{"$f":"IF(D17=\"\",\"\",IF((H17*(1+$BI$10/100))>(H17+$BI$11),(H17*(1+$BI$10/100)),(H17+$BI$11)))","v":""},{"$f":"IF(D17=\"\",\"\",BE17-H17)","v":""},{"$f":"IF(D17=\"\",\"\",D17*(BF17*(1+(($O$6+$O$7)))))","v":""},{"$f":"IF(D17=\"\",\"\",IF(BE17-$E$4>=0,VALUE(0),($E$4-BE17)*D17))","v":""},{"$f":"IF(D17=\"\",\"\",IF(BE17-$E$4>=0,VALUE(0),D17))","v":""},null,null,null,null,null,"",{"$f":"IF(D17=\"\",\"\",IF(H17<$E$4,$E$4,IF($BS$6=0,\"especificar el escenario\",IF($BS$6=1,H17*(1+$BS$11),IF($BS$6=2,H17+($AA$16*$BS$11))))))","v":""},"","","",null,null,null,null,null,null,{"$f":"H17","v":0},{"$f":"'Scenario specification'!H96/100","v":0},{"$f":"IF(D17=\"\",\"\",CC17-BZ17)","v":""},"",{"$f":"IF(D17=\"\",\"\",D17*(CB17*(1+($O$6+$O$7))))","v":""},"","",null,null,null,null,null,null,"","","","",null,null,null,null,"","","","","","","","","","",""]
[null,null,null,null,null,null,null,null,null,null,{"$f":"IF(D18=\"\",\"\",H18*D18)","v":""},{"$f":"IF(D18=\"\",\"\",IF(H18>=$E$4,0,K18))","v":""},{"$f":"IF(D18=\"\",\"\",IF(H18>=$E$4,0,$E$4-H18))","v":""},{"$f":"IF(D18=\"\",\"\",M18*D18)","v":""},"","",null,null,null,null,null,"","",null,null,null,null,null,"","","","","",null,null,null,null,{"$f":"IF(D18=\"\",\"\",IF($AQ$7=0,\"especificar el escenario\",IF($AQ$7=2,IF(H18>=$E$4,H18,H18+$U$16),IF($AQ$7=1,H18+$U$16,\"\"))))","v":""},"","","","",null,null,null,null,null,null,{"$f":"IF(D18=\"\",\"\",IF($AX$7=0,\"especificar el escenario\",IF($AX$7=2,IF(H18>=$E$4,H18,H18+$AV$16),IF($AX$7=1,$AV$16+H18,\"especificar el escenario\"))))","v":""},"","","",null,null,null,null,"","","","","",null,null,null,null,null,"","","","","",null,null,null,null,null,null,0,{"$f":"'Scenario specification'!H97/100","v":0},"","","","","",null,null,null,null,null,null,"","","","",null,null,null,null,"","","","","","","","","","",""]
[null,null,null,null,null,null,null,null,null,null,"","","","","","",null,null,null,null,null,"","",null,null,null,"control",null,"","","","","",null,null,null,null,{"$f":"IF(D19=\"\",\"\",IF($AQ$7=0,\"especificar el escenario\",IF($AQ$7=2,IF(H19>=$E$4,H19,H19+$U$16),IF($AQ$7=1,H19+$U$16,\"\"))))","v":""},"","","","",null,null,null,null,null,null,{"$f":"IF(D19=\"\",\"\",IF($AX$7=0,\"especificar el escenario\",IF($AX$7=2,IF(H19>=$E$4,H19,H19+$AV$16),IF($AX$7=1,$AV$16+H19,\"especificar el escenario\"))))","v":""},"","","",null,null,null,null,"","","","","",null,null,null,null,null,"","","","","",null,null,null,null,null,null,0,{"$f":"'Scenario specification'!H98/100","v":0},"","","","","",null,null,null,null,null,null,"","","","",null,null,null,null,"","","","","","","","","","",""]
[null,null,null,null,null,null,null,null,null,null,"","","","","","",null,null,null,null,null,"","",null,null,null,{"$f":"SUM(AE16:AE666)/E9","v":{"$error":"#DIV/0!"}},null,"","","","","",null,null,null,null,{"$f":"IF(D20=\"\",\"\",IF($AQ$7=0,\"especificar el escenario\",IF($AQ$7=2,IF(H20>=$E$4,H20,H20+$U$16),IF($AQ$7=1,H20+$U$16,\"\"))))","v":""},"","","","",null,null,null,null,null,null,"","","","",null,null,null,null,"","","","","",null,null,null,null,null,"","","","","",null,null,null,null,null,null,0,{"$f":"'Scenario specification'!H99/100","v":0},"","","","","",null,null,null,null,null,null,"","","","",null,null,null,null,"","","","","","","","","","",""]
[null,null,null,null,null,null,null,null,null,null,"","","","","","",null,null,null,null,null,"","",null,null,null,null,null,"","","","","",null,null,null,null,"","","","","",null,null,null,null,null,null,"","","","",null,null,null,null,"","","","","",null,null,null,null,null,"","","","","",null,null,null,null,null,null,0,{"$f":"'Scenario specification'!H100/100","v":0},"","","","","",null,null,null,null,null,null,"","","","",null,null,null,null,"","","","","","","","","","",""]
[null,null,null,null,null,null,null,null,null,null,"","","","","","",null,null,null,null,null,"","",null,null,null,null,null,"","","","","",null,null,null,null,"","","","","",null,null,null,null,null,null,"","","","",null,null,null,null,"","","","","",null,null,null,null,null,"","","","","",null,null,null,null,null,null,0,{"$f":"'Scenario specification'!H101/100","v":0},"","","","","",null,null,null,null,null,null,"","","","",null,null,null,null,"","","","","","","","","","",""]
[null,null,null,null,null,null,null,null,null,null,"","","","","","",null,null,null,null,null,"","",null,null,null,null,null,"","","","","",null,null,null,null,"","","","","",null,null,null,null,null,null,"","","","",null,null,null,null,"","","","","",null,null,null,null,null,"","","","","",null,null,null,null,null,null,0,{"$f":"'Scenario specification'!H102/100","v":0},"","","","","",null,null,null,null,null,null,"","","","",null,null,null,null,"","","","","","","","","","",""]
[null,null,null,null,null,null,null,null,null,null,{"$f":"IF(D24=\"\",\"\",H24*D24)","v":""},{"$f":"IF(D24=\"\",\"\",IF(H24>=$E$4,0,K24))","v":""},{"$f":"IF(D24=\"\",\"\",IF(H24>=$E$4,0,$E$4-H24))","v":""},{"$f":"IF(D24=\"\",\"\",M24*D24)","v":""},"","",null,null,null,null,null,"","",null,null,null,null,null,"","","","","",null,null,null,null,"","","","","",null,null,null,null,null,null,"","","","",null,null,null,null,"","","","","",null,null,null,null,null,"","","","","",null,null,null,null,null,null,0,{"$f":"'Scenario specification'!H103/100","v":0},"","","","","",null,null,null,null,null,null,"","","","",null,null,null,null,"","","","","","","","","","",""]
[null,null,null,null,null,null,null,null,null,null,"","","","","","",null,null,null,null,null,"","",null,null,null,null,null,"","","","","",null,null,null,null,"","","","","",null,null,null,null,null,null,"","","","",null,null,null,null,"","","","","",null,null,null,null,null,"","","","","",null,null,null,null,null,null,0,{"$f":"'Scenario specification'!H104/100","v":0},"","","","","",null,null,null,null,null,null,"","","","",null,null,null,null,"","","","","","","","","","",""]
[null,null,null,null,null,null,null,null,null,null,"","","","","","",null,null,null,null,null,"","",null,null,null,null,null,"","","","","",null,null,null,null,"","","","","",null,null,null,null,null,null,"","","","",null,null,null,null,"","","","","",null,null,null,null,null,"","","","","",null,null,null,null,null,null,0,{"$f":"'Scenario specification'!H105/100","v":0},"","","","","",null,null,null,null,null,null,"","","","",null,null,null,null,"","","","","","","","","","",""]
[null,null,null,null,null,null,null,null,null,null,"","","","","","",null,null,null,null,null,"","",null,null,null,null,null,"","","","","",null,null,null,null,"","","","","",null,null,null,null,null,null,"","","","",null,null,null,null,"","","","","",null,null,null,null,null,"","","","","",null,null,null,null,null,null,0,{"$f":"'Scenario specification'!H106/100","v":0},"","","","","",null,null,null,null,null,null,"","","","",null,null,null,null,"","","","","","","","","","",""]
[null,null,null,null,null,null,null,null,null,null,"","","","","","",null,null,null,null,null,"","",null,null,null,null,null,"","","","","",null,null,null,null,"","","","","",null,null,null,null,null,null,"","","","",null,null,null,null,"","","","","",null,null,null,null,null,"","","","","",null,null,null,null,null,null,0,{"$f":"'Scenario specification'!H107/100","v":0},"","","","","",null,null,null,null,null,null,"","","","",null,null,null,null,"","","","","","","","","","",""]
[null,null,null,null,null,null,null,null,null,null,"","","","","","",null,null,null,null,null,"","",null,null,null,null,null,"","","","","",null,null,null,null,"","","","","",null,null,null,null,null,null,"","","","",null,null,null,null,"","","","","",null,null,null,null,null,"","","","","",null,null,null,null,null,null,0,{"$f":"'Scenario specification'!H108/100","v":0},"","","","","",null,null,null,null,null,null,"","","","",null,null,null,null,"","","","","","","","","","",""]
[null,null,null,null,null,null,null,null,null,null,"","","","","","",null,null,null,null,null,"","",null,null,null,null,null,"","","","","",null,null,null,null,"","","","","",null,null,null,null,null,null,"","","","",null,null,null,null,"","","","","",null,null,null,null,null,"","","","","",null,null,null,null,null,null,0,{"$f":"'Scenario specification'!H109/100","v":0},"","","","","",null,null,null,null,null,null,"","","","",null,null,null,null,"","","","","","","","","","",""]
[null,null,null,null,null,null,null,null,null,null,"","","","","","",null,null,null,null,null,"","",null,null,null,null,null,"","","","","",null,null,null,null,"","","","","",null,null,null,null,null,null,"","","","",null,null,null,null,"","","","","",null,null,null,null,null,"","","","","",null,null,null,null,null,null,0,{"$f":"'Scenario specification'!H110/100","v":0},"","","","","",null,null,null,null,null,null,"","","","",null,null,null,null,"","","","","","","","","","",""]
[null,null,null,null,null,null,null,null,null,null,"","","","","","",null,null,null,null,null,"","",null,null,null,null,null,"","","","","",null,null,null,null,"","","","","",null,null,null,null,null,null,"","","","",null,null,null,null,"","","","","",null,null,null,null,null,"","","","","",null,null,null,null,null,null,0,{"$f":"'Scenario specification'!H111/100","v":0},"","","","","",null,null,null,null,null,null,"","","","",null,null,null,null,"","","","","","","","","","",""]
[null,null,null,null,null,null,null,null,null,null,"","","","","","",null,null,null,null,null,"","",null,null,null,null,null,"","","","","",null,null,null,null,"","","","","",null,null,null,null,null,null,"","","","",null,null,null,null,"","","","","",null,null,null,null,null,"","","","","",null,null,null,null,null,null,0,{"$f":"'Scenario specification'!H112/100","v":0},"","","","","",null,null,null,null,null,null,"","","","",null,null,null,null,"","","","","","","","","","",""]
[null,null,null,null,null,null,null,null,null,null,"","","","","","",null,null,null,null,null,"","",null,null,null,null,null,"","","","","",null,null,null,null,"","","","","",null,null,null,null,null,null,"","","","",null,null,null,null,"","","","","",null,null,null,null,null,"","","","","",null,null,null,null,null,null,0,{"$f":"'Scenario specification'!H113/100","v":0},"","","","","",null,null,null,null,null,null,"","","","",null,null,null,null,"","","","","","","","","","",""]
[null,null,null,null,null,null,null,null,null,null,"","","","","","",null,null,null,null,null,"","",null,null,null,null,null,"","","","","",null,null,null,null,"","","","","",null,null,null,null,null,null,"","","","",null,null,null,null,"","","","","",null,null,null,null,null,"","","","","",null,null,null,null,null,null,0,{"$f":"'Scenario specification'!H114/100","v":0},"","","","","",null,null,null,null,null,null,"","","","",null,null,null,null,"","","","","","","","","","",""]
[null,null,null,null,null,null,null,null,null,null,"","","","","","",null,null,null,null,null,"","",null,null,null,null,null,"","","","","",null,null,null,null,"","","","","",null,null,null,null,null,null,"","","","",null,null,null,null,"","","","","",null,null,null,null,null,"","","","","",null,null,null,null,null,null,0,{"$f":"'Scenario specification'!H115/100","v":0},"","","","","",null,null,null,null,null,null,"","","","",null,null,null,null,"","","","","","","","","","",""]
[null,null,null,null,null,null,null,null,null,null,"","","","","","",null,null,null,null,null,"","",null,null,null,null,null,"","","","","",null,null,null,null,"","","","","",null,null,null,null,null,null,"","","","",null,null,null,null,"","","","","",null,null,null,null,null,"","","","","",null,null,null,null,null,null,0,{"$f":"'Scenario specification'!H116/100","v":0},"","","","","",null,null,null,null,null,null,"","","","",null,null,null,null,"","","","","","","","","","",""]
[null,null,null,null,null,null,null,null,null,null,"","","","","","",null,null,null,null,null,"","",null,null,null,null,null,"","","","","",null,null,null,null,"","","","","",null,null,null,null,null,null,"","","","",null,null,null,null,"","","","","",null,null,null,null,null,"","","","","",null,null,null,null,null,null,0,{"$f":"'Scenario specification'!H117/100","v":0},"","","","","",null,null,null,null,null,null,"","","","",null,null,null,null,"","","","","","","","","","",""]
[null,null,null,null,null,null,null,null,null,null,"","","","","","",null,null,null,null,null,"","",null,null,null,null,null,"","","","","",null,null,null,null,"","","","","",null,null,null,null,null,null,"","","","",null,null,null,null,"","","","","",null,null,null,null,null,"","","","","",null,null,null,null,null,null,0,{"$f":"'Scenario specification'!H118/100","v":0},"","","","","",null,null,null,null,null,null,"","","","",null,null,null,null,"","","","","","","","","","",""]
[null,null,null,null,null,null,null,null,null,null,"","","","","","",null,null,null,null,null,"","",null,null,null,null,null,"","","","","",null,null,null,null,"","","","","",null,null,null,null,null,null,"","","","",null,null,null,null,"","","","","",null,null,null,null,null,"","","","","",null,null,null,null,null,null,0,{"$f":"'Scenario specification'!H119/100","v":0},"","","","","",null,null,null,null,null,null,"","","","",null,null,null,null,"","","","","","","","","","",""]
[null,null,null,null,null,null,null,null,null,null,"","","","","","",null,null,null,null,null,"","",null,null,null,null,null,"","","","","",null,null,null,null,"","","","","",null,null,null,null,null,null,"","","","",null,null,null,null,"","","","","",null,null,null,null,null,"","","","","",null,null,null,null,null,null,0,{"$f":"'Scenario specification'!H120/100","v":0},"","","","","",null,null,null,null,null,null,"","","","",null,null,null,null,"","","","","","","","","","",""]
[null,null,null,null,null,null,null,null,null,null,"","","","","","",null,null,null,null,null,"","",null,null,null,null,null,"","","","","",null,null,null,null,"","","","","",null,null,null,null,null,null,"","","","",null,null,null,null,"","","","","",null,null,null,null,null,"","","","","",null,null,null,null,null,null,0,{"$f":"'Scenario specification'!H121/100","v":0},"","","","","",null,null,null,null,null,null,"","","","",null,null,null,null,"","","","","","","","","","",""]
[null,null,null,null,null,null,null,null,null,null,"","","","","","",null,null,null,null,null,"","",null,null,null,null,null,"","","","","",null,null,null,null,"","","","","",null,null,null,null,null,null,"","","","",null,null,null,null,"","","","","",null,null,null,null,null,"","","","","",null,null,null,null,null,null,0,{"$f":"'Scenario specification'!H122/100","v":0},"","","","","",null,null,null,null,null,null,"","","","",null,null,null,null,"","","","","","","","","","",""]
[null,null,null,null,null,null,null,null,null,null,"","","","","","",null,null,null,null,null,"","",null,null,null,null,null,"","","","","",null,null,null,null,"","","","","",null,null,null,null,null,null,"","","","",null,null,null,null,"","","","","",null,null,null,null,null,"","","","","",null,null,null,null,null,null,0,{"$f":"'Scenario specification'!H123/100","v":0},"","","","","",null,null,null,null,null,null,"","","","",null,null,null,null,"","","","","","","","","","",""]
[null,null,null,null,null,null,null,null,null,null,"","","","","","",null,null,null,null,null,"","",null,null,null,null,null,"","","","","",null,null,null,null,"","","","","",null,null,null,null,null,null,"","","","",null,null,null,null,"","","","","",null,null,null,null,null,"","","","","",null,null,null,null,null,null,0,{"$f":"'Scenario specification'!H124/100","v":0},"","","","","",null,null,null,null,null,null,"","","","",null,null,null,null,"","","","","","","","","","",""]
[null,null,null,null,null,null,null,null,null,null,"","","","","","",null,null,null,null,null,"","",null,null,null,null,null,"","","","","",null,null,null,null,"","","","","",null,null,null,null,null,null,"","","","",null,null,null,null,"","","","","",null,null,null,null,null,"","","","","",null,null,null,null,null,null,0,{"$f":"'Scenario specification'!H125/100","v":0},"","","","","",null,null,null,null,null,null,"","","","",null,null,null,null,"","","","","","","","","","",""]
[null,null,null,null,null,null,null,null,null,null,"","","","","","",null,null,null,null,null,"","",null,null,null,null,null,"","","","","",null,null,null,null,"","","","","",null,null,null,null,null,null,"","","","",null,null,null,null,"","","","","",null,null,null,null,null,"","","","","",null,null,null,null,null,null,0,{"$f":"'Scenario specification'!H126/100","v":0},"","","","","",null,null,null,null,null,null,"","","","",null,null,null,null,"","","","","","","","","","",""]
[null,null,null,null,null,null,null,null,null,null,"","","","","","",null,null,null,null,null,"","",null,null,null,null,null,"","","","","",null,null,null,null,"","","","","",null,null,null,null,null,null,"","","","",null,null,null,null,"","","","","",null,null,null,null,null,"","","","","",null,null,null,null,null,null,0,{"$f":"'Scenario specification'!H127/100","v":0},"","","","","",null,null,null,null,null,null,"","","","",null,null,null,null,"","","","","","","","","","",""]
[null,null,null,null,null,null,null,null,null,null,"","","","","","",null,null,null,null,null,"","",null,null,null,null,null,"","","","","",null,null,null,null,"","","","","",null,null,null,null,null,null,"","","","",null,null,null,null,"","","","","",null,null,null,null,null,"","","","","",null,null,null,null,null,null,0,{"$f":"'Scenario specification'!H128/100","v":0},"","","","","",null,null,null,null,null,null,"","","","",null,null,null,null,"","","","","","","","","","",""]
[null,null,null,null,null,null,null,null,null,null,"","","","","","",null,null,null,null,null,"","",null,null,null,null,null,"","","","","",null,null,null,null,"","","","","",null,null,null,null,null,null,"","","","",null,null,null,null,"","","","","",null,null,null,null,null,"","","","","",null,null,null,null,null,null,0,{"$f":"'Scenario specification'!H129/100","v":0},"","","","","",null,null,null,null,null,null,"","","","",null,null,null,null,"","","","","","","","","","",""]
[null,null,null,null,null,null,null,null,null,null,"","","","","","",null,null,null,null,null,"","",null,null,null,null,null,"","","","","",null,null,null,null,"","","","","",null,null,null,null,null,null,"","","","",null,null,null,null,"","","","","",null,null,null,null,null,"","","","","",null,null,null,null,null,null,0,{"$f":"'Scenario specification'!H130/100","v":0},"","","","","",null,null,null,null,null,null,"","","","",null,null,null,null,"","","","","","","","","","",""]
[null,null,null,null,null,null,null,null,null,null,"","","","","","",null,null,null,null,null,"","",null,null,null,null,null,"","","","","",null,null,null,null,"","","","","",null,null,null,null,null,null,"","","","",null,null,null,null,"","","","","",null,null,null,null,null,"","","","","",null,null,null,null,null,null,0,{"$f":"'Scenario specification'!H131/100","v":0},"","","","","",null,null,null,null,null,null,"","","","",null,null,null,null,"","","","","","","","","","",""]
[null,null,null,null,null,null,null,null,null,null,"","","","","","",null,null,null,null,null,"","",null,null,null,null,null,"","","","","",null,null,null,null,"","","","","",null,null,null,null,null,null,"","","","",null,null,null,null,"","","","","",null,null,null,null,null,"","","","","",null,null,null,null,null,null,0,{"$f":"'Scenario specification'!H132/100","v":0},"","","","","",null,null,null,null,null,null,"","","","",null,null,null,null,"","","","","","","","","","",""]
[null,null,null,null,null,null,null,null,null,null,"","","","","","",null,null,null,null,null,"","",null,null,null,null,null,"","","","","",null,null,null,null,"","","","","",null,null,null,null,null,null,"","","","",null,null,null,null,"","","","","",null,null,null,null,null,"","","","","",null,null,null,null,null,null,0,{"$f":"'Scenario specification'!H133/100","v":0},"","","","","",null,null,null,null,null,null,"","","","",null,null,null,null,"","","","","","","","","","",""]
[null,null,null,null,null,null,null,null,null,null,"","","","","","",null,null,null,null,null,"","",null,null,null,null,null,"","","","","",null,null,null,null,"","","","","",null,null,null,null,null,null,"","","","",null,null,null,null,"","","","","",null,null,null,null,null,"","","","","",null,null,null,null,null,null,0,{"$f":"'Scenario specification'!H134/100","v":0},"","","","","",null,null,null,null,null,null,"","","","",null,null,null,null,"","","","","","","","","","",""]
[null,null,null,null,null,null,null,null,null,null,"","","","","","",null,null,null,null,null,"","",null,null,null,null,null,"","","","","",null,null,null,null,"","","","","",null,null,null,null,null,null,"","","","",null,null,null,null,"","","","","",null,null,null,null,null,"","","","","",null,null,null,null,null,null,0,{"$f":"'Scenario specification'!H135/100","v":0},"","","","","",null,null,null,null,null,null,"","","","",null,null,null,null,"","","","","","","","","","",""]
[null,null,null,null,null,null,null,null,null,null,"","","","","","",null,null,null,null,null,"","",null,null,null,null,null,"","","","","",null,null,null,null,"","","","","",null,null,null,null,null,null,"","","","",null,null,null,null,"","","","","",null,null,null,null,null,"","","","","",null,null,null,null,null,null,0,{"$f":"'Scenario specification'!H136/100","v":0},"","","","","",null,null,null,null,null,null,"","","","",null,null,null,null,"","","","","","","","","","",""]
[null,null,null,null,null,null,null,null,null,null,"","","","","","",null,null,null,null,null,"","",null,null,null,null,null,"","","","","",null,null,null,null,"","","","","",null,null,null,null,null,null,"","","","",null,null,null,null,"","","","","",null,null,null,null,null,"","","","","",null,null,null,null,null,null,0,{"$f":"'Scenario specification'!H137/100","v":0},"","","","","",null,null,null,null,null,null,"","","","",null,null,null,null,"","","","","","","","","","",""]
[null,null,null,null,null,null,null,null,null,null,"","","","","","",null,null,null,null,null,"","",null,null,null,null,null,"","","","","",null,null,null,null,"","","","","",null,null,null,null,null,null,"","","","",null,null,null,null,"","","","","",null,null,null,null,null,"","","","","",null,null,null,null,null,null,0,{"$f":"'Scenario specification'!H138/100","v":0},"","","","","",null,null,null,null,null,null,"","","","",null,null,null,null,"","","","","","","","","","",""]
[null,null,null,null,null,null,null,null,null,null,"","","","","","",null,null,null,null,null,"","",null,null,null,null,null,"","","","","",null,null,null,null,"","","","","",null,null,null,null,null,null,"","","","",null,null,null,null,"","","","","",null,null,null,null,null,"","","","","",null,null,null,null,null,null,0,{"$f":"'Scenario specification'!H139/100","v":0},"","","","","",null,null,null,null,null,null,"","","","",null,null,null,null,"","","","","","","","","","",""]
[null,null,null,null,null,null,null,null,null,null,"","","","","","",null,null,null,null,null,"","",null,null,null,null,null,"","","","","",null,null,null,null,"","","","","",null,null,null,null,null,null,"","","","",null,null,null,null,"","","","","",null,null,null,null,null,"","","","","",null,null,null,null,null,null,0,{"$f":"'Scenario specification'!H140/100","v":0},"","","","","",null,null,null,null,null,null,"","","","",null,null,null,null,"","","","","","","","","","",""]
[null,null,null,null,null,null,null,null,null,null,"","","","","","",null,null,null,null,null,"","",null,null,null,null,null,"","","","","",null,null,null,null,"","","","","",null,null,null,null,null,null,"","","","",null,null,null,null,"","","","","",null,null,null,null,null,"","","","","",null,null,null,null,null,null,0,{"$f":"'Scenario specification'!H141/100","v":0},"","","","","",null,null,null,null,null,null,"","","","",null,null,null,null,"","","","","","","","","","",""]
[null,null,null,null,null,null,null,null,null,null,"","","","","","",null,null,null,null,null,"","",null,null,null,null,null,"","","","","",null,null,null,null,"","","","","",null,null,null,null,null,null,"","","","",null,null,null,null,"","","","","",null,null,null,null,null,"","","","","",null,null,null,null,null,null,0,{"$f":"'Scenario specification'!H142/100","v":0},"","","","","",null,null,null,null,null,null,"","","","",null,null,null,null,"","","","","","","","","","",""]
[null,null,null,null,null,null,null,null,null,null,"","","","","","",null,null,null,null,null,"","",null,null,null,null,null,"","","","","",null,null,null,null,"","","","","",null,null,null,null,null,null,"","","","",null,null,null,null,"","","","","",null,null,null,null,null,"","","","","",null,null,null,null,null,null,0,{"$f":"'Scenario specification'!H143/100","v":0},"","","","","",null,null,null,null,null,null,"","","","",null,null,null,null,"","","","","","","","","","",""]
[null,null,null,null,null,null,null,null,null,null,"","","","","","",null,null,null,null,null,"","",null,null,null,null,null,"","","","","",null,null,null,null,"","","","","",null,null,null,null,null,null,"","","","",null,null,null,null,"","","","","",null,null,null,null,null,"","","","","",null,null,null,null,null,null,0,{"$f":"'Scenario specification'!H144/100","v":0},"","","","","",null,null,null,null,null,null,"","","","",null,null,null,null,"","","","","","","","","","",""]
[null,null,null,null,null,null,null,null,null,null,"","","","","","",null,null,null,null,null,"","",null,null,null,null,null,"","","","","",null,null,null,null,"","","","","",null,null,null,null,null,null,"","","","",null,null,null,null,"","","","","",null,null,null,null,null,"","","","","",null,null,null,null,null,null,0,{"$f":"'Scenario specification'!H145/100","v":0},"","","","","",null,null,null,null,null,null,"","","","",null,null,null,null,"","","","","","","","","","",""]
[null,null,null,null,null,null,null,null,null,null,"","","","","","",null,null,null,null,null,"","",null,null,null,null,null,"","","","","",null,null,null,null,"","","","","",null,null,null,null,null,null,"","","","",null,null,null,null,"","","","","",null,null,null,null,null,"","","","","",null,null,null,null,null,null,0,{"$f":"'Scenario specification'!H146/100","v":0},"","","","","",null,null,null,null,null,null,"","","","",null,null,null,null,"","","","","","","","","","",""]
[null,null,null,null,null,null,null,null,null,null,"","","","","","",null,null,null,null,null,"","",null,null,null,null,null,"","","","","",null,null,null,null,"","","","","",null,null,null,null,null,null,"","","","",null,null,null,null,"","","","","",null,null,null,null,null,"","","","","",null,null,null,null,null,null,0,{"$f":"'Scenario specification'!H147/100","v":0},"","","","","",null,null,null,null,null,null,"","","","",null,null,null,null,"","","","","","","","","","",""]
[null,null,null,null,null,null,null,null,null,null,"","","","","","",null,null,null,null,null,"","",null,null,null,null,null,"","","","","",null,null,null,null,"","","","","",null,null,null,null,null,null,"","","","",null,null,null,null,"","","","","",null,null,null,null,null,"","","","","",null,null,null,null,null,null,0,{"$f":"'Scenario specification'!H148/100","v":0},"","","","","",null,null,null,null,null,null,"","","","",null,null,null,null,"","","","","","","","","","",""]
[null,null,null,null,null,null,null,null,null,null,"","","","","","",null,null,null,null,null,"","",null,null,null,null,null,"","","","","",null,null,null,null,"","","","","",null,null,null,null,null,null,"","","","",null,null,null,null,"","","","","",null,null,null,null,null,"","","","","",null,null,null,null,null,null,0,{"$f":"'Scenario specification'!H149/100","v":0},"","","","","",null,null,null,null,null,null,"","","","",null,null,null,null,"","","","","","","","","","",""]
[null,null,null,null,null,null,null,null,null,null,"","","","","","",null,null,null,null,null,"","",null,null,null,null,null,"","","","","",null,null,null,null,"","","","","",null,null,null,null,null,null,"","","","",null,null,null,null,"","","","","",null,null,null,null,null,"","","","","",null,null,null,null,null,null,0,{"$f":"'Scenario specification'!H150/100","v":0},"","","","","",null,null,null,null,null,null,"","","","",null,null,null,null,"","","","","","","","","","",""]
[null,null,null,null,null,null,null,null,null,null,"","","","","","",null,null,null,null,null,"","",null,null,null,null,null,"","","","","",null,null,null,null,"","","","","",null,null,null,null,null,null,"","","","",null,null,null,null,"","","","","",null,null,null,null,null,"","","","","",null,null,null,null,null,null,0,{"$f":"'Scenario specification'!H151/100","v":0},"","","","","",null,null,null,null,null,null,"","","","",null,null,null,null,"","","","","","","","","","",""]
[null,null,null,null,null,null,null,null,null,null,"","","","","","",null,null,null,null,null,"","",null,null,null,null,null,"","","","","",null,null,null,null,"","","","","",null,null,null,null,null,null,"","","","",null,null,null,null,"","","","","",null,null,null,null,null,"","","","","",null,null,null,null,null,null,0,{"$f":"'Scenario specification'!H152/100","v":0},"","","","","",null,null,null,null,null,null,"","","","",null,null,null,null,"","","","","","","","","","",""]
[null,null,null,null,null,null,null,null,null,null,"","","","","","",null,null,null,null,null,"","",null,null,null,null,null,"","","","","",null,null,null,null,"","","","","",null,null,null,null,null,null,"","","","",null,null,null,null,"","","","","",null,null,null,null,null,"","","","","",null,null,null,null,null,null,0,{"$f":"'Scenario specification'!H153/100","v":0},"","","","","",null,null,null,null,null,null,"","","","",null,null,null,null,"","","","","","","","","","",""]
[null,null,null,null,null,null,null,null,null,null,"","","","","","",null,null,null,null,null,"","",null,null,null,null,null,"","","","","",null,null,null,null,"","","","","",null,null,null,null,null,null,"","","","",null,null,null,null,"","","","","",null,null,null,null,null,"","","","","",null,null,null,null,null,null,0,{"$f":"'Scenario specification'!H154/100","v":0},"","","","","",null,null,null,null,null,null,"","","","",null,null,null,null,"","","","","","","","","","",""]
[null,null,null,null,null,null,null,null,null,null,"","","","","","",null,null,null,null,null,"","",null,null,null,null,null,"","","","","",null,null,null,null,"","","","","",null,null,null,null,null,null,"","","","",null,null,null,null,"","","","","",null,null,null,null,null,"","","","","",null,null,null,null,null,null,0,{"$f":"'Scenario specification'!H155/100","v":0},"","","","","",null,null,null,null,null,null,"","","","",null,null,null,null,"","","","","","","","","","",""]
[null,null,null,null,null,null,null,null,null,null,"","","","","","",null,null,null,null,null,"","",null,null,null,null,null,"","","","","",null,null,null,null,"","","","","",null,null,null,null,null,null,"","","","",null,null,null,null,"","","","","",null,null,null,null,null,"","","","","",null,null,null,null,null,null,0,{"$f":"'Scenario specification'!H156/100","v":0},"","","","","",null,null,null,null,null,null,"","","","",null,null,null,null,"","","","","","","","","","",""]
[null,null,null,null,null,null,null,null,null,null,"","","","","","",null,null,null,null,null,"","",null,null,null,null,null,"","","","","",null,null,null,null,"","","","","",null,null,null,null,null,null,"","","","",null,null,null,null,"","","","","",null,null,null,null,null,"","","","","",null,null,null,null,null,null,0,{"$f":"'Scenario specification'!H157/100","v":0},"","","","","",null,null,null,null,null,null,"","","","",null,null,null,null,"","","","","","","","","","",""]
[null,null,null,null,null,null,null,null,null,null,"","","","","","",null,null,null,null,null,"","",null,null,null,null,null,"","","","","",null,null,null,null,"","","","","",null,null,null,null,null,null,"","","","",null,null,null,null,"","","","","",null,null,null,null,null,"","","","","",null,null,null,null,null,null,0,{"$f":"'Scenario specification'!H158/100","v":0},"","","","","",null,null,null,null,null,null,"","","","",null,null,null,null,"","","","","","","","","","",""]
[null,null,null,null,null,null,null,null,null,null,"","","","","","",null,null,null,null,null,"","",null,null,null,null,null,"","","","","",null,null,null,null,"","","","","",null,null,null,null,null,null,"","","","",null,null,null,null,"","","","","",null,null,null,null,null,{"$f":"IF(D80=\"\",\"\",BP80-H80)","v":""},"",{"$f":"IF(D80=\"\",\"\",D80*((BP80-H80)*(1+($O$6+$O$7))))","v":""},{"$f":"IF(D80=\"\",\"\",IF(BP80-$E$4>=0,VALUE(0),($E$4-BP80)*D80))","v":""},{"$f":"IF(D80=\"\",\"\",IF(BP80-$E$4>=0,VALUE(0),D80))","v":""},null,null,null,null,null,null,0,{"$f":"'Scenario specification'!H159/100","v":0},{"$f":"IF(D80=\"\",\"\",CC80-BZ80)","v":""},{"$f":"IF(D80=\"\",\"\",IF($CD$6=0,\"specify scenario\",IF($CD$6=2,(H80+($BY$16*CA80)),IF($CD$6=1,(H80*(1+CA80))))))","v":""},{"$f":"IF(D80=\"\",\"\",D80*(CB80*(1+($O$6+$O$7))))","v":""},{"$f":"IF(D80=\"\",\"\",IF(CC80-$E$4>=0,VALUE(0),($E$4-CC80)*D80))","v":""},{"$f":"IF(D80=\"\",\"\",IF(CC80-$E$4>=0,VALUE(0),D80))","v":""},null,null,null,null,null,null,{"$f":"IF(D80=\"\",\"\",$CL$16+H80)","v":""},{"$f":"IF(D80=\"\",\"\",(CM80-H80)*D80*(1+(($O$6+$O$7)/100)))","v":""},{"$f":"IF(D80=\"\",\"\",IF(CM80-$E$4>=0,VALUE(0),($E$4-CM80)*D80))","v":""},{"$f":"IF(D80=\"\",\"\",IF(CM80-$E$4>=0,VALUE(0),D80))","v":""},null,null,null,null,{"$f":"IF(D80=\"\",\"\",B80)","v":""},{"$f":"IF(D80=\"\",\"\",C80)","v":""},{"$f":"IF(D80=\"\",\"\",H80)","v":""},{"$f":"IF(D80=\"\",\"\",AC80)","v":""},{"$f":"IF(D80=\"\",\"\",AL80)","v":""},{"$f":"IF(D80=\"\",\"\",AW80)","v":""},{"$f":"IF(D80=\"\",\"\",BE80)","v":""},{"$f":"IF(D80=\"\",\"\",BP80)","v":""},{"$f":"IF(D80=\"\",\"\",CC80)","v":""},{"$f":"IF(D80=\"\",\"\",CM80)","v":""},{"$f":"IF(D80=\"\",\"\",CU80&\" \"&CV80)","v":""}]
[null,null,null,null,null,null,null,null,null,null,"","","","",{"$f":"IF(D81=\"\",\"\",$E$4-H81)","v":""},{"$f":"IF(D81=\"\",\"\",IF(N81=0,VALUE(0),D81))","v":""},null,null,null,null,null,{"$f":"IF(D81=\"\",\"\",IF(H81-$T$16>0,H81-$T$16,0))","v":""},{"$f":"IF(D81=\"\",\"\",H81/$T$16)","v":""},null,null,null,null,null,{"$f":"IF(D81=\"\",\"\",IF(H81>=$E$4,H81,$E$4))","v":""},{"$f":"IF(D81=\"\",\"\",AC81-H81)","v":""},{"$f":"IF(D81=\"\",\"\",D81*(AD81*(1+($O$6+$O$7))))","v":""},{"$f":"IF(D81=\"\",\"\",IF(AC81-$E$4>=0,VALUE(0),($E$4-AC81)*D81))","v":""},{"$f":"IF(D81=\"\",\"\",IF(AC81-$E$4>=0,VALUE(0),D81))","v":""},null,null,null,null,"",{"$f":"IF(D81=\"\",\"\",AL81-H81)","v":""},{"$f":"IF(D81=\"\",\"\",D81*(AM81*(1+($O$6+$O$7))))","v":""},{"$f":"IF(D81=\"\",\"\",IF(AL81-$E$4>=0,VALUE(0),($E$4-AL81)*D81))","v":""},{"$f":"IF(D81=\"\",\"\",IF(AL81-$E$4>=0,VALUE(0),D81))","v":""},null,null,null,null,null,null,"",{"$f":"IF(D81=\"\",\"\",D81*($AV$16*(1+($O$6+$O$7))))","v":""},{"$f":"IF(D81=\"\",\"\",IF(AW81-$E$4>=0,VALUE(0),($E$4-AW81)*D81))","v":""},{"$f":"IF(D81=\"\",\"\",IF(AW81-$E$4>=0,VALUE(0),D81))","v":""},null,null,null,null,{"$f":"IF(D81=\"\",\"\",IF((H81*(1+$BI$10/100))>(H81+$BI$11),(H81*(1+$BI$10/100)),(H81+$BI$11)))","v":""},{"$f":"IF(D81=\"\",\"\",BE81-H81)","v":""},{"$f":"IF(D81=\"\",\"\",D81*(BF81*(1+(($O$6+$O$7)))))","v":""},{"$f":"IF(D81=\"\",\"\",IF(BE81-$E$4>=0,VALUE(0),($E$4-BE81)*D81))","v":""},{"$f":"IF(D81=\"\",\"\",IF(BE81-$E$4>=0,VALUE(0),D81))","v":""},null,null,null,null,null,"",{"$f":"IF(D81=\"\",\"\",IF(H81<$E$4,$E$4,IF($BS$6=0,\"especificar el escenario\",IF($BS$6=1,H81*(1+$BS$11),IF($BS$6=2,H81+($AA$16*$BS$11))))))","v":""},"","","",null,null,null,null,null,null,{"$f":"H81","v":0},{"$f":"'Scenario specification'!H160/100","v":0},"","","","","",null,null,null,null,null,null,"","","","",null,null,null,null,"","","","","","","","","","",""]
[null,null,null,null,null,null,null,null,null,null,"","","","","","",null,null,null,null,null,"","",null,null,null,null,null,"","","","","",null,null,null,null,"","","","","",null,null,null,null,null,null,"","","","",null,null,null,null,"","","","","",null,null,null,null,null,"","","","","",null,null,null,null,null,null,0,{"$f":"'Scenario specification'!H161/100","v":0},"","","","","",null,null,null,null,null,null,"","","","",null,null,null,null,"","","","","","","","","","",""]
[null,null,null,null,null,null,null,null,null,null,"","","","","","",null,null,null,null,null,"","",null,null,null,null,null,"","","","","",null,null,null,null,"","","","","",null,null,null,null,null,null,{"$f":"IF(D83=\"\",\"\",IF($AX$7=0,\"especificar el escenario\",IF($AX$7=2,IF(H83>=$E$4,H83,H83+$AV$16),IF($AX$7=1,$AV$16+H83,\"especificar el escenario\"))))","v":""},"","","",null,null,null,null,"","","","","",null,null,null,null,null,"","","","","",null,null,null,null,null,null,0,{"$f":"'Scenario specification'!H162/100","v":0},"","","","","",null,null,null,null,null,null,"","","","",null,null,null,null,"","","","","","","","","","",""]
[null,null,null,null,null,null,null,null,null,null,"","","","","","",null,null,null,null,null,"","",null,null,null,null,null,"","","","","",null,null,null,null,{"$f":"IF(D84=\"\",\"\",IF($AQ$7=0,\"especificar el escenario\",IF($AQ$7=2,IF(H84>=$E$4,H84,H84+$U$16),IF($AQ$7=1,H84+$U$16,\"\"))))","v":""},"","","","",null,null,null,null,null,null,"","","","",null,null,null,null,"","","","","",null,null,null,null,null,"","","","","",null,null,null,null,null,null,0,{"$f":"'Scenario specification'!H163/100","v":0},"","","","","",null,null,null,null,null,null,"","","","",null,null,null,null,"","","","","","","","","","",""]
[null,null,null,null,null,null,null,null,null,null,"","","","","","",null,null,null,null,null,"","",null,null,null,null,null,"","","","","",null,null,null,null,"","","","","",null,null,null,null,null,null,"","","","",null,null,null,null,"","","","","",null,null,null,null,null,"","","","","",null,null,null,null,null,null,0,{"$f":"'Scenario specification'!H164/100","v":0},"","","","","",null,null,null,null,null,null,"","","","",null,null,null,null,"","","","","","","","","","",""]
[null,null,null,null,null,null,null,null,null,null,"","","","","","",null,null,null,null,null,"","",null,null,null,null,null,"","","","","",null,null,null,null,"","","","","",null,null,null,null,null,null,"","","","",null,null,null,null,"","","","","",null,null,null,null,null,"","","","","",null,null,null,null,null,null,0,{"$f":"'Scenario specification'!H165/100","v":0},"","","","","",null,null,null,null,null,null,"","","","",null,null,null,null,"","","","","","","","","","",""]
[null,null,null,null,null,null,null,null,null,null,"","","","","","",null,null,null,null,null,"","",null,null,null,null,null,"","","","","",null,null,null,null,"","","","","",null,null,null,null,null,null,"","","","",null,null,null,null,"","","","","",null,null,null,null,null,"","","","","",null,null,null,null,null,null,0,{"$f":"'Scenario specification'!H166/100","v":0},"","","","","",null,null,null,null,null,null,"","","","",null,null,null,null,"","","","","","","","","","",""]
[null,null,null,null,null,null,null,null,null,null,{"$f":"IF(D88=\"\",\"\",H88*D88)","v":""},{"$f":"IF(D88=\"\",\"\",IF(H88>=$E$4,0,K88))","v":""},{"$f":"IF(D88=\"\",\"\",IF(H88>=$E$4,0,$E$4-H88))","v":""},{"$f":"IF(D88=\"\",\"\",M88*D88)","v":""},"","",null,null,null,null,null,"","",null,null,null,null,null,"","","","","",null,null,null,null,"","","","","",null,null,null,null,null,null,"","","","",null,null,null,null,"","","","","",null,null,null,null,null,"","","","","",null,null,null,null,null,null,0,{"$f":"'Scenario specification'!H167/100","v":0},"","","","","",null,null,null,null,null,null,"","","","",null,null,null,null,"","","","","","","","","","",""]
[null,null,null,null,null,null,null,null,null,null,"","","","","","",null,null,null,null,null,"","",null,null,null,null,null,"","","","","",null,null,null,null,"","","","","",null,null,null,null,null,null,"","","","",null,null,null,null,"","","","","",null,null,null,null,null,"","","","","",null,null,null,null,null,null,0,{"$f":"'Scenario specification'!H168/100","v":0},"","","","","",null,null,null,null,null,null,"","","","",null,null,null,null,"","","","","","","","","","",""]
[null,null,null,null,null,null,null,null,null,null,"","","","","","",null,null,null,null,null,"","",null,null,null,null,null,"","","","","",null,null,null,null,"","","","","",null,null,null,null,null,null,"","","","",null,null,null,null,"","","","","",null,null,null,null,null,"","","","","",null,null,null,null,null,null,0,{"$f":"'Scenario specification'!H169/100","v":0},"","","","","",null,null,null,null,null,null,"","","","",null,null,null,null,"","","","","","","","","","",""]
[null,null,null,null,null,null,null,null,null,null,"","","","","","",null,null,null,null,null,"","",null,null,null,null,null,"","","","","",null,null,null,null,"","","","","",null,null,null,null,null,null,"","","","",null,null,null,null,"","","","","",null,null,null,null,null,"","","","","",null,null,null,null,null,null,0,{"$f":"'Scenario specification'!H170/100","v":0},"","","","","",null,null,null,null,null,null,"","","","",null,null,null,null,"","","","","","","","","","",""]
[null,null,null,null,null,null,null,null,null,null,"","","","","","",null,null,null,null,null,"","",null,null,null,null,null,"","","","","",null,null,null,null,"","","","","",null,null,null,null,null,null,"","","","",null,null,null,null,"","","","","",null,null,null,null,null,"","","","","",null,null,null,null,null,null,0,{"$f":"'Scenario specification'!H171/100","v":0},"","","","","",null,null,null,null,null,null,"","","","",null,null,null,null,"","","","","","","","","","",""]
[null,null,null,null,null,null,null,null,null,null,"","","","","","",null,null,null,null,null,"","",null,null,null,null,null,"","","","","",null,null,null,null,"","","","","",null,null,null,null,null,null,"","","","",null,null,null,null,"","","","","",null,null,null,null,null,"","","","","",null,null,null,null,null,null,0,{"$f":"'Scenario specification'!H172/100","v":0},"","","","","",null,null,null,null,null,null,"","","","",null,null,null,null,"","","","","","","","","","",""]
[null,null,null,null,null,null,null,null,null,null,"","","","","","",null,null,null,null,null,"","",null,null,null,null,null,"","","","","",null,null,null,null,"","","","","",null,null,null,null,null,null,"","","","",null,null,null,null,"","","","","",null,null,null,null,null,"","","","","",null,null,null,null,null,null,0,{"$f":"'Scenario specification'!H173/100","v":0},"","","","","",null,null,null,null,null,null,"","","","",null,null,null,null,"","","","","","","","","","",""]
[null,null,null,null,null,null,null,null,null,null,"","","","","","",null,null,null,null,null,"","",null,null,null,null,null,"","","","","",null,null,null,null,"","","","","",null,null,null,null,null,null,"","","","",null,null,null,null,"","","","","",null,null,null,null,null,"","","","","",null,null,null,null,null,null,0,{"$f":"'Scenario specification'!H174/100","v":0},"","","","","",null,null,null,null,null,null,"","","","",null,null,null,null,"","","","","","","","","","",""]
[null,null,null,null,null,null,null,null,null,null,"","","","","","",null,null,null,null,null,"","",null,null,null,null,null,"","","","","",null,null,null,null,"","","","","",null,null,null,null,null,null,"","","","",null,null,null,null,"","","","","",null,null,null,null,null,"","","","","",null,null,null,null,null,null,0,{"$f":"'Scenario specification'!H175/100","v":0},"","","","","",null,null,null,null,null,null,"","","","",null,null,null,null,"","","","","","","","","","",""]
[null,null,null,null,null,null,null,null,null,null,"","","","","","",null,null,null,null,null,"","",null,null,null,null,null,"","","","","",null,null,null,null,"","","","","",null,null,null,null,null,null,"","","","",null,null,null,null,"","","","","",null,null,null,null,null,"","","","","",null,null,null,null,null,null,0,{"$f":"'Scenario specification'!H176/100","v":0},"","","","","",null,null,null,null,null,null,"","","","",null,null,null,null,"","","","","","","","","","",""]
[null,null,null,null,null,null,null,null,null,null,"","","","","","",null,null,null,null,null,"","",null,null,null,null,null,"","","","","",null,null,null,null,"","","","","",null,null,null,null,null,null,"","","","",null,null,null,null,"","","","","",null,null,null,null,null,"","","","","",null,null,null,null,null,null,0,{"$f":"'Scenario specification'!H177/100","v":0},"","","","","",null,null,null,null,null,null,"","","","",null,null,null,null,"","","","","","","","","","",""]
[null,null,null,null,null,null,null,null,null,null,"","","","","","",null,null,null,null,null,"","",null,null,null,null,null,"","","","","",null,null,null,null,"","","","","",null,null,null,null,null,null,"","","","",null,null,null,null,"","","","","",null,null,null,null,null,"","","","","",null,null,null,null,null,null,0,{"$f":"'Scenario specification'!H178/100","v":0},"","","","","",null,null,null,null,null,null,"","","","",null,null,null,null,"","","","","","","","","","",""]
[null,null,null,null,null,null,null,null,null,null,"","","","","","",null,null,null,null,null,"","",null,null,null,null,null,"","","","","",null,null,null,null,"","","","","",null,null,null,null,null,null,"","","","",null,null,null,null,"","","","","",null,null,null,null,null,"","","","","",null,null,null,null,null,null,0,{"$f":"'Scenario specification'!H179/100","v":0},"","","","","",null,null,null,null,null,null,"","","","",null,null,null,null,"","","","","","","","","","",""]
[null,null,null,null,null,null,null,null,null,null,"","","","","","",null,null,null,null,null,"","",null,null,null,null,null,"","","","","",null,null,null,null,"","","","","",null,null,null,null,null,null,"","","","",null,null,null,null,"","","","","",null,null,null,null,null,"","","","","",null,null,null,null,null,null,0,{"$f":"'Scenario specification'!H180/100","v":0},"","","","","",null,null,null,null,null,null,"","","","",null,null,null,null,"","","","","","","","","","",""]
[null,null,null,null,null,null,null,null,null,null,"","","","","","",null,null,null,null,null,"","",null,null,null,null,null,"","","","","",null,null,null,null,"","","","","",null,null,null,null,null,null,"","","","",null,null,null,null,"","","","","",null,null,null,null,null,"","","","","",null,null,null,null,null,null,0,{"$f":"'Scenario specification'!H181/100","v":0},"","","","","",null,null,null,null,null,null,"","","","",null,null,null,null,"","","","","","","","","","",""]
[null,null,null,null,null,null,null,null,null,null,"","","","","","",null,null,null,null,null,"","",null,null,null,null,null,"","","","","",null,null,null,null,"","","","","",null,null,null,null,null,null,"","","","",null,null,null,null,"","","","","",null,null,null,null,null,"","","","","",null,null,null,null,null,null,0,{"$f":"'Scenario specification'!H182/100","v":0},"","","","","",null,null,null,null,null,null,"","","","",null,null,null,null,"","","","","","","","","","",""]
[null,null,null,null,null,null,null,null,null,null,"","","","","","",null,null,null,null,null,"","",null,null,null,null,null,"","","","","",null,null,null,null,"","","","","",null,null,null,null,null,null,"","","","",null,null,null,null,"","","","","",null,null,null,null,null,"","","","","",null,null,null,null,null,null,0,{"$f":"'Scenario specification'!H183/100","v":0},"","","","","",null,null,null,null,null,null,"","","","",null,null,null,null,"","","","","","","","","","",""]
[null,null,null,null,null,null,null,null,null,null,"","","","","","",null,null,null,null,null,"","",null,null,null,null,null,"","","","","",null,null,null,null,"","","","","",null,null,null,null,null,null,"","","","",null,null,null,null,"","","","","",null,null,null,null,null,"","","","","",null,null,null,null,null,null,0,{"$f":"'Scenario specification'!H184/100","v":0},"","","","","",null,null,null,null,null,null,"","","","",null,null,null,null,"","","","","","","","","","",""]
[null,null,null,null,null,null,null,null,null,null,"","","","","","",null,null,null,null,null,"","",null,null,null,null,null,"","","","","",null,null,null,null,"","","","","",null,null,null,null,null,null,"","","","",null,null,null,null,"","","","","",null,null,null,null,null,"","","","","",null,null,null,null,null,null,0,{"$f":"'Scenario specification'!H185/100","v":0},"","","","","",null,null,null,null,null,null,"","","","",null,null,null,null,"","","","","","","","","","",""]
[null,null,null,null,null,null,null,null,null,null,"","","","","","",null,null,null,null,null,"","",null,null,null,null,null,"","","","","",null,null,null,null,"","","","","",null,null,null,null,null,null,"","","","",null,null,null,null,"","","","","",null,null,null,null,null,"","","","","",null,null,null,null,null,null,0,{"$f":"'Scenario specification'!H186/100","v":0},"","","","","",null,null,null,null,null,null,"","","","",null,null,null,null,"","","","","","","","","","",""]
[null,null,null,null,null,null,null,null,null,null,"","","","","","",null,null,null,null,null,"","",null,null,null,null,null,"","","","","",null,null,null,null,"","","","","",null,null,null,null,null,null,"","","","",null,null,null,null,"","","","","",null,null,null,null,null,"","","","","",null,null,null,null,null,null,0,{"$f":"'Scenario specification'!H187/100","v":0},"","","","","",null,null,null,null,null,null,"","","","",null,null,null,null,"","","","","","","","","","",""]
[null,null,null,null,null,null,null,null,null,null,"","","","","","",null,null,null,null,null,"","",null,null,null,null,null,"","","","","",null,null,null,null,"","","","","",null,null,null,null,null,null,"","","","",null,null,null,null,"","","","","",null,null,null,null,null,"","","","","",null,null,null,null,null,null,0,{"$f":"'Scenario specification'!H188/100","v":0},"","","","","",null,null,null,null,null,null,"","","","",null,null,null,null,"","","","","","","","","","",""]
[null,null,null,null,null,null,null,null,null,null,"","","","","","",null,null,null,null,null,"","",null,null,null,null,null,"","","","","",null,null,null,null,"","","","","",null,null,null,null,null,null,"","","","",null,null,null,null,"","","","","",null,null,null,null,null,"","","","","",null,null,null,null,null,null,0,{"$f":"'Scenario specification'!H189/100","v":0},"","","","","",null,null,null,null,null,null,"","","","",null,null,null,null,"","","","","","","","","","",""]
[null,null,null,null,null,null,null,null,null,null,"","","","","","",null,null,null,null,null,"","",null,null,null,null,null,"","","","","",null,null,null,null,"","","","","",null,null,null,null,null,null,"","","","",null,null,null,null,"","","","","",null,null,null,null,null,"","","","","",null,null,null,null,null,null,0,{"$f":"'Scenario specification'!H190/100","v":0},"","","","","",null,null,null,null,null,null,"","","","",null,null,null,null,"","","","","","","","","","",""]
[null,null,null,null,null,null,null,null,null,null,"","","","","","",null,null,null,null,null,"","",null,null,null,null,null,"","","","","",null,null,null,null,"","","","","",null,null,null,null,null,null,"","","","",null,null,null,null,"","","","","",null,null,null,null,null,"","","","","",null,null,null,null,null,null,0,{"$f":"'Scenario specification'!H191/100","v":0},"","","","","",null,null,null,null,null,null,"","","","",null,null,null,null,"","","","","","","","","","",""]
[null,null,null,null,null,null,null,null,null,null,"","","","","","",null,null,null,null,null,"","",null,null,null,null,null,"","","","","",null,null,null,null,"","","","","",null,null,null,null,null,null,"","","","",null,null,null,null,"","","","","",null,null,null,null,null,"","","","","",null,null,null,null,null,null,0,{"$f":"'Scenario specification'!H192/100","v":0},"","","","","",null,null,null,null,null,null,"","","","",null,null,null,null,"","","","","","","","","","",""]
[null,null,null,null,null,null,null,null,null,null,"","","","","","",null,null,null,null,null,"","",null,null,null,null,null,"","","","","",null,null,null,null,"","","","","",null,null,null,null,null,null,"","","","",null,null,null,null,"","","","","",null,null,null,null,null,"","","","","",null,null,null,null,null,null,0,{"$f":"'Scenario specification'!H193/100","v":0},"","","","","",null,null,null,null,null,null,"","","","",null,null,null,null,"","","","","","","","","","",""]
[null,null,null,null,null,null,null,null,null,null,"","","","","","",null,null,null,null,null,"","",null,null,null,null,null,"","","","","",null,null,null,null,"","","","","",null,null,null,null,null,null,"","","","",null,null,null,null,"","","","","",null,null,null,null,null,"","","","","",null,null,null,null,null,null,0,{"$f":"'Scenario specification'!H194/100","v":0},"","","","","",null,null,null,null,null,null,"","","","",null,null,null,null,"","","","","","","","","","",""]
[null,null,null,null,null,null,null,null,null,null,"","","","","","",null,null,null,null,null,"","",null,null,null,null,null,"","","","","",null,null,null,null,"","","","","",null,null,null,null,null,null,"","","","",null,null,null,null,"","","","","",null,null,null,null,null,"","","","","",null,null,null,null,null,null,0,{"$f":"'Scenario specification'!H195/100","v":0},"","","","","",null,null,null,null,null,null,"","","","",null,null,null,null,"","","","","","","","","","",""]
[null,null,null,null,null,null,null,null,null,null,"","","","","","",null,null,null,null,null,"","",null,null,null,null,null,"","","","","",null,null,null,null,"","","","","",null,null,null,null,null,null,"","","","",null,null,null,null,"","","","","",null,null,null,null,null,"","","","","",null,null,null,null,null,null,0,{"$f":"'Scenario specification'!H196/100","v":0},"","","","","",null,null,null,null,null,null,"","","","",null,null,null,null,"","","","","","","","","","",""]
[null,null,null,null,null,null,null,null,null,null,"","","","","","",null,null,null,null,null,"","",null,null,null,null,null,"","","","","",null,null,null,null,"","","","","",null,null,null,null,null,null,"","","","",null,null,null,null,"","","","","",null,null,null,null,null,"","","","","",null,null,null,null,null,null,0,{"$f":"'Scenario specification'!H197/100","v":0},"","","","","",null,null,null,null,null,null,"","","","",null,null,null,null,"","","","","","","","","","",""]
[null,null,null,null,null,null,null,null,null,null,"","","","","","",null,null,null,null,null,"","",null,null,null,null,null,"","","","","",null,null,null,null,"","","","","",null,null,null,null,null,null,"","","","",null,null,null,null,"","","","","",null,null,null,null,null,"","","","","",null,null,null,null,null,null,0,{"$f":"'Scenario specification'!H198/100","v":0},"","","","","",null,null,null,null,null,null,"","","","",null,null,null,null,"","","","","","","","","","",""]
[null,null,null,null,null,null,null,null,null,null,"","","","","","",null,null,null,null,null,"","",null,null,null,null,null,"","","","","",null,null,null,null,"","","","","",null,null,null,null,null,null,"","","","",null,null,null,null,"","","","","",null,null,null,null,null,"","","","","",null,null,null,null,null,null,0,{"$f":"'Scenario specification'!H199/100","v":0},"","","","","",null,null,null,null,null,null,"","","","",null,null,null,null,"","","","","","","","","","",""]
[null,null,null,null,null,null,null,null,null,null,"","","","","","",null,null,null,null,null,"","",null,null,null,null,null,"","","","","",null,null,null,null,"","","","","",null,null,null,null,null,null,"","","","",null,null,null,null,"","","","","",null,null,null,null,null,"","","","","",null,null,null,null,null,null,0,{"$f":"'Scenario specification'!H200/100","v":0},"","","","","",null,null,null,null,null,null,"","","","",null,null,null,null,"","","","","","","","","","",""]
[null,null,null,null,null,null,null,null,null,null,"","","","","","",null,null,null,null,null,"","",null,null,null,null,null,"","","","","",null,null,null,null,"","","","","",null,null,null,null,null,null,"","","","",null,null,null,null,"","","","","",null,null,null,null,null,"","","","","",null,null,null,null,null,null,0,{"$f":"'Scenario specification'!H201/100","v":0},"","","","","",null,null,null,null,null,null,"","","","",null,null,null,null,"","","","","","","","","","",""]
[null,null,null,null,null,null,null,null,null,null,"","","","","","",null,null,null,null,null,"","",null,null,null,null,null,"","","","","",null,null,null,null,"","","","","",null,null,null,null,null,null,"","","","",null,null,null,null,"","","","","",null,null,null,null,null,"","","","","",null,null,null,null,null,null,0,{"$f":"'Scenario specification'!H202/100","v":0},"","","","","",null,null,null,null,null,null,"","","","",null,null,null,null,"","","","","","","","","","",""]
[null,null,null,null,null,null,null,null,null,null,"","","","","","",null,null,null,null,null,"","",null,null,null,null,null,"","","","","",null,null,null,null,"","","","","",null,null,null,null,null,null,"","","","",null,null,null,null,"","","","","",null,null,null,null,null,"","","","","",null,null,null,null,null,null,0,{"$f":"'Scenario specification'!H203/100","v":0},"","","","","",null,null,null,null,null,null,"","","","",null,null,null,null,"","","","","","","","","","",""]
[null,null,null,null,null,null,null,null,null,null,"","","","","","",null,null,null,null,null,"","",null,null,null,null,null,"","","","","",null,null,null,null,"","","","","",null,null,null,null,null,null,"","","","",null,null,null,null,"","","","","",null,null,null,null,null,"","","","","",null,null,null,null,null,null,0,{"$f":"'Scenario specification'!H204/100","v":0},"","","","","",null,null,null,null,null,null,"","","","",null,null,null,null,"","","","","","","","","","",""]
[null,null,null,null,null,null,null,null,null,null,"","","","","","",null,null,null,null,null,"","",null,null,null,null,null,"","","","","",null,null,null,null,"","","","","",null,null,null,null,null,null,"","","","",null,null,null,null,"","","","","",null,null,null,null,null,"","","","","",null,null,null,null,null,null,0,{"$f":"'Scenario specification'!H205/100","v":0},"","","","","",null,null,null,null,null,null,"","","","",null,null,null,null,"","","","","","","","","","",""]
[null,null,null,null,null,null,null,null,null,null,"","","","","","",null,null,null,null,null,"","",null,null,null,null,null,"","","","","",null,null,null,null,"","","","","",null,null,null,null,null,null,"","","","",null,null,null,null,"","","","","",null,null,null,null,null,"","","","","",null,null,null,null,null,null,0,{"$f":"'Scenario specification'!H206/100","v":0},"","","","","",null,null,null,null,null,null,"","","","",null,null,null,null,"","","","","","","","","","",""]
[null,null,null,null,null,null,null,null,null,null,"","","","","","",null,null,null,null,null,"","",null,null,null,null,null,"","","","","",null,null,null,null,"","","","","",null,null,null,null,null,null,"","","","",null,null,null,null,"","","","","",null,null,null,null,null,"","","","","",null,null,null,null,null,null,0,{"$f":"'Scenario specification'!H207/100","v":0},"","","","","",null,null,null,null,null,null,"","","","",null,null,null,null,"","","","","","","","","","",""]
[null,null,null,null,null,null,null,null,null,null,"","","","","","",null,null,null,null,null,"","",null,null,null,null,null,"","","","","",null,null,null,null,"","","","","",null,null,null,null,null,null,"","","","",null,null,null,null,"","","","","",null,null,null,null,null,"","","","","",null,null,null,null,null,null,0,{"$f":"'Scenario specification'!H208/100","v":0},"","","","","",null,null,null,null,null,null,"","","","",null,null,null,null,"","","","","","","","","","",""]
[null,null,null,null,null,null,null,null,null,null,"","","","","","",null,null,null,null,null,"","",null,null,null,null,null,"","","","","",null,null,null,null,"","","","","",null,null,null,null,null,null,"","","","",null,null,null,null,"","","","","",null,null,null,null,null,"","","","","",null,null,null,null,null,null,0,{"$f":"'Scenario specification'!H209/100","v":0},"","","","","",null,null,null,null,null,null,"","","","",null,null,null,null,"","","","","","","","","","",""]
[null,null,null,null,null,null,null,null,null,null,"","","","","","",null,null,null,null,null,"","",null,null,null,null,null,"","","","","",null,null,null,null,"","","","","",null,null,null,null,null,null,"","","","",null,null,null,null,"","","","","",null,null,null,null,null,"","","","","",null,null,null,null,null,null,0,{"$f":"'Scenario specification'!H210/100","v":0},"","","","","",null,null,null,null,null,null,"","","","",null,null,null,null,"","","","","","","","","","",""]
[null,null,null,null,null,null,null,null,null,null,"","","","","","",null,null,null,null,null,"","",null,null,null,null,null,"","","","","",null,null,null,null,"","","","","",null,null,null,null,null,null,"","","","",null,null,null,null,"","","","","",null,null,null,null,null,"","","","","",null,null,null,null,null,null,0,{"$f":"'Scenario specification'!H211/100","v":0},"","","","","",null,null,null,null,null,null,"","","","",null,null,null,null,"","","","","","","","","","",""]
[null,null,null,null,null,null,null,null,null,null,"","","","","","",null,null,null,null,null,"","",null,null,null,null,null,"","","","","",null,null,null,null,"","","","","",null,null,null,null,null,null,"","","","",null,null,null,null,"","","","","",null,null,null,null,null,"","","","","",null,null,null,null,null,null,0,{"$f":"'Scenario specification'!H212/100","v":0},"","","","","",null,null,null,null,null,null,"","","","",null,null,null,null,"","","","","","","","","","",""]
[null,null,null,null,null,null,null,null,null,null,"","","","","","",null,null,null,null,null,"","",null,null,null,null,null,"","","","","",null,null,null,null,"","","","","",null,null,null,null,null,null,"","","","",null,null,null,null,"","","","","",null,null,null,null,null,"","","","","",null,null,null,null,null,null,0,{"$f":"'Scenario specification'!H213/100","v":0},"","","","","",null,null,null,null,null,null,"","","","",null,null,null,null,"","","","","","","","","","",""]
[null,null,null,null,null,null,null,null,null,null,"","","","","","",null,null,null,null,null,"","",null,null,null,null,null,"","","","","",null,null,null,null,"","","","","",null,null,null,null,null,null,"","","","",null,null,null,null,"","","","","",null,null,null,null,null,"","","","","",null,null,null,null,null,null,0,{"$f":"'Scenario specification'!H214/100","v":0},"","","","","",null,null,null,null,null,null,"","","","",null,null,null,null,"","","","","","","","","","",""]
[null,null,null,null,null,null,null,null,null,null,"","","","","","",null,null,null,null,null,"","",null,null,null,null,null,"","","","","",null,null,null,null,"","","","","",null,null,null,null,null,null,"","","","",null,null,null,null,"","","","","",null,null,null,null,null,"","","","","",null,null,null,null,null,null,0,{"$f":"'Scenario specification'!H215/100","v":0},"","","","","",null,null,null,null,null,null,"","","","",null,null,null,null,"","","","","","","","","","",""]
[null,null,null,null,null,null,null,null,null,null,"","","","","","",null,null,null,null,null,"","",null,null,null,null,null,"","","","","",null,null,null,null,"","","","","",null,null,null,null,null,null,"","","","",null,null,null,null,"","","","","",null,null,null,null,null,"","","","","",null,null,null,null,null,null,0,{"$f":"'Scenario specification'!H216/100","v":0},"","","","","",null,null,null,null,null,null,"","","","",null,null,null,null,"","","","","","","","","","",""]
[null,null,null,null,null,null,null,null,null,null,"","","","","","",null,null,null,null,null,"","",null,null,null,null,null,"","","","","",null,null,null,null,"","","","","",null,null,null,null,null,null,"","","","",null,null,null,null,"","","","","",null,null,null,null,null,"","","","","",null,null,null,null,null,null,0,{"$f":"'Scenario specification'!H217/100","v":0},"","","","","",null,null,null,null,null,null,"","","","",null,null,null,null,"","","","","","","","","","",""]
[null,null,null,null,null,null,null,null,null,null,"","","","","","",null,null,null,null,null,"","",null,null,null,null,null,"","","","","",null,null,null,null,"","","","","",null,null,null,null,null,null,"","","","",null,null,null,null,"","","","","",null,null,null,null,null,"","","","","",null,null,null,null,null,null,0,{"$f":"'Scenario specification'!H218/100","v":0},"","","","","",null,null,null,null,null,null,"","","","",null,null,null,null,"","","","","","","","","","",""]
[null,null,null,null,null,null,null,null,null,null,"","","","","","",null,null,null,null,null,"","",null,null,null,null,null,"","","","","",null,null,null,null,"","","","","",null,null,null,null,null,null,"","","","",null,null,null,null,"","","","","",null,null,null,null,null,"","","","","",null,null,null,null,null,null,0,{"$f":"'Scenario specification'!H219/100","v":0},"","","","","",null,null,null,null,null,null,"","","","",null,null,null,null,"","","","","","","","","","",""]
[null,null,null,null,null,null,null,null,null,null,"","","","","","",null,null,null,null,null,"","",null,null,null,null,null,"","","","","",null,null,null,null,"","","","","",null,null,null,null,null,null,"","","","",null,null,null,null,"","","","","",null,null,null,null,null,"","","","","",null,null,null,null,null,null,0,{"$f":"'Scenario specification'!H220/100","v":0},"","","","","",null,null,null,null,null,null,"","","","",null,null,null,null,"","","","","","","","","","",""]
[null,null,null,null,null,null,null,null,null,null,"","","","","","",null,null,null,null,null,"","",null,null,null,null,null,"","","","","",null,null,null,null,"","","","","",null,null,null,null,null,null,"","","","",null,null,null,null,"","","","","",null,null,null,null,null,"","","","","",null,null,null,null,null,null,0,{"$f":"'Scenario specification'!H221/100","v":0},"","","","","",null,null,null,null,null,null,"","","","",null,null,null,null,"","","","","","","","","","",""]
[null,null,null,null,null,null,null,null,null,null,"","","","","","",null,null,null,null,null,"","",null,null,null,null,null,"","","","","",null,null,null,null,"","","","","",null,null,null,null,null,null,"","","","",null,null,null,null,"","","","","",null,null,null,null,null,"","","","","",null,null,null,null,null,null,0,{"$f":"'Scenario specification'!H222/100","v":0},"","","","","",null,null,null,null,null,null,"","","","",null,null,null,null,"","","","","","","","","","",""]
[null,null,null,null,null,null,null,null,null,null,"","","","","","",null,null,null,null,null,"","",null,null,null,null,null,"","","","","",null,null,null,null,"","","","","",null,null,null,null,null,null,"","","","",null,null,null,null,"","","","","",null,null,null,null,null,{"$f":"IF(D144=\"\",\"\",BP144-H144)","v":""},"",{"$f":"IF(D144=\"\",\"\",D144*((BP144-H144)*(1+($O$6+$O$7))))","v":""},{"$f":"IF(D144=\"\",\"\",IF(BP144-$E$4>=0,VALUE(0),($E$4-BP144)*D144))","v":""},{"$f":"IF(D144=\"\",\"\",IF(BP144-$E$4>=0,VALUE(0),D144))","v":""},null,null,null,null,null,null,0,{"$f":"'Scenario specification'!H223/100","v":0},{"$f":"IF(D144=\"\",\"\",CC144-BZ144)","v":""},{"$f":"IF(D144=\"\",\"\",IF($CD$6=0,\"specify scenario\",IF($CD$6=2,(H144+($BY$16*CA144)),IF($CD$6=1,(H144*(1+CA144))))))","v":""},{"$f":"IF(D144=\"\",\"\",D144*(CB144*(1+($O$6+$O$7))))","v":""},{"$f":"IF(D144=\"\",\"\",IF(CC144-$E$4>=0,VALUE(0),($E$4-CC144)*D144))","v":""},{"$f":"IF(D144=\"\",\"\",IF(CC144-$E$4>=0,VALUE(0),D144))","v":""},null,null,null,null,null,null,{"$f":"IF(D144=\"\",\"\",$CL$16+H144)","v":""},{"$f":"IF(D144=\"\",\"\",(CM144-H144)*D144*(1+(($O$6+$O$7)/100)))","v":""},{"$f":"IF(D144=\"\",\"\",IF(CM144-$E$4>=0,VALUE(0),($E$4-CM144)*D144))","v":""},{"$f":"IF(D144=\"\",\"\",IF(CM144-$E$4>=0,VALUE(0),D144))","v":""},null,null,null,null,{"$f":"IF(D144=\"\",\"\",B144)","v":""},{"$f":"IF(D144=\"\",\"\",C144)","v":""},{"$f":"IF(D144=\"\",\"\",H144)","v":""},{"$f":"IF(D144=\"\",\"\",AC144)","v":""},{"$f":"IF(D144=\"\",\"\",AL144)","v":""},{"$f":"IF(D144=\"\",\"\",AW144)","v":""},{"$f":"IF(D144=\"\",\"\",BE144)","v":""},{"$f":"IF(D144=\"\",\"\",BP144)","v":""},{"$f":"IF(D144=\"\",\"\",CC144)","v":""},{"$f":"IF(D144=\"\",\"\",CM144)","v":""},{"$f":"IF(D144=\"\",\"\",CU144&\" \"&CV144)","v":""}]
[null,null,null,null,null,null,null,null,null,null,"","","","",{"$f":"IF(D145=\"\",\"\",$E$4-H145)","v":""},{"$f":"IF(D145=\"\",\"\",IF(N145=0,VALUE(0),D145))","v":""},null,null,null,null,null,{"$f":"IF(D145=\"\",\"\",IF(H145-$T$16>0,H145-$T$16,0))","v":""},{"$f":"IF(D145=\"\",\"\",H145/$T$16)","v":""},null,null,null,null,null,{"$f":"IF(D145=\"\",\"\",IF(H145>=$E$4,H145,$E$4))","v":""},{"$f":"IF(D145=\"\",\"\",AC145-H145)","v":""},{"$f":"IF(D145=\"\",\"\",D145*(AD145*(1+($O$6+$O$7))))","v":""},{"$f":"IF(D145=\"\",\"\",IF(AC145-$E$4>=0,VALUE(0),($E$4-AC145)*D145))","v":""},{"$f":"IF(D145=\"\",\"\",IF(AC145-$E$4>=0,VALUE(0),D145))","v":""},null,null,null,null,"",{"$f":"IF(D145=\"\",\"\",AL145-H145)","v":""},{"$f":"IF(D145=\"\",\"\",D145*(AM145*(1+($O$6+$O$7))))","v":""},{"$f":"IF(D145=\"\",\"\",IF(AL145-$E$4>=0,VALUE(0),($E$4-AL145)*D145))","v":""},{"$f":"IF(D145=\"\",\"\",IF(AL145-$E$4>=0,VALUE(0),D145))","v":""},null,null,null,null,null,null,"",{"$f":"IF(D145=\"\",\"\",D145*($AV$16*(1+($O$6+$O$7))))","v":""},{"$f":"IF(D145=\"\",\"\",IF(AW145-$E$4>=0,VALUE(0),($E$4-AW145)*D145))","v":""},{"$f":"IF(D145=\"\",\"\",IF(AW145-$E$4>=0,VALUE(0),D145))","v":""},null,null,null,null,{"$f":"IF(D145=\"\",\"\",IF((H145*(1+$BI$10/100))>(H145+$BI$11),(H145*(1+$BI$10/100)),(H145+$BI$11)))","v":""},{"$f":"IF(D145=\"\",\"\",BE145-H145)","v":""},{"$f":"IF(D145=\"\",\"\",D145*(BF145*(1+(($O$6+$O$7)))))","v":""},{"$f":"IF(D145=\"\",\"\",IF(BE145-$E$4>=0,VALUE(0),($E$4-BE145)*D145))","v":""},{"$f":"IF(D145=\"\",\"\",IF(BE145-$E$4>=0,VALUE(0),D145))","v":""},null,null,null,null,null,"",{"$f":"IF(D145=\"\",\"\",IF(H145<$E$4,$E$4,IF($BS$6=0,\"especificar el escenario\",IF($BS$6=1,H145*(1+$BS$11),IF($BS$6=2,H145+($AA$16*$BS$11))))))","v":""},"","","",null,null,null,null,null,null,{"$f":"H145","v":0},{"$f":"'Scenario specification'!H224/100","v":0},"","","","","",null,null,null,null,null,null,"","","","",null,null,null,null,"","","","","","","","","","",""]
[null,null,null,null,null,null,null,null,null,null,"","","","","","",null,null,null,null,null,"","",null,null,null,null,null,"","","","","",null,null,null,null,"","","","","",null,null,null,null,null,null,"","","","",null,null,null,null,"","","","","",null,null,null,null,null,"","","","","",null,null,null,null,null,null,0,{"$f":"'Scenario specification'!H225/100","v":0},"","","","","",null,null,null,null,null,null,"","","","",null,null,null,null,"","","","","","","","","","",""]
[null,null,null,null,null,null,null,null,null,null,"","","","","","",null,null,null,null,null,"","",null,null,null,null,null,"","","","","",null,null,null,null,"","","","","",null,null,null,null,null,null,{"$f":"IF(D147=\"\",\"\",IF($AX$7=0,\"especificar el escenario\",IF($AX$7=2,IF(H147>=$E$4,H147,H147+$AV$16),IF($AX$7=1,$AV$16+H147,\"especificar el escenario\"))))","v":""},"","","",null,null,null,null,"","","","","",null,null,null,null,null,"","","","","",null,null,null,null,null,null,0,{"$f":"'Scenario specification'!H226/100","v":0},"","","","","",null,null,null,null,null,null,"","","","",null,null,null,null,"","","","","","","","","","",""]
[null,null,null,null,null,null,null,null,null,null,"","","","","","",null,null,null,null,null,"","",null,null,null,null,null,"","","","","",null,null,null,null,{"$f":"IF(D148=\"\",\"\",IF($AQ$7=0,\"especificar el escenario\",IF($AQ$7=2,IF(H148>=$E$4,H148,H148+$U$16),IF($AQ$7=1,H148+$U$16,\"\"))))","v":""},"","","","",null,null,null,null,null,null,"","","","",null,null,null,null,"","","","","",null,null,null,null,null,"","","","","",null,null,null,null,null,null,0,{"$f":"'Scenario specification'!H227/100","v":0},"","","","","",null,null,null,null,null,null,"","","","",null,null,null,null,"","","","","","","","","","",""]
[null,null,null,null,null,null,null,null,null,null,"","","","","","",null,null,null,null,null,"","",null,null,null,null,null,"","","","","",null,null,null,null,"","","","","",null,null,null,null,null,null,"","","","",null,null,null,null,"","","","","",null,null,null,null,null,"","","","","",null,null,null,null,null,null,0,{"$f":"'Scenario specification'!H228/100","v":0},"","","","","",null,null,null,null,null,null,"","","","",null,null,null,null,"","","","","","","","","","",""]
[null,null,null,null,null,null,null,null,null,null,"","","","","","",null,null,null,null,null,"","",null,null,null,null,null,"","","","","",null,null,null,null,"","","","","",null,null,null,null,null,null,"","","","",null,null,null,null,"","","","","",null,null,null,null,null,"","","","","",null,null,null,null,null,null,0,{"$f":"'Scenario specification'!H229/100","v":0},"","","","","",null,null,null,null,null,null,"","","","",null,null,null,null,"","","","","","","","","","",""]
[null,null,null,null,null,null,null,null,null,null,"","","","","","",null,null,null,null,null,"","",null,null,null,null,null,"","","","","",null,null,null,null,"","","","","",null,null,null,null,null,null,"","","","",null,null,null,null,"","","","","",null,null,null,null,null,"","","","","",null,null,null,null,null,null,0,{"$f":"'Scenario specification'!H230/100","v":0},"","","","","",null,null,null,null,null,null,"","","","",null,null,null,null,"","","","","","","","","","",""]
[null,null,null,null,null,null,null,null,null,null,{"$f":"IF(D152=\"\",\"\",H152*D152)","v":""},{"$f":"IF(D152=\"\",\"\",IF(H152>=$E$4,0,K152))","v":""},{"$f":"IF(D152=\"\",\"\",IF(H152>=$E$4,0,$E$4-H152))","v":""},{"$f":"IF(D152=\"\",\"\",M152*D152)","v":""},"","",null,null,null,null,null,"","",null,null,null,null,null,"","","","","",null,null,null,null,"","","","","",null,null,null,null,null,null,"","","","",null,null,null,null,"","","","","",null,null,null,null,null,"","","","","",null,null,null,null,null,null,0,{"$f":"'Scenario specification'!H231/100","v":0},"","","","","",null,null,null,null,null,null,"","","","",null,null,null,null,"","","","","","","","","","",""]
[null,null,null,null,null,null,null,null,null,null,"","","","","","",null,null,null,null,null,"","",null,null,null,null,null,"","","","","",null,null,null,null,"","","","","",null,null,null,null,null,null,"","","","",null,null,null,null,"","","","","",null,null,null,null,null,"","","","","",null,null,null,null,null,null,0,{"$f":"'Scenario specification'!H232/100","v":0},"","","","","",null,null,null,null,null,null,"","","","",null,null,null,null,"","","","","","","","","","",""]
[null,null,null,null,null,null,null,null,null,null,"","","","","","",null,null,null,null,null,"","",null,null,null,null,null,"","","","","",null,null,null,null,"","","","","",null,null,null,null,null,null,"","","","",null,null,null,null,"","","","","",null,null,null,null,null,"","","","","",null,null,null,null,null,null,0,{"$f":"'Scenario specification'!H233/100","v":0},"","","","","",null,null,null,null,null,null,"","","","",null,null,null,null,"","","","","","","","","","",""]
[null,null,null,null,null,null,null,null,null,null,"","","","","","",null,null,null,null,null,"","",null,null,null,null,null,"","","","","",null,null,null,null,"","","","","",null,null,null,null,null,null,"","","","",null,null,null,null,"","","","","",null,null,null,null,null,"","","","","",null,null,null,null,null,null,0,{"$f":"'Scenario specification'!H234/100","v":0},"","","","","",null,null,null,null,null,null,"","","","",null,null,null,null,"","","","","","","","","","",""]
[null,null,null,null,null,null,null,null,null,null,"","","","","","",null,null,null,null,null,"","",null,null,null,null,null,"","","","","",null,null,null,null,"","","","","",null,null,null,null,null,null,"","","","",null,null,null,null,"","","","","",null,null,null,null,null,"","","","","",null,null,null,null,null,null,0,{"$f":"'Scenario specification'!H235/100","v":0},"","","","","",null,null,null,null,null,null,"","","","",null,null,null,null,"","","","","","","","","","",""]
[null,null,null,null,null,null,null,null,null,null,"","","","","","",null,null,null,null,null,"","",null,null,null,null,null,"","","","","",null,null,null,null,"","","","","",null,null,null,null,null,null,"","","","",null,null,null,null,"","","","","",null,null,null,null,null,"","","","","",null,null,null,null,null,null,0,{"$f":"'Scenario specification'!H236/100","v":0},"","","","","",null,null,null,null,null,null,"","","","",null,null,null,null,"","","","","","","","","","",""]
[null,null,null,null,null,null,null,null,null,null,"","","","","","",null,null,null,null,null,"","",null,null,null,null,null,"","","","","",null,null,null,null,"","","","","",null,null,null,null,null,null,"","","","",null,null,null,null,"","","","","",null,null,null,null,null,"","","","","",null,null,null,null,null,null,0,{"$f":"'Scenario specification'!H237/100","v":0},"","","","","",null,null,null,null,null,null,"","","","",null,null,null,null,"","","","","","","","","","",""]
[null,null,null,null,null,null,null,null,null,null,"","","","","","",null,null,null,null,null,"","",null,null,null,null,null,"","","","","",null,null,null,null,"","","","","",null,null,null,null,null,null,"","","","",null,null,null,null,"","","","","",null,null,null,null,null,"","","","","",null,null,null,null,null,null,0,{"$f":"'Scenario specification'!H238/100","v":0},"","","","","",null,null,null,null,null,null,"","","","",null,null,null,null,"","","","","","","","","","",""]
[null,null,null,null,null,null,null,null,null,null,"","","","","","",null,null,null,null,null,"","",null,null,null,null,null,"","","","","",null,null,null,null,"","","","","",null,null,null,null,null,null,"","","","",null,null,null,null,"","","","","",null,null,null,null,null,"","","","","",null,null,null,null,null,null,0,{"$f":"'Scenario specification'!H239/100","v":0},"","","","","",null,null,null,null,null,null,"","","","",null,null,null,null,"","","","","","","","","","",""]
[null,null,null,null,null,null,null,null,null,null,"","","","","","",null,null,null,null,null,"","",null,null,null,null,null,"","","","","",null,null,null,null,"","","","","",null,null,null,null,null,null,"","","","",null,null,null,null,"","","","","",null,null,null,null,null,"","","","","",null,null,null,null,null,null,0,{"$f":"'Scenario specification'!H240/100","v":0},"","","","","",null,null,null,null,null,null,"","","","",null,null,null,null,"","","","","","","","","","",""]
[null,null,null,null,null,null,null,null,null,null,"","","","","","",null,null,null,null,null,"","",null,null,null,null,null,"","","","","",null,null,null,null,"","","","","",null,null,null,null,null,null,"","","","",null,null,null,null,"","","","","",null,null,null,null,null,"","","","","",null,null,null,null,null,null,0,{"$f":"'Scenario specification'!H241/100","v":0},"","","","","",null,null,null,null,null,null,"","","","",null,null,null,null,"","","","","","","","","","",""]
[null,null,null,null,null,null,null,null,null,null,"","","","","","",null,null,null,null,null,"","",null,null,null,null,null,"","","","","",null,null,null,null,"","","","","",null,null,null,null,null,null,"","","","",null,null,null,null,"","","","","",null,null,null,null,null,"","","","","",null,null,null,null,null,null,0,{"$f":"'Scenario specification'!H242/100","v":0},"","","","","",null,null,null,null,null,null,"","","","",null,null,null,null,"","","","","","","","","","",""]
[null,null,null,null,null,null,null,null,null,null,"","","","","","",null,null,null,null,null,"","",null,null,null,null,null,"","","","","",null,null,null,null,"","","","","",null,null,null,null,null,null,"","","","",null,null,null,null,"","","","","",null,null,null,null,null,"","","","","",null,null,null,null,null,null,0,{"$f":"'Scenario specification'!H243/100","v":0},"","","","","",null,null,null,null,null,null,"","","","",null,null,null,null,"","","","","","","","","","",""]
[null,null,null,null,null,null,null,null,null,null,"","","","","","",null,null,null,null,null,"","",null,null,null,null,null,"","","","","",null,null,null,null,"","","","","",null,null,null,null,null,null,"","","","",null,null,null,null,"","","","","",null,null,null,null,null,"","","","","",null,null,null,null,null,null,0,{"$f":"'Scenario specification'!H244/100","v":0},"","","","","",null,null,null,null,null,null,"","","","",null,null,null,null,"","","","","","","","","","",""]
[null,null,null,null,null,null,null,null,null,null,"","","","","","",null,null,null,null,null,"","",null,null,null,null,null,"","","","","",null,null,null,null,"","","","","",null,null,null,null,null,null,"","","","",null,null,null,null,"","","","","",null,null,null,null,null,"","","","","",null,null,null,null,null,null,0,{"$f":"'Scenario specification'!H245/100","v":0},"","","","","",null,null,null,null,null,null,"","","","",null,null,null,null,"","","","","","","","","","",""]
[null,null,null,null,null,null,null,null,null,null,"","","","","","",null,null,null,null,null,"","",null,null,null,null,null,"","","","","",null,null,null,null,"","","","","",null,null,null,null,null,null,"","","","",null,null,null,null,"","","","","",null,null,null,null,null,"","","","","",null,null,null,null,null,null,0,{"$f":"'Scenario specification'!H246/100","v":0},"","","","","",null,null,null,null,null,null,"","","","",null,null,null,null,"","","","","","","","","","",""]
[null,null,null,null,null,null,null,null,null,null,"","","","","","",null,null,null,null,null,"","",null,null,null,null,null,"","","","","",null,null,null,null,"","","","","",null,null,null,null,null,null,"","","","",null,null,null,null,"","","","","",null,null,null,null,null,"","","","","",null,null,null,null,null,null,0,{"$f":"'Scenario specification'!H247/100","v":0},"","","","","",null,null,null,null,null,null,"","","","",null,null,null,null,"","","","","","","","","","",""]
[null,null,null,null,null,null,null,null,null,null,"","","","","","",null,null,null,null,null,"","",null,null,null,null,null,"","","","","",null,null,null,null,"","","","","",null,null,null,null,null,null,"","","","",null,null,null,null,"","","","","",null,null,null,null,null,"","","","","",null,null,null,null,null,null,0,{"$f":"'Scenario specification'!H248/100","v":0},"","","","","",null,null,null,null,null,null,"","","","",null,null,null,null,"","","","","","","","","","",""]
[null,null,null,null,null,null,null,null,null,null,"","","","","","",null,null,null,null,null,"","",null,null,null,null,null,"","","","","",null,null,null,null,"","","","","",null,null,null,null,null,null,"","","","",null,null,null,null,"","","","","",null,null,null,null,null,"","","","","",null,null,null,null,null,null,0,{"$f":"'Scenario specification'!H249/100","v":0},"","","","","",null,null,null,null,null,null,"","","","",null,null,null,null,"","","","","","","","","","",""]
[null,null,null,null,null,null,null,null,null,null,"","","","","","",null,null,null,null,null,"","",null,null,null,null,null,"","","","","",null,null,null,null,"","","","","",null,null,null,null,null,null,"","","","",null,null,null,null,"","","","","",null,null,null,null,null,"","","","","",null,null,null,null,null,null,0,{"$f":"'Scenario specification'!H250/100","v":0},"","","","","",null,null,null,null,null,null,"","","","",null,null,null,null,"","","","","","","","","","",""]
[null,null,null,null,null,null,null,null,null,null,"","","","","","",null,null,null,null,null,"","",null,null,null,null,null,"","","","","",null,null,null,null,"","","","","",null,null,null,null,null,null,"","","","",null,null,null,null,"","","","","",null,null,null,null,null,"","","","","",null,null,null,null,null,null,0,{"$f":"'Scenario specification'!H251/100","v":0},"","","","","",null,null,null,null,null,null,"","","","",null,null,null,null,"","","","","","","","","","",""]
[null,null,null,null,null,null,null,null,null,null,"","","","","","",null,null,null,null,null,"","",null,null,null,null,null,"","","","","",null,null,null,null,"","","","","",null,null,null,null,null,null,"","","","",null,null,null,null,"","","","","",null,null,null,null,null,"","","","","",null,null,null,null,null,null,0,{"$f":"'Scenario specification'!H252/100","v":0},"","","","","",null,null,null,null,null,null,"","","","",null,null,null,null,"","","","","","","","","","",""]
[null,null,null,null,null,null,null,null,null,null,"","","","","","",null,null,null,null,null,"","",null,null,null,null,null,"","","","","",null,null,null,null,"","","","","",null,null,null,null,null,null,"","","","",null,null,null,null,"","","","","",null,null,null,null,null,"","","","","",null,null,null,null,null,null,0,{"$f":"'Scenario specification'!H253/100","v":0},"","","","","",null,null,null,null,null,null,"","","","",null,null,null,null,"","","","","","","","","","",""]
[null,null,null,null,null,null,null,null,null,null,"","","","","","",null,null,null,null,null,"","",null,null,null,null,null,"","","","","",null,null,null,null,"","","","","",null,null,null,null,null,null,"","","","",null,null,null,null,"","","","","",null,null,null,null,null,"","","","","",null,null,null,null,null,null,0,{"$f":"'Scenario specification'!H254/100","v":0},"","","","","",null,null,null,null,null,null,"","","","",null,null,null,null,"","","","","","","","","","",""]
[null,null,null,null,null,null,null,null,null,null,"","","","","","",null,null,null,null,null,"","",null,null,null,null,null,"","","","","",null,null,null,null,"","","","","",null,null,null,null,null,null,"","","","",null,null,null,null,"","","","","",null,null,null,null,null,"","","","","",null,null,null,null,null,null,0,{"$f":"'Scenario specification'!H255/100","v":0},"","","","","",null,null,null,null,null,null,"","","","",null,null,null,null,"","","","","","","","","","",""]
[null,null,null,null,null,null,null,null,null,null,"","","","","","",null,null,null,null,null,"","",null,null,null,null,null,"","","","","",null,null,null,null,"","","","","",null,null,null,null,null,null,"","","","",null,null,null,null,"","","","","",null,null,null,null,null,"","","","","",null,null,null,null,null,null,0,{"$f":"'Scenario specification'!H256/100","v":0},"","","","","",null,null,null,null,null,null,"","","","",null,null,null,null,"","","","","","","","","","",""]
[null,null,null,null,null,null,null,null,null,null,"","","","","","",null,null,null,null,null,"","",null,null,null,null,null,"","","","","",null,null,null,null,"","","","","",null,null,null,null,null,null,"","","","",null,null,null,null,"","","","","",null,null,null,null,null,"","","","","",null,null,null,null,null,null,0,{"$f":"'Scenario specification'!H257/100","v":0},"","","","","",null,null,null,null,null,null,"","","","",null,null,null,null,"","","","","","","","","","",""]
[null,null,null,null,null,null,null,null,null,null,"","","","","","",null,null,null,null,null,"","",null,null,null,null,null,"","","","","",null,null,null,null,"","","","","",null,null,null,null,null,null,"","","","",null,null,null,null,"","","","","",null,null,null,null,null,"","","","","",null,null,null,null,null,null,0,{"$f":"'Scenario specification'!H258/100","v":0},"","","","","",null,null,null,null,null,null,"","","","",null,null,null,null,"","","","","","","","","","",""]
[null,null,null,null,null,null,null,null,null,null,"","","","","","",null,null,null,null,null,"","",null,null,null,null,null,"","","","","",null,null,null,null,"","","","","",null,null,null,null,null,null,"","","","",null,null,null,null,"","","","","",null,null,null,null,null,"","","","","",null,null,null,null,null,null,0,{"$f":"'Scenario specification'!H259/100","v":0},"","","","","",null,null,null,null,null,null,"","","","",null,null,null,null,"","","","","","","","","","",""]
[null,null,null,null,null,null,null,null,null,null,"","","","","","",null,null,null,null,null,"","",null,null,null,null,null,"","","","","",null,null,null,null,"","","","","",null,null,null,null,null,null,"","","","",null,null,null,null,"","","","","",null,null,null,null,null,"","","","","",null,null,null,null,null,null,0,{"$f":"'Scenario specification'!H260/100","v":0},"","","","","",null,null,null,null,null,null,"","","","",null,null,null,null,"","","","","","","","","","",""]
[null,null,null,null,null,null,null,null,null,null,"","","","","","",null,null,null,null,null,"","",null,null,null,null,null,"","","","","",null,null,null,null,"","","","","",null,null,null,null,null,null,"","","","",null,null,null,null,"","","","","",null,null,null,null,null,"","","","","",null,null,null,null,null,null,0,{"$f":"'Scenario specification'!H261/100","v":0},"","","","","",null,null,null,null,null,null,"","","","",null,null,null,null,"","","","","","","","","","",""]
[null,null,null,null,null,null,null,null,null,null,"","","","","","",null,null,null,null,null,"","",null,null,null,null,null,"","","","","",null,null,null,null,"","","","","",null,null,null,null,null,null,"","","","",null,null,null,null,"","","","","",null,null,null,null,null,"","","","","",null,null,null,null,null,null,0,{"$f":"'Scenario specification'!H262/100","v":0},"","","","","",null,null,null,null,null,null,"","","","",null,null,null,null,"","","","","","","","","","",""]
[null,null,null,null,null,null,null,null,null,null,"","","","","","",null,null,null,null,null,"","",null,null,null,null,null,"","","","","",null,null,null,null,"","","","","",null,null,null,null,null,null,"","","","",null,null,null,null,"","","","","",null,null,null,null,null,"","","","","",null,null,null,null,null,null,0,{"$f":"'Scenario specification'!H263/100","v":0},"","","","","",null,null,null,null,null,null,"","","","",null,null,null,null,"","","","","","","","","","",""]
[null,null,null,null,null,null,null,null,null,null,"","","","","","",null,null,null,null,null,"","",null,null,null,null,null,"","","","","",null,null,null,null,"","","","","",null,null,null,null,null,null,"","","","",null,null,null,null,"","","","","",null,null,null,null,null,"","","","","",null,null,null,null,null,null,0,{"$f":"'Scenario specification'!H264/100","v":0},"","","","","",null,null,null,null,null,null,"","","","",null,null,null,null,"","","","","","","","","","",""]
[null,null,null,null,null,null,null,null,null,null,"","","","","","",null,null,null,null,null,"","",null,null,null,null,null,"","","","","",null,null,null,null,"","","","","",null,null,null,null,null,null,"","","","",null,null,null,null,"","","","","",null,null,null,null,null,"","","","","",null,null,null,null,null,null,0,{"$f":"'Scenario specification'!H265/100","v":0},"","","","","",null,null,null,null,null,null,"","","","",null,null,null,null,"","","","","","","","","","",""]
[null,null,null,null,null,null,null,null,null,null,"","","","","","",null,null,null,null,null,"","",null,null,null,null,null,"","","","","",null,null,null,null,"","","","","",null,null,null,null,null,null,"","","","",null,null,null,null,"","","","","",null,null,null,null,null,"","","","","",null,null,null,null,null,null,0,{"$f":"'Scenario specification'!H266/100","v":0},"","","","","",null,null,null,null,null,null,"","","","",null,null,null,null,"","","","","","","","","","",""]
[null,null,null,null,null,null,null,null,null,null,"","","","","","",null,null,null,null,null,"","",null,null,null,null,null,"","","","","",null,null,null,null,"","","","","",null,null,null,null,null,null,"","","","",null,null,null,null,"","","","","",null,null,null,null,null,"","","","","",null,null,null,null,null,null,0,{"$f":"'Scenario specification'!H267/100","v":0},"","","","","",null,null,null,null,null,null,"","","","",null,null,null,null,"","","","","","","","","","",""]
[null,null,null,null,null,null,null,null,null,null,"","","","","","",null,null,null,null,null,"","",null,null,null,null,null,"","","","","",null,null,null,null,"","","","","",null,null,null,null,null,null,"","","","",null,null,null,null,"","","","","",null,null,null,null,null,"","","","","",null,null,null,null,null,null,0,{"$f":"'Scenario specification'!H268/100","v":0},"","","","","",null,null,null,null,null,null,"","","","",null,null,null,null,"","","","","","","","","","",""]
[null,null,null,null,null,null,null,null,null,null,"","","","","","",null,null,null,null,null,"","",null,null,null,null,null,"","","","","",null,null,null,null,"","","","","",null,null,null,null,null,null,"","","","",null,null,null,null,"","","","","",null,null,null,null,null,"","","","","",null,null,null,null,null,null,0,{"$f":"'Scenario specification'!H269/100","v":0},"","","","","",null,null,null,null,null,null,"","","","",null,null,null,null,"","","","","","","","","","",""]
[null,null,null,null,null,null,null,null,null,null,"","","","","","",null,null,null,null,null,"","",null,null,null,null,null,"","","","","",null,null,null,null,"","","","","",null,null,null,null,null,null,"","","","",null,null,null,null,"","","","","",null,null,null,null,null,"","","","","",null,null,null,null,null,null,0,{"$f":"'Scenario specification'!H270/100","v":0},"","","","","",null,null,null,null,null,null,"","","","",null,null,null,null,"","","","","","","","","","",""]
[null,null,null,null,null,null,null,null,null,null,"","","","","","",null,null,null,null,null,"","",null,null,null,null,null,"","","","","",null,null,null,null,"","","","","",null,null,null,null,null,null,"","","","",null,null,null,null,"","","","","",null,null,null,null,null,"","","","","",null,null,null,null,null,null,0,{"$f":"'Scenario specification'!H271/100","v":0},"","","","","",null,null,null,null,null,null,"","","","",null,null,null,null,"","","","","","","","","","",""]
[null,null,null,null,null,null,null,null,null,null,"","","","","","",null,null,null,null,null,"","",null,null,null,null,null,"","","","","",null,null,null,null,"","","","","",null,null,null,null,null,null,"","","","",null,null,null,null,"","","","","",null,null,null,null,null,"","","","","",null,null,null,null,null,null,0,{"$f":"'Scenario specification'!H272/100","v":0},"","","","","",null,null,null,null,null,null,"","","","",null,null,null,null,"","","","","","","","","","",""]
[null,null,null,null,null,null,null,null,null,null,"","","","","","",null,null,null,null,null,"","",null,null,null,null,null,"","","","","",null,null,null,null,"","","","","",null,null,null,null,null,null,"","","","",null,null,null,null,"","","","","",null,null,null,null,null,"","","","","",null,null,null,null,null,null,0,{"$f":"'Scenario specification'!H273/100","v":0},"","","","","",null,null,null,null,null,null,"","","","",null,null,null,null,"","","","","","","","","","",""]
[null,null,null,null,null,null,null,null,null,null,"","","","","","",null,null,null,null,null,"","",null,null,null,null,null,"","","","","",null,null,null,null,"","","","","",null,null,null,null,null,null,"","","","",null,null,null,null,"","","","","",null,null,null,null,null,"","","","","",null,null,null,null,null,null,0,{"$f":"'Scenario specification'!H274/100","v":0},"","","","","",null,null,null,null,null,null,"","","","",null,null,null,null,"","","","","","","","","","",""]
[null,null,null,null,null,null,null,null,null,null,"","","","","","",null,null,null,null,null,"","",null,null,null,null,null,"","","","","",null,null,null,null,"","","","","",null,null,null,null,null,null,"","","","",null,null,null,null,"","","","","",null,null,null,null,null,"","","","","",null,null,null,null,null,null,0,{"$f":"'Scenario specification'!H275/100","v":0},"","","","","",null,null,null,null,null,null,"","","","",null,null,null,null,"","","","","","","","","","",""]
[null,null,null,null,null,null,null,null,null,null,"","","","","","",null,null,null,null,null,"","",null,null,null,null,null,"","","","","",null,null,null,null,"","","","","",null,null,null,null,null,null,"","","","",null,null,null,null,"","","","","",null,null,null,null,null,"","","","","",null,null,null,null,null,null,0,{"$f":"'Scenario specification'!H276/100","v":0},"","","","","",null,null,null,null,null,null,"","","","",null,null,null,null,"","","","","","","","","","",""]
[null,null,null,null,null,null,null,null,null,null,"","","","","","",null,null,null,null,null,"","",null,null,null,null,null,"","","","","",null,null,null,null,"","","","","",null,null,null,null,null,null,"","","","",null,null,null,null,"","","","","",null,null,null,null,null,"","","","","",null,null,null,null,null,null,0,{"$f":"'Scenario specification'!H277/100","v":0},"","","","","",null,null,null,null,null,null,"","","","",null,null,null,null,"","","","","","","","","","",""]
[null,null,null,null,null,null,null,null,null,null,"","","","","","",null,null,null,null,null,"","",null,null,null,null,null,"","","","","",null,null,null,null,"","","","","",null,null,null,null,null,null,"","","","",null,null,null,null,"","","","","",null,null,null,null,null,"","","","","",null,null,null,null,null,null,0,{"$f":"'Scenario specification'!H278/100","v":0},"","","","","",null,null,null,null,null,null,"","","","",null,null,null,null,"","","","","","","","","","",""]
[null,null,null,null,null,null,null,null,null,null,"","","","","","",null,null,null,null,null,"","",null,null,null,null,null,"","","","","",null,null,null,null,"","","","","",null,null,null,null,null,null,"","","","",null,null,null,null,"","","","","",null,null,null,null,null,"","","","","",null,null,null,null,null,null,0,{"$f":"'Scenario specification'!H279/100","v":0},"","","","","",null,null,null,null,null,null,"","","","",null,null,null,null,"","","","","","","","","","",""]
[null,null,null,null,null,null,null,null,null,null,"","","","","","",null,null,null,null,null,"","",null,null,null,null,null,"","","","","",null,null,null,null,"","","","","",null,null,null,null,null,null,"","","","",null,null,null,null,"","","","","",null,null,null,null,null,"","","","","",null,null,null,null,null,null,0,{"$f":"'Scenario specification'!H280/100","v":0},"","","","","",null,null,null,null,null,null,"","","","",null,null,null,null,"","","","","","","","","","",""]
[null,null,null,null,null,null,null,null,null,null,"","","","","","",null,null,null,null,null,"","",null,null,null,null,null,"","","","","",null,null,null,null,"","","","","",null,null,null,null,null,null,"","","","",null,null,null,null,"","","","","",null,null,null,null,null,"","","","","",null,null,null,null,null,null,0,{"$f":"'Scenario specification'!H281/100","v":0},"","","","","",null,null,null,null,null,null,"","","","",null,null,null,null,"","","","","","","","","","",""]
[null,null,null,null,null,null,null,null,null,null,"","","","","","",null,null,null,null,null,"","",null,null,null,null,null,"","","","","",null,null,null,null,"","","","","",null,null,null,null,null,null,"","","","",null,null,null,null,"","","","","",null,null,null,null,null,"","","","","",null,null,null,null,null,null,0,{"$f":"'Scenario specification'!H282/100","v":0},"","","","","",null,null,null,null,null,null,"","","","",null,null,null,null,"","","","","","","","","","",""]
[null,null,null,null,null,null,null,null,null,null,"","","","","","",null,null,null,null,null,"","",null,null,null,null,null,"","","","","",null,null,null,null,"","","","","",null,null,null,null,null,null,"","","","",null,null,null,null,"","","","","",null,null,null,null,null,"","","","","",null,null,null,null,null,null,0,{"$f":"'Scenario specification'!H283/100","v":0},"","","","","",null,null,null,null,null,null,"","","","",null,null,null,null,"","","","","","","","","","",""]
[null,null,null,null,null,null,null,null,null,null,"","","","","","",null,null,null,null,null,"","",null,null,null,null,null,"","","","","",null,null,null,null,"","","","","",null,null,null,null,null,null,"","","","",null,null,null,null,"","","","","",null,null,null,null,null,"","","","","",null,null,null,null,null,null,0,{"$f":"'Scenario specification'!H284/100","v":0},"","","","","",null,null,null,null,null,null,"","","","",null,null,null,null,"","","","","","","","","","",""]
[null,null,null,null,null,null,null,null,null,null,"","","","","","",null,null,null,null,null,"","",null,null,null,null,null,"","","","","",null,null,null,null,"","","","","",null,null,null,null,null,null,"","","","",null,null,null,null,"","","","","",null,null,null,null,null,"","","","","",null,null,null,null,null,null,0,{"$f":"'Scenario specification'!H285/100","v":0},"","","","","",null,null,null,null,null,null,"","","","",null,null,null,null,"","","","","","","","","","",""]
[null,null,null,null,null,null,null,null,null,null,"","","","","","",null,null,null,null,null,"","",null,null,null,null,null,"","","","","",null,null,null,null,"","","","","",null,null,null,null,null,null,"","","","",null,null,null,null,"","","","","",null,null,null,null,null,"","","","","",null,null,null,null,null,null,0,{"$f":"'Scenario specification'!H286/100","v":0},"","","","","",null,null,null,null,null,null,"","","","",null,null,null,null,"","","","","","","","","","",""]
[null,null,null,null,null,null,null,null,null,null,"","","","","","",null,null,null,null,null,"","",null,null,null,null,null,"","","","","",null,null,null,null,"","","","","",null,null,null,null,null,null,"","","","",null,null,null,null,"","","","","",null,null,null,null,null,{"$f":"IF(D208=\"\",\"\",BP208-H208)","v":""},"",{"$f":"IF(D208=\"\",\"\",D208*((BP208-H208)*(1+($O$6+$O$7))))","v":""},{"$f":"IF(D208=\"\",\"\",IF(BP208-$E$4>=0,VALUE(0),($E$4-BP208)*D208))","v":""},{"$f":"IF(D208=\"\",\"\",IF(BP208-$E$4>=0,VALUE(0),D208))","v":""},null,null,null,null,null,null,0,{"$f":"'Scenario specification'!H287/100","v":0},{"$f":"IF(D208=\"\",\"\",CC208-BZ208)","v":""},{"$f":"IF(D208=\"\",\"\",IF($CD$6=0,\"specify scenario\",IF($CD$6=2,(H208+($BY$16*CA208)),IF($CD$6=1,(H208*(1+CA208))))))","v":""},{"$f":"IF(D208=\"\",\"\",D208*(CB208*(1+($O$6+$O$7))))","v":""},{"$f":"IF(D208=\"\",\"\",IF(CC208-$E$4>=0,VALUE(0),($E$4-CC208)*D208))","v":""},{"$f":"IF(D208=\"\",\"\",IF(CC208-$E$4>=0,VALUE(0),D208))","v":""},null,null,null,null,null,null,{"$f":"IF(D208=\"\",\"\",$CL$16+H208)","v":""},{"$f":"IF(D208=\"\",\"\",(CM208-H208)*D208*(1+(($O$6+$O$7)/100)))","v":""},{"$f":"IF(D208=\"\",\"\",IF(CM208-$E$4>=0,VALUE(0),($E$4-CM208)*D208))","v":""},{"$f":"IF(D208=\"\",\"\",IF(CM208-$E$4>=0,VALUE(0),D208))","v":""},null,null,null,null,{"$f":"IF(D208=\"\",\"\",B208)","v":""},{"$f":"IF(D208=\"\",\"\",C208)","v":""},{"$f":"IF(D208=\"\",\"\",H208)","v":""},{"$f":"IF(D208=\"\",\"\",AC208)","v":""},{"$f":"IF(D208=\"\",\"\",AL208)","v":""},{"$f":"IF(D208=\"\",\"\",AW208)","v":""},{"$f":"IF(D208=\"\",\"\",BE208)","v":""},{"$f":"IF(D208=\"\",\"\",BP208)","v":""},{"$f":"IF(D208=\"\",\"\",CC208)","v":""},{"$f":"IF(D208=\"\",\"\",CM208)","v":""},{"$f":"IF(D208=\"\",\"\",CU208&\" \"&CV208)","v":""}]
[null,null,null,null,null,null,null,null,null,null,"","","","",{"$f":"IF(D209=\"\",\"\",$E$4-H209)","v":""},{"$f":"IF(D209=\"\",\"\",IF(N209=0,VALUE(0),D209))","v":""},null,null,null,null,null,{"$f":"IF(D209=\"\",\"\",IF(H209-$T$16>0,H209-$T$16,0))","v":""},{"$f":"IF(D209=\"\",\"\",H209/$T$16)","v":""},null,null,null,null,null,{"$f":"IF(D209=\"\",\"\",IF(H209>=$E$4,H209,$E$4))","v":""},{"$f":"IF(D209=\"\",\"\",AC209-H209)","v":""},{"$f":"IF(D209=\"\",\"\",D209*(AD209*(1+($O$6+$O$7))))","v":""},{"$f":"IF(D209=\"\",\"\",IF(AC209-$E$4>=0,VALUE(0),($E$4-AC209)*D209))","v":""},{"$f":"IF(D209=\"\",\"\",IF(AC209-$E$4>=0,VALUE(0),D209))","v":""},null,null,null,null,"",{"$f":"IF(D209=\"\",\"\",AL209-H209)","v":""},{"$f":"IF(D209=\"\",\"\",D209*(AM209*(1+($O$6+$O$7))))","v":""},{"$f":"IF(D209=\"\",\"\",IF(AL209-$E$4>=0,VALUE(0),($E$4-AL209)*D209))","v":""},{"$f":"IF(D209=\"\",\"\",IF(AL209-$E$4>=0,VALUE(0),D209))","v":""},null,null,null,null,null,null,"",{"$f":"IF(D209=\"\",\"\",D209*($AV$16*(1+($O$6+$O$7))))","v":""},{"$f":"IF(D209=\"\",\"\",IF(AW209-$E$4>=0,VALUE(0),($E$4-AW209)*D209))","v":""},{"$f":"IF(D209=\"\",\"\",IF(AW209-$E$4>=0,VALUE(0),D209))","v":""},null,null,null,null,{"$f":"IF(D209=\"\",\"\",IF((H209*(1+$BI$10/100))>(H209+$BI$11),(H209*(1+$BI$10/100)),(H209+$BI$11)))","v":""},{"$f":"IF(D209=\"\",\"\",BE209-H209)","v":""},{"$f":"IF(D209=\"\",\"\",D209*(BF209*(1+(($O$6+$O$7)))))","v":""},{"$f":"IF(D209=\"\",\"\",IF(BE209-$E$4>=0,VALUE(0),($E$4-BE209)*D209))","v":""},{"$f":"IF(D209=\"\",\"\",IF(BE209-$E$4>=0,VALUE(0),D209))","v":""},null,null,null,null,null,"",{"$f":"IF(D209=\"\",\"\",IF(H209<$E$4,$E$4,IF($BS$6=0,\"especificar el escenario\",IF($BS$6=1,H209*(1+$BS$11),IF($BS$6=2,H209+($AA$16*$BS$11))))))","v":""},"","","",null,null,null,null,null,null,{"$f":"H209","v":0},{"$f":"'Scenario specification'!H288/100","v":0},"","","","","",null,null,null,null,null,null,"","","","",null,null,null,null,"","","","","","","","","","",""]
[null,null,null,null,null,null,null,null,null,null,"","","","","","",null,null,null,null,null,"","",null,null,null,null,null,"","","","","",null,null,null,null,"","","","","",null,null,null,null,null,null,"","","","",null,null,null,null,"","","","","",null,null,null,null,null,"","","","","",null,null,null,null,null,null,0,{"$f":"'Scenario specification'!H289/100","v":0},"","","","","",null,null,null,null,null,null,"","","","",null,null,null,null,"","","","","","","","","","",""]
[null,null,null,null,null,null,null,null,null,null,"","","","","","",null,null,null,null,null,"","",null,null,null,null,null,"","","","","",null,null,null,null,"","","","","",null,null,null,null,null,null,{"$f":"IF(D211=\"\",\"\",IF($AX$7=0,\"especificar el escenario\",IF($AX$7=2,IF(H211>=$E$4,H211,H211+$AV$16),IF($AX$7=1,$AV$16+H211,\"especificar el escenario\"))))","v":""},"","","",null,null,null,null,"","","","","",null,null,null,null,null,"","","","","",null,null,null,null,null,null,0,{"$f":"'Scenario specification'!H290/100","v":0},"","","","","",null,null,null,null,null,null,"","","","",null,null,null,null,"","","","","","","","","","",""]
[null,null,null,null,null,null,null,null,null,null,"","","","","","",null,null,null,null,null,"","",null,null,null,null,null,"","","","","",null,null,null,null,{"$f":"IF(D212=\"\",\"\",IF($AQ$7=0,\"especificar el escenario\",IF($AQ$7=2,IF(H212>=$E$4,H212,H212+$U$16),IF($AQ$7=1,H212+$U$16,\"\"))))","v":""},"","","","",null,null,null,null,null,null,"","","","",null,null,null,null,"","","","","",null,null,null,null,null,"","","","","",null,null,null,null,null,null,0,{"$f":"'Scenario specification'!H291/100","v":0},"","","","","",null,null,null,null,null,null,"","","","",null,null,null,null,"","","","","","","","","","",""]
[null,null,null,null,null,null,null,null,null,null,"","","","","","",null,null,null,null,null,"","",null,null,null,null,null,"","","","","",null,null,null,null,"","","","","",null,null,null,null,null,null,"","","","",null,null,null,null,"","","","","",null,null,null,null,null,"","","","","",null,null,null,null,null,null,0,{"$f":"'Scenario specification'!H292/100","v":0},"","","","","",null,null,null,null,null,null,"","","","",null,null,null,null,"","","","","","","","","","",""]
[null,null,null,null,null,null,null,null,null,null,"","","","","","",null,null,null,null,null,"","",null,null,null,null,null,"","","","","",null,null,null,null,"","","","","",null,null,null,null,null,null,"","","","",null,null,null,null,"","","","","",null,null,null,null,null,"","","","","",null,null,null,null,null,null,0,{"$f":"'Scenario specification'!H293/100","v":0},"","","","","",null,null,null,null,null,null,"","","","",null,null,null,null,"","","","","","","","","","",""]
[null,null,null,null,null,null,null,null,null,null,"","","","","","",null,null,null,null,null,"","",null,null,null,null,null,"","","","","",null,null,null,null,"","","","","",null,null,null,null,null,null,"","","","",null,null,null,null,"","","","","",null,null,null,null,null,"","","","","",null,null,null,null,null,null,0,{"$f":"'Scenario specification'!H294/100","v":0},"","","","","",null,null,null,null,null,null,"","","","",null,null,null,null,"","","","","","","","","","",""]
[null,null,null,null,null,null,null,null,null,null,{"$f":"IF(D216=\"\",\"\",H216*D216)","v":""},{"$f":"IF(D216=\"\",\"\",IF(H216>=$E$4,0,K216))","v":""},{"$f":"IF(D216=\"\",\"\",IF(H216>=$E$4,0,$E$4-H216))","v":""},{"$f":"IF(D216=\"\",\"\",M216*D216)","v":""},"","",null,null,null,null,null,"","",null,null,null,null,null,"","","","","",null,null,null,null,"","","","","",null,null,null,null,null,null,"","","","",null,null,null,null,"","","","","",null,null,null,null,null,"","","","","",null,null,null,null,null,null,0,{"$f":"'Scenario specification'!H295/100","v":0},"","","","","",null,null,null,null,null,null,"","","","",null,null,null,null,"","","","","","","","","","",""]
[null,null,null,null,null,null,null,null,null,null,"","","","","","",null,null,null,null,null,"","",null,null,null,null,null,"","","","","",null,null,null,null,"","","","","",null,null,null,null,null,null,"","","","",null,null,null,null,"","","","","",null,null,null,null,null,"","","","","",null,null,null,null,null,null,0,{"$f":"'Scenario specification'!H296/100","v":0},"","","","","",null,null,null,null,null,null,"","","","",null,null,null,null,"","","","","","","","","","",""]
[null,null,null,null,null,null,null,null,null,null,"","","","","","",null,null,null,null,null,"","",null,null,null,null,null,"","","","","",null,null,null,null,"","","","","",null,null,null,null,null,null,"","","","",null,null,null,null,"","","","","",null,null,null,null,null,"","","","","",null,null,null,null,null,null,0,{"$f":"'Scenario specification'!H297/100","v":0},"","","","","",null,null,null,null,null,null,"","","","",null,null,null,null,"","","","","","","","","","",""]
[null,null,null,null,null,null,null,null,null,null,"","","","","","",null,null,null,null,null,"","",null,null,null,null,null,"","","","","",null,null,null,null,"","","","","",null,null,null,null,null,null,"","","","",null,null,null,null,"","","","","",null,null,null,null,null,"","","","","",null,null,null,null,null,null,0,{"$f":"'Scenario specification'!H298/100","v":0},"","","","","",null,null,null,null,null,null,"","","","",null,null,null,null,"","","","","","","","","","",""]
[null,null,null,null,null,null,null,null,null,null,"","","","","","",null,null,null,null,null,"","",null,null,null,null,null,"","","","","",null,null,null,null,"","","","","",null,null,null,null,null,null,"","","","",null,null,null,null,"","","","","",null,null,null,null,null,"","","","","",null,null,null,null,null,null,0,{"$f":"'Scenario specification'!H299/100","v":0},"","","","","",null,null,null,null,null,null,"","","","",null,null,null,null,"","","","","","","","","","",""]
[null,null,null,null,null,null,null,null,null,null,"","","","","","",null,null,null,null,null,"","",null,null,null,null,null,"","","","","",null,null,null,null,"","","","","",null,null,null,null,null,null,"","","","",null,null,null,null,"","","","","",null,null,null,null,null,"","","","","",null,null,null,null,null,null,0,{"$f":"'Scenario specification'!H300/100","v":0},"","","","","",null,null,null,null,null,null,"","","","",null,null,null,null,"","","","","","","","","","",""]
[null,null,null,null,null,null,null,null,null,null,"","","","","","",null,null,null,null,null,"","",null,null,null,null,null,"","","","","",null,null,null,null,"","","","","",null,null,null,null,null,null,"","","","",null,null,null,null,"","","","","",null,null,null,null,null,"","","","","",null,null,null,null,null,null,0,{"$f":"'Scenario specification'!H301/100","v":0},"","","","","",null,null,null,null,null,null,"","","","",null,null,null,null,"","","","","","","","","","",""]
[null,null,null,null,null,null,null,null,null,null,"","","","","","",null,null,null,null,null,"","",null,null,null,null,null,"","","","","",null,null,null,null,"","","","","",null,null,null,null,null,null,"","","","",null,null,null,null,"","","","","",null,null,null,null,null,"","","","","",null,null,null,null,null,null,0,{"$f":"'Scenario specification'!H302/100","v":0},"","","","","",null,null,null,null,null,null,"","","","",null,null,null,null,"","","","","","","","","","",""]
[null,null,null,null,null,null,null,null,null,null,"","","","","","",null,null,null,null,null,"","",null,null,null,null,null,"","","","","",null,null,null,null,"","","","","",null,null,null,null,null,null,"","","","",null,null,null,null,"","","","","",null,null,null,null,null,"","","","","",null,null,null,null,null,null,0,{"$f":"'Scenario specification'!H303/100","v":0},"","","","","",null,null,null,null,null,null,"","","","",null,null,null,null,"","","","","","","","","","",""]
[null,null,null,null,null,null,null,null,null,null,"","","","","","",null,null,null,null,null,"","",null,null,null,null,null,"","","","","",null,null,null,null,"","","","","",null,null,null,null,null,null,"","","","",null,null,null,null,"","","","","",null,null,null,null,null,"","","","","",null,null,null,null,null,null,0,{"$f":"'Scenario specification'!H304/100","v":0},"","","","","",null,null,null,null,null,null,"","","","",null,null,null,null,"","","","","","","","","","",""]
[null,null,null,null,null,null,null,null,null,null,"","","","","","",null,null,null,null,null,"","",null,null,null,null,null,"","","","","",null,null,null,null,"","","","","",null,null,null,null,null,null,"","","","",null,null,null,null,"","","","","",null,null,null,null,null,"","","","","",null,null,null,null,null,null,0,{"$f":"'Scenario specification'!H305/100","v":0},"","","","","",null,null,null,null,null,null,"","","","",null,null,null,null,"","","","","","","","","","",""]
[null,null,null,null,null,null,null,null,null,null,"","","","","","",null,null,null,null,null,"","",null,null,null,null,null,"","","","","",null,null,null,null,"","","","","",null,null,null,null,null,null,"","","","",null,null,null,null,"","","","","",null,null,null,null,null,"","","","","",null,null,null,null,null,null,0,{"$f":"'Scenario specification'!H306/100","v":0},"","","","","",null,null,null,null,null,null,"","","","",null,null,null,null,"","","","","","","","","","",""]
[null,null,null,null,null,null,null,null,null,null,"","","","","","",null,null,null,null,null,"","",null,null,null,null,null,"","","","","",null,null,null,null,"","","","","",null,null,null,null,null,null,"","","","",null,null,null,null,"","","","","",null,null,null,null,null,"","","","","",null,null,null,null,null,null,0,{"$f":"'Scenario specification'!H307/100","v":0},"","","","","",null,null,null,null,null,null,"","","","",null,null,null,null,"","","","","","","","","","",""]
[null,null,null,null,null,null,null,null,null,null,"","","","","","",null,null,null,null,null,"","",null,null,null,null,null,"","","","","",null,null,null,null,"","","","","",null,null,null,null,null,null,"","","","",null,null,null,null,"","","","","",null,null,null,null,null,"","","","","",null,null,null,null,null,null,0,{"$f":"'Scenario specification'!H308/100","v":0},"","","","","",null,null,null,null,null,null,"","","","",null,null,null,null,"","","","","","","","","","",""]
[null,null,null,null,null,null,null,null,null,null,"","","","","","",null,null,null,null,null,"","",null,null,null,null,null,"","","","","",null,null,null,null,"","","","","",null,null,null,null,null,null,"","","","",null,null,null,null,"","","","","",null,null,null,null,null,"","","","","",null,null,null,null,null,null,0,{"$f":"'Scenario specification'!H309/100","v":0},"","","","","",null,null,null,null,null,null,"","","","",null,null,null,null,"","","","","","","","","","",""]
[null,null,null,null,null,null,null,null,null,null,"","","","","","",null,null,null,null,null,"","",null,null,null,null,null,"","","","","",null,null,null,null,"","","","","",null,null,null,null,null,null,"","","","",null,null,null,null,"","","","","",null,null,null,null,null,"","","","","",null,null,null,null,null,null,0,{"$f":"'Scenario specification'!H310/100","v":0},"","","","","",null,null,null,null,null,null,"","","","",null,null,null,null,"","","","","","","","","","",""]
[null,null,null,null,null,null,null,null,null,null,"","","","","","",null,null,null,null,null,"","",null,null,null,null,null,"","","","","",null,null,null,null,"","","","","",null,null,null,null,null,null,"","","","",null,null,null,null,"","","","","",null,null,null,null,null,"","","","","",null,null,null,null,null,null,0,{"$f":"'Scenario specification'!H311/100","v":0},"","","","","",null,null,null,null,null,null,"","","","",null,null,null,null,"","","","","","","","","","",""]
[null,null,null,null,null,null,null,null,null,null,"","","","","","",null,null,null,null,null,"","",null,null,null,null,null,"","","","","",null,null,null,null,"","","","","",null,null,null,null,null,null,"","","","",null,null,null,null,"","","","","",null,null,null,null,null,"","","","","",null,null,null,null,null,null,0,{"$f":"'Scenario specification'!H312/100","v":0},"","","","","",null,null,null,null,null,null,"","","","",null,null,null,null,"","","","","","","","","","",""]
[null,null,null,null,null,null,null,null,null,null,"","","","","","",null,null,null,null,null,"","",null,null,null,null,null,"","","","","",null,null,null,null,"","","","","",null,null,null,null,null,null,"","","","",null,null,null,null,"","","","","",null,null,null,null,null,"","","","","",null,null,null,null,null,null,0,{"$f":"'Scenario specification'!H313/100","v":0},"","","","","",null,null,null,null,null,null,"","","","",null,null,null,null,"","","","","","","","","","",""]
[null,null,null,null,null,null,null,null,null,null,"","","","","","",null,null,null,null,null,"","",null,null,null,null,null,"","","","","",null,null,null,null,"","","","","",null,null,null,null,null,null,"","","","",null,null,null,null,"","","","","",null,null,null,null,null,"","","","","",null,null,null,null,null,null,0,{"$f":"'Scenario specification'!H314/100","v":0},"","","","","",null,null,null,null,null,null,"","","","",null,null,null,null,"","","","","","","","","","",""]
[null,null,null,null,null,null,null,null,null,null,"","","","","","",null,null,null,null,null,"","",null,null,null,null,null,"","","","","",null,null,null,null,"","","","","",null,null,null,null,null,null,"","","","",null,null,null,null,"","","","","",null,null,null,null,null,"","","","","",null,null,null,null,null,null,0,{"$f":"'Scenario specification'!H315/100","v":0},"","","","","",null,null,null,null,null,null,"","","","",null,null,null,null,"","","","","","","","","","",""]
[null,null,null,null,null,null,null,null,null,null,"","","","","","",null,null,null,null,null,"","",null,null,null,null,null,"","","","","",null,null,null,null,"","","","","",null,null,null,null,null,null,"","","","",null,null,null,null,"","","","","",null,null,null,null,null,"","","","","",null,null,null,null,null,null,0,{"$f":"'Scenario specification'!H316/100","v":0},"","","","","",null,null,null,null,null,null,"","","","",null,null,null,null,"","","","","","","","","","",""]
[null,null,null,null,null,null,null,null,null,null,"","","","","","",null,null,null,null,null,"","",null,null,null,null,null,"","","","","",null,null,null,null,"","","","","",null,null,null,null,null,null,"","","","",null,null,null,null,"","","","","",null,null,null,null,null,"","","","","",null,null,null,null,null,null,0,{"$f":"'Scenario specification'!H317/100","v":0},"","","","","",null,null,null,null,null,null,"","","","",null,null,null,null,"","","","","","","","","","",""]
[null,null,null,null,null,null,null,null,null,null,"","","","","","",null,null,null,null,null,"","",null,null,null,null,null,"","","","","",null,null,null,null,"","","","","",null,null,null,null,null,null,"","","","",null,null,null,null,"","","","","",null,null,null,null,null,"","","","","",null,null,null,null,null,null,0,{"$f":"'Scenario specification'!H318/100","v":0},"","","","","",null,null,null,null,null,null,"","","","",null,null,null,null,"","","","","","","","","","",""]
[null,null,null,null,null,null,null,null,null,null,"","","","","","",null,null,null,null,null,"","",null,null,null,null,null,"","","","","",null,null,null,null,"","","","","",null,null,null,null,null,null,"","","","",null,null,null,null,"","","","","",null,null,null,null,null,"","","","","",null,null,null,null,null,null,0,{"$f":"'Scenario specification'!H319/100","v":0},"","","","","",null,null,null,null,null,null,"","","","",null,null,null,null,"","","","","","","","","","",""]
[null,null,null,null,null,null,null,null,null,null,"","","","","","",null,null,null,null,null,"","",null,null,null,null,null,"","","","","",null,null,null,null,"","","","","",null,null,null,null,null,null,"","","","",null,null,null,null,"","","","","",null,null,null,null,null,"","","","","",null,null,null,null,null,null,0,{"$f":"'Scenario specification'!H320/100","v":0},"","","","","",null,null,null,null,null,null,"","","","",null,null,null,null,"","","","","","","","","","",""]
[null,null,null,null,null,null,null,null,null,null,"","","","","","",null,null,null,null,null,"","",null,null,null,null,null,"","","","","",null,null,null,null,"","","","","",null,null,null,null,null,null,"","","","",null,null,null,null,"","","","","",null,null,null,null,null,"","","","","",null,null,null,null,null,null,0,{"$f":"'Scenario specification'!H321/100","v":0},"","","","","",null,null,null,null,null,null,"","","","",null,null,null,null,"","","","","","","","","","",""]
[null,null,null,null,null,null,null,null,null,null,"","","","","","",null,null,null,null,null,"","",null,null,null,null,null,"","","","","",null,null,null,null,"","","","","",null,null,null,null,null,null,"","","","",null,null,null,null,"","","","","",null,null,null,null,null,"","","","","",null,null,null,null,null,null,0,{"$f":"'Scenario specification'!H322/100","v":0},"","","","","",null,null,null,null,null,null,"","","","",null,null,null,null,"","","","","","","","","","",""]
[null,null,null,null,null,null,null,null,null,null,"","","","","","",null,null,null,null,null,"","",null,null,null,null,null,"","","","","",null,null,null,null,"","","","","",null,null,null,null,null,null,"","","","",null,null,null,null,"","","","","",null,null,null,null,null,"","","","","",null,null,null,null,null,null,0,{"$f":"'Scenario specification'!H323/100","v":0},"","","","","",null,null,null,null,null,null,"","","","",null,null,null,null,"","","","","","","","","","",""]
[null,null,null,null,null,null,null,null,null,null,"","","","","","",null,null,null,null,null,"","",null,null,null,null,null,"","","","","",null,null,null,null,"","","","","",null,null,null,null,null,null,"","","","",null,null,null,null,"","","","","",null,null,null,null,null,"","","","","",null,null,null,null,null,null,0,{"$f":"'Scenario specification'!H324/100","v":0},"","","","","",null,null,null,null,null,null,"","","","",null,null,null,null,"","","","","","","","","","",""]
[null,null,null,null,null,null,null,null,null,null,"","","","","","",null,null,null,null,null,"","",null,null,null,null,null,"","","","","",null,null,null,null,"","","","","",null,null,null,null,null,null,"","","","",null,null,null,null,"","","","","",null,null,null,null,null,"","","","","",null,null,null,null,null,null,0,{"$f":"'Scenario specification'!H325/100","v":0},"","","","","",null,null,null,null,null,null,"","","","",null,null,null,null,"","","","","","","","","","",""]
[null,null,null,null,null,null,null,null,null,null,"","","","","","",null,null,null,null,null,"","",null,null,null,null,null,"","","","","",null,null,null,null,"","","","","",null,null,null,null,null,null,"","","","",null,null,null,null,"","","","","",null,null,null,null,null,"","","","","",null,null,null,null,null,null,0,{"$f":"'Scenario specification'!H326/100","v":0},"","","","","",null,null,null,null,null,null,"","","","",null,null,null,null,"","","","","","","","","","",""]
[null,null,null,null,null,null,null,null,null,null,"","","","","","",null,null,null,null,null,"","",null,null,null,null,null,"","","","","",null,null,null,null,"","","","","",null,null,null,null,null,null,"","","","",null,null,null,null,"","","","","",null,null,null,null,null,"","","","","",null,null,null,null,null,null,0,{"$f":"'Scenario specification'!H327/100","v":0},"","","","","",null,null,null,null,null,null,"","","","",null,null,null,null,"","","","","","","","","","",""]
[null,null,null,null,null,null,null,null,null,null,"","","","","","",null,null,null,null,null,"","",null,null,null,null,null,"","","","","",null,null,null,null,"","","","","",null,null,null,null,null,null,"","","","",null,null,null,null,"","","","","",null,null,null,null,null,"","","","","",null,null,null,null,null,null,0,{"$f":"'Scenario specification'!H328/100","v":0},"","","","","",null,null,null,null,null,null,"","","","",null,null,null,null,"","","","","","","","","","",""]
[null,null,null,null,null,null,null,null,null,null,"","","","","","",null,null,null,null,null,"","",null,null,null,null,null,"","","","","",null,null,null,null,"","","","","",null,null,null,null,null,null,"","","","",null,null,null,null,"","","","","",null,null,null,null,null,"","","","","",null,null,null,null,null,null,0,{"$f":"'Scenario specification'!H329/100","v":0},"","","","","",null,null,null,null,null,null,"","","","",null,null,null,null,"","","","","","","","","","",""]
[null,null,null,null,null,null,null,null,null,null,"","","","","","",null,null,null,null,null,"","",null,null,null,null,null,"","","","","",null,null,null,null,"","","","","",null,null,null,null,null,null,"","","","",null,null,null,null,"","","","","",null,null,null,null,null,"","","","","",null,null,null,null,null,null,0,{"$f":"'Scenario specification'!H330/100","v":0},"","","","","",null,null,null,null,null,null,"","","","",null,null,null,null,"","","","","","","","","","",""]
[null,null,null,null,null,null,null,null,null,null,"","","","","","",null,null,null,null,null,"","",null,null,null,null,null,"","","","","",null,null,null,null,"","","","","",null,null,null,null,null,null,"","","","",null,null,null,null,"","","","","",null,null,null,null,null,"","","","","",null,null,null,null,null,null,0,{"$f":"'Scenario specification'!H331/100","v":0},"","","","","",null,null,null,null,null,null,"","","","",null,null,null,null,"","","","","","","","","","",""]
[null,null,null,null,null,null,null,null,null,null,"","","","","","",null,null,null,null,null,"","",null,null,null,null,null,"","","","","",null,null,null,null,"","","","","",null,null,null,null,null,null,"","","","",null,null,null,null,"","","","","",null,null,null,null,null,"","","","","",null,null,null,null,null,null,0,{"$f":"'Scenario specification'!H332/100","v":0},"","","","","",null,null,null,null,null,null,"","","","",null,null,null,null,"","","","","","","","","","",""]
[null,null,null,null,null,null,null,null,null,null,"","","","","","",null,null,null,null,null,"","",null,null,null,null,null,"","","","","",null,null,null,null,"","","","","",null,null,null,null,null,null,"","","","",null,null,null,null,"","","","","",null,null,null,null,null,"","","","","",null,null,null,null,null,null,0,{"$f":"'Scenario specification'!H333/100","v":0},"","","","","",null,null,null,null,null,null,"","","","",null,null,null,null,"","","","","","","","","","",""]
[null,null,null,null,null,null,null,null,null,null,"","","","","","",null,null,null,null,null,"","",null,null,null,null,null,"","","","","",null,null,null,null,"","","","","",null,null,null,null,null,null,"","","","",null,null,null,null,"","","","","",null,null,null,null,null,"","","","","",null,null,null,null,null,null,0,{"$f":"'Scenario specification'!H334/100","v":0},"","","","","",null,null,null,null,null,null,"","","","",null,null,null,null,"","","","","","","","","","",""]
[null,null,null,null,null,null,null,null,null,null,"","","","","","",null,null,null,null,null,"","",null,null,null,null,null,"","","","","",null,null,null,null,"","","","","",null,null,null,null,null,null,"","","","",null,null,null,null,"","","","","",null,null,null,null,null,"","","","","",null,null,null,null,null,null,0,{"$f":"'Scenario specification'!H335/100","v":0},"","","","","",null,null,null,null,null,null,"","","","",null,null,null,null,"","","","","","","","","","",""]
[null,null,null,null,null,null,null,null,null,null,"","","","","","",null,null,null,null,null,"","",null,null,null,null,null,"","","","","",null,null,null,null,"","","","","",null,null,null,null,null,null,"","","","",null,null,null,null,"","","","","",null,null,null,null,null,"","","","","",null,null,null,null,null,null,0,{"$f":"'Scenario specification'!H336/100","v":0},"","","","","",null,null,null,null,null,null,"","","","",null,null,null,null,"","","","","","","","","","",""]
[null,null,null,null,null,null,null,null,null,null,"","","","","","",null,null,null,null,null,"","",null,null,null,null,null,"","","","","",null,null,null,null,"","","","","",null,null,null,null,null,null,"","","","",null,null,null,null,"","","","","",null,null,null,null,null,"","","","","",null,null,null,null,null,null,0,{"$f":"'Scenario specification'!H337/100","v":0},"","","","","",null,null,null,null,null,null,"","","","",null,null,null,null,"","","","","","","","","","",""]
[null,null,null,null,null,null,null,null,null,null,"","","","","","",null,null,null,null,null,"","",null,null,null,null,null,"","","","","",null,null,null,null,"","","","","",null,null,null,null,null,null,"","","","",null,null,null,null,"","","","","",null,null,null,null,null,"","","","","",null,null,null,null,null,null,0,{"$f":"'Scenario specification'!H338/100","v":0},"","","","","",null,null,null,null,null,null,"","","","",null,null,null,null,"","","","","","","","","","",""]
[null,null,null,null,null,null,null,null,null,null,"","","","","","",null,null,null,null,null,"","",null,null,null,null,null,"","","","","",null,null,null,null,"","","","","",null,null,null,null,null,null,"","","","",null,null,null,null,"","","","","",null,null,null,null,null,"","","","","",null,null,null,null,null,null,0,{"$f":"'Scenario specification'!H339/100","v":0},"","","","","",null,null,null,null,null,null,"","","","",null,null,null,null,"","","","","","","","","","",""]
[null,null,null,null,null,null,null,null,null,null,"","","","","","",null,null,null,null,null,"","",null,null,null,null,null,"","","","","",null,null,null,null,"","","","","",null,null,null,null,null,null,"","","","",null,null,null,null,"","","","","",null,null,null,null,null,"","","","","",null,null,null,null,null,null,0,{"$f":"'Scenario specification'!H340/100","v":0},"","","","","",null,null,null,null,null,null,"","","","",null,null,null,null,"","","","","","","","","","",""]
[null,null,null,null,null,null,null,null,null,null,"","","","","","",null,null,null,null,null,"","",null,null,null,null,null,"","","","","",null,null,null,null,"","","","","",null,null,null,null,null,null,"","","","",null,null,null,null,"","","","","",null,null,null,null,null,"","","","","",null,null,null,null,null,null,0,{"$f":"'Scenario specification'!H341/100","v":0},"","","","","",null,null,null,null,null,null,"","","","",null,null,null,null,"","","","","","","","","","",""]
[null,null,null,null,null,null,null,null,null,null,"","","","","","",null,null,null,null,null,"","",null,null,null,null,null,"","","","","",null,null,null,null,"","","","","",null,null,null,null,null,null,"","","","",null,null,null,null,"","","","","",null,null,null,null,null,"","","","","",null,null,null,null,null,null,0,{"$f":"'Scenario specification'!H342/100","v":0},"","","","","",null,null,null,null,null,null,"","","","",null,null,null,null,"","","","","","","","","","",""]
[null,null,null,null,null,null,null,null,null,null,"","","","","","",null,null,null,null,null,"","",null,null,null,null,null,"","","","","",null,null,null,null,"","","","","",null,null,null,null,null,null,"","","","",null,null,null,null,"","","","","",null,null,null,null,null,"","","","","",null,null,null,null,null,null,0,{"$f":"'Scenario specification'!H343/100","v":0},"","","","","",null,null,null,null,null,null,"","","","",null,null,null,null,"","","","","","","","","","",""]
[null,null,null,null,null,null,null,null,null,null,"","","","","","",null,null,null,null,null,"","",null,null,null,null,null,"","","","","",null,null,null,null,"","","","","",null,null,null,null,null,null,"","","","",null,null,null,null,"","","","","",null,null,null,null,null,"","","","","",null,null,null,null,null,null,0,{"$f":"'Scenario specification'!H344/100","v":0},"","","","","",null,null,null,null,null,null,"","","","",null,null,null,null,"","","","","","","","","","",""]
[null,null,null,null,null,null,null,null,null,null,"","","","","","",null,null,null,null,null,"","",null,null,null,null,null,"","","","","",null,null,null,null,"","","","","",null,null,null,null,null,null,"","","","",null,null,null,null,"","","","","",null,null,null,null,null,"","","","","",null,null,null,null,null,null,0,{"$f":"'Scenario specification'!H345/100","v":0},"","","","","",null,null,null,null,null,null,"","","","",null,null,null,null,"","","","","","","","","","",""]
[null,null,null,null,null,null,null,null,null,null,"","","","","","",null,null,null,null,null,"","",null,null,null,null,null,"","","","","",null,null,null,null,"","","","","",null,null,null,null,null,null,"","","","",null,null,null,null,"","","","","",null,null,null,null,null,"","","","","",null,null,null,null,null,null,0,{"$f":"'Scenario specification'!H346/100","v":0},"","","","","",null,null,null,null,null,null,"","","","",null,null,null,null,"","","","","","","","","","",""]
[null,null,null,null,null,null,null,null,null,null,"","","","","","",null,null,null,null,null,"","",null,null,null,null,null,"","","","","",null,null,null,null,"","","","","",null,null,null,null,null,null,"","","","",null,null,null,null,"","","","","",null,null,null,null,null,"","","","","",null,null,null,null,null,null,0,{"$f":"'Scenario specification'!H347/100","v":0},"","","","","",null,null,null,null,null,null,"","","","",null,null,null,null,"","","","","","","","","","",""]
[null,null,null,null,null,null,null,null,null,null,"","","","","","",null,null,null,null,null,"","",null,null,null,null,null,"","","","","",null,null,null,null,"","","","","",null,null,null,null,null,null,"","","","",null,null,null,null,"","","","","",null,null,null,null,null,"","","","","",null,null,null,null,null,null,0,{"$f":"'Scenario specification'!H348/100","v":0},"","","","","",null,null,null,null,null,null,"","","","",null,null,null,null,"","","","","","","","","","",""]
[null,null,null,null,null,null,null,null,null,null,"","","","","","",null,null,null,null,null,"","",null,null,null,null,null,"","","","","",null,null,null,null,"","","","","",null,null,null,null,null,null,"","","","",null,null,null,null,"","","","","",null,null,null,null,null,"","","","","",null,null,null,null,null,null,0,{"$f":"'Scenario specification'!H349/100","v":0},"","","","","",null,null,null,null,null,null,"","","","",null,null,null,null,"","","","","","","","","","",""]
[null,null,null,null,null,null,null,null,null,null,"","","","","","",null,null,null,null,null,"","",null,null,null,null,null,"","","","","",null,null,null,null,"","","","","",null,null,null,null,null,null,"","","","",null,null,null,null,"","","","","",null,null,null,null,null,"","","","","",null,null,null,null,null,null,0,{"$f":"'Scenario specification'!H350/100","v":0},"","","","","",null,null,null,null,null,null,"","","","",null,null,null,null,"","","","","","","","","","",""]
[null,null,null,null,null,null,null,null,null,null,"","","","","","",null,null,null,null,null,"","",null,null,null,null,null,"","","","","",null,null,null,null,"","","","","",null,null,null,null,null,null,"","","","",null,null,null,null,"","","","","",null,null,null,null,null,{"$f":"IF(D272=\"\",\"\",BP272-H272)","v":""},"",{"$f":"IF(D272=\"\",\"\",D272*((BP272-H272)*(1+($O$6+$O$7))))","v":""},{"$f":"IF(D272=\"\",\"\",IF(BP272-$E$4>=0,VALUE(0),($E$4-BP272)*D272))","v":""},{"$f":"IF(D272=\"\",\"\",IF(BP272-$E$4>=0,VALUE(0),D272))","v":""},null,null,null,null,null,null,0,{"$f":"'Scenario specification'!H351/100","v":0},{"$f":"IF(D272=\"\",\"\",CC272-BZ272)","v":""},{"$f":"IF(D272=\"\",\"\",IF($CD$6=0,\"specify scenario\",IF($CD$6=2,(H272+($BY$16*CA272)),IF($CD$6=1,(H272*(1+CA272))))))","v":""},{"$f":"IF(D272=\"\",\"\",D272*(CB272*(1+($O$6+$O$7))))","v":""},{"$f":"IF(D272=\"\",\"\",IF(CC272-$E$4>=0,VALUE(0),($E$4-CC272)*D272))","v":""},{"$f":"IF(D272=\"\",\"\",IF(CC272-$E$4>=0,VALUE(0),D272))","v":""},null,null,null,null,null,null,{"$f":"IF(D272=\"\",\"\",$CL$16+H272)","v":""},{"$f":"IF(D272=\"\",\"\",(CM272-H272)*D272*(1+(($O$6+$O$7)/100)))","v":""},{"$f":"IF(D272=\"\",\"\",IF(CM272-$E$4>=0,VALUE(0),($E$4-CM272)*D272))","v":""},{"$f":"IF(D272=\"\",\"\",IF(CM272-$E$4>=0,VALUE(0),D272))","v":""},null,null,null,null,{"$f":"IF(D272=\"\",\"\",B272)","v":""},{"$f":"IF(D272=\"\",\"\",C272)","v":""},{"$f":"IF(D272=\"\",\"\",H272)","v":""},{"$f":"IF(D272=\"\",\"\",AC272)","v":""},{"$f":"IF(D272=\"\",\"\",AL272)","v":""},{"$f":"IF(D272=\"\",\"\",AW272)","v":""},{"$f":"IF(D272=\"\",\"\",BE272)","v":""},{"$f":"IF(D272=\"\",\"\",BP272)","v":""},{"$f":"IF(D272=\"\",\"\",CC272)","v":""},{"$f":"IF(D272=\"\",\"\",CM272)","v":""},{"$f":"IF(D272=\"\",\"\",CU272&\" \"&CV272)","v":""}]
[null,null,null,null,null,null,null,null,null,null,"","","","",{"$f":"IF(D273=\"\",\"\",$E$4-H273)","v":""},{"$f":"IF(D273=\"\",\"\",IF(N273=0,VALUE(0),D273))","v":""},null,null,null,null,null,{"$f":"IF(D273=\"\",\"\",IF(H273-$T$16>0,H273-$T$16,0))","v":""},{"$f":"IF(D273=\"\",\"\",H273/$T$16)","v":""},null,null,null,null,null,{"$f":"IF(D273=\"\",\"\",IF(H273>=$E$4,H273,$E$4))","v":""},{"$f":"IF(D273=\"\",\"\",AC273-H273)","v":""},{"$f":"IF(D273=\"\",\"\",D273*(AD273*(1+($O$6+$O$7))))","v":""},{"$f":"IF(D273=\"\",\"\",IF(AC273-$E$4>=0,VALUE(0),($E$4-AC273)*D273))","v":""},{"$f":"IF(D273=\"\",\"\",IF(AC273-$E$4>=0,VALUE(0),D273))","v":""},null,null,null,null,"",{"$f":"IF(D273=\"\",\"\",AL273-H273)","v":""},{"$f":"IF(D273=\"\",\"\",D273*(AM273*(1+($O$6+$O$7))))","v":""},{"$f":"IF(D273=\"\",\"\",IF(AL273-$E$4>=0,VALUE(0),($E$4-AL273)*D273))","v":""},{"$f":"IF(D273=\"\",\"\",IF(AL273-$E$4>=0,VALUE(0),D273))","v":""},null,null,null,null,null,null,"",{"$f":"IF(D273=\"\",\"\",D273*($AV$16*(1+($O$6+$O$7))))","v":""},{"$f":"IF(D273=\"\",\"\",IF(AW273-$E$4>=0,VALUE(0),($E$4-AW273)*D273))","v":""},{"$f":"IF(D273=\"\",\"\",IF(AW273-$E$4>=0,VALUE(0),D273))","v":""},null,null,null,null,{"$f":"IF(D273=\"\",\"\",IF((H273*(1+$BI$10/100))>(H273+$BI$11),(H273*(1+$BI$10/100)),(H273+$BI$11)))","v":""},{"$f":"IF(D273=\"\",\"\",BE273-H273)","v":""},{"$f":"IF(D273=\"\",\"\",D273*(BF273*(1+(($O$6+$O$7)))))","v":""},{"$f":"IF(D273=\"\",\"\",IF(BE273-$E$4>=0,VALUE(0),($E$4-BE273)*D273))","v":""},{"$f":"IF(D273=\"\",\"\",IF(BE273-$E$4>=0,VALUE(0),D273))","v":""},null,null,null,null,null,"",{"$f":"IF(D273=\"\",\"\",IF(H273<$E$4,$E$4,IF($BS$6=0,\"especificar el escenario\",IF($BS$6=1,H273*(1+$BS$11),IF($BS$6=2,H273+($AA$16*$BS$11))))))","v":""},"","","",null,null,null,null,null,null,{"$f":"H273","v":0},{"$f":"'Scenario specification'!H352/100","v":0},"","","","","",null,null,null,null,null,null,"","","","",null,null,null,null,"","","","","","","","","","",""]
[null,null,null,null,null,null,null,null,null,null,"","","","","","",null,null,null,null,null,"","",null,null,null,null,null,"","","","","",null,null,null,null,"","","","","",null,null,null,null,null,null,"","","","",null,null,null,null,"","","","","",null,null,null,null,null,"","","","","",null,null,null,null,null,null,0,{"$f":"'Scenario specification'!H353/100","v":0},"","","","","",null,null,null,null,null,null,"","","","",null,null,null,null,"","","","","","","","","","",""]
[null,null,null,null,null,null,null,null,null,null,"","","","","","",null,null,null,null,null,"","",null,null,null,null,null,"","","","","",null,null,null,null,"","","","","",null,null,null,null,null,null,{"$f":"IF(D275=\"\",\"\",IF($AX$7=0,\"especificar el escenario\",IF($AX$7=2,IF(H275>=$E$4,H275,H275+$AV$16),IF($AX$7=1,$AV$16+H275,\"especificar el escenario\"))))","v":""},"","","",null,null,null,null,"","","","","",null,null,null,null,null,"","","","","",null,null,null,null,null,null,0,{"$f":"'Scenario specification'!H354/100","v":0},"","","","","",null,null,null,null,null,null,"","","","",null,null,null,null,"","","","","","","","","","",""]
[null,null,null,null,null,null,null,null,null,null,"","","","","","",null,null,null,null,null,"","",null,null,null,null,null,"","","","","",null,null,null,null,{"$f":"IF(D276=\"\",\"\",IF($AQ$7=0,\"especificar el escenario\",IF($AQ$7=2,IF(H276>=$E$4,H276,H276+$U$16),IF($AQ$7=1,H276+$U$16,\"\"))))","v":""},"","","","",null,null,null,null,null,null,"","","","",null,null,null,null,"","","","","",null,null,null,null,null,"","","","","",null,null,null,null,null,null,0,{"$f":"'Scenario specification'!H355/100","v":0},"","","","","",null,null,null,null,null,null,"","","","",null,null,null,null,"","","","","","","","","","",""]
[null,null,null,null,null,null,null,null,null,null,"","","","","","",null,null,null,null,null,"","",null,null,null,null,null,"","","","","",null,null,null,null,"","","","","",null,null,null,null,null,null,"","","","",null,null,null,null,"","","","","",null,null,null,null,null,"","","","","",null,null,null,null,null,null,0,{"$f":"'Scenario specification'!H356/100","v":0},"","","","","",null,null,null,null,null,null,"","","","",null,null,null,null,"","","","","","","","","","",""]
[null,null,null,null,null,null,null,null,null,null,"","","","","","",null,null,null,null,null,"","",null,null,null,null,null,"","","","","",null,null,null,null,"","","","","",null,null,null,null,null,null,"","","","",null,null,null,null,"","","","","",null,null,null,null,null,"","","","","",null,null,null,null,null,null,0,{"$f":"'Scenario specification'!H357/100","v":0},"","","","","",null,null,null,null,null,null,"","","","",null,null,null,null,"","","","","","","","","","",""]
[null,null,null,null,null,null,null,null,null,null,"","","","","","",null,null,null,null,null,"","",null,null,null,null,null,"","","","","",null,null,null,null,"","","","","",null,null,null,null,null,null,"","","","",null,null,null,null,"","","","","",null,null,null,null,null,"","","","","",null,null,null,null,null,null,0,{"$f":"'Scenario specification'!H358/100","v":0},"","","","","",null,null,null,null,null,null,"","","","",null,null,null,null,"","","","","","","","","","",""]
[null,null,null,null,null,null,null,null,null,null,{"$f":"IF(D280=\"\",\"\",H280*D280)","v":""},{"$f":"IF(D280=\"\",\"\",IF(H280>=$E$4,0,K280))","v":""},{"$f":"IF(D280=\"\",\"\",IF(H280>=$E$4,0,$E$4-H280))","v":""},{"$f":"IF(D280=\"\",\"\",M280*D280)","v":""},"","",null,null,null,null,null,"","",null,null,null,null,null,"","","","","",null,null,null,null,"","","","","",null,null,null,null,null,null,"","","","",null,null,null,null,"","","","","",null,null,null,null,null,"","","","","",null,null,null,null,null,null,0,{"$f":"'Scenario specification'!H359/100","v":0},"","","","","",null,null,null,null,null,null,"","","","",null,null,null,null,"","","","","","","","","","",""]
[null,null,null,null,null,null,null,null,null,null,"","","","","","",null,null,null,null,null,"","",null,null,null,null,null,"","","","","",null,null,null,null,"","","","","",null,null,null,null,null,null,"","","","",null,null,null,null,"","","","","",null,null,null,null,null,"","","","","",null,null,null,null,null,null,0,{"$f":"'Scenario specification'!H360/100","v":0},"","","","","",null,null,null,null,null,null,"","","","",null,null,null,null,"","","","","","","","","","",""]
[null,null,null,null,null,null,null,null,null,null,"","","","","","",null,null,null,null,null,"","",null,null,null,null,null,"","","","","",null,null,null,null,"","","","","",null,null,null,null,null,null,"","","","",null,null,null,null,"","","","","",null,null,null,null,null,"","","","","",null,null,null,null,null,null,0,{"$f":"'Scenario specification'!H361/100","v":0},"","","","","",null,null,null,null,null,null,"","","","",null,null,null,null,"","","","","","","","","","",""]
[null,null,null,null,null,null,null,null,null,null,"","","","","","",null,null,null,null,null,"","",null,null,null,null,null,"","","","","",null,null,null,null,"","","","","",null,null,null,null,null,null,"","","","",null,null,null,null,"","","","","",null,null,null,null,null,"","","","","",null,null,null,null,null,null,0,{"$f":"'Scenario specification'!H362/100","v":0},"","","","","",null,null,null,null,null,null,"","","","",null,null,null,null,"","","","","","","","","","",""]
[null,null,null,null,null,null,null,null,null,null,"","","","","","",null,null,null,null,null,"","",null,null,null,null,null,"","","","","",null,null,null,null,"","","","","",null,null,null,null,null,null,"","","","",null,null,null,null,"","","","","",null,null,null,null,null,"","","","","",null,null,null,null,null,null,0,{"$f":"'Scenario specification'!H363/100","v":0},"","","","","",null,null,null,null,null,null,"","","","",null,null,null,null,"","","","","","","","","","",""]
[null,null,null,null,null,null,null,null,null,null,"","","","","","",null,null,null,null,null,"","",null,null,null,null,null,"","","","","",null,null,null,null,"","","","","",null,null,null,null,null,null,"","","","",null,null,null,null,"","","","","",null,null,null,null,null,"","","","","",null,null,null,null,null,null,0,{"$f":"'Scenario specification'!H364/100","v":0},"","","","","",null,null,null,null,null,null,"","","","",null,null,null,null,"","","","","","","","","","",""]
[null,null,null,null,null,null,null,null,null,null,"","","","","","",null,null,null,null,null,"","",null,null,null,null,null,"","","","","",null,null,null,null,"","","","","",null,null,null,null,null,null,"","","","",null,null,null,null,"","","","","",null,null,null,null,null,"","","","","",null,null,null,null,null,null,0,{"$f":"'Scenario specification'!H365/100","v":0},"","","","","",null,null,null,null,null,null,"","","","",null,null,null,null,"","","","","","","","","","",""]
[null,null,null,null,null,null,null,null,null,null,"","","","","","",null,null,null,null,null,"","",null,null,null,null,null,"","","","","",null,null,null,null,"","","","","",null,null,null,null,null,null,"","","","",null,null,null,null,"","","","","",null,null,null,null,null,"","","","","",null,null,null,null,null,null,0,{"$f":"'Scenario specification'!H366/100","v":0},"","","","","",null,null,null,null,null,null,"","","","",null,null,null,null,"","","","","","","","","","",""]
[null,null,null,null,null,null,null,null,null,null,"","","","","","",null,null,null,null,null,"","",null,null,null,null,null,"","","","","",null,null,null,null,"","","","","",null,null,null,null,null,null,"","","","",null,null,null,null,"","","","","",null,null,null,null,null,"","","","","",null,null,null,null,null,null,0,{"$f":"'Scenario specification'!H367/100","v":0},"","","","","",null,null,null,null,null,null,"","","","",null,null,null,null,"","","","","","","","","","",""]
[null,null,null,null,null,null,null,null,null,null,"","","","","","",null,null,null,null,null,"","",null,null,null,null,null,"","","","","",null,null,null,null,"","","","","",null,null,null,null,null,null,"","","","",null,null,null,null,"","","","","",null,null,null,null,null,"","","","","",null,null,null,null,null,null,0,{"$f":"'Scenario specification'!H368/100","v":0},"","","","","",null,null,null,null,null,null,"","","","",null,null,null,null,"","","","","","","","","","",""]
[null,null,null,null,null,null,null,null,null,null,"","","","","","",null,null,null,null,null,"","",null,null,null,null,null,"","","","","",null,null,null,null,"","","","","",null,null,null,null,null,null,"","","","",null,null,null,null,"","","","","",null,null,null,null,null,"","","","","",null,null,null,null,null,null,0,{"$f":"'Scenario specification'!H369/100","v":0},"","","","","",null,null,null,null,null,null,"","","","",null,null,null,null,"","","","","","","","","","",""]
[null,null,null,null,null,null,null,null,null,null,"","","","","","",null,null,null,null,null,"","",null,null,null,null,null,"","","","","",null,null,null,null,"","","","","",null,null,null,null,null,null,"","","","",null,null,null,null,"","","","","",null,null,null,null,null,"","","","","",null,null,null,null,null,null,0,{"$f":"'Scenario specification'!H370/100","v":0},"","","","","",null,null,null,null,null,null,"","","","",null,null,null,null,"","","","","","","","","","",""]
[null,null,null,null,null,null,null,null,null,null,"","","","","","",null,null,null,null,null,"","",null,null,null,null,null,"","","","","",null,null,null,null,"","","","","",null,null,null,null,null,null,"","","","",null,null,null,null,"","","","","",null,null,null,null,null,"","","","","",null,null,null,null,null,null,0,{"$f":"'Scenario specification'!H371/100","v":0},"","","","","",null,null,null,null,null,null,"","","","",null,null,null,null,"","","","","","","","","","",""]
[null,null,null,null,null,null,null,null,null,null,"","","","","","",null,null,null,null,null,"","",null,null,null,null,null,"","","","","",null,null,null,null,"","","","","",null,null,null,null,null,null,"","","","",null,null,null,null,"","","","","",null,null,null,null,null,"","","","","",null,null,null,null,null,null,0,{"$f":"'Scenario specification'!H372/100","v":0},"","","","","",null,null,null,null,null,null,"","","","",null,null,null,null,"","","","","","","","","","",""]
[null,null,null,null,null,null,null,null,null,null,"","","","","","",null,null,null,null,null,"","",null,null,null,null,null,"","","","","",null,null,null,null,"","","","","",null,null,null,null,null,null,"","","","",null,null,null,null,"","","","","",null,null,null,null,null,"","","","","",null,null,null,null,null,null,0,{"$f":"'Scenario specification'!H373/100","v":0},"","","","","",null,null,null,null,null,null,"","","","",null,null,null,null,"","","","","","","","","","",""]
[null,null,null,null,null,null,null,null,null,null,"","","","","","",null,null,null,null,null,"","",null,null,null,null,null,"","","","","",null,null,null,null,"","","","","",null,null,null,null,null,null,"","","","",null,null,null,null,"","","","","",null,null,null,null,null,"","","","","",null,null,null,null,null,null,0,{"$f":"'Scenario specification'!H374/100","v":0},"","","","","",null,null,null,null,null,null,"","","","",null,null,null,null,"","","","","","","","","","",""]
[null,null,null,null,null,null,null,null,null,null,"","","","","","",null,null,null,null,null,"","",null,null,null,null,null,"","","","","",null,null,null,null,"","","","","",null,null,null,null,null,null,"","","","",null,null,null,null,"","","","","",null,null,null,null,null,"","","","","",null,null,null,null,null,null,0,{"$f":"'Scenario specification'!H375/100","v":0},"","","","","",null,null,null,null,null,null,"","","","",null,null,null,null,"","","","","","","","","","",""]
[null,null,null,null,null,null,null,null,null,null,"","","","","","",null,null,null,null,null,"","",null,null,null,null,null,"","","","","",null,null,null,null,"","","","","",null,null,null,null,null,null,"","","","",null,null,null,null,"","","","","",null,null,null,null,null,"","","","","",null,null,null,null,null,null,0,{"$f":"'Scenario specification'!H376/100","v":0},"","","","","",null,null,null,null,null,null,"","","","",null,null,null,null,"","","","","","","","","","",""]
[null,null,null,null,null,null,null,null,null,null,"","","","","","",null,null,null,null,null,"","",null,null,null,null,null,"","","","","",null,null,null,null,"","","","","",null,null,null,null,null,null,"","","","",null,null,null,null,"","","","","",null,null,null,null,null,"","","","","",null,null,null,null,null,null,0,{"$f":"'Scenario specification'!H377/100","v":0},"","","","","",null,null,null,null,null,null,"","","","",null,null,null,null,"","","","","","","","","","",""]
[null,null,null,null,null,null,null,null,null,null,"","","","","","",null,null,null,null,null,"","",null,null,null,null,null,"","","","","",null,null,null,null,"","","","","",null,null,null,null,null,null,"","","","",null,null,null,null,"","","","","",null,null,null,null,null,"","","","","",null,null,null,null,null,null,0,{"$f":"'Scenario specification'!H378/100","v":0},"","","","","",null,null,null,null,null,null,"","","","",null,null,null,null,"","","","","","","","","","",""]
[null,null,null,null,null,null,null,null,null,null,"","","","","","",null,null,null,null,null,"","",null,null,null,null,null,"","","","","",null,null,null,null,"","","","","",null,null,null,null,null,null,"","","","",null,null,null,null,"","","","","",null,null,null,null,null,"","","","","",null,null,null,null,null,null,0,{"$f":"'Scenario specification'!H379/100","v":0},"","","","","",null,null,null,null,null,null,"","","","",null,null,null,null,"","","","","","","","","","",""]
[null,null,null,null,null,null,null,null,null,null,"","","","","","",null,null,null,null,null,"","",null,null,null,null,null,"","","","","",null,null,null,null,"","","","","",null,null,null,null,null,null,"","","","",null,null,null,null,"","","","","",null,null,null,null,null,"","","","","",null,null,null,null,null,null,0,{"$f":"'Scenario specification'!H380/100","v":0},"","","","","",null,null,null,null,null,null,"","","","",null,null,null,null,"","","","","","","","","","",""]
[null,null,null,null,null,null,null,null,null,null,"","","","","","",null,null,null,null,null,"","",null,null,null,null,null,"","","","","",null,null,null,null,"","","","","",null,null,null,null,null,null,"","","","",null,null,null,null,"","","","","",null,null,null,null,null,"","","","","",null,null,null,null,null,null,0,{"$f":"'Scenario specification'!H381/100","v":0},"","","","","",null,null,null,null,null,null,"","","","",null,null,null,null,"","","","","","","","","","",""]
[null,null,null,null,null,null,null,null,null,null,"","","","","","",null,null,null,null,null,"","",null,null,null,null,null,"","","","","",null,null,null,null,"","","","","",null,null,null,null,null,null,"","","","",null,null,null,null,"","","","","",null,null,null,null,null,"","","","","",null,null,null,null,null,null,0,{"$f":"'Scenario specification'!H382/100","v":0},"","","","","",null,null,null,null,null,null,"","","","",null,null,null,null,"","","","","","","","","","",""]
[null,null,null,null,null,null,null,null,null,null,"","","","","","",null,null,null,null,null,"","",null,null,null,null,null,"","","","","",null,null,null,null,"","","","","",null,null,null,null,null,null,"","","","",null,null,null,null,"","","","","",null,null,null,null,null,"","","","","",null,null,null,null,null,null,0,{"$f":"'Scenario specification'!H383/100","v":0},"","","","","",null,null,null,null,null,null,"","","","",null,null,null,null,"","","","","","","","","","",""]
[null,null,null,null,null,null,null,null,null,null,"","","","","","",null,null,null,null,null,"","",null,null,null,null,null,"","","","","",null,null,null,null,"","","","","",null,null,null,null,null,null,"","","","",null,null,null,null,"","","","","",null,null,null,null,null,"","","","","",null,null,null,null,null,null,0,{"$f":"'Scenario specification'!H384/100","v":0},"","","","","",null,null,null,null,null,null,"","","","",null,null,null,null,"","","","","","","","","","",""]
[null,null,null,null,null,null,null,null,null,null,"","","","","","",null,null,null,null,null,"","",null,null,null,null,null,"","","","","",null,null,null,null,"","","","","",null,null,null,null,null,null,"","","","",null,null,null,null,"","","","","",null,null,null,null,null,"","","","","",null,null,null,null,null,null,0,{"$f":"'Scenario specification'!H385/100","v":0},"","","","","",null,null,null,null,null,null,"","","","",null,null,null,null,"","","","","","","","","","",""]
[null,null,null,null,null,null,null,null,null,null,"","","","","","",null,null,null,null,null,"","",null,null,null,null,null,"","","","","",null,null,null,null,"","","","","",null,null,null,null,null,null,"","","","",null,null,null,null,"","","","","",null,null,null,null,null,"","","","","",null,null,null,null,null,null,0,{"$f":"'Scenario specification'!H386/100","v":0},"","","","","",null,null,null,null,null,null,"","","","",null,null,null,null,"","","","","","","","","","",""]
[null,null,null,null,null,null,null,null,null,null,"","","","","","",null,null,null,null,null,"","",null,null,null,null,null,"","","","","",null,null,null,null,"","","","","",null,null,null,null,null,null,"","","","",null,null,null,null,"","","","","",null,null,null,null,null,"","","","","",null,null,null,null,null,null,0,{"$f":"'Scenario specification'!H387/100","v":0},"","","","","",null,null,null,null,null,null,"","","","",null,null,null,null,"","","","","","","","","","",""]
[null,null,null,null,null,null,null,null,null,null,"","","","","","",null,null,null,null,null,"","",null,null,null,null,null,"","","","","",null,null,null,null,"","","","","",null,null,null,null,null,null,"","","","",null,null,null,null,"","","","","",null,null,null,null,null,"","","","","",null,null,null,null,null,null,0,{"$f":"'Scenario specification'!H388/100","v":0},"","","","","",null,null,null,null,null,null,"","","","",null,null,null,null,"","","","","","","","","","",""]
[null,null,null,null,null,null,null,null,null,null,"","","","","","",null,null,null,null,null,"","",null,null,null,null,null,"","","","","",null,null,null,null,"","","","","",null,null,null,null,null,null,"","","","",null,null,null,null,"","","","","",null,null,null,null,null,"","","","","",null,null,null,null,null,null,0,{"$f":"'Scenario specification'!H389/100","v":0},"","","","","",null,null,null,null,null,null,"","","","",null,null,null,null,"","","","","","","","","","",""]
[null,null,null,null,null,null,null,null,null,null,"","","","","","",null,null,null,null,null,"","",null,null,null,null,null,"","","","","",null,null,null,null,"","","","","",null,null,null,null,null,null,"","","","",null,null,null,null,"","","","","",null,null,null,null,null,"","","","","",null,null,null,null,null,null,0,{"$f":"'Scenario specification'!H390/100","v":0},"","","","","",null,null,null,null,null,null,"","","","",null,null,null,null,"","","","","","","","","","",""]
[null,null,null,null,null,null,null,null,null,null,"","","","","","",null,null,null,null,null,"","",null,null,null,null,null,"","","","","",null,null,null,null,"","","","","",null,null,null,null,null,null,"","","","",null,null,null,null,"","","","","",null,null,null,null,null,"","","","","",null,null,null,null,null,null,0,{"$f":"'Scenario specification'!H391/100","v":0},"","","","","",null,null,null,null,null,null,"","","","",null,null,null,null,"","","","","","","","","","",""]
[null,null,null,null,null,null,null,null,null,null,"","","","","","",null,null,null,null,null,"","",null,null,null,null,null,"","","","","",null,null,null,null,"","","","","",null,null,null,null,null,null,"","","","",null,null,null,null,"","","","","",null,null,null,null,null,"","","","","",null,null,null,null,null,null,0,{"$f":"'Scenario specification'!H392/100","v":0},"","","","","",null,null,null,null,null,null,"","","","",null,null,null,null,"","","","","","","","","","",""]
[null,null,null,null,null,null,null,null,null,null,"","","","","","",null,null,null,null,null,"","",null,null,null,null,null,"","","","","",null,null,null,null,"","","","","",null,null,null,null,null,null,"","","","",null,null,null,null,"","","","","",null,null,null,null,null,"","","","","",null,null,null,null,null,null,0,{"$f":"'Scenario specification'!H393/100","v":0},"","","","","",null,null,null,null,null,null,"","","","",null,null,null,null,"","","","","","","","","","",""]
[null,null,null,null,null,null,null,null,null,null,"","","","","","",null,null,null,null,null,"","",null,null,null,null,null,"","","","","",null,null,null,null,"","","","","",null,null,null,null,null,null,"","","","",null,null,null,null,"","","","","",null,null,null,null,null,"","","","","",null,null,null,null,null,null,0,{"$f":"'Scenario specification'!H394/100","v":0},"","","","","",null,null,null,null,null,null,"","","","",null,null,null,null,"","","","","","","","","","",""]
[null,null,null,null,null,null,null,null,null,null,"","","","","","",null,null,null,null,null,"","",null,null,null,null,null,"","","","","",null,null,null,null,"","","","","",null,null,null,null,null,null,"","","","",null,null,null,null,"","","","","",null,null,null,null,null,"","","","","",null,null,null,null,null,null,0,{"$f":"'Scenario specification'!H395/100","v":0},"","","","","",null,null,null,null,null,null,"","","","",null,null,null,null,"","","","","","","","","","",""]
[null,null,null,null,null,null,null,null,null,null,"","","","","","",null,null,null,null,null,"","",null,null,null,null,null,"","","","","",null,null,null,null,"","","","","",null,null,null,null,null,null,"","","","",null,null,null,null,"","","","","",null,null,null,null,null,"","","","","",null,null,null,null,null,null,0,{"$f":"'Scenario specification'!H396/100","v":0},"","","","","",null,null,null,null,null,null,"","","","",null,null,null,null,"","","","","","","","","","",""]
[null,null,null,null,null,null,null,null,null,null,"","","","","","",null,null,null,null,null,"","",null,null,null,null,null,"","","","","",null,null,null,null,"","","","","",null,null,null,null,null,null,"","","","",null,null,null,null,"","","","","",null,null,null,null,null,"","","","","",null,null,null,null,null,null,0,{"$f":"'Scenario specification'!H397/100","v":0},"","","","","",null,null,null,null,null,null,"","","","",null,null,null,null,"","","","","","","","","","",""]
[null,null,null,null,null,null,null,null,null,null,"","","","","","",null,null,null,null,null,"","",null,null,null,null,null,"","","","","",null,null,null,null,"","","","","",null,null,null,null,null,null,"","","","",null,null,null,null,"","","","","",null,null,null,null,null,"","","","","",null,null,null,null,null,null,0,{"$f":"'Scenario specification'!H398/100","v":0},"","","","","",null,null,null,null,null,null,"","","","",null,null,null,null,"","","","","","","","","","",""]
[null,null,null,null,null,null,null,null,null,null,"","","","","","",null,null,null,null,null,"","",null,null,null,null,null,"","","","","",null,null,null,null,"","","","","",null,null,null,null,null,null,"","","","",null,null,null,null,"","","","","",null,null,null,null,null,"","","","","",null,null,null,null,null,null,0,{"$f":"'Scenario specification'!H399/100","v":0},"","","","","",null,null,null,null,null,null,"","","","",null,null,null,null,"","","","","","","","","","",""]
[null,null,null,null,null,null,null,null,null,null,"","","","","","",null,null,null,null,null,"","",null,null,null,null,null,"","","","","",null,null,null,null,"","","","","",null,null,null,null,null,null,"","","","",null,null,null,null,"","","","","",null,null,null,null,null,"","","","","",null,null,null,null,null,null,0,{"$f":"'Scenario specification'!H400/100","v":0},"","","","","",null,null,null,null,null,null,"","","","",null,null,null,null,"","","","","","","","","","",""]
[null,null,null,null,null,null,null,null,null,null,"","","","","","",null,null,null,null,null,"","",null,null,null,null,null,"","","","","",null,null,null,null,"","","","","",null,null,null,null,null,null,"","","","",null,null,null,null,"","","","","",null,null,null,null,null,"","","","","",null,null,null,null,null,null,0,{"$f":"'Scenario specification'!H401/100","v":0},"","","","","",null,null,null,null,null,null,"","","","",null,null,null,null,"","","","","","","","","","",""]
[null,null,null,null,null,null,null,null,null,null,"","","","","","",null,null,null,null,null,"","",null,null,null,null,null,"","","","","",null,null,null,null,"","","","","",null,null,null,null,null,null,"","","","",null,null,null,null,"","","","","",null,null,null,null,null,"","","","","",null,null,null,null,null,null,0,{"$f":"'Scenario specification'!H402/100","v":0},"","","","","",null,null,null,null,null,null,"","","","",null,null,null,null,"","","","","","","","","","",""]
[null,null,null,null,null,null,null,null,null,null,"","","","","","",null,null,null,null,null,"","",null,null,null,null,null,"","","","","",null,null,null,null,"","","","","",null,null,null,null,null,null,"","","","",null,null,null,null,"","","","","",null,null,null,null,null,"","","","","",null,null,null,null,null,null,0,{"$f":"'Scenario specification'!H403/100","v":0},"","","","","",null,null,null,null,null,null,"","","","",null,null,null,null,"","","","","","","","","","",""]
[null,null,null,null,null,null,null,null,null,null,"","","","","","",null,null,null,null,null,"","",null,null,null,null,null,"","","","","",null,null,null,null,"","","","","",null,null,null,null,null,null,"","","","",null,null,null,null,"","","","","",null,null,null,null,null,"","","","","",null,null,null,null,null,null,0,{"$f":"'Scenario specification'!H404/100","v":0},"","","","","",null,null,null,null,null,null,"","","","",null,null,null,null,"","","","","","","","","","",""]
[null,null,null,null,null,null,null,null,null,null,"","","","","","",null,null,null,null,null,"","",null,null,null,null,null,"","","","","",null,null,null,null,"","","","","",null,null,null,null,null,null,"","","","",null,null,null,null,"","","","","",null,null,null,null,null,"","","","","",null,null,null,null,null,null,0,{"$f":"'Scenario specification'!H405/100","v":0},"","","","","",null,null,null,null,null,null,"","","","",null,null,null,null,"","","","","","","","","","",""]
[null,null,null,null,null,null,null,null,null,null,"","","","","","",null,null,null,null,null,"","",null,null,null,null,null,"","","","","",null,null,null,null,"","","","","",null,null,null,null,null,null,"","","","",null,null,null,null,"","","","","",null,null,null,null,null,"","","","","",null,null,null,null,null,null,0,{"$f":"'Scenario specification'!H406/100","v":0},"","","","","",null,null,null,null,null,null,"","","","",null,null,null,null,"","","","","","","","","","",""]
[null,null,null,null,null,null,null,null,null,null,"","","","","","",null,null,null,null,null,"","",null,null,null,null,null,"","","","","",null,null,null,null,"","","","","",null,null,null,null,null,null,"","","","",null,null,null,null,"","","","","",null,null,null,null,null,"","","","","",null,null,null,null,null,null,0,{"$f":"'Scenario specification'!H407/100","v":0},"","","","","",null,null,null,null,null,null,"","","","",null,null,null,null,"","","","","","","","","","",""]
[null,null,null,null,null,null,null,null,null,null,"","","","","","",null,null,null,null,null,"","",null,null,null,null,null,"","","","","",null,null,null,null,"","","","","",null,null,null,null,null,null,"","","","",null,null,null,null,"","","","","",null,null,null,null,null,"","","","","",null,null,null,null,null,null,0,{"$f":"'Scenario specification'!H408/100","v":0},"","","","","",null,null,null,null,null,null,"","","","",null,null,null,null,"","","","","","","","","","",""]
[null,null,null,null,null,null,null,null,null,null,"","","","","","",null,null,null,null,null,"","",null,null,null,null,null,"","","","","",null,null,null,null,"","","","","",null,null,null,null,null,null,"","","","",null,null,null,null,"","","","","",null,null,null,null,null,"","","","","",null,null,null,null,null,null,0,{"$f":"'Scenario specification'!H409/100","v":0},"","","","","",null,null,null,null,null,null,"","","","",null,null,null,null,"","","","","","","","","","",""]
[null,null,null,null,null,null,null,null,null,null,"","","","","","",null,null,null,null,null,"","",null,null,null,null,null,"","","","","",null,null,null,null,"","","","","",null,null,null,null,null,null,"","","","",null,null,null,null,"","","","","",null,null,null,null,null,"","","","","",null,null,null,null,null,null,0,{"$f":"'Scenario specification'!H410/100","v":0},"","","","","",null,null,null,null,null,null,"","","","",null,null,null,null,"","","","","","","","","","",""]
[null,null,null,null,null,null,null,null,null,null,"","","","","","",null,null,null,null,null,"","",null,null,null,null,null,"","","","","",null,null,null,null,"","","","","",null,null,null,null,null,null,"","","","",null,null,null,null,"","","","","",null,null,null,null,null,"","","","","",null,null,null,null,null,null,0,{"$f":"'Scenario specification'!H411/100","v":0},"","","","","",null,null,null,null,null,null,"","","","",null,null,null,null,"","","","","","","","","","",""]
[null,null,null,null,null,null,null,null,null,null,"","","","","","",null,null,null,null,null,"","",null,null,null,null,null,"","","","","",null,null,null,null,"","","","","",null,null,null,null,null,null,"","","","",null,null,null,null,"","","","","",null,null,null,null,null,"","","","","",null,null,null,null,null,null,0,{"$f":"'Scenario specification'!H412/100","v":0},"","","","","",null,null,null,null,null,null,"","","","",null,null,null,null,"","","","","","","","","","",""]
[null,null,null,null,null,null,null,null,null,null,"","","","","","",null,null,null,null,null,"","",null,null,null,null,null,"","","","","",null,null,null,null,"","","","","",null,null,null,null,null,null,"","","","",null,null,null,null,"","","","","",null,null,null,null,null,"","","","","",null,null,null,null,null,null,0,{"$f":"'Scenario specification'!H413/100","v":0},"","","","","",null,null,null,null,null,null,"","","","",null,null,null,null,"","","","","","","","","","",""]
[null,null,null,null,null,null,null,null,null,null,"","","","","","",null,null,null,null,null,"","",null,null,null,null,null,"","","","","",null,null,null,null,"","","","","",null,null,null,null,null,null,"","","","",null,null,null,null,"","","","","",null,null,null,null,null,"","","","","",null,null,null,null,null,null,0,{"$f":"'Scenario specification'!H414/100","v":0},"","","","","",null,null,null,null,null,null,"","","","",null,null,null,null,"","","","","","","","","","",""]
[null,null,null,null,null,null,null,null,null,null,"","","","","","",null,null,null,null,null,"","",null,null,null,null,null,"","","","","",null,null,null,null,"","","","","",null,null,null,null,null,null,"","","","",null,null,null,null,"","","","","",null,null,null,null,null,{"$f":"IF(D336=\"\",\"\",BP336-H336)","v":""},"",{"$f":"IF(D336=\"\",\"\",D336*((BP336-H336)*(1+($O$6+$O$7))))","v":""},{"$f":"IF(D336=\"\",\"\",IF(BP336-$E$4>=0,VALUE(0),($E$4-BP336)*D336))","v":""},{"$f":"IF(D336=\"\",\"\",IF(BP336-$E$4>=0,VALUE(0),D336))","v":""},null,null,null,null,null,null,0,{"$f":"'Scenario specification'!H415/100","v":0},{"$f":"IF(D336=\"\",\"\",CC336-BZ336)","v":""},{"$f":"IF(D336=\"\",\"\",IF($CD$6=0,\"specify scenario\",IF($CD$6=2,(H336+($BY$16*CA336)),IF($CD$6=1,(H336*(1+CA336))))))","v":""},{"$f":"IF(D336=\"\",\"\",D336*(CB336*(1+($O$6+$O$7))))","v":""},{"$f":"IF(D336=\"\",\"\",IF(CC336-$E$4>=0,VALUE(0),($E$4-CC336)*D336))","v":""},{"$f":"IF(D336=\"\",\"\",IF(CC336-$E$4>=0,VALUE(0),D336))","v":""},null,null,null,null,null,null,{"$f":"IF(D336=\"\",\"\",$CL$16+H336)","v":""},{"$f":"IF(D336=\"\",\"\",(CM336-H336)*D336*(1+(($O$6+$O$7)/100)))","v":""},{"$f":"IF(D336=\"\",\"\",IF(CM336-$E$4>=0,VALUE(0),($E$4-CM336)*D336))","v":""},{"$f":"IF(D336=\"\",\"\",IF(CM336-$E$4>=0,VALUE(0),D336))","v":""},null,null,null,null,{"$f":"IF(D336=\"\",\"\",B336)","v":""},{"$f":"IF(D336=\"\",\"\",C336)","v":""},{"$f":"IF(D336=\"\",\"\",H336)","v":""},{"$f":"IF(D336=\"\",\"\",AC336)","v":""},{"$f":"IF(D336=\"\",\"\",AL336)","v":""},{"$f":"IF(D336=\"\",\"\",AW336)","v":""},{"$f":"IF(D336=\"\",\"\",BE336)","v":""},{"$f":"IF(D336=\"\",\"\",BP336)","v":""},{"$f":"IF(D336=\"\",\"\",CC336)","v":""},{"$f":"IF(D336=\"\",\"\",CM336)","v":""},{"$f":"IF(D336=\"\",\"\",CU336&\" \"&CV336)","v":""}]
[null,null,null,null,null,null,null,null,null,null,"","","","",{"$f":"IF(D337=\"\",\"\",$E$4-H337)","v":""},{"$f":"IF(D337=\"\",\"\",IF(N337=0,VALUE(0),D337))","v":""},null,null,null,null,null,{"$f":"IF(D337=\"\",\"\",IF(H337-$T$16>0,H337-$T$16,0))","v":""},{"$f":"IF(D337=\"\",\"\",H337/$T$16)","v":""},null,null,null,null,null,{"$f":"IF(D337=\"\",\"\",IF(H337>=$E$4,H337,$E$4))","v":""},{"$f":"IF(D337=\"\",\"\",AC337-H337)","v":""},{"$f":"IF(D337=\"\",\"\",D337*(AD337*(1+($O$6+$O$7))))","v":""},{"$f":"IF(D337=\"\",\"\",IF(AC337-$E$4>=0,VALUE(0),($E$4-AC337)*D337))","v":""},{"$f":"IF(D337=\"\",\"\",IF(AC337-$E$4>=0,VALUE(0),D337))","v":""},null,null,null,null,"",{"$f":"IF(D337=\"\",\"\",AL337-H337)","v":""},{"$f":"IF(D337=\"\",\"\",D337*(AM337*(1+($O$6+$O$7))))","v":""},{"$f":"IF(D337=\"\",\"\",IF(AL337-$E$4>=0,VALUE(0),($E$4-AL337)*D337))","v":""},{"$f":"IF(D337=\"\",\"\",IF(AL337-$E$4>=0,VALUE(0),D337))","v":""},null,null,null,null,null,null,"",{"$f":"IF(D337=\"\",\"\",D337*($AV$16*(1+($O$6+$O$7))))","v":""},{"$f":"IF(D337=\"\",\"\",IF(AW337-$E$4>=0,VALUE(0),($E$4-AW337)*D337))","v":""},{"$f":"IF(D337=\"\",\"\",IF(AW337-$E$4>=0,VALUE(0),D337))","v":""},null,null,null,null,{"$f":"IF(D337=\"\",\"\",IF((H337*(1+$BI$10/100))>(H337+$BI$11),(H337*(1+$BI$10/100)),(H337+$BI$11)))","v":""},{"$f":"IF(D337=\"\",\"\",BE337-H337)","v":""},{"$f":"IF(D337=\"\",\"\",D337*(BF337*(1+(($O$6+$O$7)))))","v":""},{"$f":"IF(D337=\"\",\"\",IF(BE337-$E$4>=0,VALUE(0),($E$4-BE337)*D337))","v":""},{"$f":"IF(D337=\"\",\"\",IF(BE337-$E$4>=0,VALUE(0),D337))","v":""},null,null,null,null,null,"",{"$f":"IF(D337=\"\",\"\",IF(H337<$E$4,$E$4,IF($BS$6=0,\"especificar el escenario\",IF($BS$6=1,H337*(1+$BS$11),IF($BS$6=2,H337+($AA$16*$BS$11))))))","v":""},"","","",null,null,null,null,null,null,{"$f":"H337","v":0},{"$f":"'Scenario specification'!H416/100","v":0},"","","","","",null,null,null,null,null,null,"","","","",null,null,null,null,"","","","","","","","","","",""]
[null,null,null,null,null,null,null,null,null,null,"","","","","","",null,null,null,null,null,"","",null,null,null,null,null,"","","","","",null,null,null,null,"","","","","",null,null,null,null,null,null,"","","","",null,null,null,null,"","","","","",null,null,null,null,null,"","","","","",null,null,null,null,null,null,0,{"$f":"'Scenario specification'!H417/100","v":0},"","","","","",null,null,null,null,null,null,"","","","",null,null,null,null,"","","","","","","","","","",""]
[null,null,null,null,null,null,null,null,null,null,"","","","","","",null,null,null,null,null,"","",null,null,null,null,null,"","","","","",null,null,null,null,"","","","","",null,null,null,null,null,null,{"$f":"IF(D339=\"\",\"\",IF($AX$7=0,\"especificar el escenario\",IF($AX$7=2,IF(H339>=$E$4,H339,H339+$AV$16),IF($AX$7=1,$AV$16+H339,\"especificar el escenario\"))))","v":""},"","","",null,null,null,null,"","","","","",null,null,null,null,null,"","","","","",null,null,null,null,null,null,0,{"$f":"'Scenario specification'!H418/100","v":0},"","","","","",null,null,null,null,null,null,"","","","",null,null,null,null,"","","","","","","","","","",""]
[null,null,null,null,null,null,null,null,null,null,"","","","","","",null,null,null,null,null,"","",null,null,null,null,null,"","","","","",null,null,null,null,{"$f":"IF(D340=\"\",\"\",IF($AQ$7=0,\"especificar el escenario\",IF($AQ$7=2,IF(H340>=$E$4,H340,H340+$U$16),IF($AQ$7=1,H340+$U$16,\"\"))))","v":""},"","","","",null,null,null,null,null,null,"","","","",null,null,null,null,"","","","","",null,null,null,null,null,"","","","","",null,null,null,null,null,null,0,{"$f":"'Scenario specification'!H419/100","v":0},"","","","","",null,null,null,null,null,null,"","","","",null,null,null,null,"","","","","","","","","","",""]
[null,null,null,null,null,null,null,null,null,null,"","","","","","",null,null,null,null,null,"","",null,null,null,null,null,"","","","","",null,null,null,null,"","","","","",null,null,null,null,null,null,"","","","",null,null,null,null,"","","","","",null,null,null,null,null,"","","","","",null,null,null,null,null,null,0,{"$f":"'Scenario specification'!H420/100","v":0},"","","","","",null,null,null,null,null,null,"","","","",null,null,null,null,"","","","","","","","","","",""]
[null,null,null,null,null,null,null,null,null,null,"","","","","","",null,null,null,null,null,"","",null,null,null,null,null,"","","","","",null,null,null,null,"","","","","",null,null,null,null,null,null,"","","","",null,null,null,null,"","","","","",null,null,null,null,null,"","","","","",null,null,null,null,null,null,0,{"$f":"'Scenario specification'!H421/100","v":0},"","","","","",null,null,null,null,null,null,"","","","",null,null,null,null,"","","","","","","","","","",""]
[null,null,null,null,null,null,null,null,null,null,"","","","","","",null,null,null,null,null,"","",null,null,null,null,null,"","","","","",null,null,null,null,"","","","","",null,null,null,null,null,null,"","","","",null,null,null,null,"","","","","",null,null,null,null,null,"","","","","",null,null,null,null,null,null,0,{"$f":"'Scenario specification'!H422/100","v":0},"","","","","",null,null,null,null,null,null,"","","","",null,null,null,null,"","","","","","","","","","",""]
[null,null,null,null,null,null,null,null,null,null,{"$f":"IF(D344=\"\",\"\",H344*D344)","v":""},{"$f":"IF(D344=\"\",\"\",IF(H344>=$E$4,0,K344))","v":""},{"$f":"IF(D344=\"\",\"\",IF(H344>=$E$4,0,$E$4-H344))","v":""},{"$f":"IF(D344=\"\",\"\",M344*D344)","v":""},"","",null,null,null,null,null,"","",null,null,null,null,null,"","","","","",null,null,null,null,"","","","","",null,null,null,null,null,null,"","","","",null,null,null,null,"","","","","",null,null,null,null,null,"","","","","",null,null,null,null,null,null,0,{"$f":"'Scenario specification'!H423/100","v":0},"","","","","",null,null,null,null,null,null,"","","","",null,null,null,null,"","","","","","","","","","",""]
[null,null,null,null,null,null,null,null,null,null,"","","","","","",null,null,null,null,null,"","",null,null,null,null,null,"","","","","",null,null,null,null,"","","","","",null,null,null,null,null,null,"","","","",null,null,null,null,"","","","","",null,null,null,null,null,"","","","","",null,null,null,null,null,null,0,{"$f":"'Scenario specification'!H424/100","v":0},"","","","","",null,null,null,null,null,null,"","","","",null,null,null,null,"","","","","","","","","","",""]
[null,null,null,null,null,null,null,null,null,null,"","","","","","",null,null,null,null,null,"","",null,null,null,null,null,"","","","","",null,null,null,null,"","","","","",null,null,null,null,null,null,"","","","",null,null,null,null,"","","","","",null,null,null,null,null,"","","","","",null,null,null,null,null,null,0,{"$f":"'Scenario specification'!H425/100","v":0},"","","","","",null,null,null,null,null,null,"","","","",null,null,null,null,"","","","","","","","","","",""]
[null,null,null,null,null,null,null,null,null,null,"","","","","","",null,null,null,null,null,"","",null,null,null,null,null,"","","","","",null,null,null,null,"","","","","",null,null,null,null,null,null,"","","","",null,null,null,null,"","","","","",null,null,null,null,null,"","","","","",null,null,null,null,null,null,0,{"$f":"'Scenario specification'!H426/100","v":0},"","","","","",null,null,null,null,null,null,"","","","",null,null,null,null,"","","","","","","","","","",""]
[null,null,null,null,null,null,null,null,null,null,"","","","","","",null,null,null,null,null,"","",null,null,null,null,null,"","","","","",null,null,null,null,"","","","","",null,null,null,null,null,null,"","","","",null,null,null,null,"","","","","",null,null,null,null,null,"","","","","",null,null,null,null,null,null,0,{"$f":"'Scenario specification'!H427/100","v":0},"","","","","",null,null,null,null,null,null,"","","","",null,null,null,null,"","","","","","","","","","",""]
[null,null,null,null,null,null,null,null,null,null,"","","","","","",null,null,null,null,null,"","",null,null,null,null,null,"","","","","",null,null,null,null,"","","","","",null,null,null,null,null,null,"","","","",null,null,null,null,"","","","","",null,null,null,null,null,"","","","","",null,null,null,null,null,null,0,{"$f":"'Scenario specification'!H428/100","v":0},"","","","","",null,null,null,null,null,null,"","","","",null,null,null,null,"","","","","","","","","","",""]
[null,null,null,null,null,null,null,null,null,null,"","","","","","",null,null,null,null,null,"","",null,null,null,null,null,"","","","","",null,null,null,null,"","","","","",null,null,null,null,null,null,"","","","",null,null,null,null,"","","","","",null,null,null,null,null,"","","","","",null,null,null,null,null,null,0,{"$f":"'Scenario specification'!H429/100","v":0},"","","","","",null,null,null,null,null,null,"","","","",null,null,null,null,"","","","","","","","","","",""]
[null,null,null,null,null,null,null,null,null,null,"","","","","","",null,null,null,null,null,"","",null,null,null,null,null,"","","","","",null,null,null,null,"","","","","",null,null,null,null,null,null,"","","","",null,null,null,null,"","","","","",null,null,null,null,null,"","","","","",null,null,null,null,null,null,0,{"$f":"'Scenario specification'!H430/100","v":0},"","","","","",null,null,null,null,null,null,"","","","",null,null,null,null,"","","","","","","","","","",""]
[null,null,null,null,null,null,null,null,null,null,"","","","","","",null,null,null,null,null,"","",null,null,null,null,null,"","","","","",null,null,null,null,"","","","","",null,null,null,null,null,null,"","","","",null,null,null,null,"","","","","",null,null,null,null,null,"","","","","",null,null,null,null,null,null,0,{"$f":"'Scenario specification'!H431/100","v":0},"","","","","",null,null,null,null,null,null,"","","","",null,null,null,null,"","","","","","","","","","",""]
[null,null,null,null,null,null,null,null,null,null,"","","","","","",null,null,null,null,null,"","",null,null,null,null,null,"","","","","",null,null,null,null,"","","","","",null,null,null,null,null,null,"","","","",null,null,null,null,"","","","","",null,null,null,null,null,"","","","","",null,null,null,null,null,null,0,{"$f":"'Scenario specification'!H432/100","v":0},"","","","","",null,null,null,null,null,null,"","","","",null,null,null,null,"","","","","","","","","","",""]
[null,null,null,null,null,null,null,null,null,null,"","","","","","",null,null,null,null,null,"","",null,null,null,null,null,"","","","","",null,null,null,null,"","","","","",null,null,null,null,null,null,"","","","",null,null,null,null,"","","","","",null,null,null,null,null,"","","","","",null,null,null,null,null,null,0,{"$f":"'Scenario specification'!H433/100","v":0},"","","","","",null,null,null,null,null,null,"","","","",null,null,null,null,"","","","","","","","","","",""]
[null,null,null,null,null,null,null,null,null,null,"","","","","","",null,null,null,null,null,"","",null,null,null,null,null,"","","","","",null,null,null,null,"","","","","",null,null,null,null,null,null,"","","","",null,null,null,null,"","","","","",null,null,null,null,null,"","","","","",null,null,null,null,null,null,0,{"$f":"'Scenario specification'!H434/100","v":0},"","","","","",null,null,null,null,null,null,"","","","",null,null,null,null,"","","","","","","","","","",""]
[null,null,null,null,null,null,null,null,null,null,"","","","","","",null,null,null,null,null,"","",null,null,null,null,null,"","","","","",null,null,null,null,"","","","","",null,null,null,null,null,null,"","","","",null,null,null,null,"","","","","",null,null,null,null,null,"","","","","",null,null,null,null,null,null,0,{"$f":"'Scenario specification'!H435/100","v":0},"","","","","",null,null,null,null,null,null,"","","","",null,null,null,null,"","","","","","","","","","",""]
[null,null,null,null,null,null,null,null,null,null,"","","","","","",null,null,null,null,null,"","",null,null,null,null,null,"","","","","",null,null,null,null,"","","","","",null,null,null,null,null,null,"","","","",null,null,null,null,"","","","","",null,null,null,null,null,"","","","","",null,null,null,null,null,null,0,{"$f":"'Scenario specification'!H436/100","v":0},"","","","","",null,null,null,null,null,null,"","","","",null,null,null,null,"","","","","","","","","","",""]
[null,null,null,null,null,null,null,null,null,null,"","","","","","",null,null,null,null,null,"","",null,null,null,null,null,"","","","","",null,null,null,null,"","","","","",null,null,null,null,null,null,"","","","",null,null,null,null,"","","","","",null,null,null,null,null,"","","","","",null,null,null,null,null,null,0,{"$f":"'Scenario specification'!H437/100","v":0},"","","","","",null,null,null,null,null,null,"","","","",null,null,null,null,"","","","","","","","","","",""]
[null,null,null,null,null,null,null,null,null,null,"","","","","","",null,null,null,null,null,"","",null,null,null,null,null,"","","","","",null,null,null,null,"","","","","",null,null,null,null,null,null,"","","","",null,null,null,null,"","","","","",null,null,null,null,null,"","","","","",null,null,null,null,null,null,0,{"$f":"'Scenario specification'!H438/100","v":0},"","","","","",null,null,null,null,null,null,"","","","",null,null,null,null,"","","","","","","","","","",""]
[null,null,null,null,null,null,null,null,null,null,"","","","","","",null,null,null,null,null,"","",null,null,null,null,null,"","","","","",null,null,null,null,"","","","","",null,null,null,null,null,null,"","","","",null,null,null,null,"","","","","",null,null,null,null,null,"","","","","",null,null,null,null,null,null,0,{"$f":"'Scenario specification'!H439/100","v":0},"","","","","",null,null,null,null,null,null,"","","","",null,null,null,null,"","","","","","","","","","",""]
[null,null,null,null,null,null,null,null,null,null,"","","","","","",null,null,null,null,null,"","",null,null,null,null,null,"","","","","",null,null,null,null,"","","","","",null,null,null,null,null,null,"","","","",null,null,null,null,"","","","","",null,null,null,null,null,"","","","","",null,null,null,null,null,null,0,{"$f":"'Scenario specification'!H440/100","v":0},"","","","","",null,null,null,null,null,null,"","","","",null,null,null,null,"","","","","","","","","","",""]
[null,null,null,null,null,null,null,null,null,null,"","","","","","",null,null,null,null,null,"","",null,null,null,null,null,"","","","","",null,null,null,null,"","","","","",null,null,null,null,null,null,"","","","",null,null,null,null,"","","","","",null,null,null,null,null,"","","","","",null,null,null,null,null,null,0,{"$f":"'Scenario specification'!H441/100","v":0},"","","","","",null,null,null,null,null,null,"","","","",null,null,null,null,"","","","","","","","","","",""]
[null,null,null,null,null,null,null,null,null,null,"","","","","","",null,null,null,null,null,"","",null,null,null,null,null,"","","","","",null,null,null,null,"","","","","",null,null,null,null,null,null,"","","","",null,null,null,null,"","","","","",null,null,null,null,null,"","","","","",null,null,null,null,null,null,0,{"$f":"'Scenario specification'!H442/100","v":0},"","","","","",null,null,null,null,null,null,"","","","",null,null,null,null,"","","","","","","","","","",""]
[null,null,null,null,null,null,null,null,null,null,"","","","","","",null,null,null,null,null,"","",null,null,null,null,null,"","","","","",null,null,null,null,"","","","","",null,null,null,null,null,null,"","","","",null,null,null,null,"","","","","",null,null,null,null,null,"","","","","",null,null,null,null,null,null,0,{"$f":"'Scenario specification'!H443/100","v":0},"","","","","",null,null,null,null,null,null,"","","","",null,null,null,null,"","","","","","","","","","",""]
[null,null,null,null,null,null,null,null,null,null,"","","","","","",null,null,null,null,null,"","",null,null,null,null,null,"","","","","",null,null,null,null,"","","","","",null,null,null,null,null,null,"","","","",null,null,null,null,"","","","","",null,null,null,null,null,"","","","","",null,null,null,null,null,null,0,{"$f":"'Scenario specification'!H444/100","v":0},"","","","","",null,null,null,null,null,null,"","","","",null,null,null,null,"","","","","","","","","","",""]
[null,null,null,null,null,null,null,null,null,null,"","","","","","",null,null,null,null,null,"","",null,null,null,null,null,"","","","","",null,null,null,null,"","","","","",null,null,null,null,null,null,"","","","",null,null,null,null,"","","","","",null,null,null,null,null,"","","","","",null,null,null,null,null,null,0,{"$f":"'Scenario specification'!H445/100","v":0},"","","","","",null,null,null,null,null,null,"","","","",null,null,null,null,"","","","","","","","","","",""]
[null,null,null,null,null,null,null,null,null,null,"","","","","","",null,null,null,null,null,"","",null,null,null,null,null,"","","","","",null,null,null,null,"","","","","",null,null,null,null,null,null,"","","","",null,null,null,null,"","","","","",null,null,null,null,null,"","","","","",null,null,null,null,null,null,0,{"$f":"'Scenario specification'!H446/100","v":0},"","","","","",null,null,null,null,null,null,"","","","",null,null,null,null,"","","","","","","","","","",""]
[null,null,null,null,null,null,null,null,null,null,"","","","","","",null,null,null,null,null,"","",null,null,null,null,null,"","","","","",null,null,null,null,"","","","","",null,null,null,null,null,null,"","","","",null,null,null,null,"","","","","",null,null,null,null,null,"","","","","",null,null,null,null,null,null,0,{"$f":"'Scenario specification'!H447/100","v":0},"","","","","",null,null,null,null,null,null,"","","","",null,null,null,null,"","","","","","","","","","",""]
[null,null,null,null,null,null,null,null,null,null,"","","","","","",null,null,null,null,null,"","",null,null,null,null,null,"","","","","",null,null,null,null,"","","","","",null,null,null,null,null,null,"","","","",null,null,null,null,"","","","","",null,null,null,null,null,"","","","","",null,null,null,null,null,null,0,{"$f":"'Scenario specification'!H448/100","v":0},"","","","","",null,null,null,null,null,null,"","","","",null,null,null,null,"","","","","","","","","","",""]
[null,null,null,null,null,null,null,null,null,null,"","","","","","",null,null,null,null,null,"","",null,null,null,null,null,"","","","","",null,null,null,null,"","","","","",null,null,null,null,null,null,"","","","",null,null,null,null,"","","","","",null,null,null,null,null,"","","","","",null,null,null,null,null,null,0,{"$f":"'Scenario specification'!H449/100","v":0},"","","","","",null,null,null,null,null,null,"","","","",null,null,null,null,"","","","","","","","","","",""]
[null,null,null,null,null,null,null,null,null,null,"","","","","","",null,null,null,null,null,"","",null,null,null,null,null,"","","","","",null,null,null,null,"","","","","",null,null,null,null,null,null,"","","","",null,null,null,null,"","","","","",null,null,null,null,null,"","","","","",null,null,null,null,null,null,0,{"$f":"'Scenario specification'!H450/100","v":0},"","","","","",null,null,null,null,null,null,"","","","",null,null,null,null,"","","","","","","","","","",""]
[null,null,null,null,null,null,null,null,null,null,"","","","","","",null,null,null,null,null,"","",null,null,null,null,null,"","","","","",null,null,null,null,"","","","","",null,null,null,null,null,null,"","","","",null,null,null,null,"","","","","",null,null,null,null,null,"","","","","",null,null,null,null,null,null,0,{"$f":"'Scenario specification'!H451/100","v":0},"","","","","",null,null,null,null,null,null,"","","","",null,null,null,null,"","","","","","","","","","",""]
[null,null,null,null,null,null,null,null,null,null,"","","","","","",null,null,null,null,null,"","",null,null,null,null,null,"","","","","",null,null,null,null,"","","","","",null,null,null,null,null,null,"","","","",null,null,null,null,"","","","","",null,null,null,null,null,"","","","","",null,null,null,null,null,null,0,{"$f":"'Scenario specification'!H452/100","v":0},"","","","","",null,null,null,null,null,null,"","","","",null,null,null,null,"","","","","","","","","","",""]
[null,null,null,null,null,null,null,null,null,null,"","","","","","",null,null,null,null,null,"","",null,null,null,null,null,"","","","","",null,null,null,null,"","","","","",null,null,null,null,null,null,"","","","",null,null,null,null,"","","","","",null,null,null,null,null,"","","","","",null,null,null,null,null,null,0,{"$f":"'Scenario specification'!H453/100","v":0},"","","","","",null,null,null,null,null,null,"","","","",null,null,null,null,"","","","","","","","","","",""]
[null,null,null,null,null,null,null,null,null,null,"","","","","","",null,null,null,null,null,"","",null,null,null,null,null,"","","","","",null,null,null,null,"","","","","",null,null,null,null,null,null,"","","","",null,null,null,null,"","","","","",null,null,null,null,null,"","","","","",null,null,null,null,null,null,0,{"$f":"'Scenario specification'!H454/100","v":0},"","","","","",null,null,null,null,null,null,"","","","",null,null,null,null,"","","","","","","","","","",""]
[null,null,null,null,null,null,null,null,null,null,"","","","","","",null,null,null,null,null,"","",null,null,null,null,null,"","","","","",null,null,null,null,"","","","","",null,null,null,null,null,null,"","","","",null,null,null,null,"","","","","",null,null,null,null,null,"","","","","",null,null,null,null,null,null,0,{"$f":"'Scenario specification'!H455/100","v":0},"","","","","",null,null,null,null,null,null,"","","","",null,null,null,null,"","","","","","","","","","",""]
[null,null,null,null,null,null,null,null,null,null,"","","","","","",null,null,null,null,null,"","",null,null,null,null,null,"","","","","",null,null,null,null,"","","","","",null,null,null,null,null,null,"","","","",null,null,null,null,"","","","","",null,null,null,null,null,"","","","","",null,null,null,null,null,null,0,{"$f":"'Scenario specification'!H456/100","v":0},"","","","","",null,null,null,null,null,null,"","","","",null,null,null,null,"","","","","","","","","","",""]
[null,null,null,null,null,null,null,null,null,null,"","","","","","",null,null,null,null,null,"","",null,null,null,null,null,"","","","","",null,null,null,null,"","","","","",null,null,null,null,null,null,"","","","",null,null,null,null,"","","","","",null,null,null,null,null,"","","","","",null,null,null,null,null,null,0,{"$f":"'Scenario specification'!H457/100","v":0},"","","","","",null,null,null,null,null,null,"","","","",null,null,null,null,"","","","","","","","","","",""]
[null,null,null,null,null,null,null,null,null,null,"","","","","","",null,null,null,null,null,"","",null,null,null,null,null,"","","","","",null,null,null,null,"","","","","",null,null,null,null,null,null,"","","","",null,null,null,null,"","","","","",null,null,null,null,null,"","","","","",null,null,null,null,null,null,0,{"$f":"'Scenario specification'!H458/100","v":0},"","","","","",null,null,null,null,null,null,"","","","",null,null,null,null,"","","","","","","","","","",""]
[null,null,null,null,null,null,null,null,null,null,"","","","","","",null,null,null,null,null,"","",null,null,null,null,null,"","","","","",null,null,null,null,"","","","","",null,null,null,null,null,null,"","","","",null,null,null,null,"","","","","",null,null,null,null,null,"","","","","",null,null,null,null,null,null,0,{"$f":"'Scenario specification'!H459/100","v":0},"","","","","",null,null,null,null,null,null,"","","","",null,null,null,null,"","","","","","","","","","",""]
[null,null,null,null,null,null,null,null,null,null,"","","","","","",null,null,null,null,null,"","",null,null,null,null,null,"","","","","",null,null,null,null,"","","","","",null,null,null,null,null,null,"","","","",null,null,null,null,"","","","","",null,null,null,null,null,"","","","","",null,null,null,null,null,null,0,{"$f":"'Scenario specification'!H460/100","v":0},"","","","","",null,null,null,null,null,null,"","","","",null,null,null,null,"","","","","","","","","","",""]
[null,null,null,null,null,null,null,null,null,null,"","","","","","",null,null,null,null,null,"","",null,null,null,null,null,"","","","","",null,null,null,null,"","","","","",null,null,null,null,null,null,"","","","",null,null,null,null,"","","","","",null,null,null,null,null,"","","","","",null,null,null,null,null,null,0,{"$f":"'Scenario specification'!H461/100","v":0},"","","","","",null,null,null,null,null,null,"","","","",null,null,null,null,"","","","","","","","","","",""]
[null,null,null,null,null,null,null,null,null,null,"","","","","","",null,null,null,null,null,"","",null,null,null,null,null,"","","","","",null,null,null,null,"","","","","",null,null,null,null,null,null,"","","","",null,null,null,null,"","","","","",null,null,null,null,null,"","","","","",null,null,null,null,null,null,0,{"$f":"'Scenario specification'!H462/100","v":0},"","","","","",null,null,null,null,null,null,"","","","",null,null,null,null,"","","","","","","","","","",""]
[null,null,null,null,null,null,null,null,null,null,"","","","","","",null,null,null,null,null,"","",null,null,null,null,null,"","","","","",null,null,null,null,"","","","","",null,null,null,null,null,null,"","","","",null,null,null,null,"","","","","",null,null,null,null,null,"","","","","",null,null,null,null,null,null,0,{"$f":"'Scenario specification'!H463/100","v":0},"","","","","",null,null,null,null,null,null,"","","","",null,null,null,null,"","","","","","","","","","",""]
[null,null,null,null,null,null,null,null,null,null,"","","","","","",null,null,null,null,null,"","",null,null,null,null,null,"","","","","",null,null,null,null,"","","","","",null,null,null,null,null,null,"","","","",null,null,null,null,"","","","","",null,null,null,null,null,"","","","","",null,null,null,null,null,null,0,{"$f":"'Scenario specification'!H464/100","v":0},"","","","","",null,null,null,null,null,null,"","","","",null,null,null,null,"","","","","","","","","","",""]
[null,null,null,null,null,null,null,null,null,null,"","","","","","",null,null,null,null,null,"","",null,null,null,null,null,"","","","","",null,null,null,null,"","","","","",null,null,null,null,null,null,"","","","",null,null,null,null,"","","","","",null,null,null,null,null,"","","","","",null,null,null,null,null,null,0,{"$f":"'Scenario specification'!H465/100","v":0},"","","","","",null,null,null,null,null,null,"","","","",null,null,null,null,"","","","","","","","","","",""]
[null,null,null,null,null,null,null,null,null,null,"","","","","","",null,null,null,null,null,"","",null,null,null,null,null,"","","","","",null,null,null,null,"","","","","",null,null,null,null,null,null,"","","","",null,null,null,null,"","","","","",null,null,null,null,null,"","","","","",null,null,null,null,null,null,0,{"$f":"'Scenario specification'!H466/100","v":0},"","","","","",null,null,null,null,null,null,"","","","",null,null,null,null,"","","","","","","","","","",""]
[null,null,null,null,null,null,null,null,null,null,"","","","","","",null,null,null,null,null,"","",null,null,null,null,null,"","","","","",null,null,null,null,"","","","","",null,null,null,null,null,null,"","","","",null,null,null,null,"","","","","",null,null,null,null,null,"","","","","",null,null,null,null,null,null,0,{"$f":"'Scenario specification'!H467/100","v":0},"","","","","",null,null,null,null,null,null,"","","","",null,null,null,null,"","","","","","","","","","",""]
[null,null,null,null,null,null,null,null,null,null,"","","","","","",null,null,null,null,null,"","",null,null,null,null,null,"","","","","",null,null,null,null,"","","","","",null,null,null,null,null,null,"","","","",null,null,null,null,"","","","","",null,null,null,null,null,"","","","","",null,null,null,null,null,null,0,{"$f":"'Scenario specification'!H468/100","v":0},"","","","","",null,null,null,null,null,null,"","","","",null,null,null,null,"","","","","","","","","","",""]
[null,null,null,null,null,null,null,null,null,null,"","","","","","",null,null,null,null,null,"","",null,null,null,null,null,"","","","","",null,null,null,null,"","","","","",null,null,null,null,null,null,"","","","",null,null,null,null,"","","","","",null,null,null,null,null,"","","","","",null,null,null,null,null,null,0,{"$f":"'Scenario specification'!H469/100","v":0},"","","","","",null,null,null,null,null,null,"","","","",null,null,null,null,"","","","","","","","","","",""]
[null,null,null,null,null,null,null,null,null,null,"","","","","","",null,null,null,null,null,"","",null,null,null,null,null,"","","","","",null,null,null,null,"","","","","",null,null,null,null,null,null,"","","","",null,null,null,null,"","","","","",null,null,null,null,null,"","","","","",null,null,null,null,null,null,0,{"$f":"'Scenario specification'!H470/100","v":0},"","","","","",null,null,null,null,null,null,"","","","",null,null,null,null,"","","","","","","","","","",""]
[null,null,null,null,null,null,null,null,null,null,"","","","","","",null,null,null,null,null,"","",null,null,null,null,null,"","","","","",null,null,null,null,"","","","","",null,null,null,null,null,null,"","","","",null,null,null,null,"","","","","",null,null,null,null,null,"","","","","",null,null,null,null,null,null,0,{"$f":"'Scenario specification'!H471/100","v":0},"","","","","",null,null,null,null,null,null,"","","","",null,null,null,null,"","","","","","","","","","",""]
[null,null,null,null,null,null,null,null,null,null,"","","","","","",null,null,null,null,null,"","",null,null,null,null,null,"","","","","",null,null,null,null,"","","","","",null,null,null,null,null,null,"","","","",null,null,null,null,"","","","","",null,null,null,null,null,"","","","","",null,null,null,null,null,null,0,{"$f":"'Scenario specification'!H472/100","v":0},"","","","","",null,null,null,null,null,null,"","","","",null,null,null,null,"","","","","","","","","","",""]
[null,null,null,null,null,null,null,null,null,null,"","","","","","",null,null,null,null,null,"","",null,null,null,null,null,"","","","","",null,null,null,null,"","","","","",null,null,null,null,null,null,"","","","",null,null,null,null,"","","","","",null,null,null,null,null,"","","","","",null,null,null,null,null,null,0,{"$f":"'Scenario specification'!H473/100","v":0},"","","","","",null,null,null,null,null,null,"","","","",null,null,null,null,"","","","","","","","","","",""]
[null,null,null,null,null,null,null,null,null,null,"","","","","","",null,null,null,null,null,"","",null,null,null,null,null,"","","","","",null,null,null,null,"","","","","",null,null,null,null,null,null,"","","","",null,null,null,null,"","","","","",null,null,null,null,null,"","","","","",null,null,null,null,null,null,0,{"$f":"'Scenario specification'!H474/100","v":0},"","","","","",null,null,null,null,null,null,"","","","",null,null,null,null,"","","","","","","","","","",""]
[null,null,null,null,null,null,null,null,null,null,"","","","","","",null,null,null,null,null,"","",null,null,null,null,null,"","","","","",null,null,null,null,"","","","","",null,null,null,null,null,null,"","","","",null,null,null,null,"","","","","",null,null,null,null,null,"","","","","",null,null,null,null,null,null,0,{"$f":"'Scenario specification'!H475/100","v":0},"","","","","",null,null,null,null,null,null,"","","","",null,null,null,null,"","","","","","","","","","",""]
[null,null,null,null,null,null,null,null,null,null,"","","","","","",null,null,null,null,null,"","",null,null,null,null,null,"","","","","",null,null,null,null,"","","","","",null,null,null,null,null,null,"","","","",null,null,null,null,"","","","","",null,null,null,null,null,"","","","","",null,null,null,null,null,null,0,{"$f":"'Scenario specification'!H476/100","v":0},"","","","","",null,null,null,null,null,null,"","","","",null,null,null,null,"","","","","","","","","","",""]
[null,null,null,null,null,null,null,null,null,null,"","","","","","",null,null,null,null,null,"","",null,null,null,null,null,"","","","","",null,null,null,null,"","","","","",null,null,null,null,null,null,"","","","",null,null,null,null,"","","","","",null,null,null,null,null,"","","","","",null,null,null,null,null,null,0,{"$f":"'Scenario specification'!H477/100","v":0},"","","","","",null,null,null,null,null,null,"","","","",null,null,null,null,"","","","","","","","","","",""]
[null,null,null,null,null,null,null,null,null,null,"","","","","","",null,null,null,null,null,"","",null,null,null,null,null,"","","","","",null,null,null,null,"","","","","",null,null,null,null,null,null,"","","","",null,null,null,null,"","","","","",null,null,null,null,null,"","","","","",null,null,null,null,null,null,0,{"$f":"'Scenario specification'!H478/100","v":0},"","","","","",null,null,null,null,null,null,"","","","",null,null,null,null,"","","","","","","","","","",""]
[null,null,null,null,null,null,null,null,null,null,"","","","","","",null,null,null,null,null,"","",null,null,null,null,null,"","","","","",null,null,null,null,"","","","","",null,null,null,null,null,null,"","","","",null,null,null,null,"","","","","",null,null,null,null,null,{"$f":"IF(D400=\"\",\"\",BP400-H400)","v":""},"",{"$f":"IF(D400=\"\",\"\",D400*((BP400-H400)*(1+($O$6+$O$7))))","v":""},{"$f":"IF(D400=\"\",\"\",IF(BP400-$E$4>=0,VALUE(0),($E$4-BP400)*D400))","v":""},{"$f":"IF(D400=\"\",\"\",IF(BP400-$E$4>=0,VALUE(0),D400))","v":""},null,null,null,null,null,null,0,{"$f":"'Scenario specification'!H479/100","v":0},{"$f":"IF(D400=\"\",\"\",CC400-BZ400)","v":""},{"$f":"IF(D400=\"\",\"\",IF($CD$6=0,\"specify scenario\",IF($CD$6=2,(H400+($BY$16*CA400)),IF($CD$6=1,(H400*(1+CA400))))))","v":""},{"$f":"IF(D400=\"\",\"\",D400*(CB400*(1+($O$6+$O$7))))","v":""},{"$f":"IF(D400=\"\",\"\",IF(CC400-$E$4>=0,VALUE(0),($E$4-CC400)*D400))","v":""},{"$f":"IF(D400=\"\",\"\",IF(CC400-$E$4>=0,VALUE(0),D400))","v":""},null,null,null,null,null,null,{"$f":"IF(D400=\"\",\"\",$CL$16+H400)","v":""},{"$f":"IF(D400=\"\",\"\",(CM400-H400)*D400*(1+(($O$6+$O$7)/100)))","v":""},{"$f":"IF(D400=\"\",\"\",IF(CM400-$E$4>=0,VALUE(0),($E$4-CM400)*D400))","v":""},{"$f":"IF(D400=\"\",\"\",IF(CM400-$E$4>=0,VALUE(0),D400))","v":""},null,null,null,null,{"$f":"IF(D400=\"\",\"\",B400)","v":""},{"$f":"IF(D400=\"\",\"\",C400)","v":""},{"$f":"IF(D400=\"\",\"\",H400)","v":""},{"$f":"IF(D400=\"\",\"\",AC400)","v":""},{"$f":"IF(D400=\"\",\"\",AL400)","v":""},{"$f":"IF(D400=\"\",\"\",AW400)","v":""},{"$f":"IF(D400=\"\",\"\",BE400)","v":""},{"$f":"IF(D400=\"\",\"\",BP400)","v":""},{"$f":"IF(D400=\"\",\"\",CC400)","v":""},{"$f":"IF(D400=\"\",\"\",CM400)","v":""},{"$f":"IF(D400=\"\",\"\",CU400&\" \"&CV400)","v":""}]
[null,null,null,null,null,null,null,null,null,null,"","","","",{"$f":"IF(D401=\"\",\"\",$E$4-H401)","v":""},{"$f":"IF(D401=\"\",\"\",IF(N401=0,VALUE(0),D401))","v":""},null,null,null,null,null,{"$f":"IF(D401=\"\",\"\",IF(H401-$T$16>0,H401-$T$16,0))","v":""},{"$f":"IF(D401=\"\",\"\",H401/$T$16)","v":""},null,null,null,null,null,{"$f":"IF(D401=\"\",\"\",IF(H401>=$E$4,H401,$E$4))","v":""},{"$f":"IF(D401=\"\",\"\",AC401-H401)","v":""},{"$f":"IF(D401=\"\",\"\",D401*(AD401*(1+($O$6+$O$7))))","v":""},{"$f":"IF(D401=\"\",\"\",IF(AC401-$E$4>=0,VALUE(0),($E$4-AC401)*D401))","v":""},{"$f":"IF(D401=\"\",\"\",IF(AC401-$E$4>=0,VALUE(0),D401))","v":""},null,null,null,null,"",{"$f":"IF(D401=\"\",\"\",AL401-H401)","v":""},{"$f":"IF(D401=\"\",\"\",D401*(AM401*(1+($O$6+$O$7))))","v":""},{"$f":"IF(D401=\"\",\"\",IF(AL401-$E$4>=0,VALUE(0),($E$4-AL401)*D401))","v":""},{"$f":"IF(D401=\"\",\"\",IF(AL401-$E$4>=0,VALUE(0),D401))","v":""},null,null,null,null,null,null,"",{"$f":"IF(D401=\"\",\"\",D401*($AV$16*(1+($O$6+$O$7))))","v":""},{"$f":"IF(D401=\"\",\"\",IF(AW401-$E$4>=0,VALUE(0),($E$4-AW401)*D401))","v":""},{"$f":"IF(D401=\"\",\"\",IF(AW401-$E$4>=0,VALUE(0),D401))","v":""},null,null,null,null,{"$f":"IF(D401=\"\",\"\",IF((H401*(1+$BI$10/100))>(H401+$BI$11),(H401*(1+$BI$10/100)),(H401+$BI$11)))","v":""},{"$f":"IF(D401=\"\",\"\",BE401-H401)","v":""},{"$f":"IF(D401=\"\",\"\",D401*(BF401*(1+(($O$6+$O$7)))))","v":""},{"$f":"IF(D401=\"\",\"\",IF(BE401-$E$4>=0,VALUE(0),($E$4-BE401)*D401))","v":""},{"$f":"IF(D401=\"\",\"\",IF(BE401-$E$4>=0,VALUE(0),D401))","v":""},null,null,null,null,null,"",{"$f":"IF(D401=\"\",\"\",IF(H401<$E$4,$E$4,IF($BS$6=0,\"especificar el escenario\",IF($BS$6=1,H401*(1+$BS$11),IF($BS$6=2,H401+($AA$16*$BS$11))))))","v":""},"","","",null,null,null,null,null,null,{"$f":"H401","v":0},{"$f":"'Scenario specification'!H480/100","v":0},"","","","","",null,null,null,null,null,null,"","","","",null,null,null,null,"","","","","","","","","","",""]
[null,null,null,null,null,null,null,null,null,null,"","","","","","",null,null,null,null,null,"","",null,null,null,null,null,"","","","","",null,null,null,null,"","","","","",null,null,null,null,null,null,"","","","",null,null,null,null,"","","","","",null,null,null,null,null,"","","","","",null,null,null,null,null,null,0,{"$f":"'Scenario specification'!H481/100","v":0},"","","","","",null,null,null,null,null,null,"","","","",null,null,null,null,"","","","","","","","","","",""]
[null,null,null,null,null,null,null,null,null,null,"","","","","","",null,null,null,null,null,"","",null,null,null,null,null,"","","","","",null,null,null,null,"","","","","",null,null,null,null,null,null,{"$f":"IF(D403=\"\",\"\",IF($AX$7=0,\"especificar el escenario\",IF($AX$7=2,IF(H403>=$E$4,H403,H403+$AV$16),IF($AX$7=1,$AV$16+H403,\"especificar el escenario\"))))","v":""},"","","",null,null,null,null,"","","","","",null,null,null,null,null,"","","","","",null,null,null,null,null,null,0,{"$f":"'Scenario specification'!H482/100","v":0},"","","","","",null,null,null,null,null,null,"","","","",null,null,null,null,"","","","","","","","","","",""]
[null,null,null,null,null,null,null,null,null,null,"","","","","","",null,null,null,null,null,"","",null,null,null,null,null,"","","","","",null,null,null,null,{"$f":"IF(D404=\"\",\"\",IF($AQ$7=0,\"especificar el escenario\",IF($AQ$7=2,IF(H404>=$E$4,H404,H404+$U$16),IF($AQ$7=1,H404+$U$16,\"\"))))","v":""},"","","","",null,null,null,null,null,null,"","","","",null,null,null,null,"","","","","",null,null,null,null,null,"","","","","",null,null,null,null,null,null,0,{"$f":"'Scenario specification'!H483/100","v":0},"","","","","",null,null,null,null,null,null,"","","","",null,null,null,null,"","","","","","","","","","",""]
[null,null,null,null,null,null,null,null,null,null,"","","","","","",null,null,null,null,null,"","",null,null,null,null,null,"","","","","",null,null,null,null,"","","","","",null,null,null,null,null,null,"","","","",null,null,null,null,"","","","","",null,null,null,null,null,"","","","","",null,null,null,null,null,null,0,{"$f":"'Scenario specification'!H484/100","v":0},"","","","","",null,null,null,null,null,null,"","","","",null,null,null,null,"","","","","","","","","","",""]
[null,null,null,null,null,null,null,null,null,null,"","","","","","",null,null,null,null,null,"","",null,null,null,null,null,"","","","","",null,null,null,null,"","","","","",null,null,null,null,null,null,"","","","",null,null,null,null,"","","","","",null,null,null,null,null,"","","","","",null,null,null,null,null,null,0,{"$f":"'Scenario specification'!H485/100","v":0},"","","","","",null,null,null,null,null,null,"","","","",null,null,null,null,"","","","","","","","","","",""]
[null,null,null,null,null,null,null,null,null,null,"","","","","","",null,null,null,null,null,"","",null,null,null,null,null,"","","","","",null,null,null,null,"","","","","",null,null,null,null,null,null,"","","","",null,null,null,null,"","","","","",null,null,null,null,null,"","","","","",null,null,null,null,null,null,0,{"$f":"'Scenario specification'!H486/100","v":0},"","","","","",null,null,null,null,null,null,"","","","",null,null,null,null,"","","","","","","","","","",""]
[null,null,null,null,null,null,null,null,null,null,{"$f":"IF(D408=\"\",\"\",H408*D408)","v":""},{"$f":"IF(D408=\"\",\"\",IF(H408>=$E$4,0,K408))","v":""},{"$f":"IF(D408=\"\",\"\",IF(H408>=$E$4,0,$E$4-H408))","v":""},{"$f":"IF(D408=\"\",\"\",M408*D408)","v":""},"","",null,null,null,null,null,"","",null,null,null,null,null,"","","","","",null,null,null,null,"","","","","",null,null,null,null,null,null,"","","","",null,null,null,null,"","","","","",null,null,null,null,null,"","","","","",null,null,null,null,null,null,0,{"$f":"'Scenario specification'!H487/100","v":0},"","","","","",null,null,null,null,null,null,"","","","",null,null,null,null,"","","","","","","","","","",""]
[null,null,null,null,null,null,null,null,null,null,"","","","","","",null,null,null,null,null,"","",null,null,null,null,null,"","","","","",null,null,null,null,"","","","","",null,null,null,null,null,null,"","","","",null,null,null,null,"","","","","",null,null,null,null,null,"","","","","",null,null,null,null,null,null,0,{"$f":"'Scenario specification'!H488/100","v":0},"","","","","",null,null,null,null,null,null,"","","","",null,null,null,null,"","","","","","","","","","",""]
[null,null,null,null,null,null,null,null,null,null,"","","","","","",null,null,null,null,null,"","",null,null,null,null,null,"","","","","",null,null,null,null,"","","","","",null,null,null,null,null,null,"","","","",null,null,null,null,"","","","","",null,null,null,null,null,"","","","","",null,null,null,null,null,null,0,{"$f":"'Scenario specification'!H489/100","v":0},"","","","","",null,null,null,null,null,null,"","","","",null,null,null,null,"","","","","","","","","","",""]
[null,null,null,null,null,null,null,null,null,null,"","","","","","",null,null,null,null,null,"","",null,null,null,null,null,"","","","","",null,null,null,null,"","","","","",null,null,null,null,null,null,"","","","",null,null,null,null,"","","","","",null,null,null,null,null,"","","","","",null,null,null,null,null,null,0,{"$f":"'Scenario specification'!H490/100","v":0},"","","","","",null,null,null,null,null,null,"","","","",null,null,null,null,"","","","","","","","","","",""]
[null,null,null,null,null,null,null,null,null,null,"","","","","","",null,null,null,null,null,"","",null,null,null,null,null,"","","","","",null,null,null,null,"","","","","",null,null,null,null,null,null,"","","","",null,null,null,null,"","","","","",null,null,null,null,null,"","","","","",null,null,null,null,null,null,0,{"$f":"'Scenario specification'!H491/100","v":0},"","","","","",null,null,null,null,null,null,"","","","",null,null,null,null,"","","","","","","","","","",""]
[null,null,null,null,null,null,null,null,null,null,"","","","","","",null,null,null,null,null,"","",null,null,null,null,null,"","","","","",null,null,null,null,"","","","","",null,null,null,null,null,null,"","","","",null,null,null,null,"","","","","",null,null,null,null,null,"","","","","",null,null,null,null,null,null,0,{"$f":"'Scenario specification'!H492/100","v":0},"","","","","",null,null,null,null,null,null,"","","","",null,null,null,null,"","","","","","","","","","",""]
[null,null,null,null,null,null,null,null,null,null,"","","","","","",null,null,null,null,null,"","",null,null,null,null,null,"","","","","",null,null,null,null,"","","","","",null,null,null,null,null,null,"","","","",null,null,null,null,"","","","","",null,null,null,null,null,"","","","","",null,null,null,null,null,null,0,{"$f":"'Scenario specification'!H493/100","v":0},"","","","","",null,null,null,null,null,null,"","","","",null,null,null,null,"","","","","","","","","","",""]
[null,null,null,null,null,null,null,null,null,null,"","","","","","",null,null,null,null,null,"","",null,null,null,null,null,"","","","","",null,null,null,null,"","","","","",null,null,null,null,null,null,"","","","",null,null,null,null,"","","","","",null,null,null,null,null,"","","","","",null,null,null,null,null,null,0,{"$f":"'Scenario specification'!H494/100","v":0},"","","","","",null,null,null,null,null,null,"","","","",null,null,null,null,"","","","","","","","","","",""]
[null,null,null,null,null,null,null,null,null,null,"","","","","","",null,null,null,null,null,"","",null,null,null,null,null,"","","","","",null,null,null,null,"","","","","",null,null,null,null,null,null,"","","","",null,null,null,null,"","","","","",null,null,null,null,null,"","","","","",null,null,null,null,null,null,0,{"$f":"'Scenario specification'!H495/100","v":0},"","","","","",null,null,null,null,null,null,"","","","",null,null,null,null,"","","","","","","","","","",""]
[null,null,null,null,null,null,null,null,null,null,"","","","","","",null,null,null,null,null,"","",null,null,null,null,null,"","","","","",null,null,null,null,"","","","","",null,null,null,null,null,null,"","","","",null,null,null,null,"","","","","",null,null,null,null,null,"","","","","",null,null,null,null,null,null,0,{"$f":"'Scenario specification'!H496/100","v":0},"","","","","",null,null,null,null,null,null,"","","","",null,null,null,null,"","","","","","","","","","",""]
[null,null,null,null,null,null,null,null,null,null,"","","","","","",null,null,null,null,null,"","",null,null,null,null,null,"","","","","",null,null,null,null,"","","","","",null,null,null,null,null,null,"","","","",null,null,null,null,"","","","","",null,null,null,null,null,"","","","","",null,null,null,null,null,null,0,{"$f":"'Scenario specification'!H497/100","v":0},"","","","","",null,null,null,null,null,null,"","","","",null,null,null,null,"","","","","","","","","","",""]
[null,null,null,null,null,null,null,null,null,null,"","","","","","",null,null,null,null,null,"","",null,null,null,null,null,"","","","","",null,null,null,null,"","","","","",null,null,null,null,null,null,"","","","",null,null,null,null,"","","","","",null,null,null,null,null,"","","","","",null,null,null,null,null,null,0,{"$f":"'Scenario specification'!H498/100","v":0},"","","","","",null,null,null,null,null,null,"","","","",null,null,null,null,"","","","","","","","","","",""]
[null,null,null,null,null,null,null,null,null,null,"","","","","","",null,null,null,null,null,"","",null,null,null,null,null,"","","","","",null,null,null,null,"","","","","",null,null,null,null,null,null,"","","","",null,null,null,null,"","","","","",null,null,null,null,null,"","","","","",null,null,null,null,null,null,0,{"$f":"'Scenario specification'!H499/100","v":0},"","","","","",null,null,null,null,null,null,"","","","",null,null,null,null,"","","","","","","","","","",""]
[null,null,null,null,null,null,null,null,null,null,"","","","","","",null,null,null,null,null,"","",null,null,null,null,null,"","","","","",null,null,null,null,"","","","","",null,null,null,null,null,null,"","","","",null,null,null,null,"","","","","",null,null,null,null,null,"","","","","",null,null,null,null,null,null,0,{"$f":"'Scenario specification'!H500/100","v":0},"","","","","",null,null,null,null,null,null,"","","","",null,null,null,null,"","","","","","","","","","",""]
[null,null,null,null,null,null,null,null,null,null,"","","","","","",null,null,null,null,null,"","",null,null,null,null,null,"","","","","",null,null,null,null,"","","","","",null,null,null,null,null,null,"","","","",null,null,null,null,"","","","","",null,null,null,null,null,"","","","","",null,null,null,null,null,null,0,{"$f":"'Scenario specification'!H501/100","v":0},"","","","","",null,null,null,null,null,null,"","","","",null,null,null,null,"","","","","","","","","","",""]
[null,null,null,null,null,null,null,null,null,null,"","","","","","",null,null,null,null,null,"","",null,null,null,null,null,"","","","","",null,null,null,null,"","","","","",null,null,null,null,null,null,"","","","",null,null,null,null,"","","","","",null,null,null,null,null,"","","","","",null,null,null,null,null,null,0,{"$f":"'Scenario specification'!H502/100","v":0},"","","","","",null,null,null,null,null,null,"","","","",null,null,null,null,"","","","","","","","","","",""]
[null,null,null,null,null,null,null,null,null,null,"","","","","","",null,null,null,null,null,"","",null,null,null,null,null,"","","","","",null,null,null,null,"","","","","",null,null,null,null,null,null,"","","","",null,null,null,null,"","","","","",null,null,null,null,null,"","","","","",null,null,null,null,null,null,0,{"$f":"'Scenario specification'!H503/100","v":0},"","","","","",null,null,null,null,null,null,"","","","",null,null,null,null,"","","","","","","","","","",""]
[null,null,null,null,null,null,null,null,null,null,"","","","","","",null,null,null,null,null,"","",null,null,null,null,null,"","","","","",null,null,null,null,"","","","","",null,null,null,null,null,null,"","","","",null,null,null,null,"","","","","",null,null,null,null,null,"","","","","",null,null,null,null,null,null,0,{"$f":"'Scenario specification'!H504/100","v":0},"","","","","",null,null,null,null,null,null,"","","","",null,null,null,null,"","","","","","","","","","",""]
[null,null,null,null,null,null,null,null,null,null,"","","","","","",null,null,null,null,null,"","",null,null,null,null,null,"","","","","",null,null,null,null,"","","","","",null,null,null,null,null,null,"","","","",null,null,null,null,"","","","","",null,null,null,null,null,"","","","","",null,null,null,null,null,null,0,{"$f":"'Scenario specification'!H505/100","v":0},"","","","","",null,null,null,null,null,null,"","","","",null,null,null,null,"","","","","","","","","","",""]
[null,null,null,null,null,null,null,null,null,null,"","","","","","",null,null,null,null,null,"","",null,null,null,null,null,"","","","","",null,null,null,null,"","","","","",null,null,null,null,null,null,"","","","",null,null,null,null,"","","","","",null,null,null,null,null,"","","","","",null,null,null,null,null,null,0,{"$f":"'Scenario specification'!H506/100","v":0},"","","","","",null,null,null,null,null,null,"","","","",null,null,null,null,"","","","","","","","","","",""]
[null,null,null,null,null,null,null,null,null,null,"","","","","","",null,null,null,null,null,"","",null,null,null,null,null,"","","","","",null,null,null,null,"","","","","",null,null,null,null,null,null,"","","","",null,null,null,null,"","","","","",null,null,null,null,null,"","","","","",null,null,null,null,null,null,0,{"$f":"'Scenario specification'!H507/100","v":0},"","","","","",null,null,null,null,null,null,"","","","",null,null,null,null,"","","","","","","","","","",""]
[null,null,null,null,null,null,null,null,null,null,"","","","","","",null,null,null,null,null,"","",null,null,null,null,null,"","","","","",null,null,null,null,"","","","","",null,null,null,null,null,null,"","","","",null,null,null,null,"","","","","",null,null,null,null,null,"","","","","",null,null,null,null,null,null,0,{"$f":"'Scenario specification'!H508/100","v":0},"","","","","",null,null,null,null,null,null,"","","","",null,null,null,null,"","","","","","","","","","",""]
[null,null,null,null,null,null,null,null,null,null,"","","","","","",null,null,null,null,null,"","",null,null,null,null,null,"","","","","",null,null,null,null,"","","","","",null,null,null,null,null,null,"","","","",null,null,null,null,"","","","","",null,null,null,null,null,"","","","","",null,null,null,null,null,null,0,{"$f":"'Scenario specification'!H509/100","v":0},"","","","","",null,null,null,null,null,null,"","","","",null,null,null,null,"","","","","","","","","","",""]
[null,null,null,null,null,null,null,null,null,null,"","","","","","",null,null,null,null,null,"","",null,null,null,null,null,"","","","","",null,null,null,null,"","","","","",null,null,null,null,null,null,"","","","",null,null,null,null,"","","","","",null,null,null,null,null,"","","","","",null,null,null,null,null,null,0,{"$f":"'Scenario specification'!H510/100","v":0},"","","","","",null,null,null,null,null,null,"","","","",null,null,null,null,"","","","","","","","","","",""]
[null,null,null,null,null,null,null,null,null,null,"","","","","","",null,null,null,null,null,"","",null,null,null,null,null,"","","","","",null,null,null,null,"","","","","",null,null,null,null,null,null,"","","","",null,null,null,null,"","","","","",null,null,null,null,null,"","","","","",null,null,null,null,null,null,0,{"$f":"'Scenario specification'!H511/100","v":0},"","","","","",null,null,null,null,null,null,"","","","",null,null,null,null,"","","","","","","","","","",""]
[null,null,null,null,null,null,null,null,null,null,"","","","","","",null,null,null,null,null,"","",null,null,null,null,null,"","","","","",null,null,null,null,"","","","","",null,null,null,null,null,null,"","","","",null,null,null,null,"","","","","",null,null,null,null,null,"","","","","",null,null,null,null,null,null,0,{"$f":"'Scenario specification'!H512/100","v":0},"","","","","",null,null,null,null,null,null,"","","","",null,null,null,null,"","","","","","","","","","",""]
[null,null,null,null,null,null,null,null,null,null,"","","","","","",null,null,null,null,null,"","",null,null,null,null,null,"","","","","",null,null,null,null,"","","","","",null,null,null,null,null,null,"","","","",null,null,null,null,"","","","","",null,null,null,null,null,"","","","","",null,null,null,null,null,null,0,{"$f":"'Scenario specification'!H513/100","v":0},"","","","","",null,null,null,null,null,null,"","","","",null,null,null,null,"","","","","","","","","","",""]
[null,null,null,null,null,null,null,null,null,null,"","","","","","",null,null,null,null,null,"","",null,null,null,null,null,"","","","","",null,null,null,null,"","","","","",null,null,null,null,null,null,"","","","",null,null,null,null,"","","","","",null,null,null,null,null,"","","","","",null,null,null,null,null,null,0,{"$f":"'Scenario specification'!H514/100","v":0},"","","","","",null,null,null,null,null,null,"","","","",null,null,null,null,"","","","","","","","","","",""]
[null,null,null,null,null,null,null,null,null,null,"","","","","","",null,null,null,null,null,"","",null,null,null,null,null,"","","","","",null,null,null,null,"","","","","",null,null,null,null,null,null,"","","","",null,null,null,null,"","","","","",null,null,null,null,null,"","","","","",null,null,null,null,null,null,0,{"$f":"'Scenario specification'!H515/100","v":0},"","","","","",null,null,null,null,null,null,"","","","",null,null,null,null,"","","","","","","","","","",""]
[null,null,null,null,null,null,null,null,null,null,"","","","","","",null,null,null,null,null,"","",null,null,null,null,null,"","","","","",null,null,null,null,"","","","","",null,null,null,null,null,null,"","","","",null,null,null,null,"","","","","",null,null,null,null,null,"","","","","",null,null,null,null,null,null,0,{"$f":"'Scenario specification'!H516/100","v":0},"","","","","",null,null,null,null,null,null,"","","","",null,null,null,null,"","","","","","","","","","",""]
[null,null,null,null,null,null,null,null,null,null,"","","","","","",null,null,null,null,null,"","",null,null,null,null,null,"","","","","",null,null,null,null,"","","","","",null,null,null,null,null,null,"","","","",null,null,null,null,"","","","","",null,null,null,null,null,"","","","","",null,null,null,null,null,null,0,{"$f":"'Scenario specification'!H517/100","v":0},"","","","","",null,null,null,null,null,null,"","","","",null,null,null,null,"","","","","","","","","","",""]
[null,null,null,null,null,null,null,null,null,null,"","","","","","",null,null,null,null,null,"","",null,null,null,null,null,"","","","","",null,null,null,null,"","","","","",null,null,null,null,null,null,"","","","",null,null,null,null,"","","","","",null,null,null,null,null,"","","","","",null,null,null,null,null,null,0,{"$f":"'Scenario specification'!H518/100","v":0},"","","","","",null,null,null,null,null,null,"","","","",null,null,null,null,"","","","","","","","","","",""]
[null,null,null,null,null,null,null,null,null,null,"","","","","","",null,null,null,null,null,"","",null,null,null,null,null,"","","","","",null,null,null,null,"","","","","",null,null,null,null,null,null,"","","","",null,null,null,null,"","","","","",null,null,null,null,null,"","","","","",null,null,null,null,null,null,0,{"$f":"'Scenario specification'!H519/100","v":0},"","","","","",null,null,null,null,null,null,"","","","",null,null,null,null,"","","","","","","","","","",""]
[null,null,null,null,null,null,null,null,null,null,"","","","","","",null,null,null,null,null,"","",null,null,null,null,null,"","","","","",null,null,null,null,"","","","","",null,null,null,null,null,null,"","","","",null,null,null,null,"","","","","",null,null,null,null,null,"","","","","",null,null,null,null,null,null,0,{"$f":"'Scenario specification'!H520/100","v":0},"","","","","",null,null,null,null,null,null,"","","","",null,null,null,null,"","","","","","","","","","",""]
[null,null,null,null,null,null,null,null,null,null,"","","","","","",null,null,null,null,null,"","",null,null,null,null,null,"","","","","",null,null,null,null,"","","","","",null,null,null,null,null,null,"","","","",null,null,null,null,"","","","","",null,null,null,null,null,"","","","","",null,null,null,null,null,null,0,{"$f":"'Scenario specification'!H521/100","v":0},"","","","","",null,null,null,null,null,null,"","","","",null,null,null,null,"","","","","","","","","","",""]
[null,null,null,null,null,null,null,null,null,null,"","","","","","",null,null,null,null,null,"","",null,null,null,null,null,"","","","","",null,null,null,null,"","","","","",null,null,null,null,null,null,"","","","",null,null,null,null,"","","","","",null,null,null,null,null,"","","","","",null,null,null,null,null,null,0,{"$f":"'Scenario specification'!H522/100","v":0},"","","","","",null,null,null,null,null,null,"","","","",null,null,null,null,"","","","","","","","","","",""]
[null,null,null,null,null,null,null,null,null,null,"","","","","","",null,null,null,null,null,"","",null,null,null,null,null,"","","","","",null,null,null,null,"","","","","",null,null,null,null,null,null,"","","","",null,null,null,null,"","","","","",null,null,null,null,null,"","","","","",null,null,null,null,null,null,0,{"$f":"'Scenario specification'!H523/100","v":0},"","","","","",null,null,null,null,null,null,"","","","",null,null,null,null,"","","","","","","","","","",""]
[null,null,null,null,null,null,null,null,null,null,"","","","","","",null,null,null,null,null,"","",null,null,null,null,null,"","","","","",null,null,null,null,"","","","","",null,null,null,null,null,null,"","","","",null,null,null,null,"","","","","",null,null,null,null,null,"","","","","",null,null,null,null,null,null,0,{"$f":"'Scenario specification'!H524/100","v":0},"","","","","",null,null,null,null,null,null,"","","","",null,null,null,null,"","","","","","","","","","",""]
[null,null,null,null,null,null,null,null,null,null,"","","","","","",null,null,null,null,null,"","",null,null,null,null,null,"","","","","",null,null,null,null,"","","","","",null,null,null,null,null,null,"","","","",null,null,null,null,"","","","","",null,null,null,null,null,"","","","","",null,null,null,null,null,null,0,{"$f":"'Scenario specification'!H525/100","v":0},"","","","","",null,null,null,null,null,null,"","","","",null,null,null,null,"","","","","","","","","","",""]
[null,null,null,null,null,null,null,null,null,null,"","","","","","",null,null,null,null,null,"","",null,null,null,null,null,"","","","","",null,null,null,null,"","","","","",null,null,null,null,null,null,"","","","",null,null,null,null,"","","","","",null,null,null,null,null,"","","","","",null,null,null,null,null,null,0,{"$f":"'Scenario specification'!H526/100","v":0},"","","","","",null,null,null,null,null,null,"","","","",null,null,null,null,"","","","","","","","","","",""]
[null,null,null,null,null,null,null,null,null,null,"","","","","","",null,null,null,null,null,"","",null,null,null,null,null,"","","","","",null,null,null,null,"","","","","",null,null,null,null,null,null,"","","","",null,null,null,null,"","","","","",null,null,null,null,null,"","","","","",null,null,null,null,null,null,0,{"$f":"'Scenario specification'!H527/100","v":0},"","","","","",null,null,null,null,null,null,"","","","",null,null,null,null,"","","","","","","","","","",""]
[null,null,null,null,null,null,null,null,null,null,"","","","","","",null,null,null,null,null,"","",null,null,null,null,null,"","","","","",null,null,null,null,"","","","","",null,null,null,null,null,null,"","","","",null,null,null,null,"","","","","",null,null,null,null,null,"","","","","",null,null,null,null,null,null,0,{"$f":"'Scenario specification'!H528/100","v":0},"","","","","",null,null,null,null,null,null,"","","","",null,null,null,null,"","","","","","","","","","",""]
[null,null,null,null,null,null,null,null,null,null,"","","","","","",null,null,null,null,null,"","",null,null,null,null,null,"","","","","",null,null,null,null,"","","","","",null,null,null,null,null,null,"","","","",null,null,null,null,"","","","","",null,null,null,null,null,"","","","","",null,null,null,null,null,null,0,{"$f":"'Scenario specification'!H529/100","v":0},"","","","","",null,null,null,null,null,null,"","","","",null,null,null,null,"","","","","","","","","","",""]
[null,null,null,null,null,null,null,null,null,null,"","","","","","",null,null,null,null,null,"","",null,null,null,null,null,"","","","","",null,null,null,null,"","","","","",null,null,null,null,null,null,"","","","",null,null,null,null,"","","","","",null,null,null,null,null,"","","","","",null,null,null,null,null,null,0,{"$f":"'Scenario specification'!H530/100","v":0},"","","","","",null,null,null,null,null,null,"","","","",null,null,null,null,"","","","","","","","","","",""]
[null,null,null,null,null,null,null,null,null,null,"","","","","","",null,null,null,null,null,"","",null,null,null,null,null,"","","","","",null,null,null,null,"","","","","",null,null,null,null,null,null,"","","","",null,null,null,null,"","","","","",null,null,null,null,null,"","","","","",null,null,null,null,null,null,0,{"$f":"'Scenario specification'!H531/100","v":0},"","","","","",null,null,null,null,null,null,"","","","",null,null,null,null,"","","","","","","","","","",""]
[null,null,null,null,null,null,null,null,null,null,"","","","","","",null,null,null,null,null,"","",null,null,null,null,null,"","","","","",null,null,null,null,"","","","","",null,null,null,null,null,null,"","","","",null,null,null,null,"","","","","",null,null,null,null,null,"","","","","",null,null,null,null,null,null,0,{"$f":"'Scenario specification'!H532/100","v":0},"","","","","",null,null,null,null,null,null,"","","","",null,null,null,null,"","","","","","","","","","",""]
[null,null,null,null,null,null,null,null,null,null,"","","","","","",null,null,null,null,null,"","",null,null,null,null,null,"","","","","",null,null,null,null,"","","","","",null,null,null,null,null,null,"","","","",null,null,null,null,"","","","","",null,null,null,null,null,"","","","","",null,null,null,null,null,null,0,{"$f":"'Scenario specification'!H533/100","v":0},"","","","","",null,null,null,null,null,null,"","","","",null,null,null,null,"","","","","","","","","","",""]
[null,null,null,null,null,null,null,null,null,null,"","","","","","",null,null,null,null,null,"","",null,null,null,null,null,"","","","","",null,null,null,null,"","","","","",null,null,null,null,null,null,"","","","",null,null,null,null,"","","","","",null,null,null,null,null,"","","","","",null,null,null,null,null,null,0,{"$f":"'Scenario specification'!H534/100","v":0},"","","","","",null,null,null,null,null,null,"","","","",null,null,null,null,"","","","","","","","","","",""]
[null,null,null,null,null,null,null,null,null,null,"","","","","","",null,null,null,null,null,"","",null,null,null,null,null,"","","","","",null,null,null,null,"","","","","",null,null,null,null,null,null,"","","","",null,null,null,null,"","","","","",null,null,null,null,null,"","","","","",null,null,null,null,null,null,0,{"$f":"'Scenario specification'!H535/100","v":0},"","","","","",null,null,null,null,null,null,"","","","",null,null,null,null,"","","","","","","","","","",""]
[null,null,null,null,null,null,null,null,null,null,"","","","","","",null,null,null,null,null,"","",null,null,null,null,null,"","","","","",null,null,null,null,"","","","","",null,null,null,null,null,null,"","","","",null,null,null,null,"","","","","",null,null,null,null,null,"","","","","",null,null,null,null,null,null,0,{"$f":"'Scenario specification'!H536/100","v":0},"","","","","",null,null,null,null,null,null,"","","","",null,null,null,null,"","","","","","","","","","",""]
[null,null,null,null,null,null,null,null,null,null,"","","","","","",null,null,null,null,null,"","",null,null,null,null,null,"","","","","",null,null,null,null,"","","","","",null,null,null,null,null,null,"","","","",null,null,null,null,"","","","","",null,null,null,null,null,"","","","","",null,null,null,null,null,null,0,{"$f":"'Scenario specification'!H537/100","v":0},"","","","","",null,null,null,null,null,null,"","","","",null,null,null,null,"","","","","","","","","","",""]
[null,null,null,null,null,null,null,null,null,null,"","","","","","",null,null,null,null,null,"","",null,null,null,null,null,"","","","","",null,null,null,null,"","","","","",null,null,null,null,null,null,"","","","",null,null,null,null,"","","","","",null,null,null,null,null,"","","","","",null,null,null,null,null,null,0,{"$f":"'Scenario specification'!H538/100","v":0},"","","","","",null,null,null,null,null,null,"","","","",null,null,null,null,"","","","","","","","","","",""]
[null,null,null,null,null,null,null,null,null,null,"","","","","","",null,null,null,null,null,"","",null,null,null,null,null,"","","","","",null,null,null,null,"","","","","",null,null,null,null,null,null,"","","","",null,null,null,null,"","","","","",null,null,null,null,null,"","","","","",null,null,null,null,null,null,0,{"$f":"'Scenario specification'!H539/100","v":0},"","","","","",null,null,null,null,null,null,"","","","",null,null,null,null,"","","","","","","","","","",""]
[null,null,null,null,null,null,null,null,null,null,"","","","","","",null,null,null,null,null,"","",null,null,null,null,null,"","","","","",null,null,null,null,"","","","","",null,null,null,null,null,null,"","","","",null,null,null,null,"","","","","",null,null,null,null,null,"","","","","",null,null,null,null,null,null,0,{"$f":"'Scenario specification'!H540/100","v":0},"","","","","",null,null,null,null,null,null,"","","","",null,null,null,null,"","","","","","","","","","",""]
[null,null,null,null,null,null,null,null,null,null,"","","","","","",null,null,null,null,null,"","",null,null,null,null,null,"","","","","",null,null,null,null,"","","","","",null,null,null,null,null,null,"","","","",null,null,null,null,"","","","","",null,null,null,null,null,"","","","","",null,null,null,null,null,null,0,{"$f":"'Scenario specification'!H541/100","v":0},"","","","","",null,null,null,null,null,null,"","","","",null,null,null,null,"","","","","","","","","","",""]
[null,null,null,null,null,null,null,null,null,null,"","","","","","",null,null,null,null,null,"","",null,null,null,null,null,"","","","","",null,null,null,null,"","","","","",null,null,null,null,null,null,"","","","",null,null,null,null,"","","","","",null,null,null,null,null,"","","","","",null,null,null,null,null,null,0,{"$f":"'Scenario specification'!H542/100","v":0},"","","","","",null,null,null,null,null,null,"","","","",null,null,null,null,"","","","","","","","","","",""]
[null,null,null,null,null,null,null,null,null,null,"","","","","","",null,null,null,null,null,"","",null,null,null,null,null,"","","","","",null,null,null,null,"","","","","",null,null,null,null,null,null,"","","","",null,null,null,null,"","","","","",null,null,null,null,null,{"$f":"IF(D464=\"\",\"\",BP464-H464)","v":""},"",{"$f":"IF(D464=\"\",\"\",D464*((BP464-H464)*(1+($O$6+$O$7))))","v":""},{"$f":"IF(D464=\"\",\"\",IF(BP464-$E$4>=0,VALUE(0),($E$4-BP464)*D464))","v":""},{"$f":"IF(D464=\"\",\"\",IF(BP464-$E$4>=0,VALUE(0),D464))","v":""},null,null,null,null,null,null,0,{"$f":"'Scenario specification'!H543/100","v":0},{"$f":"IF(D464=\"\",\"\",CC464-BZ464)","v":""},{"$f":"IF(D464=\"\",\"\",IF($CD$6=0,\"specify scenario\",IF($CD$6=2,(H464+($BY$16*CA464)),IF($CD$6=1,(H464*(1+CA464))))))","v":""},{"$f":"IF(D464=\"\",\"\",D464*(CB464*(1+($O$6+$O$7))))","v":""},{"$f":"IF(D464=\"\",\"\",IF(CC464-$E$4>=0,VALUE(0),($E$4-CC464)*D464))","v":""},{"$f":"IF(D464=\"\",\"\",IF(CC464-$E$4>=0,VALUE(0),D464))","v":""},null,null,null,null,null,null,{"$f":"IF(D464=\"\",\"\",$CL$16+H464)","v":""},{"$f":"IF(D464=\"\",\"\",(CM464-H464)*D464*(1+(($O$6+$O$7)/100)))","v":""},{"$f":"IF(D464=\"\",\"\",IF(CM464-$E$4>=0,VALUE(0),($E$4-CM464)*D464))","v":""},{"$f":"IF(D464=\"\",\"\",IF(CM464-$E$4>=0,VALUE(0),D464))","v":""},null,null,null,null,{"$f":"IF(D464=\"\",\"\",B464)","v":""},{"$f":"IF(D464=\"\",\"\",C464)","v":""},{"$f":"IF(D464=\"\",\"\",H464)","v":""},{"$f":"IF(D464=\"\",\"\",AC464)","v":""},{"$f":"IF(D464=\"\",\"\",AL464)","v":""},{"$f":"IF(D464=\"\",\"\",AW464)","v":""},{"$f":"IF(D464=\"\",\"\",BE464)","v":""},{"$f":"IF(D464=\"\",\"\",BP464)","v":""},{"$f":"IF(D464=\"\",\"\",CC464)","v":""},{"$f":"IF(D464=\"\",\"\",CM464)","v":""},{"$f":"IF(D464=\"\",\"\",CU464&\" \"&CV464)","v":""}]
[null,null,null,null,null,null,null,null,null,null,"","","","",{"$f":"IF(D465=\"\",\"\",$E$4-H465)","v":""},{"$f":"IF(D465=\"\",\"\",IF(N465=0,VALUE(0),D465))","v":""},null,null,null,null,null,{"$f":"IF(D465=\"\",\"\",IF(H465-$T$16>0,H465-$T$16,0))","v":""},{"$f":"IF(D465=\"\",\"\",H465/$T$16)","v":""},null,null,null,null,null,{"$f":"IF(D465=\"\",\"\",IF(H465>=$E$4,H465,$E$4))","v":""},{"$f":"IF(D465=\"\",\"\",AC465-H465)","v":""},{"$f":"IF(D465=\"\",\"\",D465*(AD465*(1+($O$6+$O$7))))","v":""},{"$f":"IF(D465=\"\",\"\",IF(AC465-$E$4>=0,VALUE(0),($E$4-AC465)*D465))","v":""},{"$f":"IF(D465=\"\",\"\",IF(AC465-$E$4>=0,VALUE(0),D465))","v":""},null,null,null,null,"",{"$f":"IF(D465=\"\",\"\",AL465-H465)","v":""},{"$f":"IF(D465=\"\",\"\",D465*(AM465*(1+($O$6+$O$7))))","v":""},{"$f":"IF(D465=\"\",\"\",IF(AL465-$E$4>=0,VALUE(0),($E$4-AL465)*D465))","v":""},{"$f":"IF(D465=\"\",\"\",IF(AL465-$E$4>=0,VALUE(0),D465))","v":""},null,null,null,null,null,null,"",{"$f":"IF(D465=\"\",\"\",D465*($AV$16*(1+($O$6+$O$7))))","v":""},{"$f":"IF(D465=\"\",\"\",IF(AW465-$E$4>=0,VALUE(0),($E$4-AW465)*D465))","v":""},{"$f":"IF(D465=\"\",\"\",IF(AW465-$E$4>=0,VALUE(0),D465))","v":""},null,null,null,null,{"$f":"IF(D465=\"\",\"\",IF((H465*(1+$BI$10/100))>(H465+$BI$11),(H465*(1+$BI$10/100)),(H465+$BI$11)))","v":""},{"$f":"IF(D465=\"\",\"\",BE465-H465)","v":""},{"$f":"IF(D465=\"\",\"\",D465*(BF465*(1+(($O$6+$O$7)))))","v":""},{"$f":"IF(D465=\"\",\"\",IF(BE465-$E$4>=0,VALUE(0),($E$4-BE465)*D465))","v":""},{"$f":"IF(D465=\"\",\"\",IF(BE465-$E$4>=0,VALUE(0),D465))","v":""},null,null,null,null,null,"",{"$f":"IF(D465=\"\",\"\",IF(H465<$E$4,$E$4,IF($BS$6=0,\"especificar el escenario\",IF($BS$6=1,H465*(1+$BS$11),IF($BS$6=2,H465+($AA$16*$BS$11))))))","v":""},"","","",null,null,null,null,null,null,{"$f":"H465","v":0},{"$f":"'Scenario specification'!H544/100","v":0},"","","","","",null,null,null,null,null,null,"","","","",null,null,null,null,"","","","","","","","","","",""]
[null,null,null,null,null,null,null,null,null,null,"","","","","","",null,null,null,null,null,"","",null,null,null,null,null,"","","","","",null,null,null,null,"","","","","",null,null,null,null,null,null,"","","","",null,null,null,null,"","","","","",null,null,null,null,null,"","","","","",null,null,null,null,null,null,0,{"$f":"'Scenario specification'!H545/100","v":0},"","","","","",null,null,null,null,null,null,"","","","",null,null,null,null,"","","","","","","","","","",""]
[null,null,null,null,null,null,null,null,null,null,"","","","","","",null,null,null,null,null,"","",null,null,null,null,null,"","","","","",null,null,null,null,"","","","","",null,null,null,null,null,null,{"$f":"IF(D467=\"\",\"\",IF($AX$7=0,\"especificar el escenario\",IF($AX$7=2,IF(H467>=$E$4,H467,H467+$AV$16),IF($AX$7=1,$AV$16+H467,\"especificar el escenario\"))))","v":""},"","","",null,null,null,null,"","","","","",null,null,null,null,null,"","","","","",null,null,null,null,null,null,0,{"$f":"'Scenario specification'!H546/100","v":0},"","","","","",null,null,null,null,null,null,"","","","",null,null,null,null,"","","","","","","","","","",""]
[null,null,null,null,null,null,null,null,null,null,"","","","","","",null,null,null,null,null,"","",null,null,null,null,null,"","","","","",null,null,null,null,{"$f":"IF(D468=\"\",\"\",IF($AQ$7=0,\"especificar el escenario\",IF($AQ$7=2,IF(H468>=$E$4,H468,H468+$U$16),IF($AQ$7=1,H468+$U$16,\"\"))))","v":""},"","","","",null,null,null,null,null,null,"","","","",null,null,null,null,"","","","","",null,null,null,null,null,"","","","","",null,null,null,null,null,null,0,{"$f":"'Scenario specification'!H547/100","v":0},"","","","","",null,null,null,null,null,null,"","","","",null,null,null,null,"","","","","","","","","","",""]
[null,null,null,null,null,null,null,null,null,null,"","","","","","",null,null,null,null,null,"","",null,null,null,null,null,"","","","","",null,null,null,null,"","","","","",null,null,null,null,null,null,"","","","",null,null,null,null,"","","","","",null,null,null,null,null,"","","","","",null,null,null,null,null,null,0,{"$f":"'Scenario specification'!H548/100","v":0},"","","","","",null,null,null,null,null,null,"","","","",null,null,null,null,"","","","","","","","","","",""]
[null,null,null,null,null,null,null,null,null,null,"","","","","","",null,null,null,null,null,"","",null,null,null,null,null,"","","","","",null,null,null,null,"","","","","",null,null,null,null,null,null,"","","","",null,null,null,null,"","","","","",null,null,null,null,null,"","","","","",null,null,null,null,null,null,0,{"$f":"'Scenario specification'!H549/100","v":0},"","","","","",null,null,null,null,null,null,"","","","",null,null,null,null,"","","","","","","","","","",""]
[null,null,null,null,null,null,null,null,null,null,"","","","","","",null,null,null,null,null,"","",null,null,null,null,null,"","","","","",null,null,null,null,"","","","","",null,null,null,null,null,null,"","","","",null,null,null,null,"","","","","",null,null,null,null,null,"","","","","",null,null,null,null,null,null,0,{"$f":"'Scenario specification'!H550/100","v":0},"","","","","",null,null,null,null,null,null,"","","","",null,null,null,null,"","","","","","","","","","",""]
[null,null,null,null,null,null,null,null,null,null,{"$f":"IF(D472=\"\",\"\",H472*D472)","v":""},{"$f":"IF(D472=\"\",\"\",IF(H472>=$E$4,0,K472))","v":""},{"$f":"IF(D472=\"\",\"\",IF(H472>=$E$4,0,$E$4-H472))","v":""},{"$f":"IF(D472=\"\",\"\",M472*D472)","v":""},"","",null,null,null,null,null,"","",null,null,null,null,null,"","","","","",null,null,null,null,"","","","","",null,null,null,null,null,null,"","","","",null,null,null,null,"","","","","",null,null,null,null,null,"","","","","",null,null,null,null,null,null,0,{"$f":"'Scenario specification'!H551/100","v":0},"","","","","",null,null,null,null,null,null,"","","","",null,null,null,null,"","","","","","","","","","",""]
[null,null,null,null,null,null,null,null,null,null,"","","","","","",null,null,null,null,null,"","",null,null,null,null,null,"","","","","",null,null,null,null,"","","","","",null,null,null,null,null,null,"","","","",null,null,null,null,"","","","","",null,null,null,null,null,"","","","","",null,null,null,null,null,null,0,{"$f":"'Scenario specification'!H552/100","v":0},"","","","","",null,null,null,null,null,null,"","","","",null,null,null,null,"","","","","","","","","","",""]
[null,null,null,null,null,null,null,null,null,null,"","","","","","",null,null,null,null,null,"","",null,null,null,null,null,"","","","","",null,null,null,null,"","","","","",null,null,null,null,null,null,"","","","",null,null,null,null,"","","","","",null,null,null,null,null,"","","","","",null,null,null,null,null,null,0,{"$f":"'Scenario specification'!H553/100","v":0},"","","","","",null,null,null,null,null,null,"","","","",null,null,null,null,"","","","","","","","","","",""]
[null,null,null,null,null,null,null,null,null,null,"","","","","","",null,null,null,null,null,"","",null,null,null,null,null,"","","","","",null,null,null,null,"","","","","",null,null,null,null,null,null,"","","","",null,null,null,null,"","","","","",null,null,null,null,null,"","","","","",null,null,null,null,null,null,0,{"$f":"'Scenario specification'!H554/100","v":0},"","","","","",null,null,null,null,null,null,"","","","",null,null,null,null,"","","","","","","","","","",""]
[null,null,null,null,null,null,null,null,null,null,"","","","","","",null,null,null,null,null,"","",null,null,null,null,null,"","","","","",null,null,null,null,"","","","","",null,null,null,null,null,null,"","","","",null,null,null,null,"","","","","",null,null,null,null,null,"","","","","",null,null,null,null,null,null,0,{"$f":"'Scenario specification'!H555/100","v":0},"","","","","",null,null,null,null,null,null,"","","","",null,null,null,null,"","","","","","","","","","",""]
[null,null,null,null,null,null,null,null,null,null,"","","","","","",null,null,null,null,null,"","",null,null,null,null,null,"","","","","",null,null,null,null,"","","","","",null,null,null,null,null,null,"","","","",null,null,null,null,"","","","","",null,null,null,null,null,"","","","","",null,null,null,null,null,null,0,{"$f":"'Scenario specification'!H556/100","v":0},"","","","","",null,null,null,null,null,null,"","","","",null,null,null,null,"","","","","","","","","","",""]
[null,null,null,null,null,null,null,null,null,null,"","","","","","",null,null,null,null,null,"","",null,null,null,null,null,"","","","","",null,null,null,null,"","","","","",null,null,null,null,null,null,"","","","",null,null,null,null,"","","","","",null,null,null,null,null,"","","","","",null,null,null,null,null,null,0,{"$f":"'Scenario specification'!H557/100","v":0},"","","","","",null,null,null,null,null,null,"","","","",null,null,null,null,"","","","","","","","","","",""]
[null,null,null,null,null,null,null,null,null,null,"","","","","","",null,null,null,null,null,"","",null,null,null,null,null,"","","","","",null,null,null,null,"","","","","",null,null,null,null,null,null,"","","","",null,null,null,null,"","","","","",null,null,null,null,null,"","","","","",null,null,null,null,null,null,0,{"$f":"'Scenario specification'!H558/100","v":0},"","","","","",null,null,null,null,null,null,"","","","",null,null,null,null,"","","","","","","","","","",""]
[null,null,null,null,null,null,null,null,null,null,"","","","","","",null,null,null,null,null,"","",null,null,null,null,null,"","","","","",null,null,null,null,"","","","","",null,null,null,null,null,null,"","","","",null,null,null,null,"","","","","",null,null,null,null,null,"","","","","",null,null,null,null,null,null,0,{"$f":"'Scenario specification'!H559/100","v":0},"","","","","",null,null,null,null,null,null,"","","","",null,null,null,null,"","","","","","","","","","",""]
[null,null,null,null,null,null,null,null,null,null,"","","","","","",null,null,null,null,null,"","",null,null,null,null,null,"","","","","",null,null,null,null,"","","","","",null,null,null,null,null,null,"","","","",null,null,null,null,"","","","","",null,null,null,null,null,"","","","","",null,null,null,null,null,null,0,{"$f":"'Scenario specification'!H560/100","v":0},"","","","","",null,null,null,null,null,null,"","","","",null,null,null,null,"","","","","","","","","","",""]
[null,null,null,null,null,null,null,null,null,null,"","","","","","",null,null,null,null,null,"","",null,null,null,null,null,"","","","","",null,null,null,null,"","","","","",null,null,null,null,null,null,"","","","",null,null,null,null,"","","","","",null,null,null,null,null,"","","","","",null,null,null,null,null,null,0,{"$f":"'Scenario specification'!H561/100","v":0},"","","","","",null,null,null,null,null,null,"","","","",null,null,null,null,"","","","","","","","","","",""]
[null,null,null,null,null,null,null,null,null,null,"","","","","","",null,null,null,null,null,"","",null,null,null,null,null,"","","","","",null,null,null,null,"","","","","",null,null,null,null,null,null,"","","","",null,null,null,null,"","","","","",null,null,null,null,null,"","","","","",null,null,null,null,null,null,0,{"$f":"'Scenario specification'!H562/100","v":0},"","","","","",null,null,null,null,null,null,"","","","",null,null,null,null,"","","","","","","","","","",""]
[null,null,null,null,null,null,null,null,null,null,"","","","","","",null,null,null,null,null,"","",null,null,null,null,null,"","","","","",null,null,null,null,"","","","","",null,null,null,null,null,null,"","","","",null,null,null,null,"","","","","",null,null,null,null,null,"","","","","",null,null,null,null,null,null,0,{"$f":"'Scenario specification'!H563/100","v":0},"","","","","",null,null,null,null,null,null,"","","","",null,null,null,null,"","","","","","","","","","",""]
[null,null,null,null,null,null,null,null,null,null,"","","","","","",null,null,null,null,null,"","",null,null,null,null,null,"","","","","",null,null,null,null,"","","","","",null,null,null,null,null,null,"","","","",null,null,null,null,"","","","","",null,null,null,null,null,"","","","","",null,null,null,null,null,null,0,{"$f":"'Scenario specification'!H564/100","v":0},"","","","","",null,null,null,null,null,null,"","","","",null,null,null,null,"","","","","","","","","","",""]
[null,null,null,null,null,null,null,null,null,null,"","","","","","",null,null,null,null,null,"","",null,null,null,null,null,"","","","","",null,null,null,null,"","","","","",null,null,null,null,null,null,"","","","",null,null,null,null,"","","","","",null,null,null,null,null,"","","","","",null,null,null,null,null,null,0,{"$f":"'Scenario specification'!H565/100","v":0},"","","","","",null,null,null,null,null,null,"","","","",null,null,null,null,"","","","","","","","","","",""]
[null,null,null,null,null,null,null,null,null,null,"","","","","","",null,null,null,null,null,"","",null,null,null,null,null,"","","","","",null,null,null,null,"","","","","",null,null,null,null,null,null,"","","","",null,null,null,null,"","","","","",null,null,null,null,null,"","","","","",null,null,null,null,null,null,0,{"$f":"'Scenario specification'!H566/100","v":0},"","","","","",null,null,null,null,null,null,"","","","",null,null,null,null,"","","","","","","","","","",""]
[null,null,null,null,null,null,null,null,null,null,"","","","","","",null,null,null,null,null,"","",null,null,null,null,null,"","","","","",null,null,null,null,"","","","","",null,null,null,null,null,null,"","","","",null,null,null,null,"","","","","",null,null,null,null,null,"","","","","",null,null,null,null,null,null,0,{"$f":"'Scenario specification'!H567/100","v":0},"","","","","",null,null,null,null,null,null,"","","","",null,null,null,null,"","","","","","","","","","",""]
[null,null,null,null,null,null,null,null,null,null,"","","","","","",null,null,null,null,null,"","",null,null,null,null,null,"","","","","",null,null,null,null,"","","","","",null,null,null,null,null,null,"","","","",null,null,null,null,"","","","","",null,null,null,null,null,"","","","","",null,null,null,null,null,null,0,{"$f":"'Scenario specification'!H568/100","v":0},"","","","","",null,null,null,null,null,null,"","","","",null,null,null,null,"","","","","","","","","","",""]
[null,null,null,null,null,null,null,null,null,null,"","","","","","",null,null,null,null,null,"","",null,null,null,null,null,"","","","","",null,null,null,null,"","","","","",null,null,null,null,null,null,"","","","",null,null,null,null,"","","","","",null,null,null,null,null,"","","","","",null,null,null,null,null,null,0,{"$f":"'Scenario specification'!H569/100","v":0},"","","","","",null,null,null,null,null,null,"","","","",null,null,null,null,"","","","","","","","","","",""]
[null,null,null,null,null,null,null,null,null,null,"","","","","","",null,null,null,null,null,"","",null,null,null,null,null,"","","","","",null,null,null,null,"","","","","",null,null,null,null,null,null,"","","","",null,null,null,null,"","","","","",null,null,null,null,null,"","","","","",null,null,null,null,null,null,0,{"$f":"'Scenario specification'!H570/100","v":0},"","","","","",null,null,null,null,null,null,"","","","",null,null,null,null,"","","","","","","","","","",""]
[null,null,null,null,null,null,null,null,null,null,"","","","","","",null,null,null,null,null,"","",null,null,null,null,null,"","","","","",null,null,null,null,"","","","","",null,null,null,null,null,null,"","","","",null,null,null,null,"","","","","",null,null,null,null,null,"","","","","",null,null,null,null,null,null,0,{"$f":"'Scenario specification'!H571/100","v":0},"","","","","",null,null,null,null,null,null,"","","","",null,null,null,null,"","","","","","","","","","",""]
[null,null,null,null,null,null,null,null,null,null,"","","","","","",null,null,null,null,null,"","",null,null,null,null,null,"","","","","",null,null,null,null,"","","","","",null,null,null,null,null,null,"","","","",null,null,null,null,"","","","","",null,null,null,null,null,"","","","","",null,null,null,null,null,null,0,{"$f":"'Scenario specification'!H572/100","v":0},"","","","","",null,null,null,null,null,null,"","","","",null,null,null,null,"","","","","","","","","","",""]
[null,null,null,null,null,null,null,null,null,null,"","","","","","",null,null,null,null,null,"","",null,null,null,null,null,"","","","","",null,null,null,null,"","","","","",null,null,null,null,null,null,"","","","",null,null,null,null,"","","","","",null,null,null,null,null,"","","","","",null,null,null,null,null,null,0,{"$f":"'Scenario specification'!H573/100","v":0},"","","","","",null,null,null,null,null,null,"","","","",null,null,null,null,"","","","","","","","","","",""]
[null,null,null,null,null,null,null,null,null,null,"","","","","","",null,null,null,null,null,"","",null,null,null,null,null,"","","","","",null,null,null,null,"","","","","",null,null,null,null,null,null,"","","","",null,null,null,null,"","","","","",null,null,null,null,null,"","","","","",null,null,null,null,null,null,0,{"$f":"'Scenario specification'!H574/100","v":0},"","","","","",null,null,null,null,null,null,"","","","",null,null,null,null,"","","","","","","","","","",""]
[null,null,null,null,null,null,null,null,null,null,"","","","","","",null,null,null,null,null,"","",null,null,null,null,null,"","","","","",null,null,null,null,"","","","","",null,null,null,null,null,null,"","","","",null,null,null,null,"","","","","",null,null,null,null,null,"","","","","",null,null,null,null,null,null,0,{"$f":"'Scenario specification'!H575/100","v":0},"","","","","",null,null,null,null,null,null,"","","","",null,null,null,null,"","","","","","","","","","",""]
[null,null,null,null,null,null,null,null,null,null,"","","","","","",null,null,null,null,null,"","",null,null,null,null,null,"","","","","",null,null,null,null,"","","","","",null,null,null,null,null,null,"","","","",null,null,null,null,"","","","","",null,null,null,null,null,"","","","","",null,null,null,null,null,null,0,{"$f":"'Scenario specification'!H576/100","v":0},"","","","","",null,null,null,null,null,null,"","","","",null,null,null,null,"","","","","","","","","","",""]
[null,null,null,null,null,null,null,null,null,null,"","","","","","",null,null,null,null,null,"","",null,null,null,null,null,"","","","","",null,null,null,null,"","","","","",null,null,null,null,null,null,"","","","",null,null,null,null,"","","","","",null,null,null,null,null,"","","","","",null,null,null,null,null,null,0,{"$f":"'Scenario specification'!H577/100","v":0},"","","","","",null,null,null,null,null,null,"","","","",null,null,null,null,"","","","","","","","","","",""]
[null,null,null,null,null,null,null,null,null,null,"","","","","","",null,null,null,null,null,"","",null,null,null,null,null,"","","","","",null,null,null,null,"","","","","",null,null,null,null,null,null,"","","","",null,null,null,null,"","","","","",null,null,null,null,null,"","","","","",null,null,null,null,null,null,0,{"$f":"'Scenario specification'!H578/100","v":0},"","","","","",null,null,null,null,null,null,"","","","",null,null,null,null,"","","","","","","","","","",""]
[null,null,null,null,null,null,null,null,null,null,"","","","","","",null,null,null,null,null,"","",null,null,null,null,null,"","","","","",null,null,null,null,"","","","","",null,null,null,null,null,null,"","","","",null,null,null,null,"","","","","",null,null,null,null,null,"","","","","",null,null,null,null,null,null,0,{"$f":"'Scenario specification'!H579/100","v":0},"","","","","",null,null,null,null,null,null,"","","","",null,null,null,null,"","","","","","","","","","",""]
[null,null,null,null,null,null,null,null,null,null,"","","","","","",null,null,null,null,null,"","",null,null,null,null,null,"","","","","",null,null,null,null,"","","","","",null,null,null,null,null,null,"","","","",null,null,null,null,"","","","","",null,null,null,null,null,"","","","","",null,null,null,null,null,null,0,{"$f":"'Scenario specification'!H580/100","v":0},"","","","","",null,null,null,null,null,null,"","","","",null,null,null,null,"","","","","","","","","","",""]
[null,null,null,null,null,null,null,null,null,null,"","","","","","",null,null,null,null,null,"","",null,null,null,null,null,"","","","","",null,null,null,null,"","","","","",null,null,null,null,null,null,"","","","",null,null,null,null,"","","","","",null,null,null,null,null,"","","","","",null,null,null,null,null,null,0,{"$f":"'Scenario specification'!H581/100","v":0},"","","","","",null,null,null,null,null,null,"","","","",null,null,null,null,"","","","","","","","","","",""]
[null,null,null,null,null,null,null,null,null,null,"","","","","","",null,null,null,null,null,"","",null,null,null,null,null,"","","","","",null,null,null,null,"","","","","",null,null,null,null,null,null,"","","","",null,null,null,null,"","","","","",null,null,null,null,null,"","","","","",null,null,null,null,null,null,0,{"$f":"'Scenario specification'!H582/100","v":0},"","","","","",null,null,null,null,null,null,"","","","",null,null,null,null,"","","","","","","","","","",""]
[null,null,null,null,null,null,null,null,null,null,"","","","","","",null,null,null,null,null,"","",null,null,null,null,null,"","","","","",null,null,null,null,"","","","","",null,null,null,null,null,null,"","","","",null,null,null,null,"","","","","",null,null,null,null,null,"","","","","",null,null,null,null,null,null,0,{"$f":"'Scenario specification'!H583/100","v":0},"","","","","",null,null,null,null,null,null,"","","","",null,null,null,null,"","","","","","","","","","",""]
[null,null,null,null,null,null,null,null,null,null,"","","","","","",null,null,null,null,null,"","",null,null,null,null,null,"","","","","",null,null,null,null,"","","","","",null,null,null,null,null,null,"","","","",null,null,null,null,"","","","","",null,null,null,null,null,"","","","","",null,null,null,null,null,null,0,{"$f":"'Scenario specification'!H584/100","v":0},"","","","","",null,null,null,null,null,null,"","","","",null,null,null,null,"","","","","","","","","","",""]
[null,null,null,null,null,null,null,null,null,null,"","","","","","",null,null,null,null,null,"","",null,null,null,null,null,"","","","","",null,null,null,null,"","","","","",null,null,null,null,null,null,"","","","",null,null,null,null,"","","","","",null,null,null,null,null,"","","","","",null,null,null,null,null,null,0,{"$f":"'Scenario specification'!H585/100","v":0},"","","","","",null,null,null,null,null,null,"","","","",null,null,null,null,"","","","","","","","","","",""]
[null,null,null,null,null,null,null,null,null,null,"","","","","","",null,null,null,null,null,"","",null,null,null,null,null,"","","","","",null,null,null,null,"","","","","",null,null,null,null,null,null,"","","","",null,null,null,null,"","","","","",null,null,null,null,null,"","","","","",null,null,null,null,null,null,0,{"$f":"'Scenario specification'!H586/100","v":0},"","","","","",null,null,null,null,null,null,"","","","",null,null,null,null,"","","","","","","","","","",""]
[null,null,null,null,null,null,null,null,null,null,"","","","","","",null,null,null,null,null,"","",null,null,null,null,null,"","","","","",null,null,null,null,"","","","","",null,null,null,null,null,null,"","","","",null,null,null,null,"","","","","",null,null,null,null,null,"","","","","",null,null,null,null,null,null,0,{"$f":"'Scenario specification'!H587/100","v":0},"","","","","",null,null,null,null,null,null,"","","","",null,null,null,null,"","","","","","","","","","",""]
[null,null,null,null,null,null,null,null,null,null,"","","","","","",null,null,null,null,null,"","",null,null,null,null,null,"","","","","",null,null,null,null,"","","","","",null,null,null,null,null,null,"","","","",null,null,null,null,"","","","","",null,null,null,null,null,"","","","","",null,null,null,null,null,null,0,{"$f":"'Scenario specification'!H588/100","v":0},"","","","","",null,null,null,null,null,null,"","","","",null,null,null,null,"","","","","","","","","","",""]
[null,null,null,null,null,null,null,null,null,null,"","","","","","",null,null,null,null,null,"","",null,null,null,null,null,"","","","","",null,null,null,null,"","","","","",null,null,null,null,null,null,"","","","",null,null,null,null,"","","","","",null,null,null,null,null,"","","","","",null,null,null,null,null,null,0,{"$f":"'Scenario specification'!H589/100","v":0},"","","","","",null,null,null,null,null,null,"","","","",null,null,null,null,"","","","","","","","","","",""]
[null,null,null,null,null,null,null,null,null,null,"","","","","","",null,null,null,null,null,"","",null,null,null,null,null,"","","","","",null,null,null,null,"","","","","",null,null,null,null,null,null,"","","","",null,null,null,null,"","","","","",null,null,null,null,null,"","","","","",null,null,null,null,null,null,0,{"$f":"'Scenario specification'!H590/100","v":0},"","","","","",null,null,null,null,null,null,"","","","",null,null,null,null,"","","","","","","","","","",""]
[null,null,null,null,null,null,null,null,null,null,"","","","","","",null,null,null,null,null,"","",null,null,null,null,null,"","","","","",null,null,null,null,"","","","","",null,null,null,null,null,null,"","","","",null,null,null,null,"","","","","",null,null,null,null,null,"","","","","",null,null,null,null,null,null,0,{"$f":"'Scenario specification'!H591/100","v":0},"","","","","",null,null,null,null,null,null,"","","","",null,null,null,null,"","","","","","","","","","",""]
[null,null,null,null,null,null,null,null,null,null,"","","","","","",null,null,null,null,null,"","",null,null,null,null,null,"","","","","",null,null,null,null,"","","","","",null,null,null,null,null,null,"","","","",null,null,null,null,"","","","","",null,null,null,null,null,"","","","","",null,null,null,null,null,null,0,{"$f":"'Scenario specification'!H592/100","v":0},"","","","","",null,null,null,null,null,null,"","","","",null,null,null,null,"","","","","","","","","","",""]
[null,null,null,null,null,null,null,null,null,null,"","","","","","",null,null,null,null,null,"","",null,null,null,null,null,"","","","","",null,null,null,null,"","","","","",null,null,null,null,null,null,"","","","",null,null,null,null,"","","","","",null,null,null,null,null,"","","","","",null,null,null,null,null,null,0,{"$f":"'Scenario specification'!H593/100","v":0},"","","","","",null,null,null,null,null,null,"","","","",null,null,null,null,"","","","","","","","","","",""]
[null,null,null,null,null,null,null,null,null,null,"","","","","","",null,null,null,null,null,"","",null,null,null,null,null,"","","","","",null,null,null,null,"","","","","",null,null,null,null,null,null,"","","","",null,null,null,null,"","","","","",null,null,null,null,null,"","","","","",null,null,null,null,null,null,0,{"$f":"'Scenario specification'!H594/100","v":0},"","","","","",null,null,null,null,null,null,"","","","",null,null,null,null,"","","","","","","","","","",""]
[null,null,null,null,null,null,null,null,null,null,"","","","","","",null,null,null,null,null,"","",null,null,null,null,null,"","","","","",null,null,null,null,"","","","","",null,null,null,null,null,null,"","","","",null,null,null,null,"","","","","",null,null,null,null,null,"","","","","",null,null,null,null,null,null,0,{"$f":"'Scenario specification'!H595/100","v":0},"","","","","",null,null,null,null,null,null,"","","","",null,null,null,null,"","","","","","","","","","",""]
[null,null,null,null,null,null,null,null,null,null,"","","","","","",null,null,null,null,null,"","",null,null,null,null,null,"","","","","",null,null,null,null,"","","","","",null,null,null,null,null,null,"","","","",null,null,null,null,"","","","","",null,null,null,null,null,"","","","","",null,null,null,null,null,null,0,{"$f":"'Scenario specification'!H596/100","v":0},"","","","","",null,null,null,null,null,null,"","","","",null,null,null,null,"","","","","","","","","","",""]
[null,null,null,null,null,null,null,null,null,null,"","","","","","",null,null,null,null,null,"","",null,null,null,null,null,"","","","","",null,null,null,null,"","","","","",null,null,null,null,null,null,"","","","",null,null,null,null,"","","","","",null,null,null,null,null,"","","","","",null,null,null,null,null,null,0,{"$f":"'Scenario specification'!H597/100","v":0},"","","","","",null,null,null,null,null,null,"","","","",null,null,null,null,"","","","","","","","","","",""]
[null,null,null,null,null,null,null,null,null,null,"","","","","","",null,null,null,null,null,"","",null,null,null,null,null,"","","","","",null,null,null,null,"","","","","",null,null,null,null,null,null,"","","","",null,null,null,null,"","","","","",null,null,null,null,null,"","","","","",null,null,null,null,null,null,0,{"$f":"'Scenario specification'!H598/100","v":0},"","","","","",null,null,null,null,null,null,"","","","",null,null,null,null,"","","","","","","","","","",""]
[null,null,null,null,null,null,null,null,null,null,"","","","","","",null,null,null,null,null,"","",null,null,null,null,null,"","","","","",null,null,null,null,"","","","","",null,null,null,null,null,null,"","","","",null,null,null,null,"","","","","",null,null,null,null,null,"","","","","",null,null,null,null,null,null,0,{"$f":"'Scenario specification'!H599/100","v":0},"","","","","",null,null,null,null,null,null,"","","","",null,null,null,null,"","","","","","","","","","",""]
[null,null,null,null,null,null,null,null,null,null,"","","","","","",null,null,null,null,null,"","",null,null,null,null,null,"","","","","",null,null,null,null,"","","","","",null,null,null,null,null,null,"","","","",null,null,null,null,"","","","","",null,null,null,null,null,"","","","","",null,null,null,null,null,null,0,{"$f":"'Scenario specification'!H600/100","v":0},"","","","","",null,null,null,null,null,null,"","","","",null,null,null,null,"","","","","","","","","","",""]
[null,null,null,null,null,null,null,null,null,null,"","","","","","",null,null,null,null,null,"","",null,null,null,null,null,"","","","","",null,null,null,null,"","","","","",null,null,null,null,null,null,"","","","",null,null,null,null,"","","","","",null,null,null,null,null,"","","","","",null,null,null,null,null,null,0,{"$f":"'Scenario specification'!H601/100","v":0},"","","","","",null,null,null,null,null,null,"","","","",null,null,null,null,"","","","","","","","","","",""]
[null,null,null,null,null,null,null,null,null,null,"","","","","","",null,null,null,null,null,"","",null,null,null,null,null,"","","","","",null,null,null,null,"","","","","",null,null,null,null,null,null,"","","","",null,null,null,null,"","","","","",null,null,null,null,null,"","","","","",null,null,null,null,null,null,0,{"$f":"'Scenario specification'!H602/100","v":0},"","","","","",null,null,null,null,null,null,"","","","",null,null,null,null,"","","","","","","","","","",""]
[null,null,null,null,null,null,null,null,null,null,"","","","","","",null,null,null,null,null,"","",null,null,null,null,null,"","","","","",null,null,null,null,"","","","","",null,null,null,null,null,null,"","","","",null,null,null,null,"","","","","",null,null,null,null,null,"","","","","",null,null,null,null,null,null,0,{"$f":"'Scenario specification'!H603/100","v":0},"","","","","",null,null,null,null,null,null,"","","","",null,null,null,null,"","","","","","","","","","",""]
[null,null,null,null,null,null,null,null,null,null,"","","","","","",null,null,null,null,null,"","",null,null,null,null,null,"","","","","",null,null,null,null,"","","","","",null,null,null,null,null,null,"","","","",null,null,null,null,"","","","","",null,null,null,null,null,"","","","","",null,null,null,null,null,null,0,{"$f":"'Scenario specification'!H604/100","v":0},"","","","","",null,null,null,null,null,null,"","","","",null,null,null,null,"","","","","","","","","","",""]
[null,null,null,null,null,null,null,null,null,null,"","","","","","",null,null,null,null,null,"","",null,null,null,null,null,"","","","","",null,null,null,null,"","","","","",null,null,null,null,null,null,"","","","",null,null,null,null,"","","","","",null,null,null,null,null,"","","","","",null,null,null,null,null,null,0,{"$f":"'Scenario specification'!H605/100","v":0},"","","","","",null,null,null,null,null,null,"","","","",null,null,null,null,"","","","","","","","","","",""]
[null,null,null,null,null,null,null,null,null,null,"","","","","","",null,null,null,null,null,"","",null,null,null,null,null,"","","","","",null,null,null,null,"","","","","",null,null,null,null,null,null,"","","","",null,null,null,null,"","","","","",null,null,null,null,null,"","","","","",null,null,null,null,null,null,0,{"$f":"'Scenario specification'!H606/100","v":0},"","","","","",null,null,null,null,null,null,"","","","",null,null,null,null,"","","","","","","","","","",""]
[null,null,null,null,null,null,null,null,null,null,"","","","","","",null,null,null,null,null,"","",null,null,null,null,null,"","","","","",null,null,null,null,"","","","","",null,null,null,null,null,null,"","","","",null,null,null,null,"","","","","",null,null,null,null,null,{"$f":"IF(D528=\"\",\"\",BP528-H528)","v":""},"",{"$f":"IF(D528=\"\",\"\",D528*((BP528-H528)*(1+($O$6+$O$7))))","v":""},{"$f":"IF(D528=\"\",\"\",IF(BP528-$E$4>=0,VALUE(0),($E$4-BP528)*D528))","v":""},{"$f":"IF(D528=\"\",\"\",IF(BP528-$E$4>=0,VALUE(0),D528))","v":""},null,null,null,null,null,null,0,{"$f":"'Scenario specification'!H607/100","v":0},{"$f":"IF(D528=\"\",\"\",CC528-BZ528)","v":""},{"$f":"IF(D528=\"\",\"\",IF($CD$6=0,\"specify scenario\",IF($CD$6=2,(H528+($BY$16*CA528)),IF($CD$6=1,(H528*(1+CA528))))))","v":""},{"$f":"IF(D528=\"\",\"\",D528*(CB528*(1+($O$6+$O$7))))","v":""},{"$f":"IF(D528=\"\",\"\",IF(CC528-$E$4>=0,VALUE(0),($E$4-CC528)*D528))","v":""},{"$f":"IF(D528=\"\",\"\",IF(CC528-$E$4>=0,VALUE(0),D528))","v":""},null,null,null,null,null,null,{"$f":"IF(D528=\"\",\"\",$CL$16+H528)","v":""},{"$f":"IF(D528=\"\",\"\",(CM528-H528)*D528*(1+(($O$6+$O$7)/100)))","v":""},{"$f":"IF(D528=\"\",\"\",IF(CM528-$E$4>=0,VALUE(0),($E$4-CM528)*D528))","v":""},{"$f":"IF(D528=\"\",\"\",IF(CM528-$E$4>=0,VALUE(0),D528))","v":""},null,null,null,null,{"$f":"IF(D528=\"\",\"\",B528)","v":""},{"$f":"IF(D528=\"\",\"\",C528)","v":""},{"$f":"IF(D528=\"\",\"\",H528)","v":""},{"$f":"IF(D528=\"\",\"\",AC528)","v":""},{"$f":"IF(D528=\"\",\"\",AL528)","v":""},{"$f":"IF(D528=\"\",\"\",AW528)","v":""},{"$f":"IF(D528=\"\",\"\",BE528)","v":""},{"$f":"IF(D528=\"\",\"\",BP528)","v":""},{"$f":"IF(D528=\"\",\"\",CC528)","v":""},{"$f":"IF(D528=\"\",\"\",CM528)","v":""},{"$f":"IF(D528=\"\",\"\",CU528&\" \"&CV528)","v":""}]
[null,null,null,null,null,null,null,null,null,null,"","","","",{"$f":"IF(D529=\"\",\"\",$E$4-H529)","v":""},{"$f":"IF(D529=\"\",\"\",IF(N529=0,VALUE(0),D529))","v":""},null,null,null,null,null,{"$f":"IF(D529=\"\",\"\",IF(H529-$T$16>0,H529-$T$16,0))","v":""},{"$f":"IF(D529=\"\",\"\",H529/$T$16)","v":""},null,null,null,null,null,{"$f":"IF(D529=\"\",\"\",IF(H529>=$E$4,H529,$E$4))","v":""},{"$f":"IF(D529=\"\",\"\",AC529-H529)","v":""},{"$f":"IF(D529=\"\",\"\",D529*(AD529*(1+($O$6+$O$7))))","v":""},{"$f":"IF(D529=\"\",\"\",IF(AC529-$E$4>=0,VALUE(0),($E$4-AC529)*D529))","v":""},{"$f":"IF(D529=\"\",\"\",IF(AC529-$E$4>=0,VALUE(0),D529))","v":""},null,null,null,null,"",{"$f":"IF(D529=\"\",\"\",AL529-H529)","v":""},{"$f":"IF(D529=\"\",\"\",D529*(AM529*(1+($O$6+$O$7))))","v":""},{"$f":"IF(D529=\"\",\"\",IF(AL529-$E$4>=0,VALUE(0),($E$4-AL529)*D529))","v":""},{"$f":"IF(D529=\"\",\"\",IF(AL529-$E$4>=0,VALUE(0),D529))","v":""},null,null,null,null,null,null,"",{"$f":"IF(D529=\"\",\"\",D529*($AV$16*(1+($O$6+$O$7))))","v":""},{"$f":"IF(D529=\"\",\"\",IF(AW529-$E$4>=0,VALUE(0),($E$4-AW529)*D529))","v":""},{"$f":"IF(D529=\"\",\"\",IF(AW529-$E$4>=0,VALUE(0),D529))","v":""},null,null,null,null,{"$f":"IF(D529=\"\",\"\",IF((H529*(1+$BI$10/100))>(H529+$BI$11),(H529*(1+$BI$10/100)),(H529+$BI$11)))","v":""},{"$f":"IF(D529=\"\",\"\",BE529-H529)","v":""},{"$f":"IF(D529=\"\",\"\",D529*(BF529*(1+(($O$6+$O$7)))))","v":""},{"$f":"IF(D529=\"\",\"\",IF(BE529-$E$4>=0,VALUE(0),($E$4-BE529)*D529))","v":""},{"$f":"IF(D529=\"\",\"\",IF(BE529-$E$4>=0,VALUE(0),D529))","v":""},null,null,null,null,null,"",{"$f":"IF(D529=\"\",\"\",IF(H529<$E$4,$E$4,IF($BS$6=0,\"especificar el escenario\",IF($BS$6=1,H529*(1+$BS$11),IF($BS$6=2,H529+($AA$16*$BS$11))))))","v":""},"","","",null,null,null,null,null,null,{"$f":"H529","v":0},{"$f":"'Scenario specification'!H608/100","v":0},"","","","","",null,null,null,null,null,null,"","","","",null,null,null,null,"","","","","","","","","","",""]
[null,null,null,null,null,null,null,null,null,null,"","","","","","",null,null,null,null,null,"","",null,null,null,null,null,"","","","","",null,null,null,null,"","","","","",null,null,null,null,null,null,"","","","",null,null,null,null,"","","","","",null,null,null,null,null,"","","","","",null,null,null,null,null,null,0,{"$f":"'Scenario specification'!H609/100","v":0},"","","","","",null,null,null,null,null,null,"","","","",null,null,null,null,"","","","","","","","","","",""]
[null,null,null,null,null,null,null,null,null,null,"","","","","","",null,null,null,null,null,"","",null,null,null,null,null,"","","","","",null,null,null,null,"","","","","",null,null,null,null,null,null,{"$f":"IF(D531=\"\",\"\",IF($AX$7=0,\"especificar el escenario\",IF($AX$7=2,IF(H531>=$E$4,H531,H531+$AV$16),IF($AX$7=1,$AV$16+H531,\"especificar el escenario\"))))","v":""},"","","",null,null,null,null,"","","","","",null,null,null,null,null,"","","","","",null,null,null,null,null,null,0,{"$f":"'Scenario specification'!H610/100","v":0},"","","","","",null,null,null,null,null,null,"","","","",null,null,null,null,"","","","","","","","","","",""]
[null,null,null,null,null,null,null,null,null,null,"","","","","","",null,null,null,null,null,"","",null,null,null,null,null,"","","","","",null,null,null,null,{"$f":"IF(D532=\"\",\"\",IF($AQ$7=0,\"especificar el escenario\",IF($AQ$7=2,IF(H532>=$E$4,H532,H532+$U$16),IF($AQ$7=1,H532+$U$16,\"\"))))","v":""},"","","","",null,null,null,null,null,null,"","","","",null,null,null,null,"","","","","",null,null,null,null,null,"","","","","",null,null,null,null,null,null,0,{"$f":"'Scenario specification'!H611/100","v":0},"","","","","",null,null,null,null,null,null,"","","","",null,null,null,null,"","","","","","","","","","",""]
[null,null,null,null,null,null,null,null,null,null,"","","","","","",null,null,null,null,null,"","",null,null,null,null,null,"","","","","",null,null,null,null,"","","","","",null,null,null,null,null,null,"","","","",null,null,null,null,"","","","","",null,null,null,null,null,"","","","","",null,null,null,null,null,null,0,{"$f":"'Scenario specification'!H612/100","v":0},"","","","","",null,null,null,null,null,null,"","","","",null,null,null,null,"","","","","","","","","","",""]
[null,null,null,null,null,null,null,null,null,null,"","","","","","",null,null,null,null,null,"","",null,null,null,null,null,"","","","","",null,null,null,null,"","","","","",null,null,null,null,null,null,"","","","",null,null,null,null,"","","","","",null,null,null,null,null,"","","","","",null,null,null,null,null,null,0,{"$f":"'Scenario specification'!H613/100","v":0},"","","","","",null,null,null,null,null,null,"","","","",null,null,null,null,"","","","","","","","","","",""]
[null,null,null,null,null,null,null,null,null,null,"","","","","","",null,null,null,null,null,"","",null,null,null,null,null,"","","","","",null,null,null,null,"","","","","",null,null,null,null,null,null,"","","","",null,null,null,null,"","","","","",null,null,null,null,null,"","","","","",null,null,null,null,null,null,0,{"$f":"'Scenario specification'!H614/100","v":0},"","","","","",null,null,null,null,null,null,"","","","",null,null,null,null,"","","","","","","","","","",""]
[null,null,null,null,null,null,null,null,null,null,{"$f":"IF(D536=\"\",\"\",H536*D536)","v":""},{"$f":"IF(D536=\"\",\"\",IF(H536>=$E$4,0,K536))","v":""},{"$f":"IF(D536=\"\",\"\",IF(H536>=$E$4,0,$E$4-H536))","v":""},{"$f":"IF(D536=\"\",\"\",M536*D536)","v":""},"","",null,null,null,null,null,"","",null,null,null,null,null,"","","","","",null,null,null,null,"","","","","",null,null,null,null,null,null,"","","","",null,null,null,null,"","","","","",null,null,null,null,null,"","","","","",null,null,null,null,null,null,0,{"$f":"'Scenario specification'!H615/100","v":0},"","","","","",null,null,null,null,null,null,"","","","",null,null,null,null,"","","","","","","","","","",""]
[null,null,null,null,null,null,null,null,null,null,"","","","","","",null,null,null,null,null,"","",null,null,null,null,null,"","","","","",null,null,null,null,"","","","","",null,null,null,null,null,null,"","","","",null,null,null,null,"","","","","",null,null,null,null,null,"","","","","",null,null,null,null,null,null,0,{"$f":"'Scenario specification'!H616/100","v":0},"","","","","",null,null,null,null,null,null,"","","","",null,null,null,null,"","","","","","","","","","",""]
[null,null,null,null,null,null,null,null,null,null,"","","","","","",null,null,null,null,null,"","",null,null,null,null,null,"","","","","",null,null,null,null,"","","","","",null,null,null,null,null,null,"","","","",null,null,null,null,"","","","","",null,null,null,null,null,"","","","","",null,null,null,null,null,null,0,{"$f":"'Scenario specification'!H617/100","v":0},"","","","","",null,null,null,null,null,null,"","","","",null,null,null,null,"","","","","","","","","","",""]
[null,null,null,null,null,null,null,null,null,null,"","","","","","",null,null,null,null,null,"","",null,null,null,null,null,"","","","","",null,null,null,null,"","","","","",null,null,null,null,null,null,"","","","",null,null,null,null,"","","","","",null,null,null,null,null,"","","","","",null,null,null,null,null,null,0,{"$f":"'Scenario specification'!H618/100","v":0},"","","","","",null,null,null,null,null,null,"","","","",null,null,null,null,"","","","","","","","","","",""]
[null,null,null,null,null,null,null,null,null,null,"","","","","","",null,null,null,null,null,"","",null,null,null,null,null,"","","","","",null,null,null,null,"","","","","",null,null,null,null,null,null,"","","","",null,null,null,null,"","","","","",null,null,null,null,null,"","","","","",null,null,null,null,null,null,0,{"$f":"'Scenario specification'!H619/100","v":0},"","","","","",null,null,null,null,null,null,"","","","",null,null,null,null,"","","","","","","","","","",""]
[null,null,null,null,null,null,null,null,null,null,"","","","","","",null,null,null,null,null,"","",null,null,null,null,null,"","","","","",null,null,null,null,"","","","","",null,null,null,null,null,null,"","","","",null,null,null,null,"","","","","",null,null,null,null,null,"","","","","",null,null,null,null,null,null,0,{"$f":"'Scenario specification'!H620/100","v":0},"","","","","",null,null,null,null,null,null,"","","","",null,null,null,null,"","","","","","","","","","",""]
[null,null,null,null,null,null,null,null,null,null,"","","","","","",null,null,null,null,null,"","",null,null,null,null,null,"","","","","",null,null,null,null,"","","","","",null,null,null,null,null,null,"","","","",null,null,null,null,"","","","","",null,null,null,null,null,"","","","","",null,null,null,null,null,null,0,{"$f":"'Scenario specification'!H621/100","v":0},"","","","","",null,null,null,null,null,null,"","","","",null,null,null,null,"","","","","","","","","","",""]
[null,null,null,null,null,null,null,null,null,null,"","","","","","",null,null,null,null,null,"","",null,null,null,null,null,"","","","","",null,null,null,null,"","","","","",null,null,null,null,null,null,"","","","",null,null,null,null,"","","","","",null,null,null,null,null,"","","","","",null,null,null,null,null,null,0,{"$f":"'Scenario specification'!H622/100","v":0},"","","","","",null,null,null,null,null,null,"","","","",null,null,null,null,"","","","","","","","","","",""]
[null,null,null,null,null,null,null,null,null,null,"","","","","","",null,null,null,null,null,"","",null,null,null,null,null,"","","","","",null,null,null,null,"","","","","",null,null,null,null,null,null,"","","","",null,null,null,null,"","","","","",null,null,null,null,null,"","","","","",null,null,null,null,null,null,0,{"$f":"'Scenario specification'!H623/100","v":0},"","","","","",null,null,null,null,null,null,"","","","",null,null,null,null,"","","","","","","","","","",""]
[null,null,null,null,null,null,null,null,null,null,"","","","","","",null,null,null,null,null,"","",null,null,null,null,null,"","","","","",null,null,null,null,"","","","","",null,null,null,null,null,null,"","","","",null,null,null,null,"","","","","",null,null,null,null,null,"","","","","",null,null,null,null,null,null,0,{"$f":"'Scenario specification'!H624/100","v":0},"","","","","",null,null,null,null,null,null,"","","","",null,null,null,null,"","","","","","","","","","",""]
[null,null,null,null,null,null,null,null,null,null,"","","","","","",null,null,null,null,null,"","",null,null,null,null,null,"","","","","",null,null,null,null,"","","","","",null,null,null,null,null,null,"","","","",null,null,null,null,"","","","","",null,null,null,null,null,"","","","","",null,null,null,null,null,null,0,{"$f":"'Scenario specification'!H625/100","v":0},"","","","","",null,null,null,null,null,null,"","","","",null,null,null,null,"","","","","","","","","","",""]
[null,null,null,null,null,null,null,null,null,null,"","","","","","",null,null,null,null,null,"","",null,null,null,null,null,"","","","","",null,null,null,null,"","","","","",null,null,null,null,null,null,"","","","",null,null,null,null,"","","","","",null,null,null,null,null,"","","","","",null,null,null,null,null,null,0,{"$f":"'Scenario specification'!H626/100","v":0},"","","","","",null,null,null,null,null,null,"","","","",null,null,null,null,"","","","","","","","","","",""]
[null,null,null,null,null,null,null,null,null,null,"","","","","","",null,null,null,null,null,"","",null,null,null,null,null,"","","","","",null,null,null,null,"","","","","",null,null,null,null,null,null,"","","","",null,null,null,null,"","","","","",null,null,null,null,null,"","","","","",null,null,null,null,null,null,0,{"$f":"'Scenario specification'!H627/100","v":0},"","","","","",null,null,null,null,null,null,"","","","",null,null,null,null,"","","","","","","","","","",""]
[null,null,null,null,null,null,null,null,null,null,"","","","","","",null,null,null,null,null,"","",null,null,null,null,null,"","","","","",null,null,null,null,"","","","","",null,null,null,null,null,null,"","","","",null,null,null,null,"","","","","",null,null,null,null,null,"","","","","",null,null,null,null,null,null,0,{"$f":"'Scenario specification'!H628/100","v":0},"","","","","",null,null,null,null,null,null,"","","","",null,null,null,null,"","","","","","","","","","",""]
[null,null,null,null,null,null,null,null,null,null,"","","","","","",null,null,null,null,null,"","",null,null,null,null,null,"","","","","",null,null,null,null,"","","","","",null,null,null,null,null,null,"","","","",null,null,null,null,"","","","","",null,null,null,null,null,"","","","","",null,null,null,null,null,null,0,{"$f":"'Scenario specification'!H629/100","v":0},"","","","","",null,null,null,null,null,null,"","","","",null,null,null,null,"","","","","","","","","","",""]
[null,null,null,null,null,null,null,null,null,null,"","","","","","",null,null,null,null,null,"","",null,null,null,null,null,"","","","","",null,null,null,null,"","","","","",null,null,null,null,null,null,"","","","",null,null,null,null,"","","","","",null,null,null,null,null,"","","","","",null,null,null,null,null,null,0,{"$f":"'Scenario specification'!H630/100","v":0},"","","","","",null,null,null,null,null,null,"","","","",null,null,null,null,"","","","","","","","","","",""]
[null,null,null,null,null,null,null,null,null,null,"","","","","","",null,null,null,null,null,"","",null,null,null,null,null,"","","","","",null,null,null,null,"","","","","",null,null,null,null,null,null,"","","","",null,null,null,null,"","","","","",null,null,null,null,null,"","","","","",null,null,null,null,null,null,0,{"$f":"'Scenario specification'!H631/100","v":0},"","","","","",null,null,null,null,null,null,"","","","",null,null,null,null,"","","","","","","","","","",""]
[null,null,null,null,null,null,null,null,null,null,"","","","","","",null,null,null,null,null,"","",null,null,null,null,null,"","","","","",null,null,null,null,"","","","","",null,null,null,null,null,null,"","","","",null,null,null,null,"","","","","",null,null,null,null,null,"","","","","",null,null,null,null,null,null,0,{"$f":"'Scenario specification'!H632/100","v":0},"","","","","",null,null,null,null,null,null,"","","","",null,null,null,null,"","","","","","","","","","",""]
[null,null,null,null,null,null,null,null,null,null,"","","","","","",null,null,null,null,null,"","",null,null,null,null,null,"","","","","",null,null,null,null,"","","","","",null,null,null,null,null,null,"","","","",null,null,null,null,"","","","","",null,null,null,null,null,"","","","","",null,null,null,null,null,null,0,{"$f":"'Scenario specification'!H633/100","v":0},"","","","","",null,null,null,null,null,null,"","","","",null,null,null,null,"","","","","","","","","","",""]
[null,null,null,null,null,null,null,null,null,null,"","","","","","",null,null,null,null,null,"","",null,null,null,null,null,"","","","","",null,null,null,null,"","","","","",null,null,null,null,null,null,"","","","",null,null,null,null,"","","","","",null,null,null,null,null,"","","","","",null,null,null,null,null,null,0,{"$f":"'Scenario specification'!H634/100","v":0},"","","","","",null,null,null,null,null,null,"","","","",null,null,null,null,"","","","","","","","","","",""]
[null,null,null,null,null,null,null,null,null,null,"","","","","","",null,null,null,null,null,"","",null,null,null,null,null,"","","","","",null,null,null,null,"","","","","",null,null,null,null,null,null,"","","","",null,null,null,null,"","","","","",null,null,null,null,null,"","","","","",null,null,null,null,null,null,0,{"$f":"'Scenario specification'!H635/100","v":0},"","","","","",null,null,null,null,null,null,"","","","",null,null,null,null,"","","","","","","","","","",""]
[null,null,null,null,null,null,null,null,null,null,"","","","","","",null,null,null,null,null,"","",null,null,null,null,null,"","","","","",null,null,null,null,"","","","","",null,null,null,null,null,null,"","","","",null,null,null,null,"","","","","",null,null,null,null,null,"","","","","",null,null,null,null,null,null,0,{"$f":"'Scenario specification'!H636/100","v":0},"","","","","",null,null,null,null,null,null,"","","","",null,null,null,null,"","","","","","","","","","",""]
[null,null,null,null,null,null,null,null,null,null,"","","","","","",null,null,null,null,null,"","",null,null,null,null,null,"","","","","",null,null,null,null,"","","","","",null,null,null,null,null,null,"","","","",null,null,null,null,"","","","","",null,null,null,null,null,"","","","","",null,null,null,null,null,null,0,{"$f":"'Scenario specification'!H637/100","v":0},"","","","","",null,null,null,null,null,null,"","","","",null,null,null,null,"","","","","","","","","","",""]
[null,null,null,null,null,null,null,null,null,null,"","","","","","",null,null,null,null,null,"","",null,null,null,null,null,"","","","","",null,null,null,null,"","","","","",null,null,null,null,null,null,"","","","",null,null,null,null,"","","","","",null,null,null,null,null,"","","","","",null,null,null,null,null,null,0,{"$f":"'Scenario specification'!H638/100","v":0},"","","","","",null,null,null,null,null,null,"","","","",null,null,null,null,"","","","","","","","","","",""]
[null,null,null,null,null,null,null,null,null,null,"","","","","","",null,null,null,null,null,"","",null,null,null,null,null,"","","","","",null,null,null,null,"","","","","",null,null,null,null,null,null,"","","","",null,null,null,null,"","","","","",null,null,null,null,null,"","","","","",null,null,null,null,null,null,0,{"$f":"'Scenario specification'!H639/100","v":0},"","","","","",null,null,null,null,null,null,"","","","",null,null,null,null,"","","","","","","","","","",""]
[null,null,null,null,null,null,null,null,null,null,"","","","","","",null,null,null,null,null,"","",null,null,null,null,null,"","","","","",null,null,null,null,"","","","","",null,null,null,null,null,null,"","","","",null,null,null,null,"","","","","",null,null,null,null,null,"","","","","",null,null,null,null,null,null,0,{"$f":"'Scenario specification'!H640/100","v":0},"","","","","",null,null,null,null,null,null,"","","","",null,null,null,null,"","","","","","","","","","",""]
[null,null,null,null,null,null,null,null,null,null,"","","","","","",null,null,null,null,null,"","",null,null,null,null,null,"","","","","",null,null,null,null,"","","","","",null,null,null,null,null,null,"","","","",null,null,null,null,"","","","","",null,null,null,null,null,"","","","","",null,null,null,null,null,null,0,{"$f":"'Scenario specification'!H641/100","v":0},"","","","","",null,null,null,null,null,null,"","","","",null,null,null,null,"","","","","","","","","","",""]
[null,null,null,null,null,null,null,null,null,null,"","","","","","",null,null,null,null,null,"","",null,null,null,null,null,"","","","","",null,null,null,null,"","","","","",null,null,null,null,null,null,"","","","",null,null,null,null,"","","","","",null,null,null,null,null,"","","","","",null,null,null,null,null,null,0,{"$f":"'Scenario specification'!H642/100","v":0},"","","","","",null,null,null,null,null,null,"","","","",null,null,null,null,"","","","","","","","","","",""]
[null,null,null,null,null,null,null,null,null,null,"","","","","","",null,null,null,null,null,"","",null,null,null,null,null,"","","","","",null,null,null,null,"","","","","",null,null,null,null,null,null,"","","","",null,null,null,null,"","","","","",null,null,null,null,null,"","","","","",null,null,null,null,null,null,0,{"$f":"'Scenario specification'!H643/100","v":0},"","","","","",null,null,null,null,null,null,"","","","",null,null,null,null,"","","","","","","","","","",""]
[null,null,null,null,null,null,null,null,null,null,"","","","","","",null,null,null,null,null,"","",null,null,null,null,null,"","","","","",null,null,null,null,"","","","","",null,null,null,null,null,null,"","","","",null,null,null,null,"","","","","",null,null,null,null,null,"","","","","",null,null,null,null,null,null,0,{"$f":"'Scenario specification'!H644/100","v":0},"","","","","",null,null,null,null,null,null,"","","","",null,null,null,null,"","","","","","","","","","",""]
[null,null,null,null,null,null,null,null,null,null,"","","","","","",null,null,null,null,null,"","",null,null,null,null,null,"","","","","",null,null,null,null,"","","","","",null,null,null,null,null,null,"","","","",null,null,null,null,"","","","","",null,null,null,null,null,"","","","","",null,null,null,null,null,null,0,{"$f":"'Scenario specification'!H645/100","v":0},"","","","","",null,null,null,null,null,null,"","","","",null,null,null,null,"","","","","","","","","","",""]
[null,null,null,null,null,null,null,null,null,null,"","","","","","",null,null,null,null,null,"","",null,null,null,null,null,"","","","","",null,null,null,null,"","","","","",null,null,null,null,null,null,"","","","",null,null,null,null,"","","","","",null,null,null,null,null,"","","","","",null,null,null,null,null,null,0,{"$f":"'Scenario specification'!H646/100","v":0},"","","","","",null,null,null,null,null,null,"","","","",null,null,null,null,"","","","","","","","","","",""]
[null,null,null,null,null,null,null,null,null,null,"","","","","","",null,null,null,null,null,"","",null,null,null,null,null,"","","","","",null,null,null,null,"","","","","",null,null,null,null,null,null,"","","","",null,null,null,null,"","","","","",null,null,null,null,null,"","","","","",null,null,null,null,null,null,0,{"$f":"'Scenario specification'!H647/100","v":0},"","","","","",null,null,null,null,null,null,"","","","",null,null,null,null,"","","","","","","","","","",""]
[null,null,null,null,null,null,null,null,null,null,"","","","","","",null,null,null,null,null,"","",null,null,null,null,null,"","","","","",null,null,null,null,"","","","","",null,null,null,null,null,null,"","","","",null,null,null,null,"","","","","",null,null,null,null,null,"","","","","",null,null,null,null,null,null,0,{"$f":"'Scenario specification'!H648/100","v":0},"","","","","",null,null,null,null,null,null,"","","","",null,null,null,null,"","","","","","","","","","",""]
[null,null,null,null,null,null,null,null,null,null,"","","","","","",null,null,null,null,null,"","",null,null,null,null,null,"","","","","",null,null,null,null,"","","","","",null,null,null,null,null,null,"","","","",null,null,null,null,"","","","","",null,null,null,null,null,"","","","","",null,null,null,null,null,null,0,{"$f":"'Scenario specification'!H649/100","v":0},"","","","","",null,null,null,null,null,null,"","","","",null,null,null,null,"","","","","","","","","","",""]
[null,null,null,null,null,null,null,null,null,null,"","","","","","",null,null,null,null,null,"","",null,null,null,null,null,"","","","","",null,null,null,null,"","","","","",null,null,null,null,null,null,"","","","",null,null,null,null,"","","","","",null,null,null,null,null,"","","","","",null,null,null,null,null,null,0,{"$f":"'Scenario specification'!H650/100","v":0},"","","","","",null,null,null,null,null,null,"","","","",null,null,null,null,"","","","","","","","","","",""]
[null,null,null,null,null,null,null,null,null,null,"","","","","","",null,null,null,null,null,"","",null,null,null,null,null,"","","","","",null,null,null,null,"","","","","",null,null,null,null,null,null,"","","","",null,null,null,null,"","","","","",null,null,null,null,null,"","","","","",null,null,null,null,null,null,0,{"$f":"'Scenario specification'!H651/100","v":0},"","","","","",null,null,null,null,null,null,"","","","",null,null,null,null,"","","","","","","","","","",""]
[null,null,null,null,null,null,null,null,null,null,"","","","","","",null,null,null,null,null,"","",null,null,null,null,null,"","","","","",null,null,null,null,"","","","","",null,null,null,null,null,null,"","","","",null,null,null,null,"","","","","",null,null,null,null,null,"","","","","",null,null,null,null,null,null,0,{"$f":"'Scenario specification'!H652/100","v":0},"","","","","",null,null,null,null,null,null,"","","","",null,null,null,null,"","","","","","","","","","",""]
[null,null,null,null,null,null,null,null,null,null,"","","","","","",null,null,null,null,null,"","",null,null,null,null,null,"","","","","",null,null,null,null,"","","","","",null,null,null,null,null,null,"","","","",null,null,null,null,"","","","","",null,null,null,null,null,"","","","","",null,null,null,null,null,null,0,{"$f":"'Scenario specification'!H653/100","v":0},"","","","","",null,null,null,null,null,null,"","","","",null,null,null,null,"","","","","","","","","","",""]
[null,null,null,null,null,null,null,null,null,null,"","","","","","",null,null,null,null,null,"","",null,null,null,null,null,"","","","","",null,null,null,null,"","","","","",null,null,null,null,null,null,"","","","",null,null,null,null,"","","","","",null,null,null,null,null,"","","","","",null,null,null,null,null,null,0,{"$f":"'Scenario specification'!H654/100","v":0},"","","","","",null,null,null,null,null,null,"","","","",null,null,null,null,"","","","","","","","","","",""]
[null,null,null,null,null,null,null,null,null,null,"","","","","","",null,null,null,null,null,"","",null,null,null,null,null,"","","","","",null,null,null,null,"","","","","",null,null,null,null,null,null,"","","","",null,null,null,null,"","","","","",null,null,null,null,null,"","","","","",null,null,null,null,null,null,0,{"$f":"'Scenario specification'!H655/100","v":0},"","","","","",null,null,null,null,null,null,"","","","",null,null,null,null,"","","","","","","","","","",""]
[null,null,null,null,null,null,null,null,null,null,"","","","","","",null,null,null,null,null,"","",null,null,null,null,null,"","","","","",null,null,null,null,"","","","","",null,null,null,null,null,null,"","","","",null,null,null,null,"","","","","",null,null,null,null,null,"","","","","",null,null,null,null,null,null,0,{"$f":"'Scenario specification'!H656/100","v":0},"","","","","",null,null,null,null,null,null,"","","","",null,null,null,null,"","","","","","","","","","",""]
[null,null,null,null,null,null,null,null,null,null,"","","","","","",null,null,null,null,null,"","",null,null,null,null,null,"","","","","",null,null,null,null,"","","","","",null,null,null,null,null,null,"","","","",null,null,null,null,"","","","","",null,null,null,null,null,"","","","","",null,null,null,null,null,null,0,{"$f":"'Scenario specification'!H657/100","v":0},"","","","","",null,null,null,null,null,null,"","","","",null,null,null,null,"","","","","","","","","","",""]
[null,null,null,null,null,null,null,null,null,null,"","","","","","",null,null,null,null,null,"","",null,null,null,null,null,"","","","","",null,null,null,null,"","","","","",null,null,null,null,null,null,"","","","",null,null,null,null,"","","","","",null,null,null,null,null,"","","","","",null,null,null,null,null,null,0,{"$f":"'Scenario specification'!H658/100","v":0},"","","","","",null,null,null,null,null,null,"","","","",null,null,null,null,"","","","","","","","","","",""]
[null,null,null,null,null,null,null,null,null,null,"","","","","","",null,null,null,null,null,"","",null,null,null,null,null,"","","","","",null,null,null,null,"","","","","",null,null,null,null,null,null,"","","","",null,null,null,null,"","","","","",null,null,null,null,null,"","","","","",null,null,null,null,null,null,0,{"$f":"'Scenario specification'!H659/100","v":0},"","","","","",null,null,null,null,null,null,"","","","",null,null,null,null,"","","","","","","","","","",""]
[null,null,null,null,null,null,null,null,null,null,"","","","","","",null,null,null,null,null,"","",null,null,null,null,null,"","","","","",null,null,null,null,"","","","","",null,null,null,null,null,null,"","","","",null,null,null,null,"","","","","",null,null,null,null,null,"","","","","",null,null,null,null,null,null,0,{"$f":"'Scenario specification'!H660/100","v":0},"","","","","",null,null,null,null,null,null,"","","","",null,null,null,null,"","","","","","","","","","",""]
[null,null,null,null,null,null,null,null,null,null,"","","","","","",null,null,null,null,null,"","",null,null,null,null,null,"","","","","",null,null,null,null,"","","","","",null,null,null,null,null,null,"","","","",null,null,null,null,"","","","","",null,null,null,null,null,"","","","","",null,null,null,null,null,null,0,{"$f":"'Scenario specification'!H661/100","v":0},"","","","","",null,null,null,null,null,null,"","","","",null,null,null,null,"","","","","","","","","","",""]
[null,null,null,null,null,null,null,null,null,null,"","","","","","",null,null,null,null,null,"","",null,null,null,null,null,"","","","","",null,null,null,null,"","","","","",null,null,null,null,null,null,"","","","",null,null,null,null,"","","","","",null,null,null,null,null,"","","","","",null,null,null,null,null,null,0,{"$f":"'Scenario specification'!H662/100","v":0},"","","","","",null,null,null,null,null,null,"","","","",null,null,null,null,"","","","","","","","","","",""]
[null,null,null,null,null,null,null,null,null,null,"","","","","","",null,null,null,null,null,"","",null,null,null,null,null,"","","","","",null,null,null,null,"","","","","",null,null,null,null,null,null,"","","","",null,null,null,null,"","","","","",null,null,null,null,null,"","","","","",null,null,null,null,null,null,0,{"$f":"'Scenario specification'!H663/100","v":0},"","","","","",null,null,null,null,null,null,"","","","",null,null,null,null,"","","","","","","","","","",""]
[null,null,null,null,null,null,null,null,null,null,"","","","","","",null,null,null,null,null,"","",null,null,null,null,null,"","","","","",null,null,null,null,"","","","","",null,null,null,null,null,null,"","","","",null,null,null,null,"","","","","",null,null,null,null,null,"","","","","",null,null,null,null,null,null,0,{"$f":"'Scenario specification'!H664/100","v":0},"","","","","",null,null,null,null,null,null,"","","","",null,null,null,null,"","","","","","","","","","",""]
[null,null,null,null,null,null,null,null,null,null,"","","","","","",null,null,null,null,null,"","",null,null,null,null,null,"","","","","",null,null,null,null,"","","","","",null,null,null,null,null,null,"","","","",null,null,null,null,"","","","","",null,null,null,null,null,"","","","","",null,null,null,null,null,null,0,{"$f":"'Scenario specification'!H665/100","v":0},"","","","","",null,null,null,null,null,null,"","","","",null,null,null,null,"","","","","","","","","","",""]
[null,null,null,null,null,null,null,null,null,null,"","","","","","",null,null,null,null,null,"","",null,null,null,null,null,"","","","","",null,null,null,null,"","","","","",null,null,null,null,null,null,"","","","",null,null,null,null,"","","","","",null,null,null,null,null,"","","","","",null,null,null,null,null,null,0,{"$f":"'Scenario specification'!H666/100","v":0},"","","","","",null,null,null,null,null,null,"","","","",null,null,null,null,"","","","","","","","","","",""]
[null,null,null,null,null,null,null,null,null,null,"","","","","","",null,null,null,null,null,"","",null,null,null,null,null,"","","","","",null,null,null,null,"","","","","",null,null,null,null,null,null,"","","","",null,null,null,null,"","","","","",null,null,null,null,null,"","","","","",null,null,null,null,null,null,0,{"$f":"'Scenario specification'!H667/100","v":0},"","","","","",null,null,null,null,null,null,"","","","",null,null,null,null,"","","","","","","","","","",""]
[null,null,null,null,null,null,null,null,null,null,"","","","","","",null,null,null,null,null,"","",null,null,null,null,null,"","","","","",null,null,null,null,"","","","","",null,null,null,null,null,null,"","","","",null,null,null,null,"","","","","",null,null,null,null,null,"","","","","",null,null,null,null,null,null,0,{"$f":"'Scenario specification'!H668/100","v":0},"","","","","",null,null,null,null,null,null,"","","","",null,null,null,null,"","","","","","","","","","",""]
[null,null,null,null,null,null,null,null,null,null,"","","","","","",null,null,null,null,null,"","",null,null,null,null,null,"","","","","",null,null,null,null,"","","","","",null,null,null,null,null,null,"","","","",null,null,null,null,"","","","","",null,null,null,null,null,"","","","","",null,null,null,null,null,null,0,{"$f":"'Scenario specification'!H669/100","v":0},"","","","","",null,null,null,null,null,null,"","","","",null,null,null,null,"","","","","","","","","","",""]
[null,null,null,null,null,null,null,null,null,null,"","","","","","",null,null,null,null,null,"","",null,null,null,null,null,"","","","","",null,null,null,null,"","","","","",null,null,null,null,null,null,"","","","",null,null,null,null,"","","","","",null,null,null,null,null,"","","","","",null,null,null,null,null,null,0,{"$f":"'Scenario specification'!H670/100","v":0},"","","","","",null,null,null,null,null,null,"","","","",null,null,null,null,"","","","","","","","","","",""]
[null,null,null,null,null,null,null,null,null,null,"","","","","","",null,null,null,null,null,"","",null,null,null,null,null,"","","","","",null,null,null,null,"","","","","",null,null,null,null,null,null,"","","","",null,null,null,null,"","","","","",null,null,null,null,null,{"$f":"IF(D592=\"\",\"\",BP592-H592)","v":""},"",{"$f":"IF(D592=\"\",\"\",D592*((BP592-H592)*(1+($O$6+$O$7))))","v":""},{"$f":"IF(D592=\"\",\"\",IF(BP592-$E$4>=0,VALUE(0),($E$4-BP592)*D592))","v":""},{"$f":"IF(D592=\"\",\"\",IF(BP592-$E$4>=0,VALUE(0),D592))","v":""},null,null,null,null,null,null,0,{"$f":"'Scenario specification'!H671/100","v":0},{"$f":"IF(D592=\"\",\"\",CC592-BZ592)","v":""},{"$f":"IF(D592=\"\",\"\",IF($CD$6=0,\"specify scenario\",IF($CD$6=2,(H592+($BY$16*CA592)),IF($CD$6=1,(H592*(1+CA592))))))","v":""},{"$f":"IF(D592=\"\",\"\",D592*(CB592*(1+($O$6+$O$7))))","v":""},{"$f":"IF(D592=\"\",\"\",IF(CC592-$E$4>=0,VALUE(0),($E$4-CC592)*D592))","v":""},{"$f":"IF(D592=\"\",\"\",IF(CC592-$E$4>=0,VALUE(0),D592))","v":""},null,null,null,null,null,null,{"$f":"IF(D592=\"\",\"\",$CL$16+H592)","v":""},{"$f":"IF(D592=\"\",\"\",(CM592-H592)*D592*(1+(($O$6+$O$7)/100)))","v":""},{"$f":"IF(D592=\"\",\"\",IF(CM592-$E$4>=0,VALUE(0),($E$4-CM592)*D592))","v":""},{"$f":"IF(D592=\"\",\"\",IF(CM592-$E$4>=0,VALUE(0),D592))","v":""},null,null,null,null,{"$f":"IF(D592=\"\",\"\",B592)","v":""},{"$f":"IF(D592=\"\",\"\",C592)","v":""},{"$f":"IF(D592=\"\",\"\",H592)","v":""},{"$f":"IF(D592=\"\",\"\",AC592)","v":""},{"$f":"IF(D592=\"\",\"\",AL592)","v":""},{"$f":"IF(D592=\"\",\"\",AW592)","v":""},{"$f":"IF(D592=\"\",\"\",BE592)","v":""},{"$f":"IF(D592=\"\",\"\",BP592)","v":""},{"$f":"IF(D592=\"\",\"\",CC592)","v":""},{"$f":"IF(D592=\"\",\"\",CM592)","v":""},{"$f":"IF(D592=\"\",\"\",CU592&\" \"&CV592)","v":""}]
[null,null,null,null,null,null,null,null,null,null,"","","","",{"$f":"IF(D593=\"\",\"\",$E$4-H593)","v":""},{"$f":"IF(D593=\"\",\"\",IF(N593=0,VALUE(0),D593))","v":""},null,null,null,null,null,{"$f":"IF(D593=\"\",\"\",IF(H593-$T$16>0,H593-$T$16,0))","v":""},{"$f":"IF(D593=\"\",\"\",H593/$T$16)","v":""},null,null,null,null,null,{"$f":"IF(D593=\"\",\"\",IF(H593>=$E$4,H593,$E$4))","v":""},{"$f":"IF(D593=\"\",\"\",AC593-H593)","v":""},{"$f":"IF(D593=\"\",\"\",D593*(AD593*(1+($O$6+$O$7))))","v":""},{"$f":"IF(D593=\"\",\"\",IF(AC593-$E$4>=0,VALUE(0),($E$4-AC593)*D593))","v":""},{"$f":"IF(D593=\"\",\"\",IF(AC593-$E$4>=0,VALUE(0),D593))","v":""},null,null,null,null,"",{"$f":"IF(D593=\"\",\"\",AL593-H593)","v":""},{"$f":"IF(D593=\"\",\"\",D593*(AM593*(1+($O$6+$O$7))))","v":""},{"$f":"IF(D593=\"\",\"\",IF(AL593-$E$4>=0,VALUE(0),($E$4-AL593)*D593))","v":""},{"$f":"IF(D593=\"\",\"\",IF(AL593-$E$4>=0,VALUE(0),D593))","v":""},null,null,null,null,null,null,"",{"$f":"IF(D593=\"\",\"\",D593*($AV$16*(1+($O$6+$O$7))))","v":""},{"$f":"IF(D593=\"\",\"\",IF(AW593-$E$4>=0,VALUE(0),($E$4-AW593)*D593))","v":""},{"$f":"IF(D593=\"\",\"\",IF(AW593-$E$4>=0,VALUE(0),D593))","v":""},null,null,null,null,{"$f":"IF(D593=\"\",\"\",IF((H593*(1+$BI$10/100))>(H593+$BI$11),(H593*(1+$BI$10/100)),(H593+$BI$11)))","v":""},{"$f":"IF(D593=\"\",\"\",BE593-H593)","v":""},{"$f":"IF(D593=\"\",\"\",D593*(BF593*(1+(($O$6+$O$7)))))","v":""},{"$f":"IF(D593=\"\",\"\",IF(BE593-$E$4>=0,VALUE(0),($E$4-BE593)*D593))","v":""},{"$f":"IF(D593=\"\",\"\",IF(BE593-$E$4>=0,VALUE(0),D593))","v":""},null,null,null,null,null,"",{"$f":"IF(D593=\"\",\"\",IF(H593<$E$4,$E$4,IF($BS$6=0,\"especificar el escenario\",IF($BS$6=1,H593*(1+$BS$11),IF($BS$6=2,H593+($AA$16*$BS$11))))))","v":""},"","","",null,null,null,null,null,null,{"$f":"H593","v":0},{"$f":"'Scenario specification'!H672/100","v":0},"","","","","",null,null,null,null,null,null,"","","","",null,null,null,null,"","","","","","","","","","",""]
[null,null,null,null,null,null,null,null,null,null,"","","","","","",null,null,null,null,null,"","",null,null,null,null,null,"","","","","",null,null,null,null,"","","","","",null,null,null,null,null,null,"","","","",null,null,null,null,"","","","","",null,null,null,null,null,"","","","","",null,null,null,null,null,null,0,{"$f":"'Scenario specification'!H673/100","v":0},"","","","","",null,null,null,null,null,null,"","","","",null,null,null,null,"","","","","","","","","","",""]
[null,null,null,null,null,null,null,null,null,null,"","","","","","",null,null,null,null,null,"","",null,null,null,null,null,"","","","","",null,null,null,null,"","","","","",null,null,null,null,null,null,{"$f":"IF(D595=\"\",\"\",IF($AX$7=0,\"especificar el escenario\",IF($AX$7=2,IF(H595>=$E$4,H595,H595+$AV$16),IF($AX$7=1,$AV$16+H595,\"especificar el escenario\"))))","v":""},"","","",null,null,null,null,"","","","","",null,null,null,null,null,"","","","","",null,null,null,null,null,null,0,{"$f":"'Scenario specification'!H674/100","v":0},"","","","","",null,null,null,null,null,null,"","","","",null,null,null,null,"","","","","","","","","","",""]
[null,null,null,null,null,null,null,null,null,null,"","","","","","",null,null,null,null,null,"","",null,null,null,null,null,"","","","","",null,null,null,null,{"$f":"IF(D596=\"\",\"\",IF($AQ$7=0,\"especificar el escenario\",IF($AQ$7=2,IF(H596>=$E$4,H596,H596+$U$16),IF($AQ$7=1,H596+$U$16,\"\"))))","v":""},"","","","",null,null,null,null,null,null,"","","","",null,null,null,null,"","","","","",null,null,null,null,null,"","","","","",null,null,null,null,null,null,0,{"$f":"'Scenario specification'!H675/100","v":0},"","","","","",null,null,null,null,null,null,"","","","",null,null,null,null,"","","","","","","","","","",""]
[null,null,null,null,null,null,null,null,null,null,"","","","","","",null,null,null,null,null,"","",null,null,null,null,null,"","","","","",null,null,null,null,"","","","","",null,null,null,null,null,null,"","","","",null,null,null,null,"","","","","",null,null,null,null,null,"","","","","",null,null,null,null,null,null,0,{"$f":"'Scenario specification'!H676/100","v":0},"","","","","",null,null,null,null,null,null,"","","","",null,null,null,null,"","","","","","","","","","",""]
[null,null,null,null,null,null,null,null,null,null,"","","","","","",null,null,null,null,null,"","",null,null,null,null,null,"","","","","",null,null,null,null,"","","","","",null,null,null,null,null,null,"","","","",null,null,null,null,"","","","","",null,null,null,null,null,"","","","","",null,null,null,null,null,null,0,{"$f":"'Scenario specification'!H677/100","v":0},"","","","","",null,null,null,null,null,null,"","","","",null,null,null,null,"","","","","","","","","","",""]
[null,null,null,null,null,null,null,null,null,null,"","","","","","",null,null,null,null,null,"","",null,null,null,null,null,"","","","","",null,null,null,null,"","","","","",null,null,null,null,null,null,"","","","",null,null,null,null,"","","","","",null,null,null,null,null,"","","","","",null,null,null,null,null,null,0,{"$f":"'Scenario specification'!H678/100","v":0},"","","","","",null,null,null,null,null,null,"","","","",null,null,null,null,"","","","","","","","","","",""]
[null,null,null,null,null,null,null,null,null,null,{"$f":"IF(D600=\"\",\"\",H600*D600)","v":""},{"$f":"IF(D600=\"\",\"\",IF(H600>=$E$4,0,K600))","v":""},{"$f":"IF(D600=\"\",\"\",IF(H600>=$E$4,0,$E$4-H600))","v":""},{"$f":"IF(D600=\"\",\"\",M600*D600)","v":""},"","",null,null,null,null,null,"","",null,null,null,null,null,"","","","","",null,null,null,null,"","","","","",null,null,null,null,null,null,"","","","",null,null,null,null,"","","","","",null,null,null,null,null,"","","","","",null,null,null,null,null,null,0,{"$f":"'Scenario specification'!H679/100","v":0},"","","","","",null,null,null,null,null,null,"","","","",null,null,null,null,"","","","","","","","","","",""]
[null,null,null,null,null,null,null,null,null,null,"","","","","","",null,null,null,null,null,"","",null,null,null,null,null,"","","","","",null,null,null,null,"","","","","",null,null,null,null,null,null,"","","","",null,null,null,null,"","","","","",null,null,null,null,null,"","","","","",null,null,null,null,null,null,0,{"$f":"'Scenario specification'!H680/100","v":0},"","","","","",null,null,null,null,null,null,"","","","",null,null,null,null,"","","","","","","","","","",""]
[null,null,null,null,null,null,null,null,null,null,"","","","","","",null,null,null,null,null,"","",null,null,null,null,null,"","","","","",null,null,null,null,"","","","","",null,null,null,null,null,null,"","","","",null,null,null,null,"","","","","",null,null,null,null,null,"","","","","",null,null,null,null,null,null,0,{"$f":"'Scenario specification'!H681/100","v":0},"","","","","",null,null,null,null,null,null,"","","","",null,null,null,null,"","","","","","","","","","",""]
[null,null,null,null,null,null,null,null,null,null,"","","","","","",null,null,null,null,null,"","",null,null,null,null,null,"","","","","",null,null,null,null,"","","","","",null,null,null,null,null,null,"","","","",null,null,null,null,"","","","","",null,null,null,null,null,"","","","","",null,null,null,null,null,null,0,{"$f":"'Scenario specification'!H682/100","v":0},"","","","","",null,null,null,null,null,null,"","","","",null,null,null,null,"","","","","","","","","","",""]
[null,null,null,null,null,null,null,null,null,null,"","","","","","",null,null,null,null,null,"","",null,null,null,null,null,"","","","","",null,null,null,null,"","","","","",null,null,null,null,null,null,"","","","",null,null,null,null,"","","","","",null,null,null,null,null,"","","","","",null,null,null,null,null,null,0,{"$f":"'Scenario specification'!H683/100","v":0},"","","","","",null,null,null,null,null,null,"","","","",null,null,null,null,"","","","","","","","","","",""]
[null,null,null,null,null,null,null,null,null,null,"","","","","","",null,null,null,null,null,"","",null,null,null,null,null,"","","","","",null,null,null,null,"","","","","",null,null,null,null,null,null,"","","","",null,null,null,null,"","","","","",null,null,null,null,null,"","","","","",null,null,null,null,null,null,0,{"$f":"'Scenario specification'!H684/100","v":0},"","","","","",null,null,null,null,null,null,"","","","",null,null,null,null,"","","","","","","","","","",""]
[null,null,null,null,null,null,null,null,null,null,"","","","","","",null,null,null,null,null,"","",null,null,null,null,null,"","","","","",null,null,null,null,"","","","","",null,null,null,null,null,null,"","","","",null,null,null,null,"","","","","",null,null,null,null,null,"","","","","",null,null,null,null,null,null,0,{"$f":"'Scenario specification'!H685/100","v":0},"","","","","",null,null,null,null,null,null,"","","","",null,null,null,null,"","","","","","","","","","",""]
[null,null,null,null,null,null,null,null,null,null,"","","","","","",null,null,null,null,null,"","",null,null,null,null,null,"","","","","",null,null,null,null,"","","","","",null,null,null,null,null,null,"","","","",null,null,null,null,"","","","","",null,null,null,null,null,"","","","","",null,null,null,null,null,null,0,{"$f":"'Scenario specification'!H686/100","v":0},"","","","","",null,null,null,null,null,null,"","","","",null,null,null,null,"","","","","","","","","","",""]
[null,null,null,null,null,null,null,null,null,null,"","","","","","",null,null,null,null,null,"","",null,null,null,null,null,"","","","","",null,null,null,null,"","","","","",null,null,null,null,null,null,"","","","",null,null,null,null,"","","","","",null,null,null,null,null,"","","","","",null,null,null,null,null,null,0,{"$f":"'Scenario specification'!H687/100","v":0},"","","","","",null,null,null,null,null,null,"","","","",null,null,null,null,"","","","","","","","","","",""]
[null,null,null,null,null,null,null,null,null,null,"","","","","","",null,null,null,null,null,"","",null,null,null,null,null,"","","","","",null,null,null,null,"","","","","",null,null,null,null,null,null,"","","","",null,null,null,null,"","","","","",null,null,null,null,null,"","","","","",null,null,null,null,null,null,0,{"$f":"'Scenario specification'!H688/100","v":0},"","","","","",null,null,null,null,null,null,"","","","",null,null,null,null,"","","","","","","","","","",""]
[null,null,null,null,null,null,null,null,null,null,"","","","","","",null,null,null,null,null,"","",null,null,null,null,null,"","","","","",null,null,null,null,"","","","","",null,null,null,null,null,null,"","","","",null,null,null,null,"","","","","",null,null,null,null,null,"","","","","",null,null,null,null,null,null,0,{"$f":"'Scenario specification'!H689/100","v":0},"","","","","",null,null,null,null,null,null,"","","","",null,null,null,null,"","","","","","","","","","",""]
[null,null,null,null,null,null,null,null,null,null,"","","","","","",null,null,null,null,null,"","",null,null,null,null,null,"","","","","",null,null,null,null,"","","","","",null,null,null,null,null,null,"","","","",null,null,null,null,"","","","","",null,null,null,null,null,"","","","","",null,null,null,null,null,null,0,{"$f":"'Scenario specification'!H690/100","v":0},"","","","","",null,null,null,null,null,null,"","","","",null,null,null,null,"","","","","","","","","","",""]
[null,null,null,null,null,null,null,null,null,null,"","","","","","",null,null,null,null,null,"","",null,null,null,null,null,"","","","","",null,null,null,null,"","","","","",null,null,null,null,null,null,"","","","",null,null,null,null,"","","","","",null,null,null,null,null,"","","","","",null,null,null,null,null,null,0,{"$f":"'Scenario specification'!H691/100","v":0},"","","","","",null,null,null,null,null,null,"","","","",null,null,null,null,"","","","","","","","","","",""]
[null,null,null,null,null,null,null,null,null,null,"","","","","","",null,null,null,null,null,"","",null,null,null,null,null,"","","","","",null,null,null,null,"","","","","",null,null,null,null,null,null,"","","","",null,null,null,null,"","","","","",null,null,null,null,null,"","","","","",null,null,null,null,null,null,0,{"$f":"'Scenario specification'!H692/100","v":0},"","","","","",null,null,null,null,null,null,"","","","",null,null,null,null,"","","","","","","","","","",""]
[null,null,null,null,null,null,null,null,null,null,"","","","","","",null,null,null,null,null,"","",null,null,null,null,null,"","","","","",null,null,null,null,"","","","","",null,null,null,null,null,null,"","","","",null,null,null,null,"","","","","",null,null,null,null,null,"","","","","",null,null,null,null,null,null,0,{"$f":"'Scenario specification'!H693/100","v":0},"","","","","",null,null,null,null,null,null,"","","","",null,null,null,null,"","","","","","","","","","",""]
[null,null,null,null,null,null,null,null,null,null,"","","","","","",null,null,null,null,null,"","",null,null,null,null,null,"","","","","",null,null,null,null,"","","","","",null,null,null,null,null,null,"","","","",null,null,null,null,"","","","","",null,null,null,null,null,"","","","","",null,null,null,null,null,null,0,{"$f":"'Scenario specification'!H694/100","v":0},"","","","","",null,null,null,null,null,null,"","","","",null,null,null,null,"","","","","","","","","","",""]
[null,null,null,null,null,null,null,null,null,null,"","","","","","",null,null,null,null,null,"","",null,null,null,null,null,"","","","","",null,null,null,null,"","","","","",null,null,null,null,null,null,"","","","",null,null,null,null,"","","","","",null,null,null,null,null,"","","","","",null,null,null,null,null,null,0,{"$f":"'Scenario specification'!H695/100","v":0},"","","","","",null,null,null,null,null,null,"","","","",null,null,null,null,"","","","","","","","","","",""]
[null,null,null,null,null,null,null,null,null,null,"","","","","","",null,null,null,null,null,"","",null,null,null,null,null,"","","","","",null,null,null,null,"","","","","",null,null,null,null,null,null,"","","","",null,null,null,null,"","","","","",null,null,null,null,null,"","","","","",null,null,null,null,null,null,0,{"$f":"'Scenario specification'!H696/100","v":0},"","","","","",null,null,null,null,null,null,"","","","",null,null,null,null,"","","","","","","","","","",""]
[null,null,null,null,null,null,null,null,null,null,"","","","","","",null,null,null,null,null,"","",null,null,null,null,null,"","","","","",null,null,null,null,"","","","","",null,null,null,null,null,null,"","","","",null,null,null,null,"","","","","",null,null,null,null,null,"","","","","",null,null,null,null,null,null,0,{"$f":"'Scenario specification'!H697/100","v":0},"","","","","",null,null,null,null,null,null,"","","","",null,null,null,null,"","","","","","","","","","",""]
[null,null,null,null,null,null,null,null,null,null,"","","","","","",null,null,null,null,null,"","",null,null,null,null,null,"","","","","",null,null,null,null,"","","","","",null,null,null,null,null,null,"","","","",null,null,null,null,"","","","","",null,null,null,null,null,"","","","","",null,null,null,null,null,null,0,{"$f":"'Scenario specification'!H698/100","v":0},"","","","","",null,null,null,null,null,null,"","","","",null,null,null,null,"","","","","","","","","","",""]
[null,null,null,null,null,null,null,null,null,null,"","","","","","",null,null,null,null,null,"","",null,null,null,null,null,"","","","","",null,null,null,null,"","","","","",null,null,null,null,null,null,"","","","",null,null,null,null,"","","","","",null,null,null,null,null,"","","","","",null,null,null,null,null,null,0,{"$f":"'Scenario specification'!H699/100","v":0},"","","","","",null,null,null,null,null,null,"","","","",null,null,null,null,"","","","","","","","","","",""]
[null,null,null,null,null,null,null,null,null,null,"","","","","","",null,null,null,null,null,"","",null,null,null,null,null,"","","","","",null,null,null,null,"","","","","",null,null,null,null,null,null,"","","","",null,null,null,null,"","","","","",null,null,null,null,null,"","","","","",null,null,null,null,null,null,0,{"$f":"'Scenario specification'!H700/100","v":0},"","","","","",null,null,null,null,null,null,"","","","",null,null,null,null,"","","","","","","","","","",""]
[null,null,null,null,null,null,null,null,null,null,"","","","","","",null,null,null,null,null,"","",null,null,null,null,null,"","","","","",null,null,null,null,"","","","","",null,null,null,null,null,null,"","","","",null,null,null,null,"","","","","",null,null,null,null,null,"","","","","",null,null,null,null,null,null,0,{"$f":"'Scenario specification'!H701/100","v":0},"","","","","",null,null,null,null,null,null,"","","","",null,null,null,null,"","","","","","","","","","",""]
[null,null,null,null,null,null,null,null,null,null,"","","","","","",null,null,null,null,null,"","",null,null,null,null,null,"","","","","",null,null,null,null,"","","","","",null,null,null,null,null,null,"","","","",null,null,null,null,"","","","","",null,null,null,null,null,"","","","","",null,null,null,null,null,null,0,{"$f":"'Scenario specification'!H702/100","v":0},"","","","","",null,null,null,null,null,null,"","","","",null,null,null,null,"","","","","","","","","","",""]
[null,null,null,null,null,null,null,null,null,null,"","","","","","",null,null,null,null,null,"","",null,null,null,null,null,"","","","","",null,null,null,null,"","","","","",null,null,null,null,null,null,"","","","",null,null,null,null,"","","","","",null,null,null,null,null,"","","","","",null,null,null,null,null,null,0,{"$f":"'Scenario specification'!H703/100","v":0},"","","","","",null,null,null,null,null,null,"","","","",null,null,null,null,"","","","","","","","","","",""]
[null,null,null,null,null,null,null,null,null,null,"","","","","","",null,null,null,null,null,"","",null,null,null,null,null,"","","","","",null,null,null,null,"","","","","",null,null,null,null,null,null,"","","","",null,null,null,null,"","","","","",null,null,null,null,null,"","","","","",null,null,null,null,null,null,0,{"$f":"'Scenario specification'!H704/100","v":0},"","","","","",null,null,null,null,null,null,"","","","",null,null,null,null,"","","","","","","","","","",""]
[null,null,null,null,null,null,null,null,null,null,"","","","","","",null,null,null,null,null,"","",null,null,null,null,null,"","","","","",null,null,null,null,"","","","","",null,null,null,null,null,null,"","","","",null,null,null,null,"","","","","",null,null,null,null,null,"","","","","",null,null,null,null,null,null,0,{"$f":"'Scenario specification'!H705/100","v":0},"","","","","",null,null,null,null,null,null,"","","","",null,null,null,null,"","","","","","","","","","",""]
[null,null,null,null,null,null,null,null,null,null,"","","","","","",null,null,null,null,null,"","",null,null,null,null,null,"","","","","",null,null,null,null,"","","","","",null,null,null,null,null,null,"","","","",null,null,null,null,"","","","","",null,null,null,null,null,"","","","","",null,null,null,null,null,null,0,{"$f":"'Scenario specification'!H706/100","v":0},"","","","","",null,null,null,null,null,null,"","","","",null,null,null,null,"","","","","","","","","","",""]
[null,null,null,null,null,null,null,null,null,null,"","","","","","",null,null,null,null,null,"","",null,null,null,null,null,"","","","","",null,null,null,null,"","","","","",null,null,null,null,null,null,"","","","",null,null,null,null,"","","","","",null,null,null,null,null,"","","","","",null,null,null,null,null,null,0,{"$f":"'Scenario specification'!H707/100","v":0},"","","","","",null,null,null,null,null,null,"","","","",null,null,null,null,"","","","","","","","","","",""]
[null,null,null,null,null,null,null,null,null,null,"","","","","","",null,null,null,null,null,"","",null,null,null,null,null,"","","","","",null,null,null,null,"","","","","",null,null,null,null,null,null,"","","","",null,null,null,null,"","","","","",null,null,null,null,null,"","","","","",null,null,null,null,null,null,0,{"$f":"'Scenario specification'!H708/100","v":0},"","","","","",null,null,null,null,null,null,"","","","",null,null,null,null,"","","","","","","","","","",""]
[null,null,null,null,null,null,null,null,null,null,"","","","","","",null,null,null,null,null,"","",null,null,null,null,null,"","","","","",null,null,null,null,"","","","","",null,null,null,null,null,null,"","","","",null,null,null,null,"","","","","",null,null,null,null,null,"","","","","",null,null,null,null,null,null,0,{"$f":"'Scenario specification'!H709/100","v":0},"","","","","",null,null,null,null,null,null,"","","","",null,null,null,null,"","","","","","","","","","",""]
[null,null,null,null,null,null,null,null,null,null,"","","","","","",null,null,null,null,null,"","",null,null,null,null,null,"","","","","",null,null,null,null,"","","","","",null,null,null,null,null,null,"","","","",null,null,null,null,"","","","","",null,null,null,null,null,"","","","","",null,null,null,null,null,null,0,{"$f":"'Scenario specification'!H710/100","v":0},"","","","","",null,null,null,null,null,null,"","","","",null,null,null,null,"","","","","","","","","","",""]
[null,null,null,null,null,null,null,null,null,null,"","","","","","",null,null,null,null,null,"","",null,null,null,null,null,"","","","","",null,null,null,null,"","","","","",null,null,null,null,null,null,"","","","",null,null,null,null,"","","","","",null,null,null,null,null,"","","","","",null,null,null,null,null,null,0,{"$f":"'Scenario specification'!H711/100","v":0},"","","","","",null,null,null,null,null,null,"","","","",null,null,null,null,"","","","","","","","","","",""]
[null,null,null,null,null,null,null,null,null,null,"","","","","","",null,null,null,null,null,"","",null,null,null,null,null,"","","","","",null,null,null,null,"","","","","",null,null,null,null,null,null,"","","","",null,null,null,null,"","","","","",null,null,null,null,null,"","","","","",null,null,null,null,null,null,0,{"$f":"'Scenario specification'!H712/100","v":0},"","","","","",null,null,null,null,null,null,"","","","",null,null,null,null,"","","","","","","","","","",""]
[null,null,null,null,null,null,null,null,null,null,"","","","","","",null,null,null,null,null,"","",null,null,null,null,null,"","","","","",null,null,null,null,"","","","","",null,null,null,null,null,null,"","","","",null,null,null,null,"","","","","",null,null,null,null,null,"","","","","",null,null,null,null,null,null,0,{"$f":"'Scenario specification'!H713/100","v":0},"","","","","",null,null,null,null,null,null,"","","","",null,null,null,null,"","","","","","","","","","",""]
[null,null,null,null,null,null,null,null,null,null,"","","","","","",null,null,null,null,null,"","",null,null,null,null,null,"","","","","",null,null,null,null,"","","","","",null,null,null,null,null,null,"","","","",null,null,null,null,"","","","","",null,null,null,null,null,"","","","","",null,null,null,null,null,null,0,{"$f":"'Scenario specification'!H714/100","v":0},"","","","","",null,null,null,null,null,null,"","","","",null,null,null,null,"","","","","","","","","","",""]
[null,null,null,null,null,null,null,null,null,null,"","","","","","",null,null,null,null,null,"","",null,null,null,null,null,"","","","","",null,null,null,null,"","","","","",null,null,null,null,null,null,"","","","",null,null,null,null,"","","","","",null,null,null,null,null,"","","","","",null,null,null,null,null,null,0,{"$f":"'Scenario specification'!H715/100","v":0},"","","","","",null,null,null,null,null,null,"","","","",null,null,null,null,"","","","","","","","","","",""]
[null,null,null,null,null,null,null,null,null,null,"","","","","","",null,null,null,null,null,"","",null,null,null,null,null,"","","","","",null,null,null,null,"","","","","",null,null,null,null,null,null,"","","","",null,null,null,null,"","","","","",null,null,null,null,null,"","","","","",null,null,null,null,null,null,0,{"$f":"'Scenario specification'!H716/100","v":0},"","","","","",null,null,null,null,null,null,"","","","",null,null,null,null,"","","","","","","","","","",""]
[null,null,null,null,null,null,null,null,null,null,"","","","","","",null,null,null,null,null,"","",null,null,null,null,null,"","","","","",null,null,null,null,"","","","","",null,null,null,null,null,null,"","","","",null,null,null,null,"","","","","",null,null,null,null,null,"","","","","",null,null,null,null,null,null,0,{"$f":"'Scenario specification'!H717/100","v":0},"","","","","",null,null,null,null,null,null,"","","","",null,null,null,null,"","","","","","","","","","",""]
[null,null,null,null,null,null,null,null,null,null,"","","","","","",null,null,null,null,null,"","",null,null,null,null,null,"","","","","",null,null,null,null,"","","","","",null,null,null,null,null,null,"","","","",null,null,null,null,"","","","","",null,null,null,null,null,"","","","","",null,null,null,null,null,null,0,{"$f":"'Scenario specification'!H718/100","v":0},"","","","","",null,null,null,null,null,null,"","","","",null,null,null,null,"","","","","","","","","","",""]
[null,null,null,null,null,null,null,null,null,null,"","","","","","",null,null,null,null,null,"","",null,null,null,null,null,"","","","","",null,null,null,null,"","","","","",null,null,null,null,null,null,"","","","",null,null,null,null,"","","","","",null,null,null,null,null,"","","","","",null,null,null,null,null,null,0,{"$f":"'Scenario specification'!H719/100","v":0},"","","","","",null,null,null,null,null,null,"","","","",null,null,null,null,"","","","","","","","","","",""]
[null,null,null,null,null,null,null,null,null,null,"","","","","","",null,null,null,null,null,"","",null,null,null,null,null,"","","","","",null,null,null,null,"","","","","",null,null,null,null,null,null,"","","","",null,null,null,null,"","","","","",null,null,null,null,null,"","","","","",null,null,null,null,null,null,0,{"$f":"'Scenario specification'!H720/100","v":0},"","","","","",null,null,null,null,null,null,"","","","",null,null,null,null,"","","","","","","","","","",""]
[null,null,null,null,null,null,null,null,null,null,"","","","","","",null,null,null,null,null,"","",null,null,null,null,null,"","","","","",null,null,null,null,"","","","","",null,null,null,null,null,null,"","","","",null,null,null,null,"","","","","",null,null,null,null,null,"","","","","",null,null,null,null,null,null,0,{"$f":"'Scenario specification'!H721/100","v":0},"","","","","",null,null,null,null,null,null,"","","","",null,null,null,null,"","","","","","","","","","",""]
[null,null,null,null,null,null,null,null,null,null,"","","","","","",null,null,null,null,null,"","",null,null,null,null,null,"","","","","",null,null,null,null,"","","","","",null,null,null,null,null,null,"","","","",null,null,null,null,"","","","","",null,null,null,null,null,"","","","","",null,null,null,null,null,null,0,{"$f":"'Scenario specification'!H722/100","v":0},"","","","","",null,null,null,null,null,null,"","","","",null,null,null,null,"","","","","","","","","","",""]
[null,null,null,null,null,null,null,null,null,null,"","","","","","",null,null,null,null,null,"","",null,null,null,null,null,"","","","","",null,null,null,null,"","","","","",null,null,null,null,null,null,"","","","",null,null,null,null,"","","","","",null,null,null,null,null,"","","","","",null,null,null,null,null,null,0,{"$f":"'Scenario specification'!H723/100","v":0},"","","","","",null,null,null,null,null,null,"","","","",null,null,null,null,"","","","","","","","","","",""]
[null,null,null,null,null,null,null,null,null,null,"","","","","","",null,null,null,null,null,"","",null,null,null,null,null,"","","","","",null,null,null,null,"","","","","",null,null,null,null,null,null,"","","","",null,null,null,null,"","","","","",null,null,null,null,null,"","","","","",null,null,null,null,null,null,0,{"$f":"'Scenario specification'!H724/100","v":0},"","","","","",null,null,null,null,null,null,"","","","",null,null,null,null,"","","","","","","","","","",""]
[null,null,null,null,null,null,null,null,null,null,"","","","","","",null,null,null,null,null,"","",null,null,null,null,null,"","","","","",null,null,null,null,"","","","","",null,null,null,null,null,null,"","","","",null,null,null,null,"","","","","",null,null,null,null,null,"","","","","",null,null,null,null,null,null,0,{"$f":"'Scenario specification'!H725/100","v":0},"","","","","",null,null,null,null,null,null,"","","","",null,null,null,null,"","","","","","","","","","",""]
[null,null,null,null,null,null,null,null,null,null,"","","","","","",null,null,null,null,null,"","",null,null,null,null,null,"","","","","",null,null,null,null,"","","","","",null,null,null,null,null,null,"","","","",null,null,null,null,"","","","","",null,null,null,null,null,"","","","","",null,null,null,null,null,null,0,{"$f":"'Scenario specification'!H726/100","v":0},"","","","","",null,null,null,null,null,null,"","","","",null,null,null,null,"","","","","","","","","","",""]
[null,null,null,null,null,null,null,null,null,null,"","","","","","",null,null,null,null,null,"","",null,null,null,null,null,"","","","","",null,null,null,null,"","","","","",null,null,null,null,null,null,"","","","",null,null,null,null,"","","","","",null,null,null,null,null,"","","","","",null,null,null,null,null,null,0,{"$f":"'Scenario specification'!H727/100","v":0},"","","","","",null,null,null,null,null,null,"","","","",null,null,null,null,"","","","","","","","","","",""]
[null,null,null,null,null,null,null,null,null,null,"","","","","","",null,null,null,null,null,"","",null,null,null,null,null,"","","","","",null,null,null,null,"","","","","",null,null,null,null,null,null,"","","","",null,null,null,null,"","","","","",null,null,null,null,null,"","","","","",null,null,null,null,null,null,0,{"$f":"'Scenario specification'!H728/100","v":0},"","","","","",null,null,null,null,null,null,"","","","",null,null,null,null,"","","","","","","","","","",""]
[null,null,null,null,null,null,null,null,null,null,"","","","","","",null,null,null,null,null,"","",null,null,null,null,null,"","","","","",null,null,null,null,"","","","","",null,null,null,null,null,null,"","","","",null,null,null,null,"","","","","",null,null,null,null,null,"","","","","",null,null,null,null,null,null,0,{"$f":"'Scenario specification'!H729/100","v":0},"","","","","",null,null,null,null,null,null,"","","","",null,null,null,null,"","","","","","","","","","",""]
[null,null,null,null,null,null,null,null,null,null,"","","","","","",null,null,null,null,null,"","",null,null,null,null,null,"","","","","",null,null,null,null,"","","","","",null,null,null,null,null,null,"","","","",null,null,null,null,"","","","","",null,null,null,null,null,"","","","","",null,null,null,null,null,null,0,{"$f":"'Scenario specification'!H730/100","v":0},"","","","","",null,null,null,null,null,null,"","","","",null,null,null,null,"","","","","","","","","","",""]
[null,null,null,null,null,null,null,null,null,null,"","","","","","",null,null,null,null,null,"","",null,null,null,null,null,"","","","","",null,null,null,null,"","","","","",null,null,null,null,null,null,"","","","",null,null,null,null,"","","","","",null,null,null,null,null,"","","","","",null,null,null,null,null,null,0,{"$f":"'Scenario specification'!H731/100","v":0},"","","","","",null,null,null,null,null,null,"","","","",null,null,null,null,"","","","","","","","","","",""]
[null,null,null,null,null,null,null,null,null,null,"","","","","","",null,null,null,null,null,"","",null,null,null,null,null,"","","","","",null,null,null,null,"","","","","",null,null,null,null,null,null,"","","","",null,null,null,null,"","","","","",null,null,null,null,null,"","","","","",null,null,null,null,null,null,0,{"$f":"'Scenario specification'!H732/100","v":0},"","","","","",null,null,null,null,null,null,"","","","",null,null,null,null,"","","","","","","","","","",""]
[null,null,null,null,null,null,null,null,null,null,"","","","","","",null,null,null,null,null,"","",null,null,null,null,null,"","","","","",null,null,null,null,"","","","","",null,null,null,null,null,null,"","","","",null,null,null,null,"","","","","",null,null,null,null,null,"","","","","",null,null,null,null,null,null,0,{"$f":"'Scenario specification'!H733/100","v":0},"","","","","",null,null,null,null,null,null,"","","","",null,null,null,null,"","","","","","","","","","",""]
[null,null,null,null,null,null,null,null,null,null,"","","","","","",null,null,null,null,null,"","",null,null,null,null,null,"","","","","",null,null,null,null,"","","","","",null,null,null,null,null,null,"","","","",null,null,null,null,"","","","","",null,null,null,null,null,"","","","","",null,null,null,null,null,null,0,{"$f":"'Scenario specification'!H734/100","v":0},"","","","","",null,null,null,null,null,null,"","","","",null,null,null,null,"","","","","","","","","","",""]
[null,null,null,null,null,null,null,null,null,null,"","","","","","",null,null,null,null,null,"","",null,null,null,null,null,"","","","","",null,null,null,null,"","","","","",null,null,null,null,null,null,"","","","",null,null,null,null,"","","","","",null,null,null,null,null,{"$f":"IF(D656=\"\",\"\",BP656-H656)","v":""},"",{"$f":"IF(D656=\"\",\"\",D656*((BP656-H656)*(1+($O$6+$O$7))))","v":""},{"$f":"IF(D656=\"\",\"\",IF(BP656-$E$4>=0,VALUE(0),($E$4-BP656)*D656))","v":""},{"$f":"IF(D656=\"\",\"\",IF(BP656-$E$4>=0,VALUE(0),D656))","v":""},null,null,null,null,null,null,0,{"$f":"'Scenario specification'!H735/100","v":0},{"$f":"IF(D656=\"\",\"\",CC656-BZ656)","v":""},{"$f":"IF(D656=\"\",\"\",IF($CD$6=0,\"specify scenario\",IF($CD$6=2,(H656+($BY$16*CA656)),IF($CD$6=1,(H656*(1+CA656))))))","v":""},{"$f":"IF(D656=\"\",\"\",D656*(CB656*(1+($O$6+$O$7))))","v":""},{"$f":"IF(D656=\"\",\"\",IF(CC656-$E$4>=0,VALUE(0),($E$4-CC656)*D656))","v":""},{"$f":"IF(D656=\"\",\"\",IF(CC656-$E$4>=0,VALUE(0),D656))","v":""},null,null,null,null,null,null,{"$f":"IF(D656=\"\",\"\",$CL$16+H656)","v":""},{"$f":"IF(D656=\"\",\"\",(CM656-H656)*D656*(1+(($O$6+$O$7)/100)))","v":""},{"$f":"IF(D656=\"\",\"\",IF(CM656-$E$4>=0,VALUE(0),($E$4-CM656)*D656))","v":""},{"$f":"IF(D656=\"\",\"\",IF(CM656-$E$4>=0,VALUE(0),D656))","v":""},null,null,null,null,{"$f":"IF(D656=\"\",\"\",B656)","v":""},{"$f":"IF(D656=\"\",\"\",C656)","v":""},{"$f":"IF(D656=\"\",\"\",H656)","v":""},{"$f":"IF(D656=\"\",\"\",AC656)","v":""},{"$f":"IF(D656=\"\",\"\",AL656)","v":""},{"$f":"IF(D656=\"\",\"\",AW656)","v":""},{"$f":"IF(D656=\"\",\"\",BE656)","v":""},{"$f":"IF(D656=\"\",\"\",BP656)","v":""},{"$f":"IF(D656=\"\",\"\",CC656)","v":""},{"$f":"IF(D656=\"\",\"\",CM656)","v":""},{"$f":"IF(D656=\"\",\"\",CU656&\" \"&CV656)","v":""}]
[null,null,null,null,null,null,null,null,null,null,"","","","",{"$f":"IF(D657=\"\",\"\",$E$4-H657)","v":""},{"$f":"IF(D657=\"\",\"\",IF(N657=0,VALUE(0),D657))","v":""},null,null,null,null,null,{"$f":"IF(D657=\"\",\"\",IF(H657-$T$16>0,H657-$T$16,0))","v":""},{"$f":"IF(D657=\"\",\"\",H657/$T$16)","v":""},null,null,null,null,null,{"$f":"IF(D657=\"\",\"\",IF(H657>=$E$4,H657,$E$4))","v":""},{"$f":"IF(D657=\"\",\"\",AC657-H657)","v":""},{"$f":"IF(D657=\"\",\"\",D657*(AD657*(1+($O$6+$O$7))))","v":""},{"$f":"IF(D657=\"\",\"\",IF(AC657-$E$4>=0,VALUE(0),($E$4-AC657)*D657))","v":""},{"$f":"IF(D657=\"\",\"\",IF(AC657-$E$4>=0,VALUE(0),D657))","v":""},null,null,null,null,"",{"$f":"IF(D657=\"\",\"\",AL657-H657)","v":""},{"$f":"IF(D657=\"\",\"\",D657*(AM657*(1+($O$6+$O$7))))","v":""},{"$f":"IF(D657=\"\",\"\",IF(AL657-$E$4>=0,VALUE(0),($E$4-AL657)*D657))","v":""},{"$f":"IF(D657=\"\",\"\",IF(AL657-$E$4>=0,VALUE(0),D657))","v":""},null,null,null,null,null,null,"",{"$f":"IF(D657=\"\",\"\",D657*($AV$16*(1+($O$6+$O$7))))","v":""},{"$f":"IF(D657=\"\",\"\",IF(AW657-$E$4>=0,VALUE(0),($E$4-AW657)*D657))","v":""},{"$f":"IF(D657=\"\",\"\",IF(AW657-$E$4>=0,VALUE(0),D657))","v":""},null,null,null,null,{"$f":"IF(D657=\"\",\"\",IF((H657*(1+$BI$10/100))>(H657+$BI$11),(H657*(1+$BI$10/100)),(H657+$BI$11)))","v":""},{"$f":"IF(D657=\"\",\"\",BE657-H657)","v":""},{"$f":"IF(D657=\"\",\"\",D657*(BF657*(1+(($O$6+$O$7)))))","v":""},{"$f":"IF(D657=\"\",\"\",IF(BE657-$E$4>=0,VALUE(0),($E$4-BE657)*D657))","v":""},{"$f":"IF(D657=\"\",\"\",IF(BE657-$E$4>=0,VALUE(0),D657))","v":""},null,null,null,null,null,"",{"$f":"IF(D657=\"\",\"\",IF(H657<$E$4,$E$4,IF($BS$6=0,\"especificar el escenario\",IF($BS$6=1,H657*(1+$BS$11),IF($BS$6=2,H657+($AA$16*$BS$11))))))","v":""},"","","",null,null,null,null,null,null,{"$f":"H657","v":0},{"$f":"'Scenario specification'!H736/100","v":0},"","","","","",null,null,null,null,null,null,"","","","",null,null,null,null,"","","","","","","","","","",""]
[null,null,null,null,null,null,null,null,null,null,"","","","","","",null,null,null,null,null,"","",null,null,null,null,null,"","","","","",null,null,null,null,"","","","","",null,null,null,null,null,null,"","","","",null,null,null,null,"","","","","",null,null,null,null,null,"","","","","",null,null,null,null,null,null,0,{"$f":"'Scenario specification'!H737/100","v":0},"","","","","",null,null,null,null,null,null,"","","","",null,null,null,null,"","","","","","","","","","",""]
[null,null,null,null,null,null,null,null,null,null,"","","","","","",null,null,null,null,null,"","",null,null,null,null,null,"","","","","",null,null,null,null,"","","","","",null,null,null,null,null,null,{"$f":"IF(D659=\"\",\"\",IF($AX$7=0,\"especificar el escenario\",IF($AX$7=2,IF(H659>=$E$4,H659,H659+$AV$16),IF($AX$7=1,$AV$16+H659,\"especificar el escenario\"))))","v":""},"","","",null,null,null,null,"","","","","",null,null,null,null,null,"","","","","",null,null,null,null,null,null,0,{"$f":"'Scenario specification'!H738/100","v":0},"","","","","",null,null,null,null,null,null,"","","","",null,null,null,null,"","","","","","","","","","",""]
[null,null,null,null,null,null,null,null,null,null,"","","","","","",null,null,null,null,null,"","",null,null,null,null,null,"","","","","",null,null,null,null,{"$f":"IF(D660=\"\",\"\",IF($AQ$7=0,\"especificar el escenario\",IF($AQ$7=2,IF(H660>=$E$4,H660,H660+$U$16),IF($AQ$7=1,H660+$U$16,\"\"))))","v":""},"","","","",null,null,null,null,null,null,"","","","",null,null,null,null,"","","","","",null,null,null,null,null,"","","","","",null,null,null,null,null,null,0,{"$f":"'Scenario specification'!H739/100","v":0},"","","","","",null,null,null,null,null,null,"","","","",null,null,null,null,"","","","","","","","","","",""]
[null,null,null,null,null,null,null,null,null,null,"","","","","","",null,null,null,null,null,"","",null,null,null,null,null,"","","","","",null,null,null,null,"","","","","",null,null,null,null,null,null,"","","","",null,null,null,null,"","","","","",null,null,null,null,null,"","","","","",null,null,null,null,null,null,0,{"$f":"'Scenario specification'!H740/100","v":0},"","","","","",null,null,null,null,null,null,"","","","",null,null,null,null,"","","","","","","","","","",""]
[null,null,null,null,null,null,null,null,null,null,"","","","","","",null,null,null,null,null,"","",null,null,null,null,null,"","","","","",null,null,null,null,"","","","","",null,null,null,null,null,null,"","","","",null,null,null,null,"","","","","",null,null,null,null,null,"","","","","",null,null,null,null,null,null,0,{"$f":"'Scenario specification'!H741/100","v":0},"","","","","",null,null,null,null,null,null,"","","","",null,null,null,null,"","","","","","","","","","",""]
[null,null,null,null,null,null,null,null,null,null,"","","","","","",null,null,null,null,null,"","",null,null,null,null,null,"","","","","",null,null,null,null,"","","","","",null,null,null,null,null,null,"","","","",null,null,null,null,"","","","","",null,null,null,null,null,"","","","","",null,null,null,null,null,null,0,{"$f":"'Scenario specification'!H742/100","v":0},"","","","","",null,null,null,null,null,null,"","","","",null,null,null,null,"","","","","","","","","","",""]
[null,null,null,null,null,null,null,null,null,null,{"$f":"IF(D664=\"\",\"\",H664*D664)","v":""},{"$f":"IF(D664=\"\",\"\",IF(H664>=$E$4,0,K664))","v":""},{"$f":"IF(D664=\"\",\"\",IF(H664>=$E$4,0,$E$4-H664))","v":""},{"$f":"IF(D664=\"\",\"\",M664*D664)","v":""},"","",null,null,null,null,null,"","",null,null,null,null,null,"","","","","",null,null,null,null,"","","","","",null,null,null,null,null,null,"","","","",null,null,null,null,"","","","","",null,null,null,null,null,"","","","","",null,null,null,null,null,null,0,{"$f":"'Scenario specification'!H743/100","v":0},"","","","","",null,null,null,null,null,null,"","","","",null,null,null,null,"","","","","","","","","","",""]
[null,null,null,null,null,null,null,null,null,null,"","","","","","",null,null,null,null,null,"","",null,null,null,null,null,"","","","","",null,null,null,null,"","","","","",null,null,null,null,null,null,"","","","",null,null,null,null,"","","","","",null,null,null,null,null,"","","","","",null,null,null,null,null,null,0,{"$f":"'Scenario specification'!H744/100","v":0},"","","","","",null,null,null,null,null,null,"","","","",null,null,null,null,"","","","","","","","","","",""]
[null,null,null,null,null,null,null,null,null,null,"","","","","","",null,null,null,null,null,"","",null,null,null,null,null,"","","","","",null,null,null,null,"","","","","",null,null,null,null,null,null,"","","","",null,null,null,null,"","","","","",null,null,null,null,null,"","","","","",null,null,null,null,null,null,0,{"$f":"'Scenario specification'!H745/100","v":0},"","","","","",null,null,null,null,null,null,"","","","",null,null,null,null,"","","","","","","","","","",""]
[null,null,null,null,null,null,null,null,null,null,null,null,null,null,null,null,null,null,null,null,null,null,null,null,null,null,null,null,null,null,null,null,null,null,null,null,null,null,null,null,null,null,null,null,null,null,null,null,null,null,null,null,null,null,null,null,null,null,null,"",null,null,null,null,null,null,null,null,null,null,null,null,null,null,null,null,null,0,{"$f":"'Scenario specification'!H746/100","v":0},"","",""]
[null,null,null,null,null,null,null,null,null,null,null,null,null,null,null,null,null,null,null,null,null,null,null,null,null,null,null,null,null,null,null,null,null,null,null,null,null,null,null,null,null,null,null,null,null,null,null,null,null,null,null,null,null,null,null,null,null,null,null,"",null,null,null,null,null,null,null,null,null,null,null,null,null,null,null,null,null,0,{"$f":"'Scenario specification'!H747/100","v":0},"","",""]
[null,null,null,null,null,null,null,null,null,null,null,null,null,null,null,null,null,null,null,null,null,null,null,null,null,null,null,null,null,null,null,null,null,null,null,null,null,null,null,null,null,null,null,null,null,null,null,null,null,null,null,null,null,null,null,null,null,null,null,""]

{"sheet":"hide_backend_figures","index":6,"n_rows":2,"n_cols":12,"rows_kept":2,"cut":false,"hidden":true,"merged":[]}
["Cargo","Género","Salario digno de referencia","Remuneración neta total","Escenario 1","Escenario 2","Escenario 3","Escenario 4","Escenario 5","Escenario 6","Escenario 7","Leyenda"]
["","","Año no disponible","","","","","","","","",""]

{"sheet":"hide_2022_LW Database","index":7,"n_rows":70,"n_cols":73,"rows_kept":70,"cut":false,"hidden":true,"merged":[[2,22,2,37],[2,38,2,48],[2,49,2,58],[2,59,2,68],[2,69,2,71],[3,0,3,2],[3,3,3,6],[3,7,3,21],[3,22,3,37],[3,38,3,48],[2,7,2,21],[0,0,0,2],[0,3,1,6],[1,0,1,2],[2,0,2,2],[2,3,2,6],[4,30,4,33],[4,34,4,37],[4,38,4,40],[4,41,4,44],[4,45,4,48],[4,0,5,0],[4,1,5,1],[4,2,5,2],[4,22,4,24],[4,26,4,29],[4,10,4,13],[4,14,4,17],[4,18,4,21],[4,70,5,70],[4,71,5,71],[3,49,3,58],[3,59,3,68],[3,69,3,71],[4,49,4,50],[4,51,4,54],[4,55,4,58],[4,69,5,69],[4,59,4,60],[4,61,4,64],[4,65,4,68]]}
["Living Wage & Living Income Dataset",null,null,"ALIGN (www.align-tool.com) provides an overview of the available living wage and income studies based on the internationally acknowledged Anker methodology."]
["Data valid on April/ September 2021"]
["Geography\nSource: GLWC & LICoP",null,null,"Family composition\nSource: GLWC & LICoP",null,null,null,"International Poverty Lines\nSource: World Bank",null,null,null,null,null,null,null,null,null,null,null,null,null,null,"National Poverty Lines",null,null,null,null,null,null,null,null,null,null,null,null,null,null,null,"Minimum Wages\nSource: ILO & WageIndicator Foundation",null,null,null,null,null,null,null,null,null,null,"(Gross) Living Wages \nSource: Global Living Wage Coalition",null,null,null,null,null,null,null,null,null,"Living Income\nSource: GLWC & LICoP",null,null,null,null,null,null,null,null,null,"Currency "]
["LW / LI are based on the cost of living in a specific geography, at country or sub-country level, and differ per rural, urban or peri-urban areas",null,null,"The family composition parameters, such as family size, adults per family and labour force are taken from the LW/LI studies.",null,null,null,"The International Poverty Lines are retrieved from the World Bank and differ per country according to the World Bank classification by income group. They are based on a division into 4 income groupings: low-income Int. Poverty Line, set at $1.90/day; lower-middle income Int. Poverty Line, set at $3.20/day; upper-middle income Int. Poverty Line, set at $5.50/day; and high-income Int. Poverty Line, set at $21.70/day. Information on family size and labour force from the LW/LI studies was taken into account.",null,null,null,null,null,null,null,null,null,null,null,null,null,null,"The National Poverty Lines are retrieved from official governmental sources that differ per country. The information on family size and labour force from the LW/LI studies was taken into account.",null,null,null,null,null,null,null,null,null,null,null,null,null,null,null,"The data refer to national minimum wage rates where they exist. For countries with multiple minimum wage rates, the selected rate has been specified. Data reported as hourly, weekly, and yearly are converted to monthly, using a 45-hour standard work week, with a maximum of 8hours per day. The information on family size and labour force from the LW/LI studies was taken into account.",null,null,null,null,null,null,null,null,null,null,"The information is from the Global Living Wage Coalition, from living wage studies that use the full Anker Methodology and Anker Reference Values. The Global Living Wage Coalition's data on family size and labour force were taken into account.",null,null,null,null,null,null,null,null,null,"Information from LW/LI studies that use the full Anker Methodology and Anker Reference Values. In the lack of a living income study, cost of living data was taken from living wage studies to provide living income estimates. The information on family size and labour force from the LW/LI studies was taken into account.",null,null,null,null,null,null,null,null,null,"Currency conversion rates to LCU, EUR & USD are from InforEuro, January 2021. International dollars were calculated using the World Bank PPP conversion factor for 2019."]
["Country","Locality","Region/area","Study type","Family size","Adults per family","Labour force","Year","Poverty headcount ratio","Int. poverty line\nPer person/day","Int. poverty line\nPer person/month",null,null,null,"Int. poverty line\nPer workforce/month",null,null,null,"Int. poverty line \nPer family/month",null,null,null,null,null,null,"National poverty line\nPer person/day","National poverty line\nPer person/month",null,null,null,"National poverty line\nPer workforce/month",null,null,null,"National poverty line\nPer family/month",null,null,null,null,null,null,"Minimum Wage \nPer workforce/month",null,null,null,"Minimum Wage\nPer family/month",null,null,null,null,null,"Living Wage \nPer workforce/month",null,null,null,"Living Wage\nPer family/month",null,null,null,null,null,"Living Income\nPer person/month",null,null,null,"Living Income\nPer family/month",null,null,null,"Local currency unit (LCU)","Currency code","2019 PPP Conversion factor"]
[null,null,null,null,"#people","#adults","Workforce/ family",null,"% of population","USD","USD","EUR","LCU","2019 PPP$","USD","EUR","LCU","2019 PPP$","USD","EUR","LCU","2019 PPP$","Year","To add","Source","LCU","LCU","USD","EUR","2019 PPP$","LCU","USD","EUR","2019 PPP$","LCU","USD","EUR","2019 PPP$","Year","Type","Source","LCU","USD","EUR","2019 PPP$","LCU","USD","EUR","2019 PPP$","Year","Source","LCU","USD","EUR","2019 PPP$","LCU","USD","EUR","2019 PPP$","Year","Source","LCU","USD","EUR","2019 PPP$","LCU","USD","EUR","2019 PPP$"]
["Argentina","Non-Metropolitan Urban",null,"Living Wage Reference Value",4,2,1.66,2019,14,5.5,167.2,950.53199999999993,8057.7023999999992,388.26759404139671,402.89156626506025,2290.4385542168675,19416.150361445783,935.58456395517294,668.8,3802.1279999999997,32230.809599999997,1553.0703761655868,null,null,null,null,null,null,null,0,null,null,null,null,null,null,null,0,2021,null,"Wage Indicator",21600,305.7974092163941,2148.2267997451686,1.4358275520317147,35856,430,350,1727.7534166499277,null,null,null,null,null,null,null,null,null,null,2020,"Calculated from GLWC",15096.039999999999,181,147,1058.8742971708557,60384.159999999996,724,588,2909.6647353730446,"Argentine peso","ARS",20.752961420573499,{"$f":"IF(C7>0,B7&\" \"&C7,B7)","v":"Non-Metropolitan Urban"}]
["Argentina","Rural",null,"Living Income Reference Value",4,2,null,2019,14,5.5,167.2,950.53199999999993,8057.7023999999992,388.26759404139671,null,null,null,null,668.8,3802.1279999999997,32230.809599999997,1553.0703761655868,null,null,null,null,null,null,null,0,null,null,null,null,null,null,null,0,2021,null,"Wage Indicator",21600,305.7974092163941,2148.2267997451686,1.4358275520317147,null,null,null,null,null,null,null,null,null,null,null,null,null,null,2020,"GLWC",12505.75,177.04749769944078,1243.7586713385715,877.18482740138677,50023,708.18999079776313,4975.034685354286,3508.7393096055471,"Argentine peso","ARS",20.752961420573499,{"$f":"IF(C8>0,B8&\" \"&C8,B8)","v":"Rural"}]
["Bangladesh","Urban","Satellite Cities and Districts Surrounding Dhaka","Living Wage Benchmark",4,2,1.58,2016,52,3.2,97.28,306.04287999999997,7633.3759573333364,367.82104503726254,246.27848101265823,774.79210126582268,19325.002423628699,931.19251908167723,389.12,1224.1715199999999,30533.503829333345,1471.2841801490501,2016,"Low poverty line","Bangladesh Bureau of Statistics (BBS)",61.25,1862,23.729390640845406,74.652662956099647,89.72213469997115,4713.9240506329115,60.074406685684572,188.99408343316367,227.14464481005353,7448,94.917562563381622,298.61065182439859,358.8885387998846,2013,null,"Wage Indicator",1500,19.205350456994516,36.562536285101125,0.95294914106795292,2370,30.344453722051338,57.768807330459779,114.20056887160666,2022,"GLWC",19255,224,null,null,{"$f":"AZ9*G9","v":30422.9},{"$f":"BA9*G9","v":353.92},{"$f":"BB9*G9","v":0},{"$error":"#REF!"},2021,"Calculated from GLWC",7076.75,83.382042653359704,585.75884963985197,350.51867328138269,28307,333.52817061343882,2343.0353985594079,1402.0746931255308,"Bangladeshi taka","BDT",20.752961420573499,{"$f":"IF(C9>0,B9&\" \"&C9,B9)","v":"Urban Satellite Cities and Districts Surrounding Dhaka"}]
["Bangladesh","Urban","Dhaka City","Living Wage Benchmark",4,2,1.58,2016,52,3.2,97.28,306.04287999999997,7633.3759573333364,367.82104503726254,246.27848101265823,774.79210126582268,19325.002423628699,931.19251908167723,389.12,1224.1715199999999,30533.503829333345,1471.2841801490501,2016,"Low poverty line","Bangladesh Bureau of Statistics (BBS)",61.25,1862,23.729390640845406,74.652662956099647,89.72213469997115,4713.9240506329115,60.074406685684572,188.99408343316367,227.14464481005353,7448,94.917562563381622,298.61065182439859,358.8885387998846,2013,null,"Wage Indicator",1500,19.205350456994516,36.562536285101125,68.878059503588091,2370,30.344453722051338,57.768807330459779,114.20056887160666,2022,"GLWC",23254,271,null,null,36741.32,428.18,0,{"$error":"#REF!"},2021,"Calculated from GLWC",8546.75,100.7023666298233,707.4341255745087,423.32927839299924,34187,402.80946651929321,2829.7365022980348,1693.317113571997,"Bangladeshi taka","BDT",20.752961420573499,"Urban Dhaka City"]
["Belize","Rural",null,null,null,null,null,null,null,null,null,null,null,null,null,null,null,null,null,null,null,null,null,null,null,null,null,null,null,null,null,null,null,null,null,null,null,null,null,null,null,null,null,null,null,null,null,null,null,2022,"GLWC",963,482,null,null,0,0,0,{"$error":"#DIV/0!"},2021,null,null,null,null,{"$error":"#DIV/0!"},1401,null,null,null,"Belizean dollar","BZD",null,"Rural"]
["Brazil","Urban","Minas Gerais South/Southwestern Region","Living Wage Benchmark",4,2,1.71,2019,20,5.5,167.2,950.53199999999993,659.77120000000002,289.2829259492047,391.11111111111109,2223.4666666666667,1543.3244444444445,676.68520689872446,668.8,3802.1279999999997,2639.0848000000001,1157.1317037968188,2017,null,"Universidade Federal do Rio Grande do Sul",2.3026315789473686,70,21.07164358819988,79.945815773630343,30.692162398789655,163.74269005847952,49.290394358362292,187.00775619562654,71.794531926993344,280,84.286574352799519,319.78326309452137,122.76864959515862,2021,null,"Wage Indicator",1100,213.55076684139004,1500.1941370607651,2484.3551623968865,1881,365.17181129877696,2565.3319743739085,824.74224960176207,2022,"GLWC",2522,480,null,null,4312.62,820.8,0,{"$error":"#REF!"},2019,"Calculated from GLWC",759,192.34668018246325,1093.4908768373034,332.79073229544781,3036,769.38672072985298,4373.9635073492136,1331.1629291817912,"Brazilian real","BRL",2.28071255099186,"Urban Minas Gerais South/Southwestern Region"]
["Brazil","Non-metropolitan","State of São Paulo, non-metropolitan areas","Living Wage Benchmark",4,2,1.68,2019,20,5.5,167.2,950.53199999999993,659.77120000000002,289.2829259492047,398.09523809523807,2263.1714285714284,1570.8838095238095,688.76887130763021,668.8,3802.1279999999997,2639.0848000000001,1157.1317037968188,2017,null,"Universidade Federal do Rio Grande do Sul",2.3026315789473686,70,21.07164358819988,79.945815773630343,30.692162398789655,166.66666666666669,50.17057997190448,190.3471804134056,73.076577139975385,280,84.286574352799519,319.78326309452137,122.76864959515862,2021,null,"Wage Indicator",1100,213.55076684139004,1500.1941370607651,2484.3551623968865,1848,358.76528829353526,2520.3261502620853,810.27308732804693,2022,"GLWC",3091,589,null,null,5192.88,989.52,0,{"$error":"#REF!"},2021,"Calculated from GLWC",932.25,180.98427489807804,1271.4145311589982,414.08775443469273,3729,723.93709959231217,5085.6581246359929,1656.3510177387709,"Brazilian real","BRL",2.28071255099186,"Non-metropolitan State of São Paulo, non-metropolitan areas"]
["Burkina Faso","Rural",null,"Living Income Reference Value",5.5,2,1.64,2014,44,1.9,57.76,131.46176,28519.42337359802,12504.611052890114,193.70731707317074,440.87785365853659,95644.407655359217,41936.195604204651,317.68,723.03967999999998,156856.8285547891,68775.360790895618,2009,null,"World Bank, 2016",365.88399999999996,11122.873599999999,23.650923121511781,36.6579794957037,4876.9291838915733,37302.32,79.317120224582197,122.93834586973803,16355.555189880277,61175.804799999998,130.0800771683148,201.61888722637036,26823.110511403651,2012,null,"Wage Indicator",34664,67.89456400629156,121.93870107584587,7759822.6521275109,56848.959999999999,111.34708497031815,199.9794697643872,24925.964464604243,null,null,null,null,null,null,0,0,0,{"$error":"#REF!"},2020,"GLWC",15703.09090909091,27.28191927187887,191.65548288494904,6739.3253277767017,86367,150.05055599533378,1054.1051558672198,37066.28930277186,"West African CFA franc","XOF",2.28071255099186,"Rural"]
["Cameroon","Rural",null,"LW & LI Reference Value",5.5,2,1.71,2014,47,3.2,97.28,221.40928,48032.713050270351,21060.397562762297,312.88888888888886,712.13511111111109,154491.18232543094,67738.120815902119,535.04,1217.7510399999999,264179.92177648691,115832.18659519263,2007,null,"World Bank, 2016",570.34500000000003,17338.488000000001,36.224961449004667,47.198621816583632,7602.2241349352244,55767.066666666673,116.51303390030741,151.80843274339765,24451.598094820896,95361.684000000008,199.23728796952565,259.59241999120997,41812.232742143737,2014,null,"Wage Indicator",36270,73.457137353604907,167.18844461680476,7852185.6455734847,62021.7,125.61170487466438,285.89224029473615,27194.00126641446,2022,"GLWC",116007,null,null,null,198371.97,0,0,{"$error":"#REF!"},2020,"GLWC",28317.454545454544,49.197607870112961,345.61319528754353,12556.730434069179,155746,270.58684328562128,1900.8725740814896,69062.017387380489,"Central African CFA franc","XAF",2.28071255099186,"Rural"]
["Chile","Non-Metropolitan Urban",null,"Living Wage Reference Value",4,2,1.7,2017,4,5.5,167.2,634.35679999999991,108485.01012242923,271.94487148525855,393.41176470588232,1492.6042352941174,255258.84734689232,639.87028584766711,668.8,2537.4271999999996,433940.04048971692,1087.7794859410342,2021,null,"Ministerio de Desarollo Social",5810.0328947368425,176625,222.8067847806569,1565.2176630841147,442.75483656108486,415588.23529411765,524.25125830742797,3682.8650896096819,1041.7760860260819,706500,891.22713912262759,6260.870652336459,1771.0193462443394,2020,null,"Wage Indicator",326500,411.86930067025889,2893.3818372085689,648810.82629286335,555050,781,636,1391.3719577252944,null,null,null,null,null,null,null,null,null,null,2020,"Calculated from  GLWC",218194.57499999998,275.24547324745589,1933.5994495633777,553.15647332500998,872778.29999999993,1100.9818929898236,7734.3977982535107,2212.6258933000399,"Chilean peso","CLP",398.92280199999999,"Non-Metropolitan Urban"]
["China","Urban","Zhengzhou","Living Wage Benchmark",3.5,2,1.78,2016,24,5.5,167.2,526.01119999999992,1110.9566930835049,264.00895664152608,328.76404494382018,1034.2916853932581,2184.4654077484647,519.11873496929297,585.19999999999993,1841.0391999999997,3888.3484257922673,924.03134824534141,2011,null,"World Bank, 2016",6.5860000000000003,200.21440000000001,30.985931801111512,51.900027517344917,47.579167736861613,393.68,60.927393990949597,102.05061590489169,93.554543302817777,700.75040000000001,108.45076130389029,181.6500963107072,166.52708707901564,2019,"urban","ILO",1416,204.96830995447817,1165.2448420912083,336.49977981302067,2520.48,364.84359171897114,2074.1358189223506,598.96960806717675,2022,"GLWC",3177,475,null,null,5655.06,845.5,0,{"$error":"#REF!"},2019,"Calculated from  GLWC",1385.1428571428571,200.5016881879157,1139.8520973483007,329.16685482920184,4848,701.75590865770494,3989.4823407190524,1152.0839919022064,"Chinese Yuan Renminbi","CNY",4.2080265276453197,"Urban Zhengzhou"]
["China","Urban","Chengdu","Living Wage Benchmark",3.5,2,1.78,2016,24,5.5,167.2,526.01119999999992,1110.9566930835049,264.00895664152608,328.76404494382018,1034.2916853932581,2184.4654077484647,519.11873496929297,585.19999999999993,1841.0391999999997,3888.3484257922673,924.03134824534141,2011,null,"World Bank, 2016",6.5860000000000003,200.21440000000001,30.985931801111512,51.900027517344917,47.579167736861613,393.68,60.927393990949597,102.05061590489169,93.554543302817777,700.75040000000001,108.45076130389029,181.6500963107072,166.52708707901564,2019,"urban","ILO",1416,204.96830995447817,1165.2448420912083,336.49977981302067,2520.48,364.84359171897114,2074.1358189223506,598.96960806717675,null,null,null,null,null,null,null,null,null,null,2019,"Calculated from  GLWC",1183.7142857142858,171.34457387841061,974.09390249876435,281.29915007371767,4143,599.70600857443719,3409.3286587456751,984.54702525801179,"Chinese Yuan Renminbi","CNY",4.2080265276453197,"Urban Chengdu"]
["China","Urban","Hangzhou","Living Wage Benchmark",3.5,2,1.78,2016,24,5.5,167.2,526.01119999999992,1110.9566930835049,264.00895664152608,328.76404494382018,1034.2916853932581,2184.4654077484647,519.11873496929297,585.19999999999993,1841.0391999999997,3888.3484257922673,924.03134824534141,2011,null,"World Bank, 2016",6.5860000000000003,200.21440000000001,30.985931801111512,51.900027517344917,47.579167736861613,393.68,60.927393990949597,102.05061590489169,93.554543302817777,700.75040000000001,108.45076130389029,181.6500963107072,166.52708707901564,2019,"urban","ILO",1416,204.96830995447817,1165.2448420912083,336.49977981302067,2520.48,364.84359171897114,2074.1358189223506,598.96960806717675,null,null,null,null,null,null,null,null,null,null,2019,"Calculated from  GLWC",1892.8571428571429,273.99415929144828,1557.6567955718835,449.82062979444351,6625,958.97955752006908,5451.7987845015923,1574.3722042805523,"Chinese Yuan Renminbi","CNY",4.2080265276453197,"Urban Hangzhou"]
["China","Urban","Shanghai","Living Wage Benchmark",3.5,2,1.78,2016,24,5.5,167.2,526.01119999999992,1110.9566930835049,264.00895664152608,328.76404494382018,1034.2916853932581,2184.4654077484647,519.11873496929297,585.19999999999993,1841.0391999999997,3888.3484257922673,924.03134824534141,2011,null,"World Bank, 2016",6.5860000000000003,200.21440000000001,30.985931801111512,51.900027517344917,47.579167736861613,393.68,60.927393990949597,102.05061590489169,93.554543302817777,700.75040000000001,108.45076130389029,181.6500963107072,166.52708707901564,2019,"urban","ILO",1416,204.96830995447817,1165.2448420912083,336.49977981302067,2520.48,364.84359171897114,2074.1358189223506,598.96960806717675,null,null,null,null,null,null,null,null,null,null,2019,"Calculated from  GLWC",2049.1428571428573,296.61677138690828,1686.2663453345738,486.96053688841488,7172,1038.1586998541791,5901.9322086710081,1704.361879109452,"Chinese Yuan Renminbi","CNY",4.2080265276453197,"Urban Shanghai"]
["China","Urban","Shenzhen","Living Wage Benchmark",3.5,2,1.78,2016,24,5.5,167.2,526.01119999999992,1110.9566930835049,264.00895664152608,328.76404494382018,1034.2916853932581,2184.4654077484647,519.11873496929297,585.19999999999993,1841.0391999999997,3888.3484257922673,924.03134824534141,2011,null,"World Bank, 2016",6.5860000000000003,200.21440000000001,30.985931801111512,51.900027517344917,47.579167736861613,393.68,60.927393990949597,102.05061590489169,93.554543302817777,700.75040000000001,108.45076130389029,181.6500963107072,166.52708707901564,2019,"urban","ILO",1416,204.96830995447817,1165.2448420912083,336.49977981302067,2520.48,364.84359171897114,2074.1358189223506,598.96960806717675,null,null,null,null,null,null,null,null,null,null,2019,"Calculated from  GLWC",1399.4285714285713,202.56956863539833,1151.6079976922395,332.56172750689575,4898,708.99349022389413,4030.6279919228377,1163.9660462741351,"Chinese Yuan Renminbi","CNY",4.2080265276453197,"Urban Shenzhen"]
["China","Urban","Suzhou","Living Wage Benchmark",3.5,2,1.78,2016,24,5.5,167.2,526.01119999999992,1110.9566930835049,264.00895664152608,328.76404494382018,1034.2916853932581,2184.4654077484647,519.11873496929297,585.19999999999993,1841.0391999999997,3888.3484257922673,924.03134824534141,2011,null,"World Bank, 2016",6.5860000000000003,200.21440000000001,30.985931801111512,51.900027517344917,47.579167736861613,393.68,60.927393990949597,102.05061590489169,93.554543302817777,700.75040000000001,108.45076130389029,181.6500963107072,166.52708707901564,2019,"urban","ILO",1416,204.96830995447817,1165.2448420912083,336.49977981302067,2520.48,364.84359171897114,2074.1358189223506,598.96960806717675,null,null,null,null,null,null,null,null,null,null,2019,"Calculated from GLWC",1763.7142857142858,255.30052004620535,1451.3834564626775,419.13098078809054,6173,893.55182016171875,5079.8420976193711,1466.9584327583168,"Chinese Yuan Renminbi","CNY",4.2080265276453197,"Urban Suzhou"]
["Colombia","Urban-Rural","Caribbean coast 2021","Living Wage Benchmark",4,2,1.61,2019,29,5.5,167.2,950.53199999999993,548555.04873624374,406.51426758813142,415.40372670807449,2361.5701863354034,1362869.6863012265,1009.9733356226866,668.8,3802.1279999999997,2194220.194944975,1626.0570703525257,2018,null," DANE. Gran Encuesta Integrada de Hogares GEIH 2017",8468.1907894736851,257433,87.097017365334978,422.33343720450932,190.77426721184614,639585.09316770185,216.39010525549062,1049.275620383874,473.97333468781648,1029732,348.38806946133991,1689.3337488180373,763.09706884738455,2021,null,"Wage Indicator",908526,245.88954862754366,1727.3740791084942,673.27569461922019,1462726.86,395.88217329034529,2781.072267364676,1083.9738683369446,null,null,null,null,null,null,null,null,null,null,null,null,null,null,null,null,null,null,null,null,null,null,null,"Urban-Rural Caribbean coast 2021"]
["Colombia","Urban-Rural","Caribbean coast 2022","Living Wage Benchmark",4,2,1.61,2019,29,5.5,167.2,950.53199999999993,548555.04873624374,406.51426758813142,415.40372670807449,2361.5701863354034,1362869.6863012265,1009.9733356226866,668.8,3802.1279999999997,2194220.194944975,1626.0570703525257,2018,null," DANE. Gran Encuesta Integrada de Hogares GEIH 2018",8468.1907894736851,257433,87.097017365334978,422.33343720450932,190.77426721184614,639585.09316770185,216.39010525549062,1049.275620383874,473.97333468781648,1029732,348.38806946133991,1689.3337488180373,763.09706884738455,2021,null,"Wage Indicator",908526,245.88954862754366,1727.3740791084942,673.27569461922019,1462726.86,395.88217329034529,2781.072267364676,1083.9738683369446,2022,"GLWC",1823372,433,null,null,2935628.9200000004,697.13,0,{"$error":"#REF!"},2021,"Calculated from  GLWC",635387.25,171.9654518485946,1208.057299236377,475.21798193346706,2541549,687.86180739437839,4832.2291969455082,1900.8719277338682,"Colombian peso","COP",1349.411552,"Urban-Rural Caribbean coast 2022"]
["Costa Rica","Rural","Limón and Heredia Provinces 2022","Living Wage Benchmark",4,2,1.56,2019,11,5.5,167.2,950.53199999999993,98195.656398719933,287.59167078444187,428.71794871794867,2437.2615384615383,251783.73435569214,737.41454047292791,668.8,3802.1279999999997,392782.62559487973,1150.3666831377675,2018,null,"Instituto Nacional de Estadística y Censos (INEC) ",277.46710526315792,8435,14.619414238553487,70.889539642745859,24.70410435688467,21628.205128205129,37.485677534752533,181.76805036601502,63.343857325345311,33740,58.477656954213948,283.55815857098344,98.816417427538681,2019,"urban","ILO",320978,546.53661443114095,3107.0606530410359,940.06805077227364,500725.68,852.59711851257987,4847.0146187440159,1466.5061592047468,2022,"GLWC",457172,684,null,null,713188.32000000007,1067.04,0,{"$error":"#REF!"},2021,"Calculated from  GLWC",155705.75,266.20879193283963,1870.1167633281984,455.12111149573974,622823,1064.8351677313585,7480.4670533127937,1820.484445982959,"Costa Rican colón","CRC",341.441239,"Rural Limón and Heredia Provinces 2022"]
["Costa Rica","Rural","Limón and Heredia Provinces 2021",null,null,null,null,null,null,null,null,null,null,null,null,null,null,null,null,null,null,null,null,null,null,null,null,null,null,null,null,null,null,null,null,null,null,null,null,null,null,null,null,null,null,null,null,null,null,null,null,null,null,null,null,null,null,null,null,null,null,null,null,null,null,null,null,null,null,null,null,null,"Rural Limón and Heredia Provinces 2021"]
["Cote d'Ivoire","Rural",null,"Living Wage Reference Value",5.5,2,1.61,2015,59,3.2,97.28,275.69152000000003,57513.073979748297,168.442084348658,332.3229813664596,941.80332919254658,196473.23409230783,575.42326951404903,535.04,1516.3033600000001,316321.90688861563,926.431463917619,2015,null,"Ministère De L´Économie Et Des Finances",737,22404.799999999999,37.896408471706216,107.39842160881543,65.618318588634224,76538.136645962732,129.45978049340633,366.88901791831353,224.16195791148337,123226.4,208.43024659438419,590.6913188484848,360.90075223748823,2013,null,"Wage Indicator",60000,121.48217391222506,231.27390471758068,175.72569785572972,96600,195.58629999868236,372.3509865953049,282.91837354772485,2022,"GLWC",137545,null,null,null,221447.45,0,0,{"$error":"#REF!"},2020,"Calculated from  GLWC",26496.50181818182,46.033957758745288,323.38855325518568,77.716620545743012,145730.76,253.1867676730991,1778.6370429035212,427.44141300158657,"West African CFA franc","XOF",341.441239,"Rural"]
["Cote d'Ivoire","Rural","Cocoa growing areas","Living Income Benchmark",6,2,1.65,2015,59,3.2,97.28,275.69152000000003,57513.073979748297,168.442084348658,353.74545454545461,1002.5146181818183,209138.45083544837,612.51667035875641,583.68000000000006,1654.14912,345078.44387848978,1010.652506091948,2015,null,"Ministère De L´Économie Et Des Finances",737,22404.799999999999,37.896408471706216,107.39842160881543,65.618318588634224,81472,137.80512171529534,390.53971494114705,238.61206759503352,134428.79999999999,227.37845083023728,644.39052965289261,393.70991153180529,2013,null,"Wage Indicator",60000,121.48217391222506,231.27390471758068,175.72569785572972,99000,200.44558695517134,381.60194278400809,289.94740146195403,null,null,null,null,null,null,null,null,null,null,2018,"LICoP",43676,78.632241397219602,381.28773853511785,129.87649993308767,262056,471.79344838331758,2287.7264312107072,779.25899959852609,"West African CFA franc","XOF",341.441239,"Rural Cocoa growing areas"]
["Democratic Republic of Congo","Rural",null,null,null,null,null,null,null,null,null,null,null,null,null,null,null,null,null,null,null,null,null,null,null,null,null,null,null,null,null,null,null,null,null,null,null,null,null,null,null,null,null,null,null,null,null,null,null,null,null,null,null,null,null,null,null,null,null,null,null,null,null,null,{"$error":"#DIV/0!"},null,null,null,null,"Congolese franc","CDF",null,"Rural"]
["Dominican Republic","Rural","Northern Region","Living Wage Benchmark",4,2,1.67,2019,12,5.5,167.2,950.53199999999993,8576.5003133333266,387.44074535648417,400.47904191616766,2276.7233532934133,20542.515720558866,928.00178528499202,668.8,3802.1279999999997,34306.001253333307,1549.7629814259367,2019,null,"Ministerio de Economía, Planificación y Desarrollo (MEPYD)",168.81578947368422,5132,100.0490140093639,568.77864464323375,231.83651052613206,12292.215568862275,239.63835690865605,1362.3440590257096,555.29703120031627,20528,400.19605603745561,2275.114578572935,927.34604210452824,2019,"urban","ILO",12015,234.2340029856795,1331.6203069735877,542.77390373567357,20065.05,391.17078498608475,2223.8059126458916,906.43241923857488,2022,"GLWC",19768,350,null,null,33012.559999999998,584.5,0,{"$error":"#REF!"},2021,"Calculated from GLWC",7278.75,128.77151867979455,904.61991872555677,333.05174725481385,29115,515.08607471917821,3618.4796749022271,1332.2069890192554,"Dominican peso","DOP",22.136289009670602,"Rural Northern Region"]
["Ecuador","Rural","Southern Coastal Region",null,null,null,null,null,null,null,null,null,null,null,null,null,null,null,null,null,null,null,null,null,null,null,null,null,null,null,null,null,null,null,null,null,null,null,null,null,null,null,null,null,null,null,null,null,null,2022,"GLWC",475,475,null,null,null,null,null,null,null,null,null,null,null,null,null,null,null,null,null,null,null,"Rural Southern Coastal Region"]
["Egypt, Arab Rep.","Rural",null,"Living Wage Reference Value",5,2,1.53,2017,29,3.2,97.28,369.08032000000003,1729.8848603453871,400.06659658839283,317.90849673202615,1206.1448366013074,5653.2184978607429,null,486.4,1845.4016000000001,8649.4243017269364,2000.3329829419642,null,null,null,null,null,{"$error":"#N/A"},{"$error":"#N/A"},0,null,{"$error":"#N/A"},{"$error":"#N/A"},null,0,{"$error":"#N/A"},{"$error":"#N/A"},0,2019,null,"Wage Indicator",2000,119.2564467195005,677.97289960036028,462.53551985941527,3060,182.46236348083576,1037.2985363885512,707.67934538490545,null,null,null,null,null,null,null,null,null,null,2020,"Calculated from  GLWC",1127.9159999999999,71.572030205159464,502.79351219124527,282.18124745452803,5639.58,357.86015102579734,2513.9675609562264,1410.9062372726403,"Egyptian pound","EGP",4.32399224303441,"Rural"]
["El Salvador","Rural",null,"Living Wage Reference Value",4.5,2,1.59,2019,6,3.2,97.28,553.03679999999997,851.2,196.85511725216716,275.32075471698113,1565.1984905660374,2409.0566037735848,557.13712429858629,437.76,2488.6655999999998,3830.4,885.84802763475216,2011,null,"World Bank, 2016",2.71,82.384,9.4153142857142864,15.770223521097837,19.052763134049034,233.1622641509434,26.647115902964959,44.632708078578787,53.922914530327461,370.72800000000001,42.36891428571429,70.96600584494027,85.737434103220664,2019,"urban","ILO",2660,304,1728.2399999999998,615.17224141302233,4229.4000000000005,483.36,2747.9015999999997,978.1238638467056,null,null,null,null,null,null,null,null,null,null,2020,"Calculated from  GLWC",994.63333333333344,113.67238095238096,798.54847619047632,226.96715555255705,4475.8500000000004,511.52571428571434,3593.4681428571434,1021.3521999865067,"Salvadoran colon","SVC",4.32399224303441,"Rural"]
["Ethiopia","Non-Metropolitan Urban","Ziway Region","Living Wage Benchmark",5,2,1.65,2015,31,1.9,57.76,163.69183999999998,1188.5187837999999,114.62304825101793,175.03030303030306,496.03587878787874,3601.5720721212124,347.34257045763013,288.8,818.4591999999999,5942.5939189999999,573.1152412550897,2015,"2015/16","Planning and Development Commission ",19.682191780821917,598.33863013698624,29.078244069660386,82.40774369341753,57.70493374396743,1813.1473640514737,88.115891120182994,249.72043543459858,174.86343558778012,2991.6931506849314,145.39122034830194,412.03871846708762,288.52466871983717,null,null,null,null,{"$error":"#N/A"},{"$error":"#N/A"},0,null,null,null,0,2022,"GLWC",10607,194,null,null,{"$f":"AZ34*G34","v":17501.55},320.09999999999997,0,{"$error":"#REF!"},2019,"Calculated from  GLWC",1304,44.857626914576151,255.01560900936539,125.76027990187781,6520,224.28813457288075,1275.0780450468269,628.80139950938906,"Ethiopian birr","ETB",10.3689336650445,"Non-Metropolitan Urban Ziway Region"]
["Gabon","Urban",null,null,null,null,null,null,null,null,null,null,null,null,null,null,null,null,null,null,null,null,null,null,null,null,null,null,null,null,null,null,null,null,null,null,null,null,null,null,null,null,null,null,null,null,null,null,null,null,null,null,null,null,null,null,null,null,null,null,null,null,null,null,{"$error":"#DIV/0!"},null,null,null,null,null,null,null,"Urban"]
["Gabon","Rural",null,null,null,null,null,null,null,null,null,null,null,null,null,null,null,null,null,null,null,null,null,null,null,null,null,null,null,null,null,null,null,null,null,null,null,null,null,null,null,null,null,null,null,null,null,null,null,null,null,null,null,null,null,null,null,null,null,null,null,null,null,null,{"$error":"#DIV/0!"},null,null,null,null,null,null,null,"Rural"]
["Ghana","Peri-Urban","Lower Volta Region","Living Wage Benchmark",4.5,2,1.78,2016,29,3.2,97.28,306.04287999999997,380.34696533333369,185.5213079028085,245.93258426966293,773.70391011235949,961.55131685393349,469.01454245092037,437.76,1377.1929599999999,1711.5613440000016,834.84588556263827,2012,"2012/13","Ghana Statistical Service",3.6,109.44,59.971504767471487,107.70887920028051,53.381395902789826,276.67415730337081,151.61335474922566,272.29772831531591,134.95296716997427,492.48,269.8717714536217,484.68995640126229,240.21628156255423,2020,null,"Wage Indicator",319,57.007974861687188,400.48102340335254,155.59818432922108,567.82000000000005,101.4741952538032,712.85622165796758,276.96476810601354,2022,"GLWC",1841,257,null,null,3276.98,457.46,0,{"$error":"#REF!"},2021,"Calculated from  GLWC",496.88888888888891,88.798210930499863,623.80743178676164,254.93752509082722,2236,399.59194918724938,2807.1334430404272,1147.2188629087225,"Ghana cedi","GHS",2.0501524575958201,"Peri-Urban Lower Volta Region"]
["Ghana","Rural","Cocoa growing areas of Ashanti, Central, Eastern, Western Regions","Living Income Benchmark",5,2,1.56,2016,29,3.2,97.28,306.04287999999997,380.34696533333369,185.5213079028085,311.79487179487177,980.90666666666652,1219.0607863247874,594.61957661156566,486.4,1530.2143999999998,1901.7348266666684,927.60653951404242,2012,"2012/14","Ghana Statistical Service",3.6,109.44,59.971504767471487,107.70887920028051,53.381395902789826,350.76923076923077,192.21636143420349,345.22076666756573,171.09421763714687,547.20000000000005,299.85752383735746,538.54439600140256,266.90697951394912,2020,null,"Wage Indicator",319,57.007974861687188,400.48102340335254,155.59818432922108,497.64000000000004,88.932440784232014,624.75039650922997,242.73316755358488,null,null,null,null,null,null,0,0,0,{"$error":"#REF!"},2019,"LICoP",336.6,64.515304655605277,366.769506967116,164.18291174048844,1683,322.5765232780264,1833.8475348355801,820.91455870244215,"Ghana cedi","GHS",2.0501524575958201,"Rural Cocoa growing areas of Ashanti, Central, Eastern, Western Regions"]
["Guatemala","Rural","Central Valley Area","Living Wage Benchmark",5,2,1.53,2014,49,5.5,167.2,380.54719999999992,1292.8294133333327,326.60075692763087,546.40522875816987,1243.6183006535946,4224.9327233115446,1067.3227350576171,836,1902.7359999999996,6464.1470666666637,1633.0037846381545,2014,null,"Instituto Nacional de Estadística",27.994520547945207,851.03342465753428,110.06308112673803,250.50357264445572,214.99213879054955,2781.1549825409616,359.68327165600664,818.63912628907087,702.58868885800507,4255.1671232876715,550.31540563369015,1252.5178632222785,1074.9606939527478,2019,"urban","ILO",2773,360.28435569450897,2048.2165621232834,700.5285381195232,4242.6900000000005,551.23506421259879,3133.7713400486236,1071.8086633228706,2022,"GLWC",3374,440,null,null,5162.22,673.2,0,{"$error":"#REF!"},2021,"Calculated from  GLWC",945,122.38316940032246,859.7417650372654,240.89926764461234,4725,611.91584700161229,4298.708825186327,1204.4963382230617,"Guatemalan quetzal","GTQ",3.95843973386688,"Rural Central Valley Area"]
["Honduras","Rural",null,"Living Wage Reference Value",4.5,2,1.65,2019,29,3.2,97.28,553.03679999999997,2384.1906656407523,225.92638879623286,265.30909090909091,1508.2821818181817,6502.3381790202338,616.16287853518054,437.76,2488.6655999999998,10728.857995383385,1016.6687495830478,2011,null,"World Bank, 2016",66.228999999999999,2013.3616,106.43053984988022,178.26631719032292,190.78655167318948,5490.9861818181816,290.26510868149154,486.18086506451709,520.32695910869859,9060.127199999999,478.93742932446099,802.19842735645318,858.53948252935265,2019,"urban","ILO",8484,346.16506636569437,1967.9484022889724,803.94555274886523,13998.599999999999,571.17235950339568,3247.1148637768042,1326.5101620356274,null,null,null,null,null,null,null,null,null,null,2020,"Calculated from  GLWC",2311.4666666666662,94.031319737372115,660.57002115503906,224.32210085401786,10401.599999999999,423.1409388181745,2972.5650951976759,1009.4494538430804,"Honduran lempira","HNL",10.5529534568496,"Rural"]
["India","Urban","Tiruppur, Tamil Nadu","Living Wage Benchmark",4,2,1.58,2011,62,3.2,97.28,162.939578815771,4540.1029973333361,213.31857310819188,246.27848101265823,412.50526282473669,11493.931638818573,540.04702052706807,389.12,651.758315263084,18160.411989333345,853.27429243276754,2012,null,"World Bank, 2016",29.222999999999999,888.37919999999997,16.624722961580481,29.858018139612174,41.740855534402158,2249.0612658227847,42.087906231849317,75.589919340790317,105.67305198582825,3553.5167999999999,66.498891846321925,119.4320725584487,166.96342213760863,2019,null,"ILO",4757,67.551505201415182,384.0303070700453,223.50956638465993,7516.06,106.73137821823599,606.76788517067155,353.1451148877627,2022,"GLWC",18529,246,null,null,29275.82,388.68,0,{"$error":"#REF!"},2019,"Calculated from  GLWC",5366,76.199574713221338,433.19458224466325,252.12367736390271,21464,304.79829885288535,1732.778328978653,1008.4947094556109,"Indian rupee","INR",21.283205354231701,"Urban Tiruppur, Tamil Nadu"]
["India","Rural","Bhadohi, Uttar Pradesh","Living Wage Benchmark",5,2,1.546,2011,62,3.2,97.28,162.939578815771,4540.1029973333361,213.31857310819188,314.61836998706337,526.97147094363197,14683.38614920225,689.90482893981846,486.4,814.69789407885503,22700.51498666668,1066.5928655409593,2012,null,"World Bank, 2016",29.222999999999999,888.37919999999997,16.624722961580481,29.858018139612174,41.740855534402158,2873.1539456662354,53.766891855046836,96.565388549845323,134.99629862355161,4441.8959999999997,83.123614807902413,149.29009069806088,208.70427767201079,2019,null,"ILO",4757,67.551505201415182,384.0303070700453,223.50956638465993,7354.3220000000001,104.43462704138787,593.71085473029007,345.54578963068428,null,null,null,null,null,null,null,null,null,null,2019,"Calculated from  GLWC",3285.6,46.656974036108835,265.24489739527871,154.3752430761906,16428,233.28487018054417,1326.2244869763936,771.876215380953,"Indian rupee","INR",21.283205354231701,"Rural Bhadohi, Uttar Pradesh"]
["India","Rural","Rural Nilgiris, Tamil Nadu","Living Wage Benchmark",4,2,1.73,2011,62,3.2,97.28,162.939578815771,4540.1029973333361,213.31857310819188,224.92485549132948,376.73891055669594,10497.347970712915,493.22213435420088,389.12,651.758315263084,18160.411989333345,853.27429243276754,2012,null,"World Bank, 2016",29.222999999999999,888.37919999999997,16.624722961580481,29.858018139612174,41.740855534402158,2054.0559537572253,38.438665807122497,69.035880091588837,96.510648634455862,3553.5167999999999,66.498891846321925,119.4320725584487,166.96342213760863,2019,null,"ILO",4757,67.551505201415182,384.0303070700453,223.50956638465993,8229.61,116.86410399844826,664.37243123117833,386.6715498454617,2022,"GLWC",14001,189,null,null,24221.73,326.96999999999997,0,{"$error":"#REF!"},2020,"Calculated from  GLWC",4739.75,63.964611391658302,449.35139502639959,231.47538612459832,18959,255.85844556663321,1797.4055801055983,925.90154449839326,"Indian rupee","INR",21.283205354231701,"Rural Rural Nilgiris, Tamil Nadu"]
["Kenya","Rural","Mount Kenya","Living Wage Benchmark",5.5,2,1.71,2015,67,3.2,97.28,275.69152000000003,9550.8693333333376,232.64955952061644,312.88888888888886,886.72711111111118,30719.170370370382,null,535.04,1516.3033600000001,52529.781333333354,1279.5725773633903,2005,null,"World Bank, 2016",85.084000000000003,2586.5536000000002,34.234452881252338,45.996832614283946,63.005841113988417,8319.3244444444463,110.11081336075314,147.94302887635186,null,14226.044800000001,188.28949084688787,252.9825793785617,346.5321261269363,2020,"agriculture, unskilled worker","Wage Indicator",6736,63.278070766314251,444.52844713335764,164.08217704973364,11518.56,108.20550101039737,760.14364459804153,280.58052275504451,null,null,null,null,null,null,null,null,null,null,2016,"Calculated from  GLWC",3995.818181818182,39.366050804004779,123.84559582939904,93.228160889198932,21977,216.5132794220263,681.15077706169473,512.7548848905941,"Kenyan shilling","KES",41.052600112432103,"Rural Mount Kenya"]
["Kenya","Non-metropolitan Urban","Lake Naivasha","Living Wage Benchmark",5,2,1.69,2015,67,3.2,97.28,275.69152000000003,9550.8693333333376,232.64955952061644,287.81065088757396,815.65538461538472,28257.009861932951,null,486.4,1378.4576000000002,47754.346666666686,1163.2477976030821,2005,null,"World Bank, 2016",85.084000000000003,2586.5536000000002,34.234452881252338,45.996832614283946,63.005841113988417,7652.5254437869826,101.28536355400101,136.08530359255607,null,12932.768,171.17226440626169,229.98416307141974,315.02920556994206,2019,"urban","ILO",15125,148.29696492597412,843.06824560416283,368.42976957797231,25561.25,250.62187072489627,1424.7853350710352,622.64631058677321,null,null,null,null,null,null,null,null,null,null,2019,"Calculated from  GLWC",7924.4,77.696824387397641,441.70644664235562,193.03040436652455,39622,388.48412193698823,2208.532233211778,965.15202183262272,"Kenyan shilling","KES",41.052600112432103,"Non-metropolitan Urban Lake Naivasha"]
["Madagascar","Rural",null,"Living Income Reference Value",5,2,1.78,2012,79,1.9,57.76,103.73701454932664,126781.27466666685,3088.2641859333348,162.24719101123597,291.39610828462537,356127.17602996307,8674.8993986891419,288.8,518.68507274663318,633906.37333333422,15441.320929666672,2010,null,"World Bank, 2016",1134.3240000000001,34483.4496,16.499652910356708,24.796480766398158,839.98210845498329,96863.622471910101,46.347339635833443,69.653035860668979,2359.5003046488291,172417.24799999999,82.498264551783535,123.98240383199079,4199.9105422749162,2021,"agriculture, lowest","Wage Indicator",170442,44.998169728603862,316.11214234344214,4151.795490010496,303386.76,80.096742116914882,562.67961337132704,7390.1959722186839,null,null,null,null,null,null,0,0,0,{"$error":"#REF!"},2020,"GLWC",102538.6,27.071081813950901,190.17434974300508,2581.4050815694773,512693,135.3554090697545,950.87174871502543,12907.025407847386,"Malagasy ariary","MGA",41.052600112432103,"Rural"]
["Malawi","Rural","Southern Region","Living Wage Benchmark",5,2,1.59,2016,69,1.9,57.76,181.71295999999998,41471.968799999995,1010.215398937445,181.63522012578616,571.42440251572316,130414.99622641508,3176.7779840800158,288.8,908.56479999999988,207359.84399999998,5051.0769946872251,2016,null,"The National Statistics Office of Malawi/ The World Bank",376.50684931506851,11445.808219178081,15.941126063436997,50.150782595572792,278.80836263308709,35993.107607478247,50.129327243512563,157.70686350809052,876.75585733675189,57229.04109589041,79.705630317184983,250.75391297786396,1394.0418131654355,2020,null,"Wage Indicator",35000,46.696085581486024,328.04000120993936,852.56475604820037,55650,74.246776074562788,521.5836019238036,1355.5779621166387,null,null,null,null,null,null,null,null,null,null,2019,"Calculated from  GLWC",27092.2,36.338996874756909,206.58719723299299,659.93871096597309,135461,181.69498437378454,1032.935986164965,3299.6935548298652,"Malawi kwacha","MWK",41.052600112432103,"Rural Southern Region"]
["Mexico","Non-metropolitan Urban & Rural","Michoacán, northwestern regions","Living Wage Benchmark",4,2,1.63,2018,23,5.5,167.2,810.75279999999998,3214.7543999999998,343.09059340210393,410.30674846625766,1989.5774233128834,7888.9678527607366,841.94010650823066,668.8,3243.0111999999999,12859.017599999999,1372.3623736084157,2021,null,"Conseja Nacional de Evaluación de la Politíca de Desarolla Social",71.28289473684211,2167,100.95034007267306,709.17613901052823,231.27033153834685,5317.7914110429456,247.73089588386028,1740.3095435841185,567.53455592232365,8668,403.80136029069223,2836.7045560421129,925.08132615338741,2019,"urban","ILO",2759,143.35446326509407,814.97012366205968,294.45078205551408,4497.17,233.66777512210331,1328.4013015691571,479.9547747504879,2022,"GLWC",13117,639,null,null,21380.71,1041.57,0,{"$error":"#REF!"},2020,"Calculated from  GLWC",4166,194.07435013509735,1363.3723096990589,453.37188514250221,16664,776.29740054038939,5453.4892387962354,1813.4875405700088,"Mexican peso","MXN",9.3699870000000001,"Non-metropolitan Urban & Rural Michoacán, northwestern regions"]
["Morocco","Rural",null,"Living Wage Reference Value",4.5,2,1.56,2013,7,3.2,97.28,185.19857462529475,817.68742102088549,87.266654801216418,280.61538461538458,534.22665757296556,2358.7137144833232,251.73073500350887,437.76,833.39358581382635,3679.5933945939846,392.69994660547388,2007,null,"World Bank, 2016",10.454999999999998,317.83199999999994,38.796272938112878,50.548863022993238,33.920217818872104,916.82307692307666,111.91232578301792,145.81402795094203,97.846782169823356,1430.2439999999997,174.58322822150797,227.46988360346958,152.64098018492444,2021,"agriculture","Wage Indicator",1904,200.48758660626544,1408.4252959090147,203.2019895011594,2970.2400000000002,312.7606351057741,2197.1434616180632,316.99510362180865,null,null,null,null,null,null,null,null,null,null,2020,"Calculated from  GLWC",726.96,76.547508381980421,537.74624638341243,76.743075071880781,3271.32,344.46378771891187,2419.858108725356,345.3438378234635,"Moroccan dirham","MAD",9.3699870000000001,"Rural"]
["Mozambique","Rural",null,"Living Income Reference Value",5.5,2,1.71,2014,64,1.9,57.76,131.46176,1810.9312416065427,76.768772018282633,185.77777777777777,422.83022222222223,5824.632648442097,246.91710298278042,317.68,723.03967999999998,9960.1218288359851,422.22824610055449,2009,null,"World Bank, 2016",22.91,696.46399999999994,25.309121599554715,39.228120436740227,29.524415287854307,2240.088888888889,81.403607483947908,126.17231719419371,94.961569639297494,3830.5519999999997,139.20016879755093,215.75466240207123,162.38428408319868,2021,"agriculture","Wage Indicator",4390,63.197293601094074,443.96098754768587,186.1003341359789,7506.9,108.06737205787087,759.17328870654285,318.23157137252394,null,null,null,null,null,null,0,0,0,{"$error":"#REF!"},2020,"GLWC",1658.3636363636363,23.873369846161896,167.71042316928734,71.305447139870864,9121,131.30353415389044,922.40732743108038,392.17995926928972,"Mozambique Metical","MZN",23.589425673961099,"Rural"]
["Nicaragua","Urban","Managua Free Trade Zone","Living Wage Benchmark",4,2,1.68,2014,13,3.2,97.28,221.40928,2525.2818276768076,9.1704854153505835,231.61904761904762,527.1649523809524,6012.575780182875,21.834489084168055,389.12,885.63711999999998,10101.12731070723,36.681941661402334,2016,null,"INIDE Instituto Nacional de información de Desarrollo",50.167123287671231,1525.0805479452054,53.285439046029232,167.63599123880795,5.5382843882549464,3631.1441617742985,126.87009296673627,399.13331247335225,13.186391400607015,6100.3221917808214,213.14175618411693,670.54396495523179,22.153137553019786,2019,null,"ILO",5919,178.70435125300901,1015.9342368733561,21.49467143768122,9943.92,300.22331010505513,1706.7695179472382,36.111048015304448,2022,"GLWC",13732,386,null,null,23069.759999999998,648.48,0,{"$error":"#REF!"},2019,"Calculated from  GLWC",4489.5,135.54539363919309,770.57556283881263,16.303484950070928,17958,542.18157455677238,3082.3022513552505,65.213939800283711,"Nicaraguan córdoba","NIO",275.370573454019,"Urban Managua Free Trade Zone"]
["Nicaragua","Rural-Urban","Northwest","Living Wage Benchmark",4,2,1.62,2014,13,3.2,97.28,221.40928,2525.2818276768076,9.1704854153505835,240.19753086419752,546.68958024691358,6235.2637720414996,22.643173865063165,389.12,885.63711999999998,10101.12731070723,36.681941661402334,2016,null,"INIDE Instituto Nacional de información de Desarrollo",50.167123287671231,1525.0805479452054,53.285439046029232,167.63599123880795,5.5382843882549464,3765.6309825807539,131.56898529883759,413.91602775014303,13.674776267296163,6100.3221917808214,213.14175618411693,670.54396495523179,22.153137553019786,2021,"agriculture","Wage Indicator",4415,128.55932387087611,903.12925019290469,16.032940428680956,7152.3,208.26610467081932,1463.0693853125058,25.97336349446315,2022,"GLWC",10981,308,null,null,17789.22,498.96000000000004,0,{"$error":"#REF!"},2020,"Calculated from  GLWC",3728.75,108.57657505855704,762.75043978636324,13.94773644144421,14915,434.30630023422816,3051.001759145453,55.79094576577684,"Nicaraguan córdoba","NIO",275.370573454019,"Rural-Urban Northwest"]
["Nigeria","Rural",null,"Living Income Reference Value",5,2,1.71,2018,71,3.2,97.28,471.71072000000004,29775.821192496362,219.92484075911568,284.44444444444446,1379.2711111111112,87063.804656422115,643.05508993893477,486.4,2358.5536000000002,148879.10596248182,1099.6242037955785,2010,null,"World Bank, 2016",137.93999999999997,4193.3759999999993,27.900504000399202,41.930234204166467,30.972363216484613,12261.333333333332,81.58042105379883,122.60302398879085,90.562465545276652,20966.879999999997,139.502520001996,209.65117102083235,154.86181608242308,2019,null,"Wage Indicator",30000,97.745037782039219,555.68053979089291,221.58063014013973,51300,167.14401460728706,950.21372304242686,378.90287753963895,null,null,null,{"$error":"#N/A"},null,null,0,{"$error":"#N/A"},0,{"$error":"#REF!"},2020,"GLWC",27735.599999999999,77.298677219108271,543.02320746423561,226.65318054281079,138678,386.49338609554138,2715.1160373211783,1133.2659027140539,"Nigerian naira","NGN",135.39089577020499,"Rural"]
["Pakistan","Rural","Sialkot","Living Wage Benchmark",5.5,2,1.647,2018,36,3.2,97.28,471.71072000000004,11851.045420233544,330.43407506559925,324.85731633272616,1575.2331268973894,39575.44007971129,1103.4531954224626,535.04,2594.4089600000002,65180.749811284491,1817.3874128607958,2013,"2013/ 13","World Bank Group",99.671052631578945,3030,29.814354220720602,56.759620734489062,84.483284971583132,10118.397085610201,99.562202922867826,189.54336007267142,282.12390245519566,16665,163.97894821396332,312.17791403968982,464.65806734370722,2019,null,"ILO",18696,124.60988275510083,708.40718346274821,521.286962319709,30792.312000000002,205.23247689765105,1166.7466311631463,858.55962694056075,null,null,null,null,null,null,null,null,null,null,2019,"Calculated from  GLWC",6555.090909090909,43.690046514272865,248.37791443364122,182.77082946777597,36053,240.29525582850076,1366.0785293850267,1005.2395620727679,"Pakistan rupee","PKR",35.865082673089397,"Rural Sialkot"]
["Pakistan","Urban","Sialkot","Living Wage Benchmark",5,2,1.534,2018,36,3.2,97.28,471.71072000000004,11851.045420233544,330.43407506559925,317.07953063885265,1537.5186440677967,38627.918579639976,1077.0341429778332,486.4,2358.5536000000002,59255.227101167722,1652.1703753279962,2013,"2013/14","World Bank Group",99.671052631578945,3030,29.814354220720602,56.759620734489062,84.483284971583132,9876.1408083441984,97.178468776794645,185.0052827069396,275.36924697386939,15150,149.071771103603,283.79810367244534,422.41642485791567,2019,null,"ILO",18696,124.60988275510083,708.40718346274821,521.286962319709,28679.664000000001,191.15156014632467,1086.6966194318559,799.65420019843361,null,null,null,null,null,null,null,null,null,null,2019,"Calculated from  GLWC",7949.8,52.9858603940148,301.22461633997409,221.65848807494771,39749,264.92930197007399,1506.1230816998705,1108.2924403747386,"Pakistan rupee","PKR",35.865082673089397,"Urban Sialkot"]
["Panama","Rural",null,"Living Wage Reference Value",4,2,1.68,2019,12,5.5,167.2,950.53199999999993,167.2,348.27764812270459,398.09523809523807,2263.1714285714284,398.09523809523807,829.23249553024903,668.8,3802.1279999999997,668.8,1393.1105924908184,2011,null,"World Bank, 2016",4.1760000000000002,126.9504,126.9504,212.63615035458113,264.43771973825716,302.26285714285717,302.26285714285717,506.27654846328841,629.61361842442193,507.80160000000001,507.80160000000001,850.54460141832453,1057.7508789530286,2019,null,"ILO",458,458,2603.73,954.01413181937028,769.43999999999994,769.43999999999994,4374.2663999999995,1602.743741456542,2022,"GLWC",601,601,null,null,1009.68,1009.68,0,{"$error":"#REF!"},2020,"Calculated from  GLWC",215.45999999999998,215.45999999999998,1513.6064999999999,437.74897496802009,861.83999999999992,861.83999999999992,6054.4259999999995,1750.9958998720804,"United States dollar","USD",0.48007674595612398,"Rural"]
["Papua New Guinea","Rural",null,"Living Income Reference Value",5,2,1.67,2009,66,3.2,97.28,150.78008697675347,268.02034346666636,126.79102022092134,291.25748502994014,451.4373861579445,802.45611816367182,379.6138329967705,486.4,753.90043488376728,1340.1017173333319,633.95510110460668,2010,null,"World Bank, 2016",4.032,122.5728,45.075226322516848,67.741242110963228,57.984890856868091,366.98443113772458,134.95576743268518,202.81809015258452,173.6074576552937,612.86400000000003,225.37613161258423,338.70621055481615,289.92445428434047,2016,null,"Wage Indicator",683,217.99987622055866,685.82761058987751,323.10333495882367,1140.6099999999999,325,265,539.58256938123554,null,null,null,null,null,null,0,0,0,{"$error":"#REF!"},2020,"GLWC",318.60000000000002,92.081606513592092,646.87328575798449,154.95047774943791,1593,460.40803256796045,3234.3664287899223,774.75238874718957,"Papua New Guinean kina","PGK",2.1138748075349998,"Rural"]
["Peru","Rural",null,"LW & LI Reference Value",5,2,1.72,2019,21,5.5,167.2,950.53199999999993,557.99079938095292,263.96586845728524,486.04651162790697,2763.1744186046512,1622.0662772702119,767.34264086420126,836,4752.66,2789.9539969047646,1319.8293422864263,2018,null,"Instituto Nacional de Estadistica e Informatica",11.315789473684211,344,104.66735154994088,507.53198766566334,162.73432975964181,1000,304.26555683122348,1475.3836850746027,473.06491209198197,1720,523.33675774970436,2537.6599383283165,813.67164879820905,2018,null,"Wage Indicator",930,282.96696785303783,1372.1068271193806,439.95036824554325,1599.6,486.70318470722503,2360.0237426453346,756.71463338233434,2022,"GLWC",1640,null,null,941,2821,807,707,1618,2020,"GLWC",410,117.31241723633316,824.11973108524057,194.81652012796852,2050,586.56208618166579,4120.5986554262026,974.08260063984255,"Peruvian sol","PEN",2.1138748075349998,"Rural"]
["Rwanda","Rural",null,"LW & LI Reference Value",5,2,1.69,2016,57,1.9,57.76,181.71295999999998,45471.647896280003,143.11207465359365,170.88757396449705,537.61230769230758,134531.50265171597,423.40850489228887,288.8,908.56479999999988,227358.2394814,715.5603732679682,2011,null,"World Bank, 2016",366.46,11140.383999999998,18.557826099638987,31.083515300282674,35.061924087605597,32959.715976331354,54.904810945677475,91.963063018587803,103.73350321776802,55701.919999999991,92.789130498194936,155.41757650141338,175.30962043802796,2019,null,"ILO",2906,3.2312207208635715,18.369489798109402,9.1459999402697321,4911.1399999999994,5.4607630182594358,31.044437758804889,15.456739899055844,null,null,null,null,null,null,null,null,null,null,2020,"GLWC",37526.6,39.783179596870525,279.47683666801544,122.41214270090741,187633,198.91589798435263,1397.3841833400772,612.06071350453703,"Rwandan franc","RWF",317.73453083078601,"Rural"]
["South Africa","Rural","Western Cape Province","Living Wage Benchmark",4.5,2,1.64,2014,57,5.5,167.2,380.54719999999992,1814.5640111005341,3991.6223845155223,458.78048780487808,1044.1843902439023,4978.9866158246368,10952.622396536495,752.4,1712.4623999999997,8165.5380499524035,17962.30073031985,2019,null,"Department Statistics South Africa - Republic of South Africa",26.644736842105264,810,56.061465855484812,318.70943338843114,1781.813213355106,2222.560975609756,153.82719289614735,874.50759161459769,4889.1216220109618,3645,252.27659634968165,1434.1924502479401,8018.159460097977,2019,null,"ILO",3547,245.4938510980304,1395.6325434923028,7802.5820589760015,5817.08,402.60991580076984,2288.8373713273763,12796.234576720643,2022,"GLWC",4876,321,null,null,7996.6399999999994,526.43999999999994,0,{"$error":"#REF!"},2019,"Calculated from  GLWC",1544.4444444444443,106.89360430606843,607.69014047999895,3397.4216276592556,6950,481.02121937730794,2734.6056321599954,15288.39732446665,"South African rand","ZAR",0.454593104332632,"Rural Western Cape Province"]
["Sri Lanka","Rural","Estate Sector","Living Wage Benchmark",4.5,2,1.76,2016,11,3.2,97.28,306.04287999999997,14162.184613624291,31153.540338926097,248.72727272727272,782.49599999999987,36210.131114380289,79653.938366572402,437.76,1377.1929599999999,63729.830761309313,140190.93152516746,2016,null,"Department of Census and Statistics, Sri Lanka",137.03947368421052,4166,28.616240435824007,90.026692411102331,9164.2393170831747,10651.704545454546,73.166523841595463,230.18188400565936,23431.2937084513,18747,128.77308196120802,405.12011584996048,41239.076926874288,2019,null,"ILO",13182,73.747548338051118,419.25481230182055,28997.360220304949,23200.32,129.79568507496998,737.88846965120422,51035.353987736707,null,null,null,null,null,null,null,null,null,null,2019,"Calculated from  GLWC",8412,47.061475999065848,267.54449105468933,18504.460186102657,37854,211.77664199579633,1203.950209746102,83270.070837461957,"Sri Lankan rupee","LKR",0.454593104332632,"Rural Estate Sector"]
["Tanzania","Rural",null,"LW & LI Reference Value",5.5,null,1.73,2017,77,3.2,97.28,369.08032000000003,216823.17653333367,476960.98877619836,309.27167630057801,1173.3767398843931,689322.23753371974,1516349.9643173937,535.04,2029.9417600000002,1192527.4709333351,2623285.4382690908,2012,null,"World Bank, 2016",847.87199999999996,25775.308799999999,16.399653962433451,29.453794004585898,56699.735553269311,81944.623352601149,52.137628204268196,93.639229494348243,180259.27488033596,141764.19839999999,90.198096793383982,161.99586702522245,311848.54554298118,2013,"Agriculture","Wage Indicator",100000,62.595621331961929,119.16755600805965,219976.93992038345,173000,108.29042490429414,206.15987189394318,380560.10606226337,null,null,null,null,null,null,null,null,null,null,2020,"GLWC",83289.454545454544,36.305208596722203,255.04409039197347,186286.26243724601,458092,199.6786472819721,1402.7424971558542,1024574.4434048531,"Tanzanian shilling","TZS",0.454593104332632,"Rural"]
["Tanzania","Urban",null,"Living Wage Reference Value",5,null,1.69,2017,77,3.2,97.28,369.08032000000003,216823.17653333367,476960.98877619836,287.81065088757396,1091.9536094674556,641488.6879684428,1411127.1857283975,486.4,1845.4016000000001,1084115.8826666684,2384804.943880992,2012,null,"World Bank, 2016",847.87199999999996,25775.308799999999,16.399653962433451,29.453794004585898,56699.735553269311,76258.310059171592,48.519686279388907,87.141402380431657,167750.69690316363,128876.54399999999,81.998269812167251,147.26897002292949,283498.67776634655,2013,"Agriculture","Wage Indicator",100000,62.595621331961929,119.16755600805965,219976.93992038345,169000,105.78660005101565,201.39316965362079,371761.02846544806,null,null,null,null,null,null,null,null,null,null,2020,"Calculated from  GLWC",122132.24399999999,53.236470559258308,373.98620567878959,273162.54358968436,610661.22,266.18235279629153,1869.9310283939481,1365812.7179484218,"Tanzanian shilling","TZS",0.454593104332632,"Urban"]
["Tunisia","Rural",null,"Living Wage Reference Value",4.5,2,1.46,2015,3,3.2,97.28,275.69152000000003,190.82687999999999,217.51718736675821,299.83561643835617,849.73413698630145,588.16504109589039,670.42968708932324,437.76,1240.61184,858.72095999999999,978.82734315041205,2010,null,"World Bank, 2016",2.7789999999999999,84.4816,59.020259885426853,88.698516691716762,96.297754363764284,260.38849315068495,181.9117599208362,273.38583911830511,296.80814701160227,380.16719999999998,265.59116948442085,399.14332511272545,433.33989463693922,2021,"non-agriculture, 48h/w","Wage Indicator",429,152.54101688085046,1071.6006435879747,489.00277246234538,626.34,233,189,713.94404779502429,null,null,null,null,null,null,null,null,null,null,2020,"Calculated from  GLWC",215.10666666666668,76.486223009751697,537.31571664350565,256.54666545039299,967.98,344.18800354388264,2417.9207248957755,1154.4599945267685,"Tunisian dinar","TND",0.87729563953143896,"Rural"]
["Turkey","Rural",null,"Living Income Reference Value",4,2,1.58,2019,10,5.5,167.2,950.53199999999993,950.53199999999993,501.46398285636508,423.29113924050625,2406.4101265822783,2406.4101265822783,1269.5290705224431,668.8,3802.1279999999997,3802.1279999999997,2005.8559314254603,2011,null,"World Bank, 2016",3.1019999999999999,94.300799999999995,56.300512684963962,94.300799999999995,49.749461096040442,238.73620253164555,142.53294350623787,238.73620253164555,125.94800277478592,377.20319999999998,225.20205073985585,377.20319999999998,198.99784438416177,2021,null,"Wage Indicator",3578,509.3238434163701,3578,1887.6146522790125,5653.2400000000007,769,626,2982.4311506008403,null,null,null,null,null,null,null,null,null,null,2020,"GLWC",887.75,126.37010676156584,887.75,524.86673344502356,3551,505.48042704626334,3551,2099.4669337800942,"Turkish lira","TRY",1.8955139999999999,"Rural"]
["Uganda","Rural","Lake Victoria Basin","Living Wage Benchmark",5,2,1.78,2016,41,1.9,57.76,181.71295999999998,197544.8608986075,151.73504673897222,162.24719101123597,510.42966292134821,554901.29465900979,426.22204140160727,288.8,908.56479999999988,987724.30449303752,758.67523369486105,2016,null,"Uganda Bureau of Statistics",1006.9407894736843,30611,8.9503283049590241,28.157732847401089,23.512439121920075,85985.955056179781,25.141371643143327,79.094755189328893,66.046177308764257,153055,44.751641524795119,140.78866423700543,117.56219560960038,2017,null,"Wage Indicator",130000,35.998870053730151,136.5797129838522,99.853552182209327,231400,64.077988695639675,243.11188911125691,177.73932288433261,null,null,null,null,null,null,null,null,null,null,2019,"Calculated from  GLWC",197859.6,53.417110888696001,303.67627540223674,151.97679917962358,989298,267.08555444348002,1518.3813770111838,759.88399589811786,"Ugandan shilling","UGX",1301.9066138256201,"Rural Lake Victoria Basin"]
["Vietnam","Rural","Economic Zone 4","Living Wage Benchmark",4,2,1.87,2018,7,3.2,97.28,471.71072000000004,2198727.4240000001,294.43550135821437,208.08556149732618,1009.0068877005348,4703160.2652406413,629.80855905500391,389.12,1886.8428800000002,8794909.6960000005,1177.7420054328575,2016,"2016/ 20","ILO, rural ",23026.315789473687,700000,31.912467445009266,100.39662258199915,93.738245450996857,1497326.2032085562,68.261962449217677,214.75213386523882,200.50961593796117,2800000,127.64986978003706,401.58649032799661,374.95298180398743,2021,"region 4","Wage Indicator",3070000,132.27987232478878,929.26610308164129,411.10916219222906,5740900,247.36336124735504,1737.7276127626694,768.7741332994683,null,null,null,null,null,null,null,null,null,null,2020,"Calculated from  GLWC",1932298.5,83.258696701426999,584.89234432752471,262.58153301888927,7729194,333.03478680570799,2339.5693773100988,1050.3261320755571,"Vietnamese dong","VND",7467.6029685869898,"Rural Economic Zone 4"]
["Vietnam","Urban","Ho Chi Minh City","Living Wage Benchmark",4,2,1.78,2018,7,3.2,97.28,471.71072000000004,2198727.4240000001,294.43550135821437,218.6067415730337,1060.0240898876405,4940960.503370787,661.65281204093117,389.12,1886.8428800000002,8794909.6960000005,1177.7420054328575,2016,"2016/ 20","ILO, urban",29605.263157894737,900000,41.030315286440484,129.08137189114177,120.52060129413881,2022471.9101123596,92.202955699866251,290.07049863177923,270.83281189694117,3600000,164.12126114576193,516.32548756456708,482.08240517655526,2021,"region 1","Wage Indicator",4420000,190.44854582266009,1337.9010344041872,591.89006413343725,7867600,338.99841156433496,2381.4638412394534,1053.5643141575183,null,null,null,null,null,null,null,null,null,null,2020,"Calculated from  GLWC",2965673,127.78464032477959,897.6870982815766,403.00759058330198,11862692,511.13856129911835,3590.7483931263064,1612.0303623332079,"Vietnamese dong","VND",7467.6029685869898,"Urban Ho Chi Minh City"]
[]
[{"$f":"SUM(IF(A7:A68<>\"\",1/COUNTIF(A7:A68,A7:A68)))","v":42}]

{"sheet":"hide_2021_LW Database","index":8,"n_rows":77,"n_cols":73,"rows_kept":77,"cut":false,"hidden":true,"merged":[[4,69,5,69],[4,70,5,70],[4,71,5,71],[3,49,3,58],[3,59,3,68],[4,49,4,50],[4,51,4,54],[4,55,4,58],[4,59,4,60],[4,61,4,64],[4,65,4,68],[2,69,2,71],[3,69,3,71],[2,23,3,25],[0,0,0,2],[1,0,1,2],[2,49,2,58],[2,59,2,68],[3,0,3,2],[2,32,3,32],[2,33,3,33],[2,34,3,34],[2,29,3,29],[2,30,3,30],[2,31,3,31],[2,26,3,26],[2,27,3,27],[2,28,3,28],[2,3,2,12],[3,3,3,12],[2,13,2,22],[3,13,3,22],[5,3,5,4],[4,23,4,25],[4,2,5,2],[4,0,5,0],[4,1,5,1],[5,9,5,12],[5,13,5,14],[5,15,5,18],[5,19,5,22],[5,5,5,8],[4,3,4,12],[4,13,4,22]]}
["                               Living Wage & Living \n                               Income Dataset "]
["Data valid on June 2022"]
["Geography\nSource: GLWC & LICoP",null,null,null,null,null,null,null,null,null,null,null,null,null,null,null,null,null,null,null,null,null,null,null,null,null,null,null,null,null,null,null,null,null,null,null,null,null,null,null,null,null,null,null,null,null,null,null,null,"(Gross) Living Wages \nSource: Global Living Wage Coalition",null,null,null,null,null,null,null,null,null,"Living Income\nSource: GLWC & LICoP",null,null,null,null,null,null,null,null,null,"Currency "]
["LW / LI are based on the cost of living in a specific geography, at country or sub-country level, and differ per rural, urban or peri-urban areas",null,null,null,null,null,null,null,null,null,null,null,null,null,null,null,null,null,null,null,null,null,null,null,null,null,null,null,null,null,null,null,null,null,null,null,null,null,null,null,null,null,null,null,null,null,null,null,null,"The information is from the Global Living Wage Coalition, from living wage studies that use the full Anker Methodology and Anker Reference Values. The Global Living Wage Coalition's data on family size and labour force were taken into account.",null,null,null,null,null,null,null,null,null,"Information from LW/LI studies that use the full Anker Methodology and Anker Reference Values. In the lack of a living income study, cost of living data was taken from living wage studies to provide living income estimates. The information on family size and labour force from the LW/LI studies was taken into account.",null,null,null,null,null,null,null,null,null,"Currency conversion rates to LCU, EUR & USD are from InforEuro, January 2021. International dollars were calculated using the World Bank PPP conversion factor for 2019."]
["Country","Locality","Region/area",null,null,null,null,null,null,null,null,null,null,null,null,null,null,null,null,null,null,null,null,null,null,null,null,null,null,null,null,null,null,null,null,null,null,null,null,null,null,null,null,null,null,null,null,null,null,null,null,"Living Wage \nPer workforce/month",null,null,null,"Living Wage\nPer family/month",null,null,null,null,null,"Living Income\nPer person/month",null,null,null,"Living Income\nPer family/month",null,null,null,"Local currency unit (LCU)","Currency code","2019 PPP Conversion factor"]
[null,null,null,null,null,null,null,null,null,null,null,null,null,null,null,null,null,null,null,null,null,null,null,null,null,null,null,null,null,null,null,null,null,null,null,null,null,null,null,null,null,null,null,null,null,null,null,null,null,"Year","Source","LCU","USD","EUR","2019 PPP$","LCU","USD","EUR","2019 PPP$","Year","Source","LCU","USD","EUR","2019 PPP$","LCU","USD","EUR","2019 PPP$"]
["Argentina","Non-Metropolitan Urban",null,null,null,null,null,null,null,null,null,null,null,null,null,null,null,null,null,null,null,null,null,null,null,null,null,null,null,null,null,null,null,null,null,null,null,null,null,null,null,null,null,null,null,null,null,null,null,null,null,null,null,null,null,null,null,null,null,2020,"GLWC",12506,177,155,877.18,50023,708,620,3508.74,"Argentine peso","ARS",20.8,{"$f":"IF(C7>0,B7&\" \"&C7,B7)","v":"Non-Metropolitan Urban"}]
["Argentina","Rural",null,null,null,null,null,null,null,null,null,null,null,null,null,null,null,null,null,null,null,null,null,null,null,null,null,null,null,null,null,null,null,null,null,null,null,null,null,null,null,null,null,null,null,null,null,null,null,null,null,null,null,null,null,null,null,null,null,null,null,null,null,null,null,null,null,null,null,"Argentine peso","ARS",20.8,{"$f":"IF(C8>0,B8&\" \"&C8,B8)","v":"Rural"}]
["Bangladesh","Urban","Satellite Cities and Districts Surrounding Dhaka",null,null,null,null,null,null,null,null,null,null,null,null,null,null,null,null,null,null,null,null,null,null,null,null,null,null,null,null,null,null,null,null,null,null,null,null,null,null,null,null,null,null,null,null,null,null,2021,"GLWC",17926,224,178,585,28323,333,282,925,2021,"Calculated from GLWC",7077,83,73,231.14,28307,334,292,924.54,"Bangladeshi taka","BDT",31.5,"Urban Satellite Cities and Districts Surrounding Dhaka"]
["Bangladesh","Urban","Dhaka City",null,null,null,null,null,null,null,null,null,null,null,null,null,null,null,null,null,null,null,null,null,null,null,null,null,null,null,null,null,null,null,null,null,null,null,null,null,null,null,null,null,null,null,null,null,null,2021,"GLWC",21648,255,215,707,34204,402,340,1117,2021,"Calculated from GLWC",8547,101,88,279.14999999999998,34187,403,353,1116.5899999999999,"Bangladeshi taka","BDT",31.5,"Urban Dhaka City"]
["Belize","Rural",null,null,null,null,null,null,null,null,null,null,null,null,null,null,null,null,null,null,null,null,null,null,null,null,null,null,null,null,null,null,null,null,null,null,null,null,null,null,null,null,null,null,null,null,null,null,null,2021,"GLWC",905,449,383,668,1439,719,609,1062,2021,"Calculated from GLWC",369,185,162,272.55,1477,739,647,1090.19,"Belizean dollar","BZD",1.3,"Rural"]
["Brazil","Urban","Minas Gerais South/Southwestern Region",null,null,null,null,null,null,null,null,null,null,null,null,null,null,null,null,null,null,null,null,null,null,null,null,null,null,null,null,null,null,null,null,null,null,null,null,null,null,null,null,null,null,null,null,null,null,2021,"GLWC",2271,441,395,1120,4313,799,676,1916,2021,"Calculated from GLWC",938,182,159,416.53,3751,728,638,1666.12,"Brazilian real","BRL",2.2999999999999998,"Urban Minas Gerais South/Southwestern Region"]
["Brazil","Non-metropolitan","State of São Paulo, non-metropolitan areas",null,null,null,null,null,null,null,null,null,null,null,null,null,null,null,null,null,null,null,null,null,null,null,null,null,null,null,null,null,null,null,null,null,null,null,null,null,null,null,null,null,null,null,null,null,null,2021,"GLWC",2551,567,485,1373,5193,963,814,2307,2021,"Calculated from GLWC",1129,219,192,501.59,4517,877,768,2006.37,"Brazilian real","BRL",2.2999999999999998,"Non-metropolitan State of São Paulo, non-metropolitan areas"]
["Burkina Faso","Rural",null,null,null,null,null,null,null,null,null,null,null,null,null,null,null,null,null,null,null,null,null,null,null,null,null,null,null,null,null,null,null,null,null,null,null,null,null,null,null,null,null,null,null,null,null,null,null,null,null,null,null,null,null,null,null,null,null,null,null,null,null,null,null,null,null,null,null,"West African CFA franc","XOF",203.1,"Rural"]
["Cameroon","Rural",null,null,null,null,null,null,null,null,null,null,null,null,null,null,null,null,null,null,null,null,null,null,null,null,null,null,null,null,null,null,null,null,null,null,null,null,null,null,null,null,null,null,null,null,null,null,null,null,null,null,null,null,null,null,null,null,null,null,null,null,null,null,null,null,null,null,null,"Central African CFA franc","XAF",232.7,"Rural"]
["Chile","Non-Metropolitan Urban",null,null,null,null,null,null,null,null,null,null,null,null,null,null,null,null,null,null,null,null,null,null,null,null,null,null,null,null,null,null,null,null,null,null,null,null,null,null,null,null,null,null,null,null,null,null,null,null,null,null,null,null,null,null,null,null,null,2020,"Calculated from  GLWC",218195,275,241,553.16,872778,1101,964,2212.63,"Chilean peso","CLP",398.9,"Non-Metropolitan Urban"]
["China","Urban","Zhengzhou",null,null,null,null,null,null,null,null,null,null,null,null,null,null,null,null,null,null,null,null,null,null,null,null,null,null,null,null,null,null,null,null,null,null,null,null,null,null,null,null,null,null,null,null,null,null,2021,"GLWC",3126,483,410,749,5564,862,730,1333,2021,"Calculated from  GLWC",1426,207,181,341.51,4991,723,633,1195.27,"Chinese Yuan Renminbi","CNY",4.2,"Urban Zhengzhou"]
["China","Urban","Chengdu",null,null,null,null,null,null,null,null,null,null,null,null,null,null,null,null,null,null,null,null,null,null,null,null,null,null,null,null,null,null,null,null,null,null,null,null,null,null,null,null,null,null,null,null,null,null,2021,"GLWC",2830,437,371,678,5037,781,661,1206,2021,"Calculated from  GLWC",1217,176,154,291.56,4261,617,541,1020.45,"Chinese Yuan Renminbi","CNY",4.2,"Urban Chengdu"]
["China","Urban","Hangzhou",null,null,null,null,null,null,null,null,null,null,null,null,null,null,null,null,null,null,null,null,null,null,null,null,null,null,null,null,null,null,null,null,null,null,null,null,null,null,null,null,null,null,null,null,null,null,2021,"GLWC",4496,695,590,1077,8003,1240,1049,1917,2021,"Calculated from  GLWC",1934,280,245,463.23,6770,981,859,1621.32,"Chinese Yuan Renminbi","CNY",4.2,"Urban Hangzhou"]
["China","Urban","Shanghai",null,null,null,null,null,null,null,null,null,null,null,null,null,null,null,null,null,null,null,null,null,null,null,null,null,null,null,null,null,null,null,null,null,null,null,null,null,null,null,null,null,null,null,null,null,null,2021,"GLWC",4602,711,603,1102,8192,1270,1074,1962,2021,"Calculated from  GLWC",2096,304,266,501.96,7336,1063,931,1756.87,"Chinese Yuan Renminbi","CNY",4.2,"Urban Shanghai"]
["China","Urban","Shenzhen",null,null,null,null,null,null,null,null,null,null,null,null,null,null,null,null,null,null,null,null,null,null,null,null,null,null,null,null,null,null,null,null,null,null,null,null,null,null,null,null,null,null,null,null,null,null,2021,"GLWC",3179,491,417,761,5659,877,742,1355,2021,"Calculated from  GLWC",1439,208,183,344.52,5035,730,639,1205.81,"Chinese Yuan Renminbi","CNY",4.2,"Urban Shenzhen"]
["China","Urban","Suzhou",null,null,null,null,null,null,null,null,null,null,null,null,null,null,null,null,null,null,null,null,null,null,null,null,null,null,null,null,null,null,null,null,null,null,null,null,null,null,null,null,null,null,null,null,null,null,2021,"GLWC",3976,615,521,952,7077,1097,928,1695,2021,"Calculated from GLWC",1810,262,230,433.47,6335,918,804,1517.14,"Chinese Yuan Renminbi","CNY",4.2,"Urban Suzhou"]
["Colombia","Urban-Rural","Caribbean coast",null,null,null,null,null,null,null,null,null,null,null,null,null,null,null,null,null,null,null,null,null,null,null,null,null,null,null,null,null,null,null,null,null,null,null,null,null,null,null,null,null,null,null,null,null,null,2021,"GLWC",1717518,462,412,1364,2935629,784,663,2196,2021,"Calculated from  GLWC",674547,183,160,504.51,2698189,730,639,2018.03,"Colombian peso","COP",1349.4,"Urban-Rural Caribbean coast"]
["Costa Rica","Rural","Limón and Heredia Provinces",null,null,null,null,null,null,null,null,null,null,null,null,null,null,null,null,null,null,null,null,null,null,null,null,null,null,null,null,null,null,null,null,null,null,null,null,null,null,null,null,null,null,null,null,null,null,2021,"GLWC",446085,721,null,1336,713188,191,161,2085,2021,"Calculated from  GLWC",161016,44,38,470.64,644063,174,153,1882.57,"Costa Rican colón","CRC",341.4,"Rural Limón and Heredia Provinces"]
["Cote d'Ivoire","Rural",null,null,null,null,null,null,null,null,null,null,null,null,null,null,null,null,null,null,null,null,null,null,null,null,null,null,null,null,null,null,null,null,null,null,null,null,null,null,null,null,null,null,null,null,null,null,null,null,null,null,null,null,null,null,null,null,null,2018,"LICoP",43676,15,13,180.64,262056,89,75,1083.8499999999999,"West African CFA franc","XOF",245.5,"Rural"]
["Cote d'Ivoire","Rural","Cocoa growing areas",null,null,null,null,null,null,null,null,null,null,null,null,null,null,null,null,null,null,null,null,null,null,null,null,null,null,null,null,null,null,null,null,null,null,null,null,null,null,null,null,null,null,null,null,null,null,null,null,null,null,null,null,null,null,null,null,2021,"Calculated from GLWC",63339,34,30,79.900000000000006,380033,205,180,479.42,"West African CFA franc","XOF",245.5,"Rural Cocoa growing areas"]
["Democratic Republic of Congo","Rural",null,null,null,null,null,null,null,null,null,null,null,null,null,null,null,null,null,null,null,null,null,null,null,null,null,null,null,null,null,null,null,null,null,null,null,null,null,null,null,null,null,null,null,null,null,null,null,null,null,null,null,null,null,null,null,null,null,null,null,null,null,null,null,null,null,null,null,"Congolese franc","CDF",836.2,"Rural"]
["Dominican Republic","Rural","Northern Region",null,null,null,null,null,null,null,null,null,null,null,null,null,null,null,null,null,null,null,null,null,null,null,null,null,null,null,null,null,null,null,null,null,null,null,null,null,null,null,null,null,null,null,null,null,null,null,null,null,null,null,null,null,null,null,null,2021,"Calculated from GLWC",7726,137,120,353.53,30905,547,479,1414.11,"Dominican peso","DOP",22.1,"Rural Northern Region"]
["Ecuador","Rural","Southern Coastal Region",null,null,null,null,null,null,null,null,null,null,null,null,null,null,null,null,null,null,null,null,null,null,null,null,null,null,null,null,null,null,null,null,null,null,null,null,null,null,null,null,null,null,null,null,null,null,2021,"GLWC",462,462,391,871,744,744,629,1403,2021,"Calculated from  GLWC",176,176,154,330.95,702,702,615,1323.78,"United States dollar","USD",0.5,"Rural Southern Coastal Region"]
["Egypt, Arab Rep.","Rural",null,null,null,null,null,null,null,null,null,null,null,null,null,null,null,null,null,null,null,null,null,null,null,null,null,null,null,null,null,null,null,null,null,null,null,null,null,null,null,null,null,null,null,null,null,null,null,null,null,null,null,null,null,null,null,null,null,2020,"Calculated from  GLWC",1128,72,63,282.18,5640,358,313,1410.91,"Egyptian pound","EGP",4.3,"Rural"]
["El Salvador","Rural",null,null,null,null,null,null,null,null,null,null,null,null,null,null,null,null,null,null,null,null,null,null,null,null,null,null,null,null,null,null,null,null,null,null,null,null,null,null,null,null,null,null,null,null,null,null,null,null,null,null,null,null,null,null,null,null,null,2020,"Calculated from  GLWC",995,114,100,2158.86,4476,512,448,9714.8799999999992,"Salvadoran colon","SVC",0.5,"Rural"]
["Ethiopia","Non-Metropolitan Urban","Ziway Region",null,null,null,null,null,null,null,null,null,null,null,null,null,null,null,null,null,null,null,null,null,null,null,null,null,null,null,null,null,null,null,null,null,null,null,null,null,null,null,null,null,null,null,null,null,null,2021,"GLWC",7993,181,200,897,13188,378,331,1480,2020,"Calculated from  GLWC",2040,58,51,228.9,10199,292,256,1144.48,"Ethiopian birr","ETB",10.4,"Non-Metropolitan Urban Ziway Region"]
["Gabon","Urban",null,null,null,null,null,null,null,null,null,null,null,null,null,null,null,null,null,null,null,null,null,null,null,null,null,null,null,null,null,null,null,null,null,null,null,null,null,null,null,null,null,null,null,null,null,null,null,2021,"GLWC",268721,494,{"$error":"#DIV/0!"},921,443390,{"$error":"#DIV/0!"},{"$error":"#DIV/0!"},1519,null,null,null,null,null,null,null,null,null,null,"Central African CFA franc","FCFA",292,"Urban"]
["Gabon","Rural",null,null,null,null,null,null,null,null,null,null,null,null,null,null,null,null,null,null,null,null,null,null,null,null,null,null,null,null,null,null,null,null,null,null,null,null,null,null,null,null,null,null,null,null,null,null,null,2021,"GLWC",200770,369,{"$error":"#DIV/0!"},688,331271,{"$error":"#DIV/0!"},{"$error":"#DIV/0!"},1135,null,null,null,null,null,null,null,null,null,null,"Central African CFA franc","FCFA",292,"Rural"]
["Ghana","Peri-Urban","Lower Volta Region",null,null,null,null,null,null,null,null,null,null,null,null,null,null,null,null,null,null,null,null,null,null,null,null,null,null,null,null,null,null,null,null,null,null,null,null,null,null,null,null,null,null,null,null,null,null,null,null,null,null,null,null,null,null,null,null,2021,"Calculated from  GLWC",602,108,94,308.98,2710,484,424,1390.41,"Ghana cedi","GHS",2.1,"Peri-Urban Lower Volta Region"]
["Ghana","Rural","Cocoa growing areas of Ashanti, Central, Eastern, Western Regions",null,null,null,null,null,null,null,null,null,null,null,null,null,null,null,null,null,null,null,null,null,null,null,null,null,null,null,null,null,null,null,null,null,null,null,null,null,null,null,null,null,null,null,null,null,null,null,null,null,null,null,null,null,null,null,null,2019,"LICoP",337,65,58,164.18,1683,323,288,820.91,"Ghana cedi","GHS",2.1,"Rural Cocoa growing areas of Ashanti, Central, Eastern, Western Regions"]
["Guatemala","Rural","Central Valley Area",null,null,null,null,null,null,null,null,null,null,null,null,null,null,null,null,null,null,null,null,null,null,null,null,null,null,null,null,null,null,null,null,null,null,null,null,null,null,null,null,null,null,null,null,null,null,null,null,null,null,null,null,null,null,null,null,2021,"Calculated from  GLWC",983,127,112,250.69,4917,637,558,1253.44,"Guatemalan quetzal","GTQ",4,"Rural Central Valley Area"]
["Honduras","Rural",null,null,null,null,null,null,null,null,null,null,null,null,null,null,null,null,null,null,null,null,null,null,null,null,null,null,null,null,null,null,null,null,null,null,null,null,null,null,null,null,null,null,null,null,null,null,null,null,null,null,null,null,null,null,null,null,null,2020,"Calculated from  GLWC",2311,94,82,224.32,10402,423,370,1009.45,"Honduran lempira","HNL",10.6,"Rural"]
["India","Urban","Tiruppur, Tamil Nadu",null,null,null,null,null,null,null,null,null,null,null,null,null,null,null,null,null,null,null,null,null,null,null,null,null,null,null,null,null,null,null,null,null,null,null,null,null,null,null,null,null,null,null,null,null,null,null,null,null,null,null,null,null,null,null,null,2019,"Calculated from  GLWC",5366,76,68,252.12,21464,305,272,1008.49,"Indian rupee","INR",21.3,"Urban Tiruppur, Tamil Nadu"]
["India","Urban","Tiruppur, Tamil Nadu",null,null,null,null,null,null,null,null,null,null,null,null,null,null,null,null,null,null,null,null,null,null,null,null,null,null,null,null,null,null,null,null,null,null,null,null,null,null,null,null,null,null,null,null,null,null,2021,"GLWC",17775,240,null,null,null,null,null,null,null,null,null,null,null,null,null,null,null,null,"Indian rupee","INR",21.3,"Urban Tiruppur, Tamil Nadu"]
["India","Rural","Bhadohi, Uttar Pradesh",null,null,null,null,null,null,null,null,null,null,null,null,null,null,null,null,null,null,null,null,null,null,null,null,null,null,null,null,null,null,null,null,null,null,null,null,null,null,null,null,null,null,null,null,null,null,null,null,null,null,null,null,null,null,null,null,2019,"Calculated from  GLWC",3286,47,42,154.38,16428,233,208,771.88,"Indian rupee","INR",21.3,"Rural Bhadohi, Uttar Pradesh"]
["India","Rural","Rural Nilgiris, Tamil Nadu",null,null,null,null,null,null,null,null,null,null,null,null,null,null,null,null,null,null,null,null,null,null,null,null,null,null,null,null,null,null,null,null,null,null,null,null,null,null,null,null,null,null,null,null,null,null,null,null,null,null,null,null,null,null,null,null,2020,"Calculated from  GLWC",5239,71,62,255.83,20954,283,248,1023.33,null,"INR",21.3,"Rural Rural Nilgiris, Tamil Nadu"]
["India","Rural","Rural Nilgiris, Tamil Nadu",null,null,null,null,null,null,null,null,null,null,null,null,null,null,null,null,null,null,null,null,null,null,null,null,null,null,null,null,null,null,null,null,null,null,null,null,null,null,null,null,null,null,null,null,null,null,null,null,null,null,null,null,null,null,null,null,null,null,null,null,null,null,null,null,null,null,"Indian rupee","INR",21.3,"Rural Rural Nilgiris, Tamil Nadu"]
["Kenya","Rural","Mount Kenya",null,null,null,null,null,null,null,null,null,null,null,null,null,null,null,null,null,null,null,null,null,null,null,null,null,null,null,null,null,null,null,null,null,null,null,null,null,null,null,null,null,null,null,null,null,null,null,null,null,null,null,null,null,null,null,null,2016,"Calculated from  GLWC",3996,39,36,93.23,21977,217,196,512.75,"Kenyan shilling","KES",41.1,"Rural Mount Kenya"]
["Kenya","Non-metropolitan Urban","Lake Naivasha",null,null,null,null,null,null,null,null,null,null,null,null,null,null,null,null,null,null,null,null,null,null,null,null,null,null,null,null,null,null,null,null,null,null,null,null,null,null,null,null,null,null,null,null,null,null,2021,"GLWC",29702,270,null,null,null,null,null,null,2019,"Calculated from  GLWC",8875,87,78,216.19,44376,435,389,1080.95,"Kenyan shilling","KES",41.1,"Non-metropolitan Urban Lake Naivasha"]
["Madagascar","Rural",null,null,null,null,null,null,null,null,null,null,null,null,null,null,null,null,null,null,null,null,null,null,null,null,null,null,null,null,null,null,null,null,null,null,null,null,null,null,null,null,null,null,null,null,null,null,null,null,null,null,null,null,null,null,null,null,null,2020,"GLWC",102539,27,24,93.89,512693,135,119,469.46,"Malagasy ariary","MGA",1128.7,"Rural"]
["Malawi","Rural","Southern Region",null,null,null,null,null,null,null,null,null,null,null,null,null,null,null,null,null,null,null,null,null,null,null,null,null,null,null,null,null,null,null,null,null,null,null,null,null,null,null,null,null,null,null,null,null,null,null,null,null,null,null,null,null,null,null,null,2019,"Calculated from  GLWC",27092,36,32,98.38,135461,182,162,491.92,"Malawi kwacha","MWK",275.39999999999998,"Rural Southern Region"]
["Mexico","Non-metropolitan Urban & Rural","Michoacán, northwestern regions",null,null,null,null,null,null,null,null,null,null,null,null,null,null,null,null,null,null,null,null,null,null,null,null,null,null,null,null,null,null,null,null,null,null,null,null,null,null,null,null,null,null,null,null,null,null,null,null,null,null,null,null,null,null,null,null,null,null,null,null,null,null,null,null,null,null,"Mexican peso","MXN",9.4,"Non-metropolitan Urban & Rural Michoacán, northwestern regions"]
["Mexico","Non-metropolitan Urban & Rural","Baja California, Municipality of San Quintín",null,null,null,null,null,null,null,null,null,null,null,null,null,null,null,null,null,null,null,null,null,null,null,null,null,null,null,null,null,null,null,null,null,null,null,null,null,null,null,null,null,null,null,null,null,null,2021,"GLWC",15009,754,null,null,null,null,null,null,2020,"Calculated from  GLWC",4643,216,189,505.25,18571,865,757,2021.02,"Mexican peso","MXN",9.4,"Non-metropolitan Urban & Rural Baja California, Municipality of San Quintín"]
["Mexico","Non-metropolitan Urban & Rural","Baja California, Municipality of Ensenada",null,null,null,null,null,null,null,null,null,null,null,null,null,null,null,null,null,null,null,null,null,null,null,null,null,null,null,null,null,null,null,null,null,null,null,null,null,null,null,null,null,null,null,null,null,null,2021,"GLWC",15929,800,null,null,null,null,null,null,null,null,null,null,null,null,null,null,null,null,"Mexican peso","MXN",9.4,"Non-metropolitan Urban & Rural Baja California, Municipality of Ensenada"]
["Morocco","Rural",null,null,null,null,null,null,null,null,null,null,null,null,null,null,null,null,null,null,null,null,null,null,null,null,null,null,null,null,null,null,null,null,null,null,null,null,null,null,null,null,null,null,null,null,null,null,null,null,null,null,null,null,null,null,null,null,null,2020,"Calculated from  GLWC",727,77,67,181.84,3271,344,302,818.28,"Moroccan dirham","MAD",4,"Rural"]
["Mozambique","Rural",null,null,null,null,null,null,null,null,null,null,null,null,null,null,null,null,null,null,null,null,null,null,null,null,null,null,null,null,null,null,null,null,null,null,null,null,null,null,null,null,null,null,null,null,null,null,null,null,null,null,null,null,null,null,null,null,null,2020,"GLWC",1658,24,21,71.31,9121,131,115,392.18,"Mozambique Metical","MZN",23.6,"Rural"]
["Nicaragua","Urban","Managua Free Trade Zone",null,null,null,null,null,null,null,null,null,null,null,null,null,null,null,null,null,null,null,null,null,null,null,null,null,null,null,null,null,null,null,null,null,null,null,null,null,null,null,null,null,null,null,null,null,null,null,null,null,null,null,null,null,null,null,null,2019,"Calculated from  GLWC",5024,152,135,447.3,20094,607,542,1789.21,"Nicaraguan córdoba","NIO",11.2,"Urban Managua Free Trade Zone"]
["Nicaragua","Rural-Urban","Northwest",null,null,null,null,null,null,null,null,null,null,null,null,null,null,null,null,null,null,null,null,null,null,null,null,null,null,null,null,null,null,null,null,null,null,null,null,null,null,null,null,null,null,null,null,null,null,null,null,null,null,null,null,null,null,null,null,2020,"Calculated from  GLWC",3975,116,101,364.6,15901,463,405,1458.4,"Nicaraguan córdoba","NIO",11.2,"Rural-Urban Northwest"]
["Nigeria","Rural",null,null,null,null,null,null,null,null,null,null,null,null,null,null,null,null,null,null,null,null,null,null,null,null,null,null,null,null,null,null,null,null,null,null,null,null,null,null,null,null,null,null,null,null,null,null,null,null,null,null,null,null,null,null,null,null,null,2020,"GLWC",27736,77,68,226.65,138678,386,338,1133.27,"Nigerian naira","NGN",135.4,"Rural"]
["Pakistan","Rural","Sialkot",null,null,null,null,null,null,null,null,null,null,null,null,null,null,null,null,null,null,null,null,null,null,null,null,null,null,null,null,null,null,null,null,null,null,null,null,null,null,null,null,null,null,null,null,null,null,null,null,null,null,null,null,null,null,null,null,2019,"Calculated from  GLWC",6555,44,39,182.77,36053,240,215,1005.24,"Pakistan rupee","PKR",35.9,"Rural Sialkot"]
["Pakistan","Urban","Sialkot",null,null,null,null,null,null,null,null,null,null,null,null,null,null,null,null,null,null,null,null,null,null,null,null,null,null,null,null,null,null,null,null,null,null,null,null,null,null,null,null,null,null,null,null,null,null,null,null,null,null,null,null,null,null,null,null,2019,"Calculated from  GLWC",7950,53,47,221.66,39749,265,237,1108.29,"Pakistan rupee","PKR",35.9,"Urban Sialkot"]
["Pakistan ","Rural ","Khyber Pakhtunkhwa ",null,null,null,null,null,null,null,null,null,null,null,null,null,null,null,null,null,null,null,null,null,null,null,null,null,null,null,null,null,null,null,null,null,null,null,null,null,null,null,null,null,null,null,null,null,null,2021,"GLWC",35831,232,null,null,null,null,null,null,null,null,null,null,null,null,null,null,null,null,"Pakistan rupee","PKR",35.9,"Rural  Khyber Pakhtunkhwa "]
["Panama","Rural",null,null,null,null,null,null,null,null,null,null,null,null,null,null,null,null,null,null,null,null,null,null,null,null,null,null,null,null,null,null,null,null,null,null,null,null,null,null,null,null,null,null,null,null,null,null,null,null,null,null,null,null,null,null,null,null,null,null,null,null,null,null,null,null,null,null,null,"United States dollar","USD",0.5,"Rural"]
["Panama","Rural ",null,null,null,null,null,null,null,null,null,null,null,null,null,null,null,null,null,null,null,null,null,null,null,null,null,null,null,null,null,null,null,null,null,null,null,null,null,null,null,null,null,null,null,null,null,null,null,2021,"GLWC",590,590,null,null,null,null,null,null,2020,"Calculated from  GLWC",215,215,189,437.75,862,862,755,1751,"United States dollar","USD",0.5,"Rural "]
["Panama","Rural",null,null,null,null,null,null,null,null,null,null,null,null,null,null,null,null,null,null,null,null,null,null,null,null,null,null,null,null,null,null,null,null,null,null,null,null,null,null,null,null,null,null,null,null,null,null,null,null,null,null,null,null,null,null,null,null,null,null,null,null,null,null,null,null,null,null,null,"United States dollar","USD",0.5,"Rural"]
["Papua New Guinea","Rural",null,null,null,null,null,null,null,null,null,null,null,null,null,null,null,null,null,null,null,null,null,null,null,null,null,null,null,null,null,null,null,null,null,null,null,null,null,null,null,null,null,null,null,null,null,null,null,null,null,null,null,null,null,null,null,null,null,2020,"GLWC",319,92,81,154.94999999999999,1593,460,403,774.75,"Papua New Guinean kina","PGK",2.1,"Rural"]
["Peru ","Rural ",null,null,null,null,null,null,null,null,null,null,null,null,null,null,null,null,null,null,null,null,null,null,null,null,null,null,null,null,null,null,null,null,null,null,null,null,null,null,null,null,null,null,null,null,null,null,null,2021,"GLWC",1513,370,null,null,null,null,null,null,null,null,null,null,null,null,null,null,null,null,"Peruvian sol","PEN",1.8,"Rural "]
["Rwanda","Rural",null,null,null,null,null,null,null,null,null,null,null,null,null,null,null,null,null,null,null,null,null,null,null,null,null,null,null,null,null,null,null,null,null,null,null,null,null,null,null,null,null,null,null,null,null,null,null,null,null,null,null,null,null,null,null,null,null,2020,"GLWC",37527,40,35,122.41,187633,199,174,612.05999999999995,"Rwandan franc","RWF",317.7,"Rural"]
["South Africa","Rural ","Western Cape Province ",null,null,null,null,null,null,null,null,null,null,null,null,null,null,null,null,null,null,null,null,null,null,null,null,null,null,null,null,null,null,null,null,null,null,null,null,null,null,null,null,null,null,null,null,null,null,2021,"GLWC",4596,326,null,null,null,null,null,null,2019,"Calculated from  GLWC",1544,107,95,231.72,6950,481,430,1042.75,"South African rand","ZAR",6.7,"Rural  Western Cape Province "]
["South Africa","Rural","Western Cape Province",null,null,null,null,null,null,null,null,null,null,null,null,null,null,null,null,null,null,null,null,null,null,null,null,null,null,null,null,null,null,null,null,null,null,null,null,null,null,null,null,null,null,null,null,null,null,null,null,null,null,null,null,null,null,null,null,null,null,null,null,null,null,null,null,null,null,"South African rand","ZAR",6.7,"Rural Western Cape Province"]
["Sri Lanka","Rural","Estate Sector",null,null,null,null,null,null,null,null,null,null,null,null,null,null,null,null,null,null,null,null,null,null,null,null,null,null,null,null,null,null,null,null,null,null,null,null,null,null,null,null,null,null,null,null,null,null,2021,"GLWC",27131,135,null,null,null,null,null,null,2019,"Calculated from  GLWC",8412,47,42,166.42,37854,212,189,748.91,"Sri Lankan rupee","LKR",50.5,"Rural Estate Sector"]
["Tanzania","Rural",null,null,null,null,null,null,null,null,null,null,null,null,null,null,null,null,null,null,null,null,null,null,null,null,null,null,null,null,null,null,null,null,null,null,null,null,null,null,null,null,null,null,null,null,null,null,null,null,null,null,null,null,null,null,null,null,null,2020,"GLWC",83289,36,32,94.51,458092,200,175,519.79,"Tanzanian shilling","TZS",896.1,"Rural"]
["Tanzania","Urban",null,null,null,null,null,null,null,null,null,null,null,null,null,null,null,null,null,null,null,null,null,null,null,null,null,null,null,null,null,null,null,null,null,null,null,null,null,null,null,null,null,null,null,null,null,null,null,null,null,null,null,null,null,null,null,null,null,2020,"Calculated from  GLWC",122132,53,47,138.58000000000001,610661,266,233,692.91,"Tanzanian shilling","TZS",896.1,{"$f":"IF(C69>0,B69&\" \"&C69,B69)","v":"Urban"}]
["Tunisia","Rural",null,null,null,null,null,null,null,null,null,null,null,null,null,null,null,null,null,null,null,null,null,null,null,null,null,null,null,null,null,null,null,null,null,null,null,null,null,null,null,null,null,null,null,null,null,null,null,null,null,null,null,null,null,null,null,null,null,2020,"Calculated from  GLWC",215,76,67,256.55,968,344,301,1154.46,"Tunisian dinar","TND",0.9,"Rural"]
["Turkey","Rural",null,null,null,null,null,null,null,null,null,null,null,null,null,null,null,null,null,null,null,null,null,null,null,null,null,null,null,null,null,null,null,null,null,null,null,null,null,null,null,null,null,null,null,null,null,null,null,null,null,null,null,null,null,null,null,null,null,2020,"GLWC",888,126,111,524.87,3551,505,443,2099.4699999999998,"Turkish lira","TRY",1.9,"Rural"]
["Uganda","Rural ","Lake Victoria Basin",null,null,null,null,null,null,null,null,null,null,null,null,null,null,null,null,null,null,null,null,null,null,null,null,null,null,null,null,null,null,null,null,null,null,null,null,null,null,null,null,null,null,null,null,null,null,null,null,null,null,null,null,null,null,null,null,2019,"Calculated from  GLWC",207486,56,50,159.37,1037428,280,250,796.85,"Ugandan shilling","UGX",1301.9000000000001,"Rural  Lake Victoria Basin"]
["Uganda","Rural","Lake Victoria Basin",null,null,null,null,null,null,null,null,null,null,null,null,null,null,null,null,null,null,null,null,null,null,null,null,null,null,null,null,null,null,null,null,null,null,null,null,null,null,null,null,null,null,null,null,null,null,2021,"GLWC",716523,203,173,550,1275411,344,308,980,null,null,null,null,null,null,null,null,null,null,"Ugandan shilling","UGX",1301.9000000000001,"Rural Lake Victoria Basin"]
["Vietnam","Rural","Economic Zone 4",null,null,null,null,null,null,null,null,null,null,null,null,null,null,null,null,null,null,null,null,null,null,null,null,null,null,null,null,null,null,null,null,null,null,null,null,null,null,null,null,null,null,null,null,null,null,null,null,null,null,null,null,null,null,null,null,2020,"Calculated from  GLWC",1932298.5,83,73,262.58,7729194,333,292,1050.33,"Vietnamese dong","VND",7467.6,"Rural Economic Zone 4"]
["Vietnam","Urban","Ho Chi Minh City",null,null,null,null,null,null,null,null,null,null,null,null,null,null,null,null,null,null,null,null,null,null,null,null,null,null,null,null,null,null,null,null,null,null,null,null,null,null,null,null,null,null,null,null,null,null,null,null,null,null,null,null,null,null,null,null,2020,"Calculated from  GLWC",2965673,128,112,403,11862692,511,448,1612.03,"Vietnamese dong","VND",7467.6,"Urban Ho Chi Minh City"]
[null,null,null,null,null,null,null,null,null,null,null,null,null,null,null,null,null,null,null,null,null,null,null,null,null,null,null,null,null,null,null,null,null,null,null,null,null,null,null,null,null,null,null,null,null,null,null,null,null,null,null,null,null,null,null,null,null,null,null,null,null,null,null,null,null,null,null,null,null,null,null,null,0]
[42]

{"sheet":"hide_2020_LW Database","index":9,"n_rows":78,"n_cols":73,"rows_kept":78,"cut":false,"hidden":true,"merged":[[5,3,5,4],[5,5,5,8],[5,9,5,12],[5,13,5,14],[5,15,5,18],[5,19,5,22],[4,59,4,60],[4,61,4,64],[4,65,4,68],[4,69,5,69],[4,70,5,70],[4,71,5,71],[3,69,3,71],[4,0,5,0],[4,1,5,1],[4,2,5,2],[4,3,4,12],[4,13,4,22],[4,23,4,25],[4,49,4,50],[4,51,4,54],[4,55,4,58],[2,33,3,33],[2,34,3,34],[2,49,2,58],[2,59,2,68],[2,69,2,71],[3,0,3,2],[3,3,3,12],[3,13,3,22],[3,49,3,58],[3,59,3,68],[2,27,3,27],[2,28,3,28],[2,29,3,29],[2,30,3,30],[2,31,3,31],[2,32,3,32],[2,26,3,26],[0,0,0,2],[1,0,1,2],[2,3,2,12],[2,13,2,22],[2,23,3,25]]}
["                               Living Wage & Living \n                               Income Dataset "]
["Data valid on June 2022"]
["Geography\nSource: GLWC & LICoP",null,null,null,null,null,null,null,null,null,null,null,null,null,null,null,null,null,null,null,null,null,null,null,null,null,null,null,null,null,null,null,null,null,null,null,null,null,null,null,null,null,null,null,null,null,null,null,null,"(Gross) Living Wages \nSource: Global Living Wage Coalition",null,null,null,null,null,null,null,null,null,"Living Income\nSource: GLWC & LICoP",null,null,null,null,null,null,null,null,null,"Currency "]
["LW / LI are based on the cost of living in a specific geography, at country or sub-country level, and differ per rural, urban or peri-urban areas",null,null,null,null,null,null,null,null,null,null,null,null,null,null,null,null,null,null,null,null,null,null,null,null,null,null,null,null,null,null,null,null,null,null,null,null,null,null,null,null,null,null,null,null,null,null,null,null,"The information is from the Global Living Wage Coalition, from living wage studies that use the full Anker Methodology and Anker Reference Values. The Global Living Wage Coalition's data on family size and labour force were taken into account.",null,null,null,null,null,null,null,null,null,"Information from LW/LI studies that use the full Anker Methodology and Anker Reference Values. In the lack of a living income study, cost of living data was taken from living wage studies to provide living income estimates. The information on family size and labour force from the LW/LI studies was taken into account.",null,null,null,null,null,null,null,null,null,"Currency conversion rates to LCU, EUR & USD are from InforEuro, January 2021. International dollars were calculated using the World Bank PPP conversion factor for 2019."]
["Country","Locality","Region/area",null,null,null,null,null,null,null,null,null,null,null,null,null,null,null,null,null,null,null,null,null,null,null,null,null,null,null,null,null,null,null,null,null,null,null,null,null,null,null,null,null,null,null,null,null,null,null,null,"Living Wage \nPer workforce/month",null,null,null,"Living Wage\nPer family/month",null,null,null,null,null,"Living Income\nPer person/month",null,null,null,"Living Income\nPer family/month",null,null,null,"Local currency unit (LCU)","Currency code","2019 PPP Conversion factor"]
[null,null,null,null,null,null,null,null,null,null,null,null,null,null,null,null,null,null,null,null,null,null,null,null,null,null,null,null,null,null,null,null,null,null,null,null,null,null,null,null,null,null,null,null,null,null,null,null,null,"Year","Source","LCU","USD","EUR","2019 PPP$","LCU","USD","EUR","2019 PPP$","Year","Source","LCU","USD","EUR","2019 PPP$","LCU","USD","EUR","2019 PPP$"]
["Argentina","Non-Metropolitan Urban",null,null,null,null,null,null,null,null,null,null,null,null,null,null,null,null,null,null,null,null,null,null,null,null,null,null,null,null,null,null,null,null,null,null,null,null,null,null,null,null,null,null,null,null,null,null,null,2020,"GLWC",38741,515,null,2717,64310,910,797,4511,2020,"GLWC",12506,177,155,877.18,50023,708,620,3508.74,"Argentine peso","ARS",20.8,{"$f":"IF(C7>0,B7&\" \"&C7,B7)","v":"Non-Metropolitan Urban"}]
["Argentina","Rural",null,null,null,null,null,null,null,null,null,null,null,null,null,null,null,null,null,null,null,null,null,null,null,null,null,null,null,null,null,null,null,null,null,null,null,null,null,null,null,null,null,null,null,null,null,null,null,null,null,null,null,null,null,null,null,null,null,null,null,null,null,null,null,null,null,null,null,"Argentine peso","ARS",20.8,{"$f":"IF(C8>0,B8&\" \"&C8,B8)","v":"Rural"}]
["Bangladesh","Urban","Satellite Cities and Districts Surrounding Dhaka",null,null,null,null,null,null,null,null,null,null,null,null,null,null,null,null,null,null,null,null,null,null,null,null,null,null,null,null,null,null,null,null,null,null,null,null,null,null,null,null,null,null,null,null,null,null,null,null,null,null,null,null,null,null,null,null,2021,"Calculated from GLWC",7077,83,73,231.14,28307,334,292,924.54,"Bangladeshi taka","BDT",31.5,"Urban Satellite Cities and Districts Surrounding Dhaka"]
["Bangladesh","Urban","Dhaka City",null,null,null,null,null,null,null,null,null,null,null,null,null,null,null,null,null,null,null,null,null,null,null,null,null,null,null,null,null,null,null,null,null,null,null,null,null,null,null,null,null,null,null,null,null,null,null,null,null,null,null,null,null,null,null,null,2021,"Calculated from GLWC",8547,101,88,279.14999999999998,34187,403,353,1116.5899999999999,"Bangladeshi taka","BDT",31.5,"Urban Dhaka City"]
["Belize","Rural",null,null,null,null,null,null,null,null,null,null,null,null,null,null,null,null,null,null,null,null,null,null,null,null,null,null,null,null,null,null,null,null,null,null,null,null,null,null,null,null,null,null,null,null,null,null,null,null,null,null,null,null,null,null,null,null,null,2021,"Calculated from GLWC",369,185,162,272.55,1477,739,647,1090.19,"Belizean dollar","BZD",1.3,"Rural"]
["Brazil","Urban","Minas Gerais South/Southwestern Region",null,null,null,null,null,null,null,null,null,null,null,null,null,null,null,null,null,null,null,null,null,null,null,null,null,null,null,null,null,null,null,null,null,null,null,null,null,null,null,null,null,null,null,null,null,null,null,null,null,null,null,null,null,null,null,null,2021,"Calculated from GLWC",938,182,159,416.53,3751,728,638,1666.12,"Brazilian real","BRL",2.2999999999999998,"Urban Minas Gerais South/Southwestern Region"]
["Brazil","Non-metropolitan","State of São Paulo, non-metropolitan areas",null,null,null,null,null,null,null,null,null,null,null,null,null,null,null,null,null,null,null,null,null,null,null,null,null,null,null,null,null,null,null,null,null,null,null,null,null,null,null,null,null,null,null,null,null,null,null,null,null,null,null,null,null,null,null,null,2021,"Calculated from GLWC",1129,219,192,501.59,4517,877,768,2006.37,"Brazilian real","BRL",2.2999999999999998,"Non-metropolitan State of São Paulo, non-metropolitan areas"]
["Burkina Faso","Rural",null,null,null,null,null,null,null,null,null,null,null,null,null,null,null,null,null,null,null,null,null,null,null,null,null,null,null,null,null,null,null,null,null,null,null,null,null,null,null,null,null,null,null,null,null,null,null,null,null,null,null,null,null,null,null,null,null,null,null,null,null,null,null,null,null,null,null,"West African CFA franc","XOF",203.1,"Rural"]
["Cameroon","Rural",null,null,null,null,null,null,null,null,null,null,null,null,null,null,null,null,null,null,null,null,null,null,null,null,null,null,null,null,null,null,null,null,null,null,null,null,null,null,null,null,null,null,null,null,null,null,null,2020,"GLWC",104623,181,null,504,198372,345,302,862,null,null,null,null,null,null,null,null,null,null,"Central African CFA franc","XAF",232.7,"Rural"]
["Chile","Non-Metropolitan Urban",null,null,null,null,null,null,null,null,null,null,null,null,null,null,null,null,null,null,null,null,null,null,null,null,null,null,null,null,null,null,null,null,null,null,null,null,null,null,null,null,null,null,null,null,null,null,null,2020,"GLWC",623057,751,null,null,null,null,null,null,2020,"Calculated from  GLWC",218195,275,241,553.16,872778,1101,964,2212.63,"Chilean peso","CLP",398.9,"Non-Metropolitan Urban"]
["China","Urban","Zhengzhou",null,null,null,null,null,null,null,null,null,null,null,null,null,null,null,null,null,null,null,null,null,null,null,null,null,null,null,null,null,null,null,null,null,null,null,null,null,null,null,null,null,null,null,null,null,null,null,null,null,null,null,null,null,null,null,null,2021,"Calculated from  GLWC",1426,207,181,341.51,4991,723,633,1195.27,"Chinese Yuan Renminbi","CNY",4.2,"Urban Zhengzhou"]
["China","Urban","Chengdu",null,null,null,null,null,null,null,null,null,null,null,null,null,null,null,null,null,null,null,null,null,null,null,null,null,null,null,null,null,null,null,null,null,null,null,null,null,null,null,null,null,null,null,null,null,null,null,null,null,null,null,null,null,null,null,null,2021,"Calculated from  GLWC",1217,176,154,291.56,4261,617,541,1020.45,"Chinese Yuan Renminbi","CNY",4.2,"Urban Chengdu"]
["China","Urban","Hangzhou",null,null,null,null,null,null,null,null,null,null,null,null,null,null,null,null,null,null,null,null,null,null,null,null,null,null,null,null,null,null,null,null,null,null,null,null,null,null,null,null,null,null,null,null,null,null,null,null,null,null,null,null,null,null,null,null,2021,"Calculated from  GLWC",1934,280,245,463.23,6770,981,859,1621.32,"Chinese Yuan Renminbi","CNY",4.2,"Urban Hangzhou"]
["China","Urban","Shanghai",null,null,null,null,null,null,null,null,null,null,null,null,null,null,null,null,null,null,null,null,null,null,null,null,null,null,null,null,null,null,null,null,null,null,null,null,null,null,null,null,null,null,null,null,null,null,null,null,null,null,null,null,null,null,null,null,2021,"Calculated from  GLWC",2096,304,266,501.96,7336,1063,931,1756.87,"Chinese Yuan Renminbi","CNY",4.2,"Urban Shanghai"]
["China","Urban","Shenzhen",null,null,null,null,null,null,null,null,null,null,null,null,null,null,null,null,null,null,null,null,null,null,null,null,null,null,null,null,null,null,null,null,null,null,null,null,null,null,null,null,null,null,null,null,null,null,null,null,null,null,null,null,null,null,null,null,2021,"Calculated from  GLWC",1439,208,183,344.52,5035,730,639,1205.81,"Chinese Yuan Renminbi","CNY",4.2,"Urban Shenzhen"]
["China","Urban","Suzhou",null,null,null,null,null,null,null,null,null,null,null,null,null,null,null,null,null,null,null,null,null,null,null,null,null,null,null,null,null,null,null,null,null,null,null,null,null,null,null,null,null,null,null,null,null,null,null,null,null,null,null,null,null,null,null,null,2021,"Calculated from GLWC",1810,262,230,433.47,6335,918,804,1517.14,"Chinese Yuan Renminbi","CNY",4.2,"Urban Suzhou"]
["Colombia","Urban-Rural","Caribbean coast",null,null,null,null,null,null,null,null,null,null,null,null,null,null,null,null,null,null,null,null,null,null,null,null,null,null,null,null,null,null,null,null,null,null,null,null,null,null,null,null,null,null,null,null,null,null,2020,"GLWC",1644569,null,null,null,null,null,null,null,2021,"Calculated from  GLWC",674547,183,160,504.51,2698189,730,639,2018.03,"Colombian peso","COP",1349.4,"Urban-Rural Caribbean coast"]
["Costa Rica","Rural","Limón and Heredia Provinces",null,null,null,null,null,null,null,null,null,null,null,null,null,null,null,null,null,null,null,null,null,null,null,null,null,null,null,null,null,null,null,null,null,null,null,null,null,null,null,null,null,null,null,null,null,null,null,null,null,null,null,null,null,null,null,null,2021,"Calculated from  GLWC",161016,44,38,470.64,644063,174,153,1882.57,"Costa Rican colón","CRC",341.4,"Rural Limón and Heredia Provinces"]
["Cote d'Ivoire","Rural",null,null,null,null,null,null,null,null,null,null,null,null,null,null,null,null,null,null,null,null,null,null,null,null,null,null,null,null,null,null,null,null,null,null,null,null,null,null,null,null,null,null,null,null,null,null,null,2020,"GLWC",100590,174,null,null,null,null,null,null,2018,"LICoP",43676,15,13,180.64,262056,89,75,1083.8499999999999,"West African CFA franc","XOF",245.5,"Rural"]
["Cote d'Ivoire","Rural","Cocoa growing areas",null,null,null,null,null,null,null,null,null,null,null,null,null,null,null,null,null,null,null,null,null,null,null,null,null,null,null,null,null,null,null,null,null,null,null,null,null,null,null,null,null,null,null,null,null,null,null,null,null,null,null,null,null,null,null,null,2021,"Calculated from GLWC",63339,34,30,79.900000000000006,380033,205,180,479.42,"West African CFA franc","XOF",245.5,"Rural Cocoa growing areas"]
["Democratic Republic of Congo","Rural",null,null,null,null,null,null,null,null,null,null,null,null,null,null,null,null,null,null,null,null,null,null,null,null,null,null,null,null,null,null,null,null,null,null,null,null,null,null,null,null,null,null,null,null,null,null,null,null,null,null,null,null,null,null,null,null,null,null,null,null,null,null,null,null,null,null,null,"Congolese franc","CDF",836.2,"Rural"]
["Dominican Republic","Rural","Northern Region",null,null,null,null,null,null,null,null,null,null,null,null,null,null,null,null,null,null,null,null,null,null,null,null,null,null,null,null,null,null,null,null,null,null,null,null,null,null,null,null,null,null,null,null,null,null,null,null,null,null,null,null,null,null,null,null,2021,"Calculated from GLWC",7726,137,120,353.53,30905,547,479,1414.11,"Dominican peso","DOP",22.1,"Rural Northern Region"]
["Ecuador","Rural","Southern Coastal Region",null,null,null,null,null,null,null,null,null,null,null,null,null,null,null,null,null,null,null,null,null,null,null,null,null,null,null,null,null,null,null,null,null,null,null,null,null,null,null,null,null,null,null,null,null,null,2020,"GLWC",461,461,null,null,null,null,null,null,2021,"Calculated from  GLWC",176,176,154,330.95,702,702,615,1323.78,"United States dollar","USD",0.5,"Rural Southern Coastal Region"]
["Egypt, Arab Rep.","Rural",null,null,null,null,null,null,null,null,null,null,null,null,null,null,null,null,null,null,null,null,null,null,null,null,null,null,null,null,null,null,null,null,null,null,null,null,null,null,null,null,null,null,null,null,null,null,null,2020,"GLWC",3957,252,null,990,6054,384,336,1515,2020,"Calculated from  GLWC",1128,72,63,282.18,5640,358,313,1410.91,"Egyptian pound","EGP",4.3,"Rural"]
["El Salvador","Rural",null,null,null,null,null,null,null,null,null,null,null,null,null,null,null,null,null,null,null,null,null,null,null,null,null,null,null,null,null,null,null,null,null,null,null,null,null,null,null,null,null,null,null,null,null,null,null,2020,"GLWC",3136,355,null,6807,4986,570,499,10823,2020,"Calculated from  GLWC",995,114,100,2158.86,4476,512,448,9714.8799999999992,"Salvadoran colon","SVC",0.5,"Rural"]
["Ethiopia","Non-Metropolitan Urban","Ziway Region",null,null,null,null,null,null,null,null,null,null,null,null,null,null,null,null,null,null,null,null,null,null,null,null,null,null,null,null,null,null,null,null,null,null,null,null,null,null,null,null,null,null,null,null,null,null,null,null,null,null,null,null,null,null,null,null,2020,"Calculated from  GLWC",2040,58,51,228.9,10199,292,256,1144.48,"Ethiopian birr","ETB",10.4,"Non-Metropolitan Urban Ziway Region"]
["Gabon","Urban",null,null,null,null,null,null,null,null,null,null,null,null,null,null,null,null,null,null,null,null,null,null,null,null,null,null,null,null,null,null,null,null,null,null,null,null,null,null,null,null,null,null,null,null,null,null,null,null,null,null,null,null,null,null,null,null,null,null,null,null,null,null,null,null,null,null,null,"Central African CFA franc","FCFA",292,"Urban"]
["Gabon","Rural",null,null,null,null,null,null,null,null,null,null,null,null,null,null,null,null,null,null,null,null,null,null,null,null,null,null,null,null,null,null,null,null,null,null,null,null,null,null,null,null,null,null,null,null,null,null,null,null,null,null,null,null,null,null,null,null,null,null,null,null,null,null,null,null,null,null,null,"Central African CFA franc","FCFA",292,"Rural"]
["Ghana","Peri-Urban","Lower Volta Region",null,null,null,null,null,null,null,null,null,null,null,null,null,null,null,null,null,null,null,null,null,null,null,null,null,null,null,null,null,null,null,null,null,null,null,null,null,null,null,null,null,null,null,null,null,null,null,null,null,null,null,null,null,null,null,null,2021,"Calculated from  GLWC",602,108,94,308.98,2710,484,424,1390.41,"Ghana cedi","GHS",2.1,"Peri-Urban Lower Volta Region"]
["Ghana","Rural","Cocoa growing areas of Ashanti, Central, Eastern, Western Regions",null,null,null,null,null,null,null,null,null,null,null,null,null,null,null,null,null,null,null,null,null,null,null,null,null,null,null,null,null,null,null,null,null,null,null,null,null,null,null,null,null,null,null,null,null,null,null,null,null,null,null,null,null,null,null,null,2019,"LICoP",337,65,58,164.18,1683,323,288,820.91,"Ghana cedi","GHS",2.1,"Rural Cocoa growing areas of Ashanti, Central, Eastern, Western Regions"]
["Guatemala","Rural","Central Valley Area",null,null,null,null,null,null,null,null,null,null,null,null,null,null,null,null,null,null,null,null,null,null,null,null,null,null,null,null,null,null,null,null,null,null,null,null,null,null,null,null,null,null,null,null,null,null,null,null,null,null,null,null,null,null,null,null,2021,"Calculated from  GLWC",983,127,112,250.69,4917,637,558,1253.44,"Guatemalan quetzal","GTQ",4,"Rural Central Valley Area"]
["Honduras","Rural",null,null,null,null,null,null,null,null,null,null,null,null,null,null,null,null,null,null,null,null,null,null,null,null,null,null,null,null,null,null,null,null,null,null,null,null,null,null,null,null,null,null,null,null,null,null,null,2020,"GLWC",6852,277,null,665,11306,460,403,1097,2020,"Calculated from  GLWC",2311,94,82,224.32,10402,423,370,1009.45,"Honduran lempira","HNL",10.6,"Rural"]
["India","Urban","Tiruppur, Tamil Nadu",null,null,null,null,null,null,null,null,null,null,null,null,null,null,null,null,null,null,null,null,null,null,null,null,null,null,null,null,null,null,null,null,null,null,null,null,null,null,null,null,null,null,null,null,null,null,null,null,null,null,null,null,null,null,null,null,2019,"Calculated from  GLWC",5366,76,68,252.12,21464,305,272,1008.49,"Indian rupee","INR",21.3,"Urban Tiruppur, Tamil Nadu"]
["India","Urban","Tiruppur, Tamil Nadu",null,null,null,null,null,null,null,null,null,null,null,null,null,null,null,null,null,null,null,null,null,null,null,null,null,null,null,null,null,null,null,null,null,null,null,null,null,null,null,null,null,null,null,null,null,null,null,null,null,null,null,null,null,null,null,null,null,null,null,null,null,null,null,null,null,null,"Indian rupee","INR",21.3,"Urban Tiruppur, Tamil Nadu"]
["India","Rural","Bhadohi, Uttar Pradesh",null,null,null,null,null,null,null,null,null,null,null,null,null,null,null,null,null,null,null,null,null,null,null,null,null,null,null,null,null,null,null,null,null,null,null,null,null,null,null,null,null,null,null,null,null,null,null,null,null,null,null,null,null,null,null,null,2019,"Calculated from  GLWC",3286,47,42,154.38,16428,233,208,771.88,"Indian rupee","INR",21.3,"Rural Bhadohi, Uttar Pradesh"]
["India","Rural","Rural Nilgiris, Tamil Nadu",null,null,null,null,null,null,null,null,null,null,null,null,null,null,null,null,null,null,null,null,null,null,null,null,null,null,null,null,null,null,null,null,null,null,null,null,null,null,null,null,null,null,null,null,null,null,2020,"GLWC",12666,169,null,684,24222,327,286,1183,2020,"Calculated from  GLWC",5239,71,62,255.83,20954,283,248,1023.33,"Indian rupee","INR",21.3,"Rural Rural Nilgiris, Tamil Nadu"]
["India","Rural","Rural Nilgiris, Tamil Nadu",null,null,null,null,null,null,null,null,null,null,null,null,null,null,null,null,null,null,null,null,null,null,null,null,null,null,null,null,null,null,null,null,null,null,null,null,null,null,null,null,null,null,null,null,null,null,null,null,null,null,null,null,null,null,null,null,null,null,null,null,null,null,null,null,null,null,"Indian rupee","INR",21.3,"Rural Rural Nilgiris, Tamil Nadu"]
["Kenya","Rural","Mount Kenya",null,null,null,null,null,null,null,null,null,null,null,null,null,null,null,null,null,null,null,null,null,null,null,null,null,null,null,null,null,null,null,null,null,null,null,null,null,null,null,null,null,null,null,null,null,null,null,null,null,null,null,null,null,null,null,null,2016,"Calculated from  GLWC",3996,39,36,93.23,21977,217,196,512.75,"Kenyan shilling","KES",41.1,"Rural Mount Kenya"]
["Kenya","Non-metropolitan Urban","Lake Naivasha",null,null,null,null,null,null,null,null,null,null,null,null,null,null,null,null,null,null,null,null,null,null,null,null,null,null,null,null,null,null,null,null,null,null,null,null,null,null,null,null,null,null,null,null,null,null,null,null,null,null,null,null,null,null,null,null,null,null,null,null,null,null,null,null,null,null,"Kenyan shilling","KES",41.1,"Non-metropolitan Urban Lake Naivasha"]
["Kenya","Non-metropolitan Urban","Lake Naivasha",null,null,null,null,null,null,null,null,null,null,null,null,null,null,null,null,null,null,null,null,null,null,null,null,null,null,null,null,null,null,null,null,null,null,null,null,null,null,null,null,null,null,null,null,null,null,null,null,null,null,null,null,null,null,null,null,2019,"Calculated from  GLWC",8875,87,78,216.19,44376,435,389,1080.95,"Kenyan shilling","KES",41.1,"Non-metropolitan Urban Lake Naivasha"]
["Madagascar","Rural",null,null,null,null,null,null,null,null,null,null,null,null,null,null,null,null,null,null,null,null,null,null,null,null,null,null,null,null,null,null,null,null,null,null,null,null,null,null,null,null,null,null,null,null,null,null,null,null,null,null,null,null,null,null,null,null,null,2020,"GLWC",102539,27,24,93.89,512693,135,119,469.46,"Malagasy ariary","MGA",1128.7,"Rural"]
["Malawi","Rural","Southern Region",null,null,null,null,null,null,null,null,null,null,null,null,null,null,null,null,null,null,null,null,null,null,null,null,null,null,null,null,null,null,null,null,null,null,null,null,null,null,null,null,null,null,null,null,null,null,null,null,null,null,null,null,null,null,null,null,2019,"Calculated from  GLWC",27092,36,32,98.38,135461,182,162,491.92,"Malawi kwacha","MWK",275.39999999999998,"Rural Southern Region"]
["Mexico","Non-metropolitan Urban & Rural","Michoacán, northwestern regions",null,null,null,null,null,null,null,null,null,null,null,null,null,null,null,null,null,null,null,null,null,null,null,null,null,null,null,null,null,null,null,null,null,null,null,null,null,null,null,null,null,null,null,null,null,null,2020,"GLWC",11782,625,null,null,null,null,null,null,null,null,null,null,null,null,null,null,null,null,"Mexican peso","MXN",9.4,"Non-metropolitan Urban & Rural Michoacán, northwestern regions"]
["Mexico","Non-metropolitan Urban & Rural","Baja California, Municipality of San Quintín",null,null,null,null,null,null,null,null,null,null,null,null,null,null,null,null,null,null,null,null,null,null,null,null,null,null,null,null,null,null,null,null,null,null,null,null,null,null,null,null,null,null,null,null,null,null,null,null,null,null,null,null,null,null,null,null,2020,"Calculated from  GLWC",4643,216,189,505.25,18571,865,757,2021.02,"Mexican peso","MXN",9.4,"Non-metropolitan Urban & Rural Baja California, Municipality of San Quintín"]
["Mexico","Non-metropolitan Urban & Rural","Baja California, Municipality of Ensenada",null,null,null,null,null,null,null,null,null,null,null,null,null,null,null,null,null,null,null,null,null,null,null,null,null,null,null,null,null,null,null,null,null,null,null,null,null,null,null,null,null,null,null,null,null,null,null,null,null,null,null,null,null,null,null,null,null,null,null,null,null,null,null,null,null,null,"Mexican peso","MXN",9.4,"Non-metropolitan Urban & Rural Baja California, Municipality of Ensenada"]
["Morocco","Rural",null,null,null,null,null,null,null,null,null,null,null,null,null,null,null,null,null,null,null,null,null,null,null,null,null,null,null,null,null,null,null,null,null,null,null,null,null,null,null,null,null,null,null,null,null,null,null,2020,"GLWC",2249,233,null,563,3508,369,323,878,2020,"Calculated from  GLWC",727,77,67,181.84,3271,344,302,818.28,"Moroccan dirham","MAD",4,"Rural"]
["Mozambique","Rural",null,null,null,null,null,null,null,null,null,null,null,null,null,null,null,null,null,null,null,null,null,null,null,null,null,null,null,null,null,null,null,null,null,null,null,null,null,null,null,null,null,null,null,null,null,null,null,2020,"GLWC",9121,142,null,null,null,null,null,null,2020,"GLWC",1658,24,21,71.31,9121,131,115,392.18,"Mozambique Metical","MZN",23.6,"Rural"]
["Nicaragua","Urban","Managua Free Trade Zone",null,null,null,null,null,null,null,null,null,null,null,null,null,null,null,null,null,null,null,null,null,null,null,null,null,null,null,null,null,null,null,null,null,null,null,null,null,null,null,null,null,null,null,null,null,null,null,null,null,null,null,null,null,null,null,null,2019,"Calculated from  GLWC",5024,152,135,447.3,20094,607,542,1789.21,"Nicaraguan córdoba","NIO",11.2,"Urban Managua Free Trade Zone"]
["Nicaragua","Rural-Urban","Northwest",null,null,null,null,null,null,null,null,null,null,null,null,null,null,null,null,null,null,null,null,null,null,null,null,null,null,null,null,null,null,null,null,null,null,null,null,null,null,null,null,null,null,null,null,null,null,null,null,null,null,null,null,null,null,null,null,2020,"Calculated from  GLWC",3975,116,101,364.6,15901,463,405,1458.4,"Nicaraguan córdoba","NIO",11.2,"Rural-Urban Northwest"]
["Nigeria","Rural",null,null,null,null,null,null,null,null,null,null,null,null,null,null,null,null,null,null,null,null,null,null,null,null,null,null,null,null,null,null,null,null,null,null,null,null,null,null,null,null,null,null,null,null,null,null,null,2020,"GLWC",138678,365,null,null,null,null,null,null,2020,"GLWC",27736,77,68,226.65,138678,386,338,1133.27,"Nigerian naira","NGN",135.4,"Rural"]
["Pakistan","Rural","Sialkot",null,null,null,null,null,null,null,null,null,null,null,null,null,null,null,null,null,null,null,null,null,null,null,null,null,null,null,null,null,null,null,null,null,null,null,null,null,null,null,null,null,null,null,null,null,null,null,null,null,null,null,null,null,null,null,null,2019,"Calculated from  GLWC",6555,44,39,182.77,36053,240,215,1005.24,"Pakistan rupee","PKR",35.9,"Rural Sialkot"]
["Pakistan","Urban","Sialkot",null,null,null,null,null,null,null,null,null,null,null,null,null,null,null,null,null,null,null,null,null,null,null,null,null,null,null,null,null,null,null,null,null,null,null,null,null,null,null,null,null,null,null,null,null,null,null,null,null,null,null,null,null,null,null,null,2019,"Calculated from  GLWC",7950,53,47,221.66,39749,265,237,1108.29,"Pakistan rupee","PKR",35.9,"Urban Sialkot"]
["Pakistan ","Rural ","Khyber Pakhtunkhwa ",null,null,null,null,null,null,null,null,null,null,null,null,null,null,null,null,null,null,null,null,null,null,null,null,null,null,null,null,null,null,null,null,null,null,null,null,null,null,null,null,null,null,null,null,null,null,null,null,null,null,null,null,null,null,null,null,null,null,null,null,null,null,null,null,null,null,"Pakistan rupee","PKR",35.9,"Rural  Khyber Pakhtunkhwa "]
["Panama","Rural",null,null,null,null,null,null,null,null,null,null,null,null,null,null,null,null,null,null,null,null,null,null,null,null,null,null,null,null,null,null,null,null,null,null,null,null,null,null,null,null,null,null,null,null,null,null,null,null,null,null,null,null,null,null,null,null,null,null,null,null,null,null,null,null,null,null,null,"United States dollar","USD",0.5,"Rural"]
["Panama","Rural ",null,null,null,null,null,null,null,null,null,null,null,null,null,null,null,null,null,null,null,null,null,null,null,null,null,null,null,null,null,null,null,null,null,null,null,null,null,null,null,null,null,null,null,null,null,null,null,null,null,null,null,null,null,null,null,null,null,2020,"Calculated from  GLWC",215,215,189,437.75,862,862,755,1751,"United States dollar","USD",0.5,"Rural "]
["Panama","Rural",null,null,null,null,null,null,null,null,null,null,null,null,null,null,null,null,null,null,null,null,null,null,null,null,null,null,null,null,null,null,null,null,null,null,null,null,null,null,null,null,null,null,null,null,null,null,null,2020,"GLWC",569,569,null,null,null,null,null,null,null,null,null,null,null,null,null,null,null,null,"United States dollar","USD",0.5,"Rural"]
["Papua New Guinea","Rural",null,null,null,null,null,null,null,null,null,null,null,null,null,null,null,null,null,null,null,null,null,null,null,null,null,null,null,null,null,null,null,null,null,null,null,null,null,null,null,null,null,null,null,null,null,null,null,2020,"GLWC",1593,460,null,null,null,null,null,null,2020,"GLWC",319,92,81,154.94999999999999,1593,460,403,774.75,"Papua New Guinean kina","PGK",2.1,"Rural"]
["Peru","Rural ",null,null,null,null,null,null,null,null,null,null,null,null,null,null,null,null,null,null,null,null,null,null,null,null,null,null,null,null,null,null,null,null,null,null,null,null,null,null,null,null,null,null,null,null,null,null,null,2020,"GLWC",1455,372,null,null,null,null,null,null,2020,"GLWC",410,117,103,235.24,2050,587,514,1176.22,"Peruvian sol","PEN",1.8,"Rural "]
["Rwanda","Rural",null,null,null,null,null,null,null,null,null,null,null,null,null,null,null,null,null,null,null,null,null,null,null,null,null,null,null,null,null,null,null,null,null,null,null,null,null,null,null,null,null,null,null,null,null,null,null,2020,"GLWC",147111,160,null,480,248618,264,231,811,2020,"GLWC",37527,40,35,122.41,187633,199,174,612.05999999999995,"Rwandan franc","RWF",317.7,"Rural"]
["South Africa","Rural ","Western Cape Province ",null,null,null,null,null,null,null,null,null,null,null,null,null,null,null,null,null,null,null,null,null,null,null,null,null,null,null,null,null,null,null,null,null,null,null,null,null,null,null,null,null,null,null,null,null,null,null,null,null,null,null,null,null,null,null,null,2019,"Calculated from  GLWC",1544,107,95,231.72,6950,481,430,1042.75,"South African rand","ZAR",6.7,"Rural  Western Cape Province "]
["South Africa","Rural","Western Cape Province",null,null,null,null,null,null,null,null,null,null,null,null,null,null,null,null,null,null,null,null,null,null,null,null,null,null,null,null,null,null,null,null,null,null,null,null,null,null,null,null,null,null,null,null,null,null,null,null,null,null,null,null,null,null,null,null,null,null,null,null,null,null,null,null,null,null,"South African rand","ZAR",6.7,"Rural Western Cape Province"]
["Sri Lanka","Rural","Estate Sector",null,null,null,null,null,null,null,null,null,null,null,null,null,null,null,null,null,null,null,null,null,null,null,null,null,null,null,null,null,null,null,null,null,null,null,null,null,null,null,null,null,null,null,null,null,null,null,null,null,null,null,null,null,null,null,null,2019,"Calculated from  GLWC",8412,47,42,166.42,37854,212,189,748.91,"Sri Lankan rupee","LKR",50.5,"Rural Estate Sector"]
["Tanzania","Rural",null,null,null,null,null,null,null,null,null,null,null,null,null,null,null,null,null,null,null,null,null,null,null,null,null,null,null,null,null,null,null,null,null,null,null,null,null,null,null,null,null,null,null,null,null,null,null,2020,"GLWC",317779,139,121,361,549758,240,210,624,2020,"GLWC",83289,36,32,94.51,458092,200,175,519.79,"Tanzanian shilling","TZS",896.1,"Rural"]
["Tanzania","Urban",null,null,null,null,null,null,null,null,null,null,null,null,null,null,null,null,null,null,null,null,null,null,null,null,null,null,null,null,null,null,null,null,null,null,null,null,null,null,null,null,null,null,null,null,null,null,null,2020,"GLWC",425608,169,162,483,719278,314,274,816,2020,"Calculated from  GLWC",122132,53,47,138.58000000000001,610661,266,233,692.91,"Tanzanian shilling","TZS",896.1,{"$f":"IF(C70>0,B70&\" \"&C70,B70)","v":"Urban"}]
["Tunisia","Rural",null,null,null,null,null,null,null,null,null,null,null,null,null,null,null,null,null,null,null,null,null,null,null,null,null,null,null,null,null,null,null,null,null,null,null,null,null,null,null,null,null,null,null,null,null,null,null,2020,"GLWC",695,245,216,829,1015,361,316,1210,2020,"Calculated from  GLWC",215,76,67,256.55,968,344,301,1154.46,"Tunisian dinar","TND",0.9,"Rural"]
["Turkey","Rural",null,null,null,null,null,null,null,null,null,null,null,null,null,null,null,null,null,null,null,null,null,null,null,null,null,null,null,null,null,null,null,null,null,null,null,null,null,null,null,null,null,null,null,null,null,null,null,null,null,null,null,null,null,null,null,null,null,2020,"GLWC",888,126,111,524.87,3551,505,443,2099.4699999999998,"Turkish lira","TRY",1.9,"Rural"]
["Uganda","Rural ","Lake Victoria Basin",null,null,null,null,null,null,null,null,null,null,null,null,null,null,null,null,null,null,null,null,null,null,null,null,null,null,null,null,null,null,null,null,null,null,null,null,null,null,null,null,null,null,null,null,null,null,null,null,null,null,null,null,null,null,null,null,2019,"Calculated from  GLWC",207486,56,50,159.37,1037428,280,250,796.85,"Ugandan shilling","UGX",1301.9000000000001,"Rural  Lake Victoria Basin"]
["Uganda","Rural","Lake Victoria Basin",null,null,null,null,null,null,null,null,null,null,null,null,null,null,null,null,null,null,null,null,null,null,null,null,null,null,null,null,null,null,null,null,null,null,null,null,null,null,null,null,null,null,null,null,null,null,null,null,null,null,null,null,null,null,null,null,null,null,null,null,null,null,null,null,null,null,"Ugandan shilling","UGX",1301.9000000000001,"Rural Lake Victoria Basin"]
["Vietnam","Rural","Economic Zone 4",null,null,null,null,null,null,null,null,null,null,null,null,null,null,null,null,null,null,null,null,null,null,null,null,null,null,null,null,null,null,null,null,null,null,null,null,null,null,null,null,null,null,null,null,null,null,2020,"GLWC",4618167,199,174,628,8635972,372,326,1174,2020,"Calculated from  GLWC",1932298.5,83,73,262.58,7729194,333,292,1050.33,"Vietnamese dong","VND",7467.6,"Rural Economic Zone 4"]
["Vietnam","Urban","Ho Chi Minh City",null,null,null,null,null,null,null,null,null,null,null,null,null,null,null,null,null,null,null,null,null,null,null,null,null,null,null,null,null,null,null,null,null,null,null,null,null,null,null,null,null,null,null,null,null,null,2020,"GLWC",7446294,321,281,1012,13254403,571,500,1801,2020,"Calculated from  GLWC",2965673,128,112,403,11862692,511,448,1612.03,"Vietnamese dong","VND",7467.6,"Urban Ho Chi Minh City"]
[null,null,null,null,null,null,null,null,null,null,null,null,null,null,null,null,null,null,null,null,null,null,null,null,null,null,null,null,null,null,null,null,null,null,null,null,null,null,null,null,null,null,null,null,null,null,null,null,null,null,null,null,null,null,null,null,null,null,null,null,null,null,null,null,null,null,null,null,null,null,null,null,0]
[42]