{"text_format":"1","workbook":"xlsx","n_sheets":8,"sheets":["Cover","Data entry form","Scenario specification","Results","hide_backend","hide_backend_figures","hide_LW Database","hide_Benchmarks"],"not_rendered":{"charts":8,"images":4,"macros":1,"external_links":0,"defined_names":15,"comments":3,"pivot_tables":0},"unopened":[],"bounds":{"document_bytes":16777216,"sheet_cells":100000,"rows_first":2000,"rows_last":500,"rows_between":2000,"halvings":0,"cell_chars":16384,"cell_head_chars":4096},"cells_cut":0,"cells_raw":0,"read":"whole","date_system":"1900"}

{"sheet":"Cover","index":0,"n_rows":30,"n_cols":8,"rows_kept":30,"cut":false,"hidden":false,"merged":[[2,0,2,13],[5,0,5,13],[6,0,6,13],[19,5,19,11],[26,5,26,11],[22,5,22,11],[21,5,21,11],[20,5,20,11],[3,0,3,13],[24,5,24,11],[25,5,25,11]]}
[]
[]
["GIZ Living Wage Costing Tool"]
["v1.2 (01.02.2022)"]
[]
[]
[]
[]
[]
[null,null,"About this tool",null,"This tool provides living wage simulations for companies using the salary matrix."]
[null,null,null,null,"Different scenarios for closing the living wage gap are calculated and illustrated."]
[]
[null,null,"Data requirements",null,"Filled salary matrix data for a given company, plantation, etc."]
[]
[null,null,"How to use it",null,1,"accept macros for the costing tool to function"]
[null,null,null,null,2,"fill data entry sheet with aggregated \"detailed summary\" results of the IDH Salary Matrix"]
[null,null,null,null,3,"go to scenario specification to modify the parameters of the different scenarios"]
[null,null,null,null,4,"go to results sheet and explore the implications of the different scenarios"]
[]
[null,null,"Scenarios may",null,"-","consider all employees or only those earning less than a living wage"]
[null,null,null,null,"-","take into account the existing wage structure"]
[null,null,null,null,"-","be based on the average wage gap or the largest wage gap"]
[null,null,null,null,"-","be added, depending on demand"]
[]
[null,null,"ATTENTION",null,"-","data provided by the GIZ LW Costing Tool is intended to be a non-binding estimate"]
[null,null,null,null,"-","quality of the provided estimates significantly depends on data quality and reliability"]
[]
[null,null,"Imprint",null,"Copyright: ",null,"Deutsche Gesellschaft für Internationale Zusammenarbeit (GIZ) GmbH"]
[null,null,null,null,"Developers:",null,"Tim K. Loos, Till Ludwig"]
[null,null,null,null,"Contact:",null,"ina@giz.de","nicola.nuecken@giz.de"]

{"sheet":"Data entry form","index":1,"n_rows":642,"n_cols":10,"rows_kept":642,"cut":false,"hidden":false,"merged":[[16,2,16,5],[39,2,39,9],[25,2,25,4],[18,2,18,5]]}
[]
[]
[]
[null,null,"Data entry form"]
[]
[null,null,"Please use this form to record all relevant company and wage information reported in "]
[null,null,"   - the summary report of your (online) salary matrix"]
[null,null,"   - the results sheet of your (excel-based) salary matrix"]
[null,null,"   - information for job categories/individuals can be added by entering the respective data in the green cells (Q3)"]
[]
[]
[]
[]
[null,null,"Q1","Please select your country and region of interest and corresponding Living Wage Benchmark "]
[null,null,null,"(source: ALIGN Living Wage & Living Income Dataset; lastest version: September 2021) with the dropdown menu:"]
[]
[null,null,"Ecuador",null,null,null,{"$f":"HYPERLINK(\"#\"&ADDRESS(ROW(),COLUMN()-1),CHAR(128))","v":"€"},{"$f":"IFERROR(INDEX('hide_LW Database'!BA7:BA66,MATCH('Data entry form'!C17:F17&'Data entry form'!C19:F19,'hide_LW Database'!A7:A66&'hide_LW Database'!BU7:BU66,0)),\"Not available.\")","v":462},"USD per workforce/ month"]
[null,null,null,null,null,null,null,{"$f":"IF(BenchmarkValue=\"Not available.\",\"Please check country and region selection.\",\"\")","v":""}]
[null,null,"Rural Southern Coastal Region"]
[]
[]
[]
[null,null,"Q2","Please enter (or copy/paste) key information of your company "]
[null,null,null,"provided in \"Table 1: Facility Summary\" of the salary matrix report"]
[]
[null,null,"Table 1: Farm Summary"]
[null,null,"Producer Name",null,"Big banana"]
[null,null,"Area of Production (ha)",null,50000]
[null,null,"Crop",null,"banana"]
[null,null,"Varieties grown",null,"cavendish"]
[null,null,"Enter Unit of Production",null,"box"]
[null,null,"Total Annual Production",null,10000]
[null,null,"Year of data collection",null,2022]
[]
[]
[]
[null,null,"Q3","Please enter ( copy/paste) the aggregated information on workers and wages"]
[null,null,null,"provided in \"Table 4: Detailed Results\" of the salary matrix report"]
[]
[null,null,"Table 4: Detailed Results"]
[]
[null,null,"#","Job Category","Number \nof Workers","Monthly \nin-kind benefits \n(capped at 30%)","Bonuses adjusted per month\n(USD)","Monthly wage \n(USD)","Total \ntake-home remuneration\n(USD)","Living Wage Gap \n(%)"]
[null,null,1,"a",null,null,null,null,{"$f":"IF(Tabelle3[[#This Row],[Number \nof Workers]]<>0,SUM(F43:H43),\"\")","v":""},{"$f":"IF(Tabelle3[[#This Row],[Number \nof Workers]]<>0,(1-I43/$H$17)*100,\"\")","v":""}]
[null,null,2,"b",null,null,null,null,{"$f":"IF(Tabelle3[[#This Row],[Number \nof Workers]]<>0,SUM(G44:H44),\"\")","v":""},{"$f":"IF(Tabelle3[[#This Row],[Number \nof Workers]]<>0,(1-I44/$H$17)*100,\"\")","v":""}]
[null,null,3,"c",null,null,null,null,{"$f":"IF(Tabelle3[[#This Row],[Number \nof Workers]]<>0,SUM(G45:H45),\"\")","v":""},{"$f":"IF(Tabelle3[[#This Row],[Number \nof Workers]]<>0,(1-I45/$H$17)*100,\"\")","v":""}]
[null,null,4,"d",null,null,null,null,{"$f":"IF(Tabelle3[[#This Row],[Number \nof Workers]]<>0,SUM(G46:H46),\"\")","v":""},{"$f":"IF(Tabelle3[[#This Row],[Number \nof Workers]]<>0,(1-I46/$H$17)*100,\"\")","v":""}]
[null,null,5,null,null,null,null,null,{"$f":"IF(Tabelle3[[#This Row],[Number \nof Workers]]<>0,SUM(G47:H47),\"\")","v":""},{"$f":"IF(Tabelle3[[#This Row],[Number \nof Workers]]<>0,(1-I47/$H$17)*100,\"\")","v":""}]
[null,null,6,null,null,null,null,null,{"$f":"IF(Tabelle3[[#This Row],[Number \nof Workers]]<>0,SUM(G48:H48),\"\")","v":""},{"$f":"IF(Tabelle3[[#This Row],[Number \nof Workers]]<>0,(1-I48/$H$17)*100,\"\")","v":""}]
[null,null,7,null,null,null,null,null,{"$f":"IF(Tabelle3[[#This Row],[Number \nof Workers]]<>0,SUM(G49:H49),\"\")","v":""},{"$f":"IF(Tabelle3[[#This Row],[Number \nof Workers]]<>0,(1-I49/$H$17)*100,\"\")","v":""}]
[null,null,8,null,null,null,null,null,{"$f":"IF(Tabelle3[[#This Row],[Number \nof Workers]]<>0,SUM(G50:H50),\"\")","v":""},{"$f":"IF(Tabelle3[[#This Row],[Number \nof Workers]]<>0,(1-I50/$H$17)*100,\"\")","v":""}]
[null,null,9,null,null,null,null,null,{"$f":"IF(Tabelle3[[#This Row],[Number \nof Workers]]<>0,SUM(G51:H51),\"\")","v":""},{"$f":"IF(Tabelle3[[#This Row],[Number \nof Workers]]<>0,(1-I51/$H$17)*100,\"\")","v":""}]
[null,null,10,null,null,null,null,null,{"$f":"IF(Tabelle3[[#This Row],[Number \nof Workers]]<>0,SUM(G52:H52),\"\")","v":""},{"$f":"IF(Tabelle3[[#This Row],[Number \nof Workers]]<>0,(1-I52/$H$17)*100,\"\")","v":""}]
[null,null,11,null,null,null,null,null,{"$f":"IF(Tabelle3[[#This Row],[Number \nof Workers]]<>0,SUM(G53:H53),\"\")","v":""},{"$f":"IF(Tabelle3[[#This Row],[Number \nof Workers]]<>0,(1-I53/$H$17)*100,\"\")","v":""}]
[null,null,12,null,null,null,null,null,{"$f":"IF(Tabelle3[[#This Row],[Number \nof Workers]]<>0,SUM(G54:H54),\"\")","v":""},{"$f":"IF(Tabelle3[[#This Row],[Number \nof Workers]]<>0,(1-I54/$H$17)*100,\"\")","v":""}]
[null,null,13,null,null,null,null,null,{"$f":"IF(Tabelle3[[#This Row],[Number \nof Workers]]<>0,SUM(G55:H55),\"\")","v":""},{"$f":"IF(Tabelle3[[#This Row],[Number \nof Workers]]<>0,(1-I55/$H$17)*100,\"\")","v":""}]
[null,null,14,null,null,null,null,null,{"$f":"IF(Tabelle3[[#This Row],[Number \nof Workers]]<>0,SUM(G56:H56),\"\")","v":""},{"$f":"IF(Tabelle3[[#This Row],[Number \nof Workers]]<>0,(1-I56/$H$17)*100,\"\")","v":""}]
[null,null,15,null,null,null,null,null,{"$f":"IF(Tabelle3[[#This Row],[Number \nof Workers]]<>0,SUM(G57:H57),\"\")","v":""},{"$f":"IF(Tabelle3[[#This Row],[Number \nof Workers]]<>0,(1-I57/$H$17)*100,\"\")","v":""}]
[null,null,16,null,null,null,null,null,{"$f":"IF(Tabelle3[[#This Row],[Number \nof Workers]]<>0,SUM(G58:H58),\"\")","v":""},{"$f":"IF(Tabelle3[[#This Row],[Number \nof Workers]]<>0,(1-I58/$H$17)*100,\"\")","v":""}]
[null,null,17,null,null,null,null,null,{"$f":"IF(Tabelle3[[#This Row],[Number \nof Workers]]<>0,SUM(G59:H59),\"\")","v":""},{"$f":"IF(Tabelle3[[#This Row],[Number \nof Workers]]<>0,(1-I59/$H$17)*100,\"\")","v":""}]
[null,null,18,null,null,null,null,null,{"$f":"IF(Tabelle3[[#This Row],[Number \nof Workers]]<>0,SUM(G60:H60),\"\")","v":""},{"$f":"IF(Tabelle3[[#This Row],[Number \nof Workers]]<>0,(1-I60/$H$17)*100,\"\")","v":""}]
[null,null,19,null,null,null,null,null,{"$f":"IF(Tabelle3[[#This Row],[Number \nof Workers]]<>0,SUM(G61:H61),\"\")","v":""},{"$f":"IF(Tabelle3[[#This Row],[Number \nof Workers]]<>0,(1-I61/$H$17)*100,\"\")","v":""}]
[null,null,20,null,null,null,null,null,{"$f":"IF(Tabelle3[[#This Row],[Number \nof Workers]]<>0,SUM(G62:H62),\"\")","v":""},{"$f":"IF(Tabelle3[[#This Row],[Number \nof Workers]]<>0,(1-I62/$H$17)*100,\"\")","v":""}]
[null,null,21,null,null,null,null,null,{"$f":"IF(Tabelle3[[#This Row],[Number \nof Workers]]<>0,SUM(F63:H63),\"\")","v":""},{"$f":"IF(Tabelle3[[#This Row],[Number \nof Workers]]<>0,(1-I63/$H$17)*100,\"\")","v":""}]
[null,null,22,null,null,null,null,null,{"$f":"IF(Tabelle3[[#This Row],[Number \nof Workers]]<>0,SUM(F64:H64),\"\")","v":""},{"$f":"IF(Tabelle3[[#This Row],[Number \nof Workers]]<>0,(1-I64/$H$17)*100,\"\")","v":""}]
[null,null,23,null,null,null,null,null,{"$f":"IF(Tabelle3[[#This Row],[Number \nof Workers]]<>0,SUM(F65:H65),\"\")","v":""},{"$f":"IF(Tabelle3[[#This Row],[Number \nof Workers]]<>0,(1-I65/$H$17)*100,\"\")","v":""}]
[null,null,24,null,null,null,null,null,{"$f":"IF(Tabelle3[[#This Row],[Number \nof Workers]]<>0,SUM(F66:H66),\"\")","v":""},{"$f":"IF(Tabelle3[[#This Row],[Number \nof Workers]]<>0,(1-I66/$H$17)*100,\"\")","v":""}]
[null,null,25,null,null,null,null,null,{"$f":"IF(Tabelle3[[#This Row],[Number \nof Workers]]<>0,SUM(F67:H67),\"\")","v":""},{"$f":"IF(Tabelle3[[#This Row],[Number \nof Workers]]<>0,(1-I67/$H$17)*100,\"\")","v":""}]
[null,null,26,null,null,null,null,null,{"$f":"IF(Tabelle3[[#This Row],[Number \nof Workers]]<>0,SUM(F68:H68),\"\")","v":""},{"$f":"IF(Tabelle3[[#This Row],[Number \nof Workers]]<>0,(1-I68/$H$17)*100,\"\")","v":""}]
[null,null,27,null,null,null,null,null,{"$f":"IF(Tabelle3[[#This Row],[Number \nof Workers]]<>0,SUM(F69:H69),\"\")","v":""},{"$f":"IF(Tabelle3[[#This Row],[Number \nof Workers]]<>0,(1-I69/$H$17)*100,\"\")","v":""}]
[null,null,28,null,null,null,null,null,{"$f":"IF(Tabelle3[[#This Row],[Number \nof Workers]]<>0,SUM(F70:H70),\"\")","v":""},{"$f":"IF(Tabelle3[[#This Row],[Number \nof Workers]]<>0,(1-I70/$H$17)*100,\"\")","v":""}]
[null,null,29,null,null,null,null,null,{"$f":"IF(Tabelle3[[#This Row],[Number \nof Workers]]<>0,SUM(F71:H71),\"\")","v":""},{"$f":"IF(Tabelle3[[#This Row],[Number \nof Workers]]<>0,(1-I71/$H$17)*100,\"\")","v":""}]
[null,null,30,null,null,null,null,null,{"$f":"IF(Tabelle3[[#This Row],[Number \nof Workers]]<>0,SUM(F72:H72),\"\")","v":""},{"$f":"IF(Tabelle3[[#This Row],[Number \nof Workers]]<>0,(1-I72/$H$17)*100,\"\")","v":""}]
[null,null,31,null,null,null,null,null,{"$f":"IF(Tabelle3[[#This Row],[Number \nof Workers]]<>0,SUM(F73:H73),\"\")","v":""},{"$f":"IF(Tabelle3[[#This Row],[Number \nof Workers]]<>0,(1-I73/$H$17)*100,\"\")","v":""}]
[null,null,32,null,null,null,null,null,{"$f":"IF(Tabelle3[[#This Row],[Number \nof Workers]]<>0,SUM(F74:H74),\"\")","v":""},{"$f":"IF(Tabelle3[[#This Row],[Number \nof Workers]]<>0,(1-I74/$H$17)*100,\"\")","v":""}]
[null,null,33,null,null,null,null,null,{"$f":"IF(Tabelle3[[#This Row],[Number \nof Workers]]<>0,SUM(F75:H75),\"\")","v":""},{"$f":"IF(Tabelle3[[#This Row],[Number \nof Workers]]<>0,(1-I75/$H$17)*100,\"\")","v":""}]
[null,null,34,null,null,null,null,null,{"$f":"IF(Tabelle3[[#This Row],[Number \nof Workers]]<>0,SUM(F76:H76),\"\")","v":""},{"$f":"IF(Tabelle3[[#This Row],[Number \nof Workers]]<>0,(1-I76/$H$17)*100,\"\")","v":""}]
[null,null,35,null,null,null,null,null,{"$f":"IF(Tabelle3[[#This Row],[Number \nof Workers]]<>0,SUM(F77:H77),\"\")","v":""},{"$f":"IF(Tabelle3[[#This Row],[Number \nof Workers]]<>0,(1-I77/$H$17)*100,\"\")","v":""}]
[null,null,36,null,null,null,null,null,{"$f":"IF(Tabelle3[[#This Row],[Number \nof Workers]]<>0,SUM(F78:H78),\"\")","v":""},{"$f":"IF(Tabelle3[[#This Row],[Number \nof Workers]]<>0,(1-I78/$H$17)*100,\"\")","v":""}]
[null,null,37,null,null,null,null,null,{"$f":"IF(Tabelle3[[#This Row],[Number \nof Workers]]<>0,SUM(F79:H79),\"\")","v":""},{"$f":"IF(Tabelle3[[#This Row],[Number \nof Workers]]<>0,(1-I79/$H$17)*100,\"\")","v":""}]
[null,null,38,null,null,null,null,null,{"$f":"IF(Tabelle3[[#This Row],[Number \nof Workers]]<>0,SUM(F80:H80),\"\")","v":""},{"$f":"IF(Tabelle3[[#This Row],[Number \nof Workers]]<>0,(1-I80/$H$17)*100,\"\")","v":""}]
[null,null,39,null,null,null,null,null,{"$f":"IF(Tabelle3[[#This Row],[Number \nof Workers]]<>0,SUM(F81:H81),\"\")","v":""},{"$f":"IF(Tabelle3[[#This Row],[Number \nof Workers]]<>0,(1-I81/$H$17)*100,\"\")","v":""}]
[null,null,40,null,null,null,null,null,{"$f":"IF(Tabelle3[[#This Row],[Number \nof Workers]]<>0,SUM(F82:H82),\"\")","v":""},{"$f":"IF(Tabelle3[[#This Row],[Number \nof Workers]]<>0,(1-I82/$H$17)*100,\"\")","v":""}]
[null,null,41,null,null,null,null,null,{"$f":"IF(Tabelle3[[#This Row],[Number \nof Workers]]<>0,SUM(F83:H83),\"\")","v":""},{"$f":"IF(Tabelle3[[#This Row],[Number \nof Workers]]<>0,(1-I83/$H$17)*100,\"\")","v":""}]
[null,null,42,null,null,null,null,null,{"$f":"IF(Tabelle3[[#This Row],[Number \nof Workers]]<>0,SUM(F84:H84),\"\")","v":""},{"$f":"IF(Tabelle3[[#This Row],[Number \nof Workers]]<>0,(1-I84/$H$17)*100,\"\")","v":""}]
[null,null,43,null,null,null,null,null,{"$f":"IF(Tabelle3[[#This Row],[Number \nof Workers]]<>0,SUM(F85:H85),\"\")","v":""},{"$f":"IF(Tabelle3[[#This Row],[Number \nof Workers]]<>0,(1-I85/$H$17)*100,\"\")","v":""}]
[null,null,44,null,null,null,null,null,{"$f":"IF(Tabelle3[[#This Row],[Number \nof Workers]]<>0,SUM(F86:H86),\"\")","v":""},{"$f":"IF(Tabelle3[[#This Row],[Number \nof Workers]]<>0,(1-I86/$H$17)*100,\"\")","v":""}]
[null,null,45,null,null,null,null,null,{"$f":"IF(Tabelle3[[#This Row],[Number \nof Workers]]<>0,SUM(F87:H87),\"\")","v":""},{"$f":"IF(Tabelle3[[#This Row],[Number \nof Workers]]<>0,(1-I87/$H$17)*100,\"\")","v":""}]
[null,null,46,null,null,null,null,null,{"$f":"IF(Tabelle3[[#This Row],[Number \nof Workers]]<>0,SUM(F88:H88),\"\")","v":""},{"$f":"IF(Tabelle3[[#This Row],[Number \nof Workers]]<>0,(1-I88/$H$17)*100,\"\")","v":""}]
[null,null,47,null,null,null,null,null,{"$f":"IF(Tabelle3[[#This Row],[Number \nof Workers]]<>0,SUM(F89:H89),\"\")","v":""},{"$f":"IF(Tabelle3[[#This Row],[Number \nof Workers]]<>0,(1-I89/$H$17)*100,\"\")","v":""}]
[null,null,48,null,null,null,null,null,{"$f":"IF(Tabelle3[[#This Row],[Number \nof Workers]]<>0,SUM(F90:H90),\"\")","v":""},{"$f":"IF(Tabelle3[[#This Row],[Number \nof Workers]]<>0,(1-I90/$H$17)*100,\"\")","v":""}]
[null,null,49,null,null,null,null,null,{"$f":"IF(Tabelle3[[#This Row],[Number \nof Workers]]<>0,SUM(F91:H91),\"\")","v":""},{"$f":"IF(Tabelle3[[#This Row],[Number \nof Workers]]<>0,(1-I91/$H$17)*100,\"\")","v":""}]
[null,null,50,null,null,null,null,null,{"$f":"IF(Tabelle3[[#This Row],[Number \nof Workers]]<>0,SUM(F92:H92),\"\")","v":""},{"$f":"IF(Tabelle3[[#This Row],[Number \nof Workers]]<>0,(1-I92/$H$17)*100,\"\")","v":""}]
[null,null,51,null,null,null,null,null,{"$f":"IF(Tabelle3[[#This Row],[Number \nof Workers]]<>0,SUM(F93:H93),\"\")","v":""},{"$f":"IF(Tabelle3[[#This Row],[Number \nof Workers]]<>0,(1-I93/$H$17)*100,\"\")","v":""}]
[null,null,52,null,null,null,null,null,{"$f":"IF(Tabelle3[[#This Row],[Number \nof Workers]]<>0,SUM(F94:H94),\"\")","v":""},{"$f":"IF(Tabelle3[[#This Row],[Number \nof Workers]]<>0,(1-I94/$H$17)*100,\"\")","v":""}]
[null,null,53,null,null,null,null,null,{"$f":"IF(Tabelle3[[#This Row],[Number \nof Workers]]<>0,SUM(F95:H95),\"\")","v":""},{"$f":"IF(Tabelle3[[#This Row],[Number \nof Workers]]<>0,(1-I95/$H$17)*100,\"\")","v":""}]
[null,null,54,null,null,null,null,null,{"$f":"IF(Tabelle3[[#This Row],[Number \nof Workers]]<>0,SUM(F96:H96),\"\")","v":""},{"$f":"IF(Tabelle3[[#This Row],[Number \nof Workers]]<>0,(1-I96/$H$17)*100,\"\")","v":""}]
[null,null,55,null,null,null,null,null,{"$f":"IF(Tabelle3[[#This Row],[Number \nof Workers]]<>0,SUM(F97:H97),\"\")","v":""},{"$f":"IF(Tabelle3[[#This Row],[Number \nof Workers]]<>0,(1-I97/$H$17)*100,\"\")","v":""}]
[null,null,56,null,null,null,null,null,{"$f":"IF(Tabelle3[[#This Row],[Number \nof Workers]]<>0,SUM(F98:H98),\"\")","v":""},{"$f":"IF(Tabelle3[[#This Row],[Number \nof Workers]]<>0,(1-I98/$H$17)*100,\"\")","v":""}]
[null,null,57,null,null,null,null,null,{"$f":"IF(Tabelle3[[#This Row],[Number \nof Workers]]<>0,SUM(F99:H99),\"\")","v":""},{"$f":"IF(Tabelle3[[#This Row],[Number \nof Workers]]<>0,(1-I99/$H$17)*100,\"\")","v":""}]
[null,null,58,null,null,null,null,null,{"$f":"IF(Tabelle3[[#This Row],[Number \nof Workers]]<>0,SUM(F100:H100),\"\")","v":""},{"$f":"IF(Tabelle3[[#This Row],[Number \nof Workers]]<>0,(1-I100/$H$17)*100,\"\")","v":""}]
[null,null,59,null,null,null,null,null,{"$f":"IF(Tabelle3[[#This Row],[Number \nof Workers]]<>0,SUM(F101:H101),\"\")","v":""},{"$f":"IF(Tabelle3[[#This Row],[Number \nof Workers]]<>0,(1-I101/$H$17)*100,\"\")","v":""}]
[null,null,60,null,null,null,null,null,{"$f":"IF(Tabelle3[[#This Row],[Number \nof Workers]]<>0,SUM(F102:H102),\"\")","v":""},{"$f":"IF(Tabelle3[[#This Row],[Number \nof Workers]]<>0,(1-I102/$H$17)*100,\"\")","v":""}]
[null,null,61,null,null,null,null,null,{"$f":"IF(Tabelle3[[#This Row],[Number \nof Workers]]<>0,SUM(F103:H103),\"\")","v":""},{"$f":"IF(Tabelle3[[#This Row],[Number \nof Workers]]<>0,(1-I103/$H$17)*100,\"\")","v":""}]
[null,null,62,null,null,null,null,null,{"$f":"IF(Tabelle3[[#This Row],[Number \nof Workers]]<>0,SUM(F104:H104),\"\")","v":""},{"$f":"IF(Tabelle3[[#This Row],[Number \nof Workers]]<>0,(1-I104/$H$17)*100,\"\")","v":""}]
[null,null,63,null,null,null,null,null,{"$f":"IF(Tabelle3[[#This Row],[Number \nof Workers]]<>0,SUM(F105:H105),\"\")","v":""},{"$f":"IF(Tabelle3[[#This Row],[Number \nof Workers]]<>0,(1-I105/$H$17)*100,\"\")","v":""}]
[null,null,64,null,null,null,null,null,{"$f":"IF(Tabelle3[[#This Row],[Number \nof Workers]]<>0,SUM(F106:H106),\"\")","v":""},{"$f":"IF(Tabelle3[[#This Row],[Number \nof Workers]]<>0,(1-I106/$H$17)*100,\"\")","v":""}]
[null,null,65,null,null,null,null,null,{"$f":"IF(Tabelle3[[#This Row],[Number \nof Workers]]<>0,SUM(F107:H107),\"\")","v":""},{"$f":"IF(Tabelle3[[#This Row],[Number \nof Workers]]<>0,(1-I107/$H$17)*100,\"\")","v":""}]
[null,null,66,null,null,null,null,null,{"$f":"IF(Tabelle3[[#This Row],[Number \nof Workers]]<>0,SUM(F108:H108),\"\")","v":""},{"$f":"IF(Tabelle3[[#This Row],[Number \nof Workers]]<>0,(1-I108/$H$17)*100,\"\")","v":""}]
[null,null,67,null,null,null,null,null,{"$f":"IF(Tabelle3[[#This Row],[Number \nof Workers]]<>0,SUM(F109:H109),\"\")","v":""},{"$f":"IF(Tabelle3[[#This Row],[Number \nof Workers]]<>0,(1-I109/$H$17)*100,\"\")","v":""}]
[null,null,68,null,null,null,null,null,{"$f":"IF(Tabelle3[[#This Row],[Number \nof Workers]]<>0,SUM(F110:H110),\"\")","v":""},{"$f":"IF(Tabelle3[[#This Row],[Number \nof Workers]]<>0,(1-I110/$H$17)*100,\"\")","v":""}]
[null,null,69,null,null,null,null,null,{"$f":"IF(Tabelle3[[#This Row],[Number \nof Workers]]<>0,SUM(F111:H111),\"\")","v":""},{"$f":"IF(Tabelle3[[#This Row],[Number \nof Workers]]<>0,(1-I111/$H$17)*100,\"\")","v":""}]
[null,null,70,null,null,null,null,null,{"$f":"IF(Tabelle3[[#This Row],[Number \nof Workers]]<>0,SUM(F112:H112),\"\")","v":""},{"$f":"IF(Tabelle3[[#This Row],[Number \nof Workers]]<>0,(1-I112/$H$17)*100,\"\")","v":""}]
[null,null,71,null,null,null,null,null,{"$f":"IF(Tabelle3[[#This Row],[Number \nof Workers]]<>0,SUM(F113:H113),\"\")","v":""},{"$f":"IF(Tabelle3[[#This Row],[Number \nof Workers]]<>0,(1-I113/$H$17)*100,\"\")","v":""}]
[null,null,72,null,null,null,null,null,{"$f":"IF(Tabelle3[[#This Row],[Number \nof Workers]]<>0,SUM(F114:H114),\"\")","v":""},{"$f":"IF(Tabelle3[[#This Row],[Number \nof Workers]]<>0,(1-I114/$H$17)*100,\"\")","v":""}]
[null,null,73,null,null,null,null,null,{"$f":"IF(Tabelle3[[#This Row],[Number \nof Workers]]<>0,SUM(F115:H115),\"\")","v":""},{"$f":"IF(Tabelle3[[#This Row],[Number \nof Workers]]<>0,(1-I115/$H$17)*100,\"\")","v":""}]
[null,null,74,null,null,null,null,null,{"$f":"IF(Tabelle3[[#This Row],[Number \nof Workers]]<>0,SUM(F116:H116),\"\")","v":""},{"$f":"IF(Tabelle3[[#This Row],[Number \nof Workers]]<>0,(1-I116/$H$17)*100,\"\")","v":""}]
[null,null,75,null,null,null,null,null,{"$f":"IF(Tabelle3[[#This Row],[Number \nof Workers]]<>0,SUM(F117:H117),\"\")","v":""},{"$f":"IF(Tabelle3[[#This Row],[Number \nof Workers]]<>0,(1-I117/$H$17)*100,\"\")","v":""}]
[null,null,76,null,null,null,null,null,{"$f":"IF(Tabelle3[[#This Row],[Number \nof Workers]]<>0,SUM(F118:H118),\"\")","v":""},{"$f":"IF(Tabelle3[[#This Row],[Number \nof Workers]]<>0,(1-I118/$H$17)*100,\"\")","v":""}]
[null,null,77,null,null,null,null,null,{"$f":"IF(Tabelle3[[#This Row],[Number \nof Workers]]<>0,SUM(F119:H119),\"\")","v":""},{"$f":"IF(Tabelle3[[#This Row],[Number \nof Workers]]<>0,(1-I119/$H$17)*100,\"\")","v":""}]
[null,null,78,null,null,null,null,null,{"$f":"IF(Tabelle3[[#This Row],[Number \nof Workers]]<>0,SUM(F120:H120),\"\")","v":""},{"$f":"IF(Tabelle3[[#This Row],[Number \nof Workers]]<>0,(1-I120/$H$17)*100,\"\")","v":""}]
[null,null,79,null,null,null,null,null,{"$f":"IF(Tabelle3[[#This Row],[Number \nof Workers]]<>0,SUM(F121:H121),\"\")","v":""},{"$f":"IF(Tabelle3[[#This Row],[Number \nof Workers]]<>0,(1-I121/$H$17)*100,\"\")","v":""}]
[null,null,80,null,null,null,null,null,{"$f":"IF(Tabelle3[[#This Row],[Number \nof Workers]]<>0,SUM(F122:H122),\"\")","v":""},{"$f":"IF(Tabelle3[[#This Row],[Number \nof Workers]]<>0,(1-I122/$H$17)*100,\"\")","v":""}]
[null,null,81,null,null,null,null,null,{"$f":"IF(Tabelle3[[#This Row],[Number \nof Workers]]<>0,SUM(F123:H123),\"\")","v":""},{"$f":"IF(Tabelle3[[#This Row],[Number \nof Workers]]<>0,(1-I123/$H$17)*100,\"\")","v":""}]
[null,null,82,null,null,null,null,null,{"$f":"IF(Tabelle3[[#This Row],[Number \nof Workers]]<>0,SUM(F124:H124),\"\")","v":""},{"$f":"IF(Tabelle3[[#This Row],[Number \nof Workers]]<>0,(1-I124/$H$17)*100,\"\")","v":""}]
[null,null,83,null,null,null,null,null,{"$f":"IF(Tabelle3[[#This Row],[Number \nof Workers]]<>0,SUM(F125:H125),\"\")","v":""},{"$f":"IF(Tabelle3[[#This Row],[Number \nof Workers]]<>0,(1-I125/$H$17)*100,\"\")","v":""}]
[null,null,84,null,null,null,null,null,{"$f":"IF(Tabelle3[[#This Row],[Number \nof Workers]]<>0,SUM(F126:H126),\"\")","v":""},{"$f":"IF(Tabelle3[[#This Row],[Number \nof Workers]]<>0,(1-I126/$H$17)*100,\"\")","v":""}]
[null,null,85,null,null,null,null,null,{"$f":"IF(Tabelle3[[#This Row],[Number \nof Workers]]<>0,SUM(F127:H127),\"\")","v":""},{"$f":"IF(Tabelle3[[#This Row],[Number \nof Workers]]<>0,(1-I127/$H$17)*100,\"\")","v":""}]
[null,null,86,null,null,null,null,null,{"$f":"IF(Tabelle3[[#This Row],[Number \nof Workers]]<>0,SUM(F128:H128),\"\")","v":""},{"$f":"IF(Tabelle3[[#This Row],[Number \nof Workers]]<>0,(1-I128/$H$17)*100,\"\")","v":""}]
[null,null,87,null,null,null,null,null,{"$f":"IF(Tabelle3[[#This Row],[Number \nof Workers]]<>0,SUM(F129:H129),\"\")","v":""},{"$f":"IF(Tabelle3[[#This Row],[Number \nof Workers]]<>0,(1-I129/$H$17)*100,\"\")","v":""}]
[null,null,88,null,null,null,null,null,{"$f":"IF(Tabelle3[[#This Row],[Number \nof Workers]]<>0,SUM(F130:H130),\"\")","v":""},{"$f":"IF(Tabelle3[[#This Row],[Number \nof Workers]]<>0,(1-I130/$H$17)*100,\"\")","v":""}]
[null,null,89,null,null,null,null,null,{"$f":"IF(Tabelle3[[#This Row],[Number \nof Workers]]<>0,SUM(F131:H131),\"\")","v":""},{"$f":"IF(Tabelle3[[#This Row],[Number \nof Workers]]<>0,(1-I131/$H$17)*100,\"\")","v":""}]
[null,null,90,null,null,null,null,null,{"$f":"IF(Tabelle3[[#This Row],[Number \nof Workers]]<>0,SUM(F132:H132),\"\")","v":""},{"$f":"IF(Tabelle3[[#This Row],[Number \nof Workers]]<>0,(1-I132/$H$17)*100,\"\")","v":""}]
[null,null,91,null,null,null,null,null,{"$f":"IF(Tabelle3[[#This Row],[Number \nof Workers]]<>0,SUM(F133:H133),\"\")","v":""},{"$f":"IF(Tabelle3[[#This Row],[Number \nof Workers]]<>0,(1-I133/$H$17)*100,\"\")","v":""}]
[null,null,92,null,null,null,null,null,{"$f":"IF(Tabelle3[[#This Row],[Number \nof Workers]]<>0,SUM(F134:H134),\"\")","v":""},{"$f":"IF(Tabelle3[[#This Row],[Number \nof Workers]]<>0,(1-I134/$H$17)*100,\"\")","v":""}]
[null,null,93,null,null,null,null,null,{"$f":"IF(Tabelle3[[#This Row],[Number \nof Workers]]<>0,SUM(F135:H135),\"\")","v":""},{"$f":"IF(Tabelle3[[#This Row],[Number \nof Workers]]<>0,(1-I135/$H$17)*100,\"\")","v":""}]
[null,null,94,null,null,null,null,null,{"$f":"IF(Tabelle3[[#This Row],[Number \nof Workers]]<>0,SUM(F136:H136),\"\")","v":""},{"$f":"IF(Tabelle3[[#This Row],[Number \nof Workers]]<>0,(1-I136/$H$17)*100,\"\")","v":""}]
[null,null,95,null,null,null,null,null,{"$f":"IF(Tabelle3[[#This Row],[Number \nof Workers]]<>0,SUM(F137:H137),\"\")","v":""},{"$f":"IF(Tabelle3[[#This Row],[Number \nof Workers]]<>0,(1-I137/$H$17)*100,\"\")","v":""}]
[null,null,96,null,null,null,null,null,{"$f":"IF(Tabelle3[[#This Row],[Number \nof Workers]]<>0,SUM(F138:H138),\"\")","v":""},{"$f":"IF(Tabelle3[[#This Row],[Number \nof Workers]]<>0,(1-I138/$H$17)*100,\"\")","v":""}]
[null,null,97,null,null,null,null,null,{"$f":"IF(Tabelle3[[#This Row],[Number \nof Workers]]<>0,SUM(F139:H139),\"\")","v":""},{"$f":"IF(Tabelle3[[#This Row],[Number \nof Workers]]<>0,(1-I139/$H$17)*100,\"\")","v":""}]
[null,null,98,null,null,null,null,null,{"$f":"IF(Tabelle3[[#This Row],[Number \nof Workers]]<>0,SUM(F140:H140),\"\")","v":""},{"$f":"IF(Tabelle3[[#This Row],[Number \nof Workers]]<>0,(1-I140/$H$17)*100,\"\")","v":""}]
[null,null,99,null,null,null,null,null,{"$f":"IF(Tabelle3[[#This Row],[Number \nof Workers]]<>0,SUM(F141:H141),\"\")","v":""},{"$f":"IF(Tabelle3[[#This Row],[Number \nof Workers]]<>0,(1-I141/$H$17)*100,\"\")","v":""}]
[null,null,100,null,null,null,null,null,{"$f":"IF(Tabelle3[[#This Row],[Number \nof Workers]]<>0,SUM(F142:H142),\"\")","v":""},{"$f":"IF(Tabelle3[[#This Row],[Number \nof Workers]]<>0,(1-I142/$H$17)*100,\"\")","v":""}]
[null,null,101,null,null,null,null,null,{"$f":"IF(Tabelle3[[#This Row],[Number \nof Workers]]<>0,SUM(F143:H143),\"\")","v":""},{"$f":"IF(Tabelle3[[#This Row],[Number \nof Workers]]<>0,(1-I143/$H$17)*100,\"\")","v":""}]
[null,null,102,null,null,null,null,null,{"$f":"IF(Tabelle3[[#This Row],[Number \nof Workers]]<>0,SUM(F144:H144),\"\")","v":""},{"$f":"IF(Tabelle3[[#This Row],[Number \nof Workers]]<>0,(1-I144/$H$17)*100,\"\")","v":""}]
[null,null,103,null,null,null,null,null,{"$f":"IF(Tabelle3[[#This Row],[Number \nof Workers]]<>0,SUM(F145:H145),\"\")","v":""},{"$f":"IF(Tabelle3[[#This Row],[Number \nof Workers]]<>0,(1-I145/$H$17)*100,\"\")","v":""}]
[null,null,104,null,null,null,null,null,{"$f":"IF(Tabelle3[[#This Row],[Number \nof Workers]]<>0,SUM(F146:H146),\"\")","v":""},{"$f":"IF(Tabelle3[[#This Row],[Number \nof Workers]]<>0,(1-I146/$H$17)*100,\"\")","v":""}]
[null,null,105,null,null,null,null,null,{"$f":"IF(Tabelle3[[#This Row],[Number \nof Workers]]<>0,SUM(F147:H147),\"\")","v":""},{"$f":"IF(Tabelle3[[#This Row],[Number \nof Workers]]<>0,(1-I147/$H$17)*100,\"\")","v":""}]
[null,null,106,null,null,null,null,null,{"$f":"IF(Tabelle3[[#This Row],[Number \nof Workers]]<>0,SUM(F148:H148),\"\")","v":""},{"$f":"IF(Tabelle3[[#This Row],[Number \nof Workers]]<>0,(1-I148/$H$17)*100,\"\")","v":""}]
[null,null,107,null,null,null,null,null,{"$f":"IF(Tabelle3[[#This Row],[Number \nof Workers]]<>0,SUM(F149:H149),\"\")","v":""},{"$f":"IF(Tabelle3[[#This Row],[Number \nof Workers]]<>0,(1-I149/$H$17)*100,\"\")","v":""}]
[null,null,108,null,null,null,null,null,{"$f":"IF(Tabelle3[[#This Row],[Number \nof Workers]]<>0,SUM(F150:H150),\"\")","v":""},{"$f":"IF(Tabelle3[[#This Row],[Number \nof Workers]]<>0,(1-I150/$H$17)*100,\"\")","v":""}]
[null,null,109,null,null,null,null,null,{"$f":"IF(Tabelle3[[#This Row],[Number \nof Workers]]<>0,SUM(F151:H151),\"\")","v":""},{"$f":"IF(Tabelle3[[#This Row],[Number \nof Workers]]<>0,(1-I151/$H$17)*100,\"\")","v":""}]
[null,null,110,null,null,null,null,null,{"$f":"IF(Tabelle3[[#This Row],[Number \nof Workers]]<>0,SUM(F152:H152),\"\")","v":""},{"$f":"IF(Tabelle3[[#This Row],[Number \nof Workers]]<>0,(1-I152/$H$17)*100,\"\")","v":""}]
[null,null,111,null,null,null,null,null,{"$f":"IF(Tabelle3[[#This Row],[Number \nof Workers]]<>0,SUM(F153:H153),\"\")","v":""},{"$f":"IF(Tabelle3[[#This Row],[Number \nof Workers]]<>0,(1-I153/$H$17)*100,\"\")","v":""}]
[null,null,112,null,null,null,null,null,{"$f":"IF(Tabelle3[[#This Row],[Number \nof Workers]]<>0,SUM(F154:H154),\"\")","v":""},{"$f":"IF(Tabelle3[[#This Row],[Number \nof Workers]]<>0,(1-I154/$H$17)*100,\"\")","v":""}]
[null,null,113,null,null,null,null,null,{"$f":"IF(Tabelle3[[#This Row],[Number \nof Workers]]<>0,SUM(F155:H155),\"\")","v":""},{"$f":"IF(Tabelle3[[#This Row],[Number \nof Workers]]<>0,(1-I155/$H$17)*100,\"\")","v":""}]
[null,null,114,null,null,null,null,null,{"$f":"IF(Tabelle3[[#This Row],[Number \nof Workers]]<>0,SUM(F156:H156),\"\")","v":""},{"$f":"IF(Tabelle3[[#This Row],[Number \nof Workers]]<>0,(1-I156/$H$17)*100,\"\")","v":""}]
[null,null,115,null,null,null,null,null,{"$f":"IF(Tabelle3[[#This Row],[Number \nof Workers]]<>0,SUM(F157:H157),\"\")","v":""},{"$f":"IF(Tabelle3[[#This Row],[Number \nof Workers]]<>0,(1-I157/$H$17)*100,\"\")","v":""}]
[null,null,116,null,null,null,null,null,{"$f":"IF(Tabelle3[[#This Row],[Number \nof Workers]]<>0,SUM(F158:H158),\"\")","v":""},{"$f":"IF(Tabelle3[[#This Row],[Number \nof Workers]]<>0,(1-I158/$H$17)*100,\"\")","v":""}]
[null,null,117,null,null,null,null,null,{"$f":"IF(Tabelle3[[#This Row],[Number \nof Workers]]<>0,SUM(F159:H159),\"\")","v":""},{"$f":"IF(Tabelle3[[#This Row],[Number \nof Workers]]<>0,(1-I159/$H$17)*100,\"\")","v":""}]
[null,null,118,null,null,null,null,null,{"$f":"IF(Tabelle3[[#This Row],[Number \nof Workers]]<>0,SUM(F160:H160),\"\")","v":""},{"$f":"IF(Tabelle3[[#This Row],[Number \nof Workers]]<>0,(1-I160/$H$17)*100,\"\")","v":""}]
[null,null,119,null,null,null,null,null,{"$f":"IF(Tabelle3[[#This Row],[Number \nof Workers]]<>0,SUM(F161:H161),\"\")","v":""},{"$f":"IF(Tabelle3[[#This Row],[Number \nof Workers]]<>0,(1-I161/$H$17)*100,\"\")","v":""}]
[null,null,120,null,null,null,null,null,{"$f":"IF(Tabelle3[[#This Row],[Number \nof Workers]]<>0,SUM(F162:H162),\"\")","v":""},{"$f":"IF(Tabelle3[[#This Row],[Number \nof Workers]]<>0,(1-I162/$H$17)*100,\"\")","v":""}]
[null,null,121,null,null,null,null,null,{"$f":"IF(Tabelle3[[#This Row],[Number \nof Workers]]<>0,SUM(F163:H163),\"\")","v":""},{"$f":"IF(Tabelle3[[#This Row],[Number \nof Workers]]<>0,(1-I163/$H$17)*100,\"\")","v":""}]
[null,null,122,null,null,null,null,null,{"$f":"IF(Tabelle3[[#This Row],[Number \nof Workers]]<>0,SUM(F164:H164),\"\")","v":""},{"$f":"IF(Tabelle3[[#This Row],[Number \nof Workers]]<>0,(1-I164/$H$17)*100,\"\")","v":""}]
[null,null,123,null,null,null,null,null,{"$f":"IF(Tabelle3[[#This Row],[Number \nof Workers]]<>0,SUM(F165:H165),\"\")","v":""},{"$f":"IF(Tabelle3[[#This Row],[Number \nof Workers]]<>0,(1-I165/$H$17)*100,\"\")","v":""}]
[null,null,124,null,null,null,null,null,{"$f":"IF(Tabelle3[[#This Row],[Number \nof Workers]]<>0,SUM(F166:H166),\"\")","v":""},{"$f":"IF(Tabelle3[[#This Row],[Number \nof Workers]]<>0,(1-I166/$H$17)*100,\"\")","v":""}]
[null,null,125,null,null,null,null,null,{"$f":"IF(Tabelle3[[#This Row],[Number \nof Workers]]<>0,SUM(F167:H167),\"\")","v":""},{"$f":"IF(Tabelle3[[#This Row],[Number \nof Workers]]<>0,(1-I167/$H$17)*100,\"\")","v":""}]
[null,null,126,null,null,null,null,null,{"$f":"IF(Tabelle3[[#This Row],[Number \nof Workers]]<>0,SUM(F168:H168),\"\")","v":""},{"$f":"IF(Tabelle3[[#This Row],[Number \nof Workers]]<>0,(1-I168/$H$17)*100,\"\")","v":""}]
[null,null,127,null,null,null,null,null,{"$f":"IF(Tabelle3[[#This Row],[Number \nof Workers]]<>0,SUM(F169:H169),\"\")","v":""},{"$f":"IF(Tabelle3[[#This Row],[Number \nof Workers]]<>0,(1-I169/$H$17)*100,\"\")","v":""}]
[null,null,128,null,null,null,null,null,{"$f":"IF(Tabelle3[[#This Row],[Number \nof Workers]]<>0,SUM(F170:H170),\"\")","v":""},{"$f":"IF(Tabelle3[[#This Row],[Number \nof Workers]]<>0,(1-I170/$H$17)*100,\"\")","v":""}]
[null,null,129,null,null,null,null,null,{"$f":"IF(Tabelle3[[#This Row],[Number \nof Workers]]<>0,SUM(F171:H171),\"\")","v":""},{"$f":"IF(Tabelle3[[#This Row],[Number \nof Workers]]<>0,(1-I171/$H$17)*100,\"\")","v":""}]
[null,null,130,null,null,null,null,null,{"$f":"IF(Tabelle3[[#This Row],[Number \nof Workers]]<>0,SUM(F172:H172),\"\")","v":""},{"$f":"IF(Tabelle3[[#This Row],[Number \nof Workers]]<>0,(1-I172/$H$17)*100,\"\")","v":""}]
[null,null,131,null,null,null,null,null,{"$f":"IF(Tabelle3[[#This Row],[Number \nof Workers]]<>0,SUM(F173:H173),\"\")","v":""},{"$f":"IF(Tabelle3[[#This Row],[Number \nof Workers]]<>0,(1-I173/$H$17)*100,\"\")","v":""}]
[null,null,132,null,null,null,null,null,{"$f":"IF(Tabelle3[[#This Row],[Number \nof Workers]]<>0,SUM(F174:H174),\"\")","v":""},{"$f":"IF(Tabelle3[[#This Row],[Number \nof Workers]]<>0,(1-I174/$H$17)*100,\"\")","v":""}]
[null,null,133,null,null,null,null,null,{"$f":"IF(Tabelle3[[#This Row],[Number \nof Workers]]<>0,SUM(F175:H175),\"\")","v":""},{"$f":"IF(Tabelle3[[#This Row],[Number \nof Workers]]<>0,(1-I175/$H$17)*100,\"\")","v":""}]
[null,null,134,null,null,null,null,null,{"$f":"IF(Tabelle3[[#This Row],[Number \nof Workers]]<>0,SUM(F176:H176),\"\")","v":""},{"$f":"IF(Tabelle3[[#This Row],[Number \nof Workers]]<>0,(1-I176/$H$17)*100,\"\")","v":""}]
[null,null,135,null,null,null,null,null,{"$f":"IF(Tabelle3[[#This Row],[Number \nof Workers]]<>0,SUM(F177:H177),\"\")","v":""},{"$f":"IF(Tabelle3[[#This Row],[Number \nof Workers]]<>0,(1-I177/$H$17)*100,\"\")","v":""}]
[null,null,136,null,null,null,null,null,{"$f":"IF(Tabelle3[[#This Row],[Number \nof Workers]]<>0,SUM(F178:H178),\"\")","v":""},{"$f":"IF(Tabelle3[[#This Row],[Number \nof Workers]]<>0,(1-I178/$H$17)*100,\"\")","v":""}]
[null,null,137,null,null,null,null,null,{"$f":"IF(Tabelle3[[#This Row],[Number \nof Workers]]<>0,SUM(F179:H179),\"\")","v":""},{"$f":"IF(Tabelle3[[#This Row],[Number \nof Workers]]<>0,(1-I179/$H$17)*100,\"\")","v":""}]
[null,null,138,null,null,null,null,null,{"$f":"IF(Tabelle3[[#This Row],[Number \nof Workers]]<>0,SUM(F180:H180),\"\")","v":""},{"$f":"IF(Tabelle3[[#This Row],[Number \nof Workers]]<>0,(1-I180/$H$17)*100,\"\")","v":""}]
[null,null,139,null,null,null,null,null,{"$f":"IF(Tabelle3[[#This Row],[Number \nof Workers]]<>0,SUM(F181:H181),\"\")","v":""},{"$f":"IF(Tabelle3[[#This Row],[Number \nof Workers]]<>0,(1-I181/$H$17)*100,\"\")","v":""}]
[null,null,140,null,null,null,null,null,{"$f":"IF(Tabelle3[[#This Row],[Number \nof Workers]]<>0,SUM(F182:H182),\"\")","v":""},{"$f":"IF(Tabelle3[[#This Row],[Number \nof Workers]]<>0,(1-I182/$H$17)*100,\"\")","v":""}]
[null,null,141,null,null,null,null,null,{"$f":"IF(Tabelle3[[#This Row],[Number \nof Workers]]<>0,SUM(F183:H183),\"\")","v":""},{"$f":"IF(Tabelle3[[#This Row],[Number \nof Workers]]<>0,(1-I183/$H$17)*100,\"\")","v":""}]
[null,null,142,null,null,null,null,null,{"$f":"IF(Tabelle3[[#This Row],[Number \nof Workers]]<>0,SUM(F184:H184),\"\")","v":""},{"$f":"IF(Tabelle3[[#This Row],[Number \nof Workers]]<>0,(1-I184/$H$17)*100,\"\")","v":""}]
[null,null,143,null,null,null,null,null,{"$f":"IF(Tabelle3[[#This Row],[Number \nof Workers]]<>0,SUM(F185:H185),\"\")","v":""},{"$f":"IF(Tabelle3[[#This Row],[Number \nof Workers]]<>0,(1-I185/$H$17)*100,\"\")","v":""}]
[null,null,144,null,null,null,null,null,{"$f":"IF(Tabelle3[[#This Row],[Number \nof Workers]]<>0,SUM(F186:H186),\"\")","v":""},{"$f":"IF(Tabelle3[[#This Row],[Number \nof Workers]]<>0,(1-I186/$H$17)*100,\"\")","v":""}]
[null,null,145,null,null,null,null,null,{"$f":"IF(Tabelle3[[#This Row],[Number \nof Workers]]<>0,SUM(F187:H187),\"\")","v":""},{"$f":"IF(Tabelle3[[#This Row],[Number \nof Workers]]<>0,(1-I187/$H$17)*100,\"\")","v":""}]
[null,null,146,null,null,null,null,null,{"$f":"IF(Tabelle3[[#This Row],[Number \nof Workers]]<>0,SUM(F188:H188),\"\")","v":""},{"$f":"IF(Tabelle3[[#This Row],[Number \nof Workers]]<>0,(1-I188/$H$17)*100,\"\")","v":""}]
[null,null,147,null,null,null,null,null,{"$f":"IF(Tabelle3[[#This Row],[Number \nof Workers]]<>0,SUM(F189:H189),\"\")","v":""},{"$f":"IF(Tabelle3[[#This Row],[Number \nof Workers]]<>0,(1-I189/$H$17)*100,\"\")","v":""}]
[null,null,148,null,null,null,null,null,{"$f":"IF(Tabelle3[[#This Row],[Number \nof Workers]]<>0,SUM(F190:H190),\"\")","v":""},{"$f":"IF(Tabelle3[[#This Row],[Number \nof Workers]]<>0,(1-I190/$H$17)*100,\"\")","v":""}]
[null,null,149,null,null,null,null,null,{"$f":"IF(Tabelle3[[#This Row],[Number \nof Workers]]<>0,SUM(F191:H191),\"\")","v":""},{"$f":"IF(Tabelle3[[#This Row],[Number \nof Workers]]<>0,(1-I191/$H$17)*100,\"\")","v":""}]
[null,null,150,null,null,null,null,null,{"$f":"IF(Tabelle3[[#This Row],[Number \nof Workers]]<>0,SUM(F192:H192),\"\")","v":""},{"$f":"IF(Tabelle3[[#This Row],[Number \nof Workers]]<>0,(1-I192/$H$17)*100,\"\")","v":""}]
[null,null,151,null,null,null,null,null,{"$f":"IF(Tabelle3[[#This Row],[Number \nof Workers]]<>0,SUM(F193:H193),\"\")","v":""},{"$f":"IF(Tabelle3[[#This Row],[Number \nof Workers]]<>0,(1-I193/$H$17)*100,\"\")","v":""}]
[null,null,152,null,null,null,null,null,{"$f":"IF(Tabelle3[[#This Row],[Number \nof Workers]]<>0,SUM(F194:H194),\"\")","v":""},{"$f":"IF(Tabelle3[[#This Row],[Number \nof Workers]]<>0,(1-I194/$H$17)*100,\"\")","v":""}]
[null,null,153,null,null,null,null,null,{"$f":"IF(Tabelle3[[#This Row],[Number \nof Workers]]<>0,SUM(F195:H195),\"\")","v":""},{"$f":"IF(Tabelle3[[#This Row],[Number \nof Workers]]<>0,(1-I195/$H$17)*100,\"\")","v":""}]
[null,null,154,null,null,null,null,null,{"$f":"IF(Tabelle3[[#This Row],[Number \nof Workers]]<>0,SUM(F196:H196),\"\")","v":""},{"$f":"IF(Tabelle3[[#This Row],[Number \nof Workers]]<>0,(1-I196/$H$17)*100,\"\")","v":""}]
[null,null,155,null,null,null,null,null,{"$f":"IF(Tabelle3[[#This Row],[Number \nof Workers]]<>0,SUM(F197:H197),\"\")","v":""},{"$f":"IF(Tabelle3[[#This Row],[Number \nof Workers]]<>0,(1-I197/$H$17)*100,\"\")","v":""}]
[null,null,156,null,null,null,null,null,{"$f":"IF(Tabelle3[[#This Row],[Number \nof Workers]]<>0,SUM(F198:H198),\"\")","v":""},{"$f":"IF(Tabelle3[[#This Row],[Number \nof Workers]]<>0,(1-I198/$H$17)*100,\"\")","v":""}]
[null,null,157,null,null,null,null,null,{"$f":"IF(Tabelle3[[#This Row],[Number \nof Workers]]<>0,SUM(F199:H199),\"\")","v":""},{"$f":"IF(Tabelle3[[#This Row],[Number \nof Workers]]<>0,(1-I199/$H$17)*100,\"\")","v":""}]
[null,null,158,null,null,null,null,null,{"$f":"IF(Tabelle3[[#This Row],[Number \nof Workers]]<>0,SUM(F200:H200),\"\")","v":""},{"$f":"IF(Tabelle3[[#This Row],[Number \nof Workers]]<>0,(1-I200/$H$17)*100,\"\")","v":""}]
[null,null,159,null,null,null,null,null,{"$f":"IF(Tabelle3[[#This Row],[Number \nof Workers]]<>0,SUM(F201:H201),\"\")","v":""},{"$f":"IF(Tabelle3[[#This Row],[Number \nof Workers]]<>0,(1-I201/$H$17)*100,\"\")","v":""}]
[null,null,160,null,null,null,null,null,{"$f":"IF(Tabelle3[[#This Row],[Number \nof Workers]]<>0,SUM(F202:H202),\"\")","v":""},{"$f":"IF(Tabelle3[[#This Row],[Number \nof Workers]]<>0,(1-I202/$H$17)*100,\"\")","v":""}]
[null,null,161,null,null,null,null,null,{"$f":"IF(Tabelle3[[#This Row],[Number \nof Workers]]<>0,SUM(F203:H203),\"\")","v":""},{"$f":"IF(Tabelle3[[#This Row],[Number \nof Workers]]<>0,(1-I203/$H$17)*100,\"\")","v":""}]
[null,null,162,null,null,null,null,null,{"$f":"IF(Tabelle3[[#This Row],[Number \nof Workers]]<>0,SUM(F204:H204),\"\")","v":""},{"$f":"IF(Tabelle3[[#This Row],[Number \nof Workers]]<>0,(1-I204/$H$17)*100,\"\")","v":""}]
[null,null,163,null,null,null,null,null,{"$f":"IF(Tabelle3[[#This Row],[Number \nof Workers]]<>0,SUM(F205:H205),\"\")","v":""},{"$f":"IF(Tabelle3[[#This Row],[Number \nof Workers]]<>0,(1-I205/$H$17)*100,\"\")","v":""}]
[null,null,164,null,null,null,null,null,{"$f":"IF(Tabelle3[[#This Row],[Number \nof Workers]]<>0,SUM(F206:H206),\"\")","v":""},{"$f":"IF(Tabelle3[[#This Row],[Number \nof Workers]]<>0,(1-I206/$H$17)*100,\"\")","v":""}]
[null,null,165,null,null,null,null,null,{"$f":"IF(Tabelle3[[#This Row],[Number \nof Workers]]<>0,SUM(F207:H207),\"\")","v":""},{"$f":"IF(Tabelle3[[#This Row],[Number \nof Workers]]<>0,(1-I207/$H$17)*100,\"\")","v":""}]
[null,null,166,null,null,null,null,null,{"$f":"IF(Tabelle3[[#This Row],[Number \nof Workers]]<>0,SUM(F208:H208),\"\")","v":""},{"$f":"IF(Tabelle3[[#This Row],[Number \nof Workers]]<>0,(1-I208/$H$17)*100,\"\")","v":""}]
[null,null,167,null,null,null,null,null,{"$f":"IF(Tabelle3[[#This Row],[Number \nof Workers]]<>0,SUM(F209:H209),\"\")","v":""},{"$f":"IF(Tabelle3[[#This Row],[Number \nof Workers]]<>0,(1-I209/$H$17)*100,\"\")","v":""}]
[null,null,168,null,null,null,null,null,{"$f":"IF(Tabelle3[[#This Row],[Number \nof Workers]]<>0,SUM(F210:H210),\"\")","v":""},{"$f":"IF(Tabelle3[[#This Row],[Number \nof Workers]]<>0,(1-I210/$H$17)*100,\"\")","v":""}]
[null,null,169,null,null,null,null,null,{"$f":"IF(Tabelle3[[#This Row],[Number \nof Workers]]<>0,SUM(F211:H211),\"\")","v":""},{"$f":"IF(Tabelle3[[#This Row],[Number \nof Workers]]<>0,(1-I211/$H$17)*100,\"\")","v":""}]
[null,null,170,null,null,null,null,null,{"$f":"IF(Tabelle3[[#This Row],[Number \nof Workers]]<>0,SUM(F212:H212),\"\")","v":""},{"$f":"IF(Tabelle3[[#This Row],[Number \nof Workers]]<>0,(1-I212/$H$17)*100,\"\")","v":""}]
[null,null,171,null,null,null,null,null,{"$f":"IF(Tabelle3[[#This Row],[Number \nof Workers]]<>0,SUM(F213:H213),\"\")","v":""},{"$f":"IF(Tabelle3[[#This Row],[Number \nof Workers]]<>0,(1-I213/$H$17)*100,\"\")","v":""}]
[null,null,172,null,null,null,null,null,{"$f":"IF(Tabelle3[[#This Row],[Number \nof Workers]]<>0,SUM(F214:H214),\"\")","v":""},{"$f":"IF(Tabelle3[[#This Row],[Number \nof Workers]]<>0,(1-I214/$H$17)*100,\"\")","v":""}]
[null,null,173,null,null,null,null,null,{"$f":"IF(Tabelle3[[#This Row],[Number \nof Workers]]<>0,SUM(F215:H215),\"\")","v":""},{"$f":"IF(Tabelle3[[#This Row],[Number \nof Workers]]<>0,(1-I215/$H$17)*100,\"\")","v":""}]
[null,null,174,null,null,null,null,null,{"$f":"IF(Tabelle3[[#This Row],[Number \nof Workers]]<>0,SUM(F216:H216),\"\")","v":""},{"$f":"IF(Tabelle3[[#This Row],[Number \nof Workers]]<>0,(1-I216/$H$17)*100,\"\")","v":""}]
[null,null,175,null,null,null,null,null,{"$f":"IF(Tabelle3[[#This Row],[Number \nof Workers]]<>0,SUM(F217:H217),\"\")","v":""},{"$f":"IF(Tabelle3[[#This Row],[Number \nof Workers]]<>0,(1-I217/$H$17)*100,\"\")","v":""}]
[null,null,176,null,null,null,null,null,{"$f":"IF(Tabelle3[[#This Row],[Number \nof Workers]]<>0,SUM(F218:H218),\"\")","v":""},{"$f":"IF(Tabelle3[[#This Row],[Number \nof Workers]]<>0,(1-I218/$H$17)*100,\"\")","v":""}]
[null,null,177,null,null,null,null,null,{"$f":"IF(Tabelle3[[#This Row],[Number \nof Workers]]<>0,SUM(F219:H219),\"\")","v":""},{"$f":"IF(Tabelle3[[#This Row],[Number \nof Workers]]<>0,(1-I219/$H$17)*100,\"\")","v":""}]
[null,null,178,null,null,null,null,null,{"$f":"IF(Tabelle3[[#This Row],[Number \nof Workers]]<>0,SUM(F220:H220),\"\")","v":""},{"$f":"IF(Tabelle3[[#This Row],[Number \nof Workers]]<>0,(1-I220/$H$17)*100,\"\")","v":""}]
[null,null,179,null,null,null,null,null,{"$f":"IF(Tabelle3[[#This Row],[Number \nof Workers]]<>0,SUM(F221:H221),\"\")","v":""},{"$f":"IF(Tabelle3[[#This Row],[Number \nof Workers]]<>0,(1-I221/$H$17)*100,\"\")","v":""}]
[null,null,180,null,null,null,null,null,{"$f":"IF(Tabelle3[[#This Row],[Number \nof Workers]]<>0,SUM(F222:H222),\"\")","v":""},{"$f":"IF(Tabelle3[[#This Row],[Number \nof Workers]]<>0,(1-I222/$H$17)*100,\"\")","v":""}]
[null,null,181,null,null,null,null,null,{"$f":"IF(Tabelle3[[#This Row],[Number \nof Workers]]<>0,SUM(F223:H223),\"\")","v":""},{"$f":"IF(Tabelle3[[#This Row],[Number \nof Workers]]<>0,(1-I223/$H$17)*100,\"\")","v":""}]
[null,null,182,null,null,null,null,null,{"$f":"IF(Tabelle3[[#This Row],[Number \nof Workers]]<>0,SUM(F224:H224),\"\")","v":""},{"$f":"IF(Tabelle3[[#This Row],[Number \nof Workers]]<>0,(1-I224/$H$17)*100,\"\")","v":""}]
[null,null,183,null,null,null,null,null,{"$f":"IF(Tabelle3[[#This Row],[Number \nof Workers]]<>0,SUM(F225:H225),\"\")","v":""},{"$f":"IF(Tabelle3[[#This Row],[Number \nof Workers]]<>0,(1-I225/$H$17)*100,\"\")","v":""}]
[null,null,184,null,null,null,null,null,{"$f":"IF(Tabelle3[[#This Row],[Number \nof Workers]]<>0,SUM(F226:H226),\"\")","v":""},{"$f":"IF(Tabelle3[[#This Row],[Number \nof Workers]]<>0,(1-I226/$H$17)*100,\"\")","v":""}]
[null,null,185,null,null,null,null,null,{"$f":"IF(Tabelle3[[#This Row],[Number \nof Workers]]<>0,SUM(F227:H227),\"\")","v":""},{"$f":"IF(Tabelle3[[#This Row],[Number \nof Workers]]<>0,(1-I227/$H$17)*100,\"\")","v":""}]
[null,null,186,null,null,null,null,null,{"$f":"IF(Tabelle3[[#This Row],[Number \nof Workers]]<>0,SUM(F228:H228),\"\")","v":""},{"$f":"IF(Tabelle3[[#This Row],[Number \nof Workers]]<>0,(1-I228/$H$17)*100,\"\")","v":""}]
[null,null,187,null,null,null,null,null,{"$f":"IF(Tabelle3[[#This Row],[Number \nof Workers]]<>0,SUM(F229:H229),\"\")","v":""},{"$f":"IF(Tabelle3[[#This Row],[Number \nof Workers]]<>0,(1-I229/$H$17)*100,\"\")","v":""}]
[null,null,188,null,null,null,null,null,{"$f":"IF(Tabelle3[[#This Row],[Number \nof Workers]]<>0,SUM(F230:H230),\"\")","v":""},{"$f":"IF(Tabelle3[[#This Row],[Number \nof Workers]]<>0,(1-I230/$H$17)*100,\"\")","v":""}]
[null,null,189,null,null,null,null,null,{"$f":"IF(Tabelle3[[#This Row],[Number \nof Workers]]<>0,SUM(F231:H231),\"\")","v":""},{"$f":"IF(Tabelle3[[#This Row],[Number \nof Workers]]<>0,(1-I231/$H$17)*100,\"\")","v":""}]
[null,null,190,null,null,null,null,null,{"$f":"IF(Tabelle3[[#This Row],[Number \nof Workers]]<>0,SUM(F232:H232),\"\")","v":""},{"$f":"IF(Tabelle3[[#This Row],[Number \nof Workers]]<>0,(1-I232/$H$17)*100,\"\")","v":""}]
[null,null,191,null,null,null,null,null,{"$f":"IF(Tabelle3[[#This Row],[Number \nof Workers]]<>0,SUM(F233:H233),\"\")","v":""},{"$f":"IF(Tabelle3[[#This Row],[Number \nof Workers]]<>0,(1-I233/$H$17)*100,\"\")","v":""}]
[null,null,192,null,null,null,null,null,{"$f":"IF(Tabelle3[[#This Row],[Number \nof Workers]]<>0,SUM(F234:H234),\"\")","v":""},{"$f":"IF(Tabelle3[[#This Row],[Number \nof Workers]]<>0,(1-I234/$H$17)*100,\"\")","v":""}]
[null,null,193,null,null,null,null,null,{"$f":"IF(Tabelle3[[#This Row],[Number \nof Workers]]<>0,SUM(F235:H235),\"\")","v":""},{"$f":"IF(Tabelle3[[#This Row],[Number \nof Workers]]<>0,(1-I235/$H$17)*100,\"\")","v":""}]
[null,null,194,null,null,null,null,null,{"$f":"IF(Tabelle3[[#This Row],[Number \nof Workers]]<>0,SUM(F236:H236),\"\")","v":""},{"$f":"IF(Tabelle3[[#This Row],[Number \nof Workers]]<>0,(1-I236/$H$17)*100,\"\")","v":""}]
[null,null,195,null,null,null,null,null,{"$f":"IF(Tabelle3[[#This Row],[Number \nof Workers]]<>0,SUM(F237:H237),\"\")","v":""},{"$f":"IF(Tabelle3[[#This Row],[Number \nof Workers]]<>0,(1-I237/$H$17)*100,\"\")","v":""}]
[null,null,196,null,null,null,null,null,{"$f":"IF(Tabelle3[[#This Row],[Number \nof Workers]]<>0,SUM(F238:H238),\"\")","v":""},{"$f":"IF(Tabelle3[[#This Row],[Number \nof Workers]]<>0,(1-I238/$H$17)*100,\"\")","v":""}]
[null,null,197,null,null,null,null,null,{"$f":"IF(Tabelle3[[#This Row],[Number \nof Workers]]<>0,SUM(F239:H239),\"\")","v":""},{"$f":"IF(Tabelle3[[#This Row],[Number \nof Workers]]<>0,(1-I239/$H$17)*100,\"\")","v":""}]
[null,null,198,null,null,null,null,null,{"$f":"IF(Tabelle3[[#This Row],[Number \nof Workers]]<>0,SUM(F240:H240),\"\")","v":""},{"$f":"IF(Tabelle3[[#This Row],[Number \nof Workers]]<>0,(1-I240/$H$17)*100,\"\")","v":""}]
[null,null,199,null,null,null,null,null,{"$f":"IF(Tabelle3[[#This Row],[Number \nof Workers]]<>0,SUM(F241:H241),\"\")","v":""},{"$f":"IF(Tabelle3[[#This Row],[Number \nof Workers]]<>0,(1-I241/$H$17)*100,\"\")","v":""}]
[null,null,200,null,null,null,null,null,{"$f":"IF(Tabelle3[[#This Row],[Number \nof Workers]]<>0,SUM(F242:H242),\"\")","v":""},{"$f":"IF(Tabelle3[[#This Row],[Number \nof Workers]]<>0,(1-I242/$H$17)*100,\"\")","v":""}]
[null,null,201,null,null,null,null,null,{"$f":"IF(Tabelle3[[#This Row],[Number \nof Workers]]<>0,SUM(F243:H243),\"\")","v":""},{"$f":"IF(Tabelle3[[#This Row],[Number \nof Workers]]<>0,(1-I243/$H$17)*100,\"\")","v":""}]
[null,null,202,null,null,null,null,null,{"$f":"IF(Tabelle3[[#This Row],[Number \nof Workers]]<>0,SUM(F244:H244),\"\")","v":""},{"$f":"IF(Tabelle3[[#This Row],[Number \nof Workers]]<>0,(1-I244/$H$17)*100,\"\")","v":""}]
[null,null,203,null,null,null,null,null,{"$f":"IF(Tabelle3[[#This Row],[Number \nof Workers]]<>0,SUM(F245:H245),\"\")","v":""},{"$f":"IF(Tabelle3[[#This Row],[Number \nof Workers]]<>0,(1-I245/$H$17)*100,\"\")","v":""}]
[null,null,204,null,null,null,null,null,{"$f":"IF(Tabelle3[[#This Row],[Number \nof Workers]]<>0,SUM(F246:H246),\"\")","v":""},{"$f":"IF(Tabelle3[[#This Row],[Number \nof Workers]]<>0,(1-I246/$H$17)*100,\"\")","v":""}]
[null,null,205,null,null,null,null,null,{"$f":"IF(Tabelle3[[#This Row],[Number \nof Workers]]<>0,SUM(F247:H247),\"\")","v":""},{"$f":"IF(Tabelle3[[#This Row],[Number \nof Workers]]<>0,(1-I247/$H$17)*100,\"\")","v":""}]
[null,null,206,null,null,null,null,null,{"$f":"IF(Tabelle3[[#This Row],[Number \nof Workers]]<>0,SUM(F248:H248),\"\")","v":""},{"$f":"IF(Tabelle3[[#This Row],[Number \nof Workers]]<>0,(1-I248/$H$17)*100,\"\")","v":""}]
[null,null,207,null,null,null,null,null,{"$f":"IF(Tabelle3[[#This Row],[Number \nof Workers]]<>0,SUM(F249:H249),\"\")","v":""},{"$f":"IF(Tabelle3[[#This Row],[Number \nof Workers]]<>0,(1-I249/$H$17)*100,\"\")","v":""}]
[null,null,208,null,null,null,null,null,{"$f":"IF(Tabelle3[[#This Row],[Number \nof Workers]]<>0,SUM(F250:H250),\"\")","v":""},{"$f":"IF(Tabelle3[[#This Row],[Number \nof Workers]]<>0,(1-I250/$H$17)*100,\"\")","v":""}]
[null,null,209,null,null,null,null,null,{"$f":"IF(Tabelle3[[#This Row],[Number \nof Workers]]<>0,SUM(F251:H251),\"\")","v":""},{"$f":"IF(Tabelle3[[#This Row],[Number \nof Workers]]<>0,(1-I251/$H$17)*100,\"\")","v":""}]
[null,null,210,null,null,null,null,null,{"$f":"IF(Tabelle3[[#This Row],[Number \nof Workers]]<>0,SUM(F252:H252),\"\")","v":""},{"$f":"IF(Tabelle3[[#This Row],[Number \nof Workers]]<>0,(1-I252/$H$17)*100,\"\")","v":""}]
[null,null,211,null,null,null,null,null,{"$f":"IF(Tabelle3[[#This Row],[Number \nof Workers]]<>0,SUM(F253:H253),\"\")","v":""},{"$f":"IF(Tabelle3[[#This Row],[Number \nof Workers]]<>0,(1-I253/$H$17)*100,\"\")","v":""}]
[null,null,212,null,null,null,null,null,{"$f":"IF(Tabelle3[[#This Row],[Number \nof Workers]]<>0,SUM(F254:H254),\"\")","v":""},{"$f":"IF(Tabelle3[[#This Row],[Number \nof Workers]]<>0,(1-I254/$H$17)*100,\"\")","v":""}]
[null,null,213,null,null,null,null,null,{"$f":"IF(Tabelle3[[#This Row],[Number \nof Workers]]<>0,SUM(F255:H255),\"\")","v":""},{"$f":"IF(Tabelle3[[#This Row],[Number \nof Workers]]<>0,(1-I255/$H$17)*100,\"\")","v":""}]
[null,null,214,null,null,null,null,null,{"$f":"IF(Tabelle3[[#This Row],[Number \nof Workers]]<>0,SUM(F256:H256),\"\")","v":""},{"$f":"IF(Tabelle3[[#This Row],[Number \nof Workers]]<>0,(1-I256/$H$17)*100,\"\")","v":""}]
[null,null,215,null,null,null,null,null,{"$f":"IF(Tabelle3[[#This Row],[Number \nof Workers]]<>0,SUM(F257:H257),\"\")","v":""},{"$f":"IF(Tabelle3[[#This Row],[Number \nof Workers]]<>0,(1-I257/$H$17)*100,\"\")","v":""}]
[null,null,216,null,null,null,null,null,{"$f":"IF(Tabelle3[[#This Row],[Number \nof Workers]]<>0,SUM(F258:H258),\"\")","v":""},{"$f":"IF(Tabelle3[[#This Row],[Number \nof Workers]]<>0,(1-I258/$H$17)*100,\"\")","v":""}]
[null,null,217,null,null,null,null,null,{"$f":"IF(Tabelle3[[#This Row],[Number \nof Workers]]<>0,SUM(F259:H259),\"\")","v":""},{"$f":"IF(Tabelle3[[#This Row],[Number \nof Workers]]<>0,(1-I259/$H$17)*100,\"\")","v":""}]
[null,null,218,null,null,null,null,null,{"$f":"IF(Tabelle3[[#This Row],[Number \nof Workers]]<>0,SUM(F260:H260),\"\")","v":""},{"$f":"IF(Tabelle3[[#This Row],[Number \nof Workers]]<>0,(1-I260/$H$17)*100,\"\")","v":""}]
[null,null,219,null,null,null,null,null,{"$f":"IF(Tabelle3[[#This Row],[Number \nof Workers]]<>0,SUM(F261:H261),\"\")","v":""},{"$f":"IF(Tabelle3[[#This Row],[Number \nof Workers]]<>0,(1-I261/$H$17)*100,\"\")","v":""}]
[null,null,220,null,null,null,null,null,{"$f":"IF(Tabelle3[[#This Row],[Number \nof Workers]]<>0,SUM(F262:H262),\"\")","v":""},{"$f":"IF(Tabelle3[[#This Row],[Number \nof Workers]]<>0,(1-I262/$H$17)*100,\"\")","v":""}]
[null,null,221,null,null,null,null,null,{"$f":"IF(Tabelle3[[#This Row],[Number \nof Workers]]<>0,SUM(F263:H263),\"\")","v":""},{"$f":"IF(Tabelle3[[#This Row],[Number \nof Workers]]<>0,(1-I263/$H$17)*100,\"\")","v":""}]
[null,null,222,null,null,null,null,null,{"$f":"IF(Tabelle3[[#This Row],[Number \nof Workers]]<>0,SUM(F264:H264),\"\")","v":""},{"$f":"IF(Tabelle3[[#This Row],[Number \nof Workers]]<>0,(1-I264/$H$17)*100,\"\")","v":""}]
[null,null,223,null,null,null,null,null,{"$f":"IF(Tabelle3[[#This Row],[Number \nof Workers]]<>0,SUM(F265:H265),\"\")","v":""},{"$f":"IF(Tabelle3[[#This Row],[Number \nof Workers]]<>0,(1-I265/$H$17)*100,\"\")","v":""}]
[null,null,224,null,null,null,null,null,{"$f":"IF(Tabelle3[[#This Row],[Number \nof Workers]]<>0,SUM(F266:H266),\"\")","v":""},{"$f":"IF(Tabelle3[[#This Row],[Number \nof Workers]]<>0,(1-I266/$H$17)*100,\"\")","v":""}]
[null,null,225,null,null,null,null,null,{"$f":"IF(Tabelle3[[#This Row],[Number \nof Workers]]<>0,SUM(F267:H267),\"\")","v":""},{"$f":"IF(Tabelle3[[#This Row],[Number \nof Workers]]<>0,(1-I267/$H$17)*100,\"\")","v":""}]
[null,null,226,null,null,null,null,null,{"$f":"IF(Tabelle3[[#This Row],[Number \nof Workers]]<>0,SUM(F268:H268),\"\")","v":""},{"$f":"IF(Tabelle3[[#This Row],[Number \nof Workers]]<>0,(1-I268/$H$17)*100,\"\")","v":""}]
[null,null,227,null,null,null,null,null,{"$f":"IF(Tabelle3[[#This Row],[Number \nof Workers]]<>0,SUM(F269:H269),\"\")","v":""},{"$f":"IF(Tabelle3[[#This Row],[Number \nof Workers]]<>0,(1-I269/$H$17)*100,\"\")","v":""}]
[null,null,228,null,null,null,null,null,{"$f":"IF(Tabelle3[[#This Row],[Number \nof Workers]]<>0,SUM(F270:H270),\"\")","v":""},{"$f":"IF(Tabelle3[[#This Row],[Number \nof Workers]]<>0,(1-I270/$H$17)*100,\"\")","v":""}]
[null,null,229,null,null,null,null,null,{"$f":"IF(Tabelle3[[#This Row],[Number \nof Workers]]<>0,SUM(F271:H271),\"\")","v":""},{"$f":"IF(Tabelle3[[#This Row],[Number \nof Workers]]<>0,(1-I271/$H$17)*100,\"\")","v":""}]
[null,null,230,null,null,null,null,null,{"$f":"IF(Tabelle3[[#This Row],[Number \nof Workers]]<>0,SUM(F272:H272),\"\")","v":""},{"$f":"IF(Tabelle3[[#This Row],[Number \nof Workers]]<>0,(1-I272/$H$17)*100,\"\")","v":""}]
[null,null,231,null,null,null,null,null,{"$f":"IF(Tabelle3[[#This Row],[Number \nof Workers]]<>0,SUM(F273:H273),\"\")","v":""},{"$f":"IF(Tabelle3[[#This Row],[Number \nof Workers]]<>0,(1-I273/$H$17)*100,\"\")","v":""}]
[null,null,232,null,null,null,null,null,{"$f":"IF(Tabelle3[[#This Row],[Number \nof Workers]]<>0,SUM(F274:H274),\"\")","v":""},{"$f":"IF(Tabelle3[[#This Row],[Number \nof Workers]]<>0,(1-I274/$H$17)*100,\"\")","v":""}]
[null,null,233,null,null,null,null,null,{"$f":"IF(Tabelle3[[#This Row],[Number \nof Workers]]<>0,SUM(F275:H275),\"\")","v":""},{"$f":"IF(Tabelle3[[#This Row],[Number \nof Workers]]<>0,(1-I275/$H$17)*100,\"\")","v":""}]
[null,null,234,null,null,null,null,null,{"$f":"IF(Tabelle3[[#This Row],[Number \nof Workers]]<>0,SUM(F276:H276),\"\")","v":""},{"$f":"IF(Tabelle3[[#This Row],[Number \nof Workers]]<>0,(1-I276/$H$17)*100,\"\")","v":""}]
[null,null,235,null,null,null,null,null,{"$f":"IF(Tabelle3[[#This Row],[Number \nof Workers]]<>0,SUM(F277:H277),\"\")","v":""},{"$f":"IF(Tabelle3[[#This Row],[Number \nof Workers]]<>0,(1-I277/$H$17)*100,\"\")","v":""}]
[null,null,236,null,null,null,null,null,{"$f":"IF(Tabelle3[[#This Row],[Number \nof Workers]]<>0,SUM(F278:H278),\"\")","v":""},{"$f":"IF(Tabelle3[[#This Row],[Number \nof Workers]]<>0,(1-I278/$H$17)*100,\"\")","v":""}]
[null,null,237,null,null,null,null,null,{"$f":"IF(Tabelle3[[#This Row],[Number \nof Workers]]<>0,SUM(F279:H279),\"\")","v":""},{"$f":"IF(Tabelle3[[#This Row],[Number \nof Workers]]<>0,(1-I279/$H$17)*100,\"\")","v":""}]
[null,null,238,null,null,null,null,null,{"$f":"IF(Tabelle3[[#This Row],[Number \nof Workers]]<>0,SUM(F280:H280),\"\")","v":""},{"$f":"IF(Tabelle3[[#This Row],[Number \nof Workers]]<>0,(1-I280/$H$17)*100,\"\")","v":""}]
[null,null,239,null,null,null,null,null,{"$f":"IF(Tabelle3[[#This Row],[Number \nof Workers]]<>0,SUM(F281:H281),\"\")","v":""},{"$f":"IF(Tabelle3[[#This Row],[Number \nof Workers]]<>0,(1-I281/$H$17)*100,\"\")","v":""}]
[null,null,240,null,null,null,null,null,{"$f":"IF(Tabelle3[[#This Row],[Number \nof Workers]]<>0,SUM(F282:H282),\"\")","v":""},{"$f":"IF(Tabelle3[[#This Row],[Number \nof Workers]]<>0,(1-I282/$H$17)*100,\"\")","v":""}]
[null,null,241,null,null,null,null,null,{"$f":"IF(Tabelle3[[#This Row],[Number \nof Workers]]<>0,SUM(F283:H283),\"\")","v":""},{"$f":"IF(Tabelle3[[#This Row],[Number \nof Workers]]<>0,(1-I283/$H$17)*100,\"\")","v":""}]
[null,null,242,null,null,null,null,null,{"$f":"IF(Tabelle3[[#This Row],[Number \nof Workers]]<>0,SUM(F284:H284),\"\")","v":""},{"$f":"IF(Tabelle3[[#This Row],[Number \nof Workers]]<>0,(1-I284/$H$17)*100,\"\")","v":""}]
[null,null,243,null,null,null,null,null,{"$f":"IF(Tabelle3[[#This Row],[Number \nof Workers]]<>0,SUM(F285:H285),\"\")","v":""},{"$f":"IF(Tabelle3[[#This Row],[Number \nof Workers]]<>0,(1-I285/$H$17)*100,\"\")","v":""}]
[null,null,244,null,null,null,null,null,{"$f":"IF(Tabelle3[[#This Row],[Number \nof Workers]]<>0,SUM(F286:H286),\"\")","v":""},{"$f":"IF(Tabelle3[[#This Row],[Number \nof Workers]]<>0,(1-I286/$H$17)*100,\"\")","v":""}]
[null,null,245,null,null,null,null,null,{"$f":"IF(Tabelle3[[#This Row],[Number \nof Workers]]<>0,SUM(F287:H287),\"\")","v":""},{"$f":"IF(Tabelle3[[#This Row],[Number \nof Workers]]<>0,(1-I287/$H$17)*100,\"\")","v":""}]
[null,null,246,null,null,null,null,null,{"$f":"IF(Tabelle3[[#This Row],[Number \nof Workers]]<>0,SUM(F288:H288),\"\")","v":""},{"$f":"IF(Tabelle3[[#This Row],[Number \nof Workers]]<>0,(1-I288/$H$17)*100,\"\")","v":""}]
[null,null,247,null,null,null,null,null,{"$f":"IF(Tabelle3[[#This Row],[Number \nof Workers]]<>0,SUM(F289:H289),\"\")","v":""},{"$f":"IF(Tabelle3[[#This Row],[Number \nof Workers]]<>0,(1-I289/$H$17)*100,\"\")","v":""}]
[null,null,248,null,null,null,null,null,{"$f":"IF(Tabelle3[[#This Row],[Number \nof Workers]]<>0,SUM(F290:H290),\"\")","v":""},{"$f":"IF(Tabelle3[[#This Row],[Number \nof Workers]]<>0,(1-I290/$H$17)*100,\"\")","v":""}]
[null,null,249,null,null,null,null,null,{"$f":"IF(Tabelle3[[#This Row],[Number \nof Workers]]<>0,SUM(F291:H291),\"\")","v":""},{"$f":"IF(Tabelle3[[#This Row],[Number \nof Workers]]<>0,(1-I291/$H$17)*100,\"\")","v":""}]
[null,null,250,null,null,null,null,null,{"$f":"IF(Tabelle3[[#This Row],[Number \nof Workers]]<>0,SUM(F292:H292),\"\")","v":""},{"$f":"IF(Tabelle3[[#This Row],[Number \nof Workers]]<>0,(1-I292/$H$17)*100,\"\")","v":""}]
[null,null,251,null,null,null,null,null,{"$f":"IF(Tabelle3[[#This Row],[Number \nof Workers]]<>0,SUM(F293:H293),\"\")","v":""},{"$f":"IF(Tabelle3[[#This Row],[Number \nof Workers]]<>0,(1-I293/$H$17)*100,\"\")","v":""}]
[null,null,252,null,null,null,null,null,{"$f":"IF(Tabelle3[[#This Row],[Number \nof Workers]]<>0,SUM(F294:H294),\"\")","v":""},{"$f":"IF(Tabelle3[[#This Row],[Number \nof Workers]]<>0,(1-I294/$H$17)*100,\"\")","v":""}]
[null,null,253,null,null,null,null,null,{"$f":"IF(Tabelle3[[#This Row],[Number \nof Workers]]<>0,SUM(F295:H295),\"\")","v":""},{"$f":"IF(Tabelle3[[#This Row],[Number \nof Workers]]<>0,(1-I295/$H$17)*100,\"\")","v":""}]
[null,null,254,null,null,null,null,null,{"$f":"IF(Tabelle3[[#This Row],[Number \nof Workers]]<>0,SUM(F296:H296),\"\")","v":""},{"$f":"IF(Tabelle3[[#This Row],[Number \nof Workers]]<>0,(1-I296/$H$17)*100,\"\")","v":""}]
[null,null,255,null,null,null,null,null,{"$f":"IF(Tabelle3[[#This Row],[Number \nof Workers]]<>0,SUM(F297:H297),\"\")","v":""},{"$f":"IF(Tabelle3[[#This Row],[Number \nof Workers]]<>0,(1-I297/$H$17)*100,\"\")","v":""}]
[null,null,256,null,null,null,null,null,{"$f":"IF(Tabelle3[[#This Row],[Number \nof Workers]]<>0,SUM(F298:H298),\"\")","v":""},{"$f":"IF(Tabelle3[[#This Row],[Number \nof Workers]]<>0,(1-I298/$H$17)*100,\"\")","v":""}]
[null,null,257,null,null,null,null,null,{"$f":"IF(Tabelle3[[#This Row],[Number \nof Workers]]<>0,SUM(F299:H299),\"\")","v":""},{"$f":"IF(Tabelle3[[#This Row],[Number \nof Workers]]<>0,(1-I299/$H$17)*100,\"\")","v":""}]
[null,null,258,null,null,null,null,null,{"$f":"IF(Tabelle3[[#This Row],[Number \nof Workers]]<>0,SUM(F300:H300),\"\")","v":""},{"$f":"IF(Tabelle3[[#This Row],[Number \nof Workers]]<>0,(1-I300/$H$17)*100,\"\")","v":""}]
[null,null,259,null,null,null,null,null,{"$f":"IF(Tabelle3[[#This Row],[Number \nof Workers]]<>0,SUM(F301:H301),\"\")","v":""},{"$f":"IF(Tabelle3[[#This Row],[Number \nof Workers]]<>0,(1-I301/$H$17)*100,\"\")","v":""}]
[null,null,260,null,null,null,null,null,{"$f":"IF(Tabelle3[[#This Row],[Number \nof Workers]]<>0,SUM(F302:H302),\"\")","v":""},{"$f":"IF(Tabelle3[[#This Row],[Number \nof Workers]]<>0,(1-I302/$H$17)*100,\"\")","v":""}]
[null,null,261,null,null,null,null,null,{"$f":"IF(Tabelle3[[#This Row],[Number \nof Workers]]<>0,SUM(F303:H303),\"\")","v":""},{"$f":"IF(Tabelle3[[#This Row],[Number \nof Workers]]<>0,(1-I303/$H$17)*100,\"\")","v":""}]
[null,null,262,null,null,null,null,null,{"$f":"IF(Tabelle3[[#This Row],[Number \nof Workers]]<>0,SUM(F304:H304),\"\")","v":""},{"$f":"IF(Tabelle3[[#This Row],[Number \nof Workers]]<>0,(1-I304/$H$17)*100,\"\")","v":""}]
[null,null,263,null,null,null,null,null,{"$f":"IF(Tabelle3[[#This Row],[Number \nof Workers]]<>0,SUM(F305:H305),\"\")","v":""},{"$f":"IF(Tabelle3[[#This Row],[Number \nof Workers]]<>0,(1-I305/$H$17)*100,\"\")","v":""}]
[null,null,264,null,null,null,null,null,{"$f":"IF(Tabelle3[[#This Row],[Number \nof Workers]]<>0,SUM(F306:H306),\"\")","v":""},{"$f":"IF(Tabelle3[[#This Row],[Number \nof Workers]]<>0,(1-I306/$H$17)*100,\"\")","v":""}]
[null,null,265,null,null,null,null,null,{"$f":"IF(Tabelle3[[#This Row],[Number \nof Workers]]<>0,SUM(F307:H307),\"\")","v":""},{"$f":"IF(Tabelle3[[#This Row],[Number \nof Workers]]<>0,(1-I307/$H$17)*100,\"\")","v":""}]
[null,null,266,null,null,null,null,null,{"$f":"IF(Tabelle3[[#This Row],[Number \nof Workers]]<>0,SUM(F308:H308),\"\")","v":""},{"$f":"IF(Tabelle3[[#This Row],[Number \nof Workers]]<>0,(1-I308/$H$17)*100,\"\")","v":""}]
[null,null,267,null,null,null,null,null,{"$f":"IF(Tabelle3[[#This Row],[Number \nof Workers]]<>0,SUM(F309:H309),\"\")","v":""},{"$f":"IF(Tabelle3[[#This Row],[Number \nof Workers]]<>0,(1-I309/$H$17)*100,\"\")","v":""}]
[null,null,268,null,null,null,null,null,{"$f":"IF(Tabelle3[[#This Row],[Number \nof Workers]]<>0,SUM(F310:H310),\"\")","v":""},{"$f":"IF(Tabelle3[[#This Row],[Number \nof Workers]]<>0,(1-I310/$H$17)*100,\"\")","v":""}]
[null,null,269,null,null,null,null,null,{"$f":"IF(Tabelle3[[#This Row],[Number \nof Workers]]<>0,SUM(F311:H311),\"\")","v":""},{"$f":"IF(Tabelle3[[#This Row],[Number \nof Workers]]<>0,(1-I311/$H$17)*100,\"\")","v":""}]
[null,null,270,null,null,null,null,null,{"$f":"IF(Tabelle3[[#This Row],[Number \nof Workers]]<>0,SUM(F312:H312),\"\")","v":""},{"$f":"IF(Tabelle3[[#This Row],[Number \nof Workers]]<>0,(1-I312/$H$17)*100,\"\")","v":""}]
[null,null,271,null,null,null,null,null,{"$f":"IF(Tabelle3[[#This Row],[Number \nof Workers]]<>0,SUM(F313:H313),\"\")","v":""},{"$f":"IF(Tabelle3[[#This Row],[Number \nof Workers]]<>0,(1-I313/$H$17)*100,\"\")","v":""}]
[null,null,272,null,null,null,null,null,{"$f":"IF(Tabelle3[[#This Row],[Number \nof Workers]]<>0,SUM(F314:H314),\"\")","v":""},{"$f":"IF(Tabelle3[[#This Row],[Number \nof Workers]]<>0,(1-I314/$H$17)*100,\"\")","v":""}]
[null,null,273,null,null,null,null,null,{"$f":"IF(Tabelle3[[#This Row],[Number \nof Workers]]<>0,SUM(F315:H315),\"\")","v":""},{"$f":"IF(Tabelle3[[#This Row],[Number \nof Workers]]<>0,(1-I315/$H$17)*100,\"\")","v":""}]
[null,null,274,null,null,null,null,null,{"$f":"IF(Tabelle3[[#This Row],[Number \nof Workers]]<>0,SUM(F316:H316),\"\")","v":""},{"$f":"IF(Tabelle3[[#This Row],[Number \nof Workers]]<>0,(1-I316/$H$17)*100,\"\")","v":""}]
[null,null,275,null,null,null,null,null,{"$f":"IF(Tabelle3[[#This Row],[Number \nof Workers]]<>0,SUM(F317:H317),\"\")","v":""},{"$f":"IF(Tabelle3[[#This Row],[Number \nof Workers]]<>0,(1-I317/$H$17)*100,\"\")","v":""}]
[null,null,276,null,null,null,null,null,{"$f":"IF(Tabelle3[[#This Row],[Number \nof Workers]]<>0,SUM(F318:H318),\"\")","v":""},{"$f":"IF(Tabelle3[[#This Row],[Number \nof Workers]]<>0,(1-I318/$H$17)*100,\"\")","v":""}]
[null,null,277,null,null,null,null,null,{"$f":"IF(Tabelle3[[#This Row],[Number \nof Workers]]<>0,SUM(F319:H319),\"\")","v":""},{"$f":"IF(Tabelle3[[#This Row],[Number \nof Workers]]<>0,(1-I319/$H$17)*100,\"\")","v":""}]
[null,null,278,null,null,null,null,null,{"$f":"IF(Tabelle3[[#This Row],[Number \nof Workers]]<>0,SUM(F320:H320),\"\")","v":""},{"$f":"IF(Tabelle3[[#This Row],[Number \nof Workers]]<>0,(1-I320/$H$17)*100,\"\")","v":""}]
[null,null,279,null,null,null,null,null,{"$f":"IF(Tabelle3[[#This Row],[Number \nof Workers]]<>0,SUM(F321:H321),\"\")","v":""},{"$f":"IF(Tabelle3[[#This Row],[Number \nof Workers]]<>0,(1-I321/$H$17)*100,\"\")","v":""}]
[null,null,280,null,null,null,null,null,{"$f":"IF(Tabelle3[[#This Row],[Number \nof Workers]]<>0,SUM(F322:H322),\"\")","v":""},{"$f":"IF(Tabelle3[[#This Row],[Number \nof Workers]]<>0,(1-I322/$H$17)*100,\"\")","v":""}]
[null,null,281,null,null,null,null,null,{"$f":"IF(Tabelle3[[#This Row],[Number \nof Workers]]<>0,SUM(F323:H323),\"\")","v":""},{"$f":"IF(Tabelle3[[#This Row],[Number \nof Workers]]<>0,(1-I323/$H$17)*100,\"\")","v":""}]
[null,null,282,null,null,null,null,null,{"$f":"IF(Tabelle3[[#This Row],[Number \nof Workers]]<>0,SUM(F324:H324),\"\")","v":""},{"$f":"IF(Tabelle3[[#This Row],[Number \nof Workers]]<>0,(1-I324/$H$17)*100,\"\")","v":""}]
[null,null,283,null,null,null,null,null,{"$f":"IF(Tabelle3[[#This Row],[Number \nof Workers]]<>0,SUM(F325:H325),\"\")","v":""},{"$f":"IF(Tabelle3[[#This Row],[Number \nof Workers]]<>0,(1-I325/$H$17)*100,\"\")","v":""}]
[null,null,284,null,null,null,null,null,{"$f":"IF(Tabelle3[[#This Row],[Number \nof Workers]]<>0,SUM(F326:H326),\"\")","v":""},{"$f":"IF(Tabelle3[[#This Row],[Number \nof Workers]]<>0,(1-I326/$H$17)*100,\"\")","v":""}]
[null,null,285,null,null,null,null,null,{"$f":"IF(Tabelle3[[#This Row],[Number \nof Workers]]<>0,SUM(F327:H327),\"\")","v":""},{"$f":"IF(Tabelle3[[#This Row],[Number \nof Workers]]<>0,(1-I327/$H$17)*100,\"\")","v":""}]
[null,null,286,null,null,null,null,null,{"$f":"IF(Tabelle3[[#This Row],[Number \nof Workers]]<>0,SUM(F328:H328),\"\")","v":""},{"$f":"IF(Tabelle3[[#This Row],[Number \nof Workers]]<>0,(1-I328/$H$17)*100,\"\")","v":""}]
[null,null,287,null,null,null,null,null,{"$f":"IF(Tabelle3[[#This Row],[Number \nof Workers]]<>0,SUM(F329:H329),\"\")","v":""},{"$f":"IF(Tabelle3[[#This Row],[Number \nof Workers]]<>0,(1-I329/$H$17)*100,\"\")","v":""}]
[null,null,288,null,null,null,null,null,{"$f":"IF(Tabelle3[[#This Row],[Number \nof Workers]]<>0,SUM(F330:H330),\"\")","v":""},{"$f":"IF(Tabelle3[[#This Row],[Number \nof Workers]]<>0,(1-I330/$H$17)*100,\"\")","v":""}]
[null,null,289,null,null,null,null,null,{"$f":"IF(Tabelle3[[#This Row],[Number \nof Workers]]<>0,SUM(F331:H331),\"\")","v":""},{"$f":"IF(Tabelle3[[#This Row],[Number \nof Workers]]<>0,(1-I331/$H$17)*100,\"\")","v":""}]
[null,null,290,null,null,null,null,null,{"$f":"IF(Tabelle3[[#This Row],[Number \nof Workers]]<>0,SUM(F332:H332),\"\")","v":""},{"$f":"IF(Tabelle3[[#This Row],[Number \nof Workers]]<>0,(1-I332/$H$17)*100,\"\")","v":""}]
[null,null,291,null,null,null,null,null,{"$f":"IF(Tabelle3[[#This Row],[Number \nof Workers]]<>0,SUM(F333:H333),\"\")","v":""},{"$f":"IF(Tabelle3[[#This Row],[Number \nof Workers]]<>0,(1-I333/$H$17)*100,\"\")","v":""}]
[null,null,292,null,null,null,null,null,{"$f":"IF(Tabelle3[[#This Row],[Number \nof Workers]]<>0,SUM(F334:H334),\"\")","v":""},{"$f":"IF(Tabelle3[[#This Row],[Number \nof Workers]]<>0,(1-I334/$H$17)*100,\"\")","v":""}]
[null,null,293,null,null,null,null,null,{"$f":"IF(Tabelle3[[#This Row],[Number \nof Workers]]<>0,SUM(F335:H335),\"\")","v":""},{"$f":"IF(Tabelle3[[#This Row],[Number \nof Workers]]<>0,(1-I335/$H$17)*100,\"\")","v":""}]
[null,null,294,null,null,null,null,null,{"$f":"IF(Tabelle3[[#This Row],[Number \nof Workers]]<>0,SUM(F336:H336),\"\")","v":""},{"$f":"IF(Tabelle3[[#This Row],[Number \nof Workers]]<>0,(1-I336/$H$17)*100,\"\")","v":""}]
[null,null,295,null,null,null,null,null,{"$f":"IF(Tabelle3[[#This Row],[Number \nof Workers]]<>0,SUM(F337:H337),\"\")","v":""},{"$f":"IF(Tabelle3[[#This Row],[Number \nof Workers]]<>0,(1-I337/$H$17)*100,\"\")","v":""}]
[null,null,296,null,null,null,null,null,{"$f":"IF(Tabelle3[[#This Row],[Number \nof Workers]]<>0,SUM(F338:H338),\"\")","v":""},{"$f":"IF(Tabelle3[[#This Row],[Number \nof Workers]]<>0,(1-I338/$H$17)*100,\"\")","v":""}]
[null,null,297,null,null,null,null,null,{"$f":"IF(Tabelle3[[#This Row],[Number \nof Workers]]<>0,SUM(F339:H339),\"\")","v":""},{"$f":"IF(Tabelle3[[#This Row],[Number \nof Workers]]<>0,(1-I339/$H$17)*100,\"\")","v":""}]
[null,null,298,null,null,null,null,null,{"$f":"IF(Tabelle3[[#This Row],[Number \nof Workers]]<>0,SUM(F340:H340),\"\")","v":""},{"$f":"IF(Tabelle3[[#This Row],[Number \nof Workers]]<>0,(1-I340/$H$17)*100,\"\")","v":""}]
[null,null,299,null,null,null,null,null,{"$f":"IF(Tabelle3[[#This Row],[Number \nof Workers]]<>0,SUM(F341:H341),\"\")","v":""},{"$f":"IF(Tabelle3[[#This Row],[Number \nof Workers]]<>0,(1-I341/$H$17)*100,\"\")","v":""}]
[null,null,300,null,null,null,null,null,{"$f":"IF(Tabelle3[[#This Row],[Number \nof Workers]]<>0,SUM(F342:H342),\"\")","v":""},{"$f":"IF(Tabelle3[[#This Row],[Number \nof Workers]]<>0,(1-I342/$H$17)*100,\"\")","v":""}]
[null,null,301,null,null,null,null,null,{"$f":"IF(Tabelle3[[#This Row],[Number \nof Workers]]<>0,SUM(F343:H343),\"\")","v":""},{"$f":"IF(Tabelle3[[#This Row],[Number \nof Workers]]<>0,(1-I343/$H$17)*100,\"\")","v":""}]
[null,null,302,null,null,null,null,null,{"$f":"IF(Tabelle3[[#This Row],[Number \nof Workers]]<>0,SUM(F344:H344),\"\")","v":""},{"$f":"IF(Tabelle3[[#This Row],[Number \nof Workers]]<>0,(1-I344/$H$17)*100,\"\")","v":""}]
[null,null,303,null,null,null,null,null,{"$f":"IF(Tabelle3[[#This Row],[Number \nof Workers]]<>0,SUM(F345:H345),\"\")","v":""},{"$f":"IF(Tabelle3[[#This Row],[Number \nof Workers]]<>0,(1-I345/$H$17)*100,\"\")","v":""}]
[null,null,304,null,null,null,null,null,{"$f":"IF(Tabelle3[[#This Row],[Number \nof Workers]]<>0,SUM(F346:H346),\"\")","v":""},{"$f":"IF(Tabelle3[[#This Row],[Number \nof Workers]]<>0,(1-I346/$H$17)*100,\"\")","v":""}]
[null,null,305,null,null,null,null,null,{"$f":"IF(Tabelle3[[#This Row],[Number \nof Workers]]<>0,SUM(F347:H347),\"\")","v":""},{"$f":"IF(Tabelle3[[#This Row],[Number \nof Workers]]<>0,(1-I347/$H$17)*100,\"\")","v":""}]
[null,null,306,null,null,null,null,null,{"$f":"IF(Tabelle3[[#This Row],[Number \nof Workers]]<>0,SUM(F348:H348),\"\")","v":""},{"$f":"IF(Tabelle3[[#This Row],[Number \nof Workers]]<>0,(1-I348/$H$17)*100,\"\")","v":""}]
[null,null,307,null,null,null,null,null,{"$f":"IF(Tabelle3[[#This Row],[Number \nof Workers]]<>0,SUM(F349:H349),\"\")","v":""},{"$f":"IF(Tabelle3[[#This Row],[Number \nof Workers]]<>0,(1-I349/$H$17)*100,\"\")","v":""}]
[null,null,308,null,null,null,null,null,{"$f":"IF(Tabelle3[[#This Row],[Number \nof Workers]]<>0,SUM(F350:H350),\"\")","v":""},{"$f":"IF(Tabelle3[[#This Row],[Number \nof Workers]]<>0,(1-I350/$H$17)*100,\"\")","v":""}]
[null,null,309,null,null,null,null,null,{"$f":"IF(Tabelle3[[#This Row],[Number \nof Workers]]<>0,SUM(F351:H351),\"\")","v":""},{"$f":"IF(Tabelle3[[#This Row],[Number \nof Workers]]<>0,(1-I351/$H$17)*100,\"\")","v":""}]
[null,null,310,null,null,null,null,null,{"$f":"IF(Tabelle3[[#This Row],[Number \nof Workers]]<>0,SUM(F352:H352),\"\")","v":""},{"$f":"IF(Tabelle3[[#This Row],[Number \nof Workers]]<>0,(1-I352/$H$17)*100,\"\")","v":""}]
[null,null,311,null,null,null,null,null,{"$f":"IF(Tabelle3[[#This Row],[Number \nof Workers]]<>0,SUM(F353:H353),\"\")","v":""},{"$f":"IF(Tabelle3[[#This Row],[Number \nof Workers]]<>0,(1-I353/$H$17)*100,\"\")","v":""}]
[null,null,312,null,null,null,null,null,{"$f":"IF(Tabelle3[[#This Row],[Number \nof Workers]]<>0,SUM(F354:H354),\"\")","v":""},{"$f":"IF(Tabelle3[[#This Row],[Number \nof Workers]]<>0,(1-I354/$H$17)*100,\"\")","v":""}]
[null,null,313,null,null,null,null,null,{"$f":"IF(Tabelle3[[#This Row],[Number \nof Workers]]<>0,SUM(F355:H355),\"\")","v":""},{"$f":"IF(Tabelle3[[#This Row],[Number \nof Workers]]<>0,(1-I355/$H$17)*100,\"\")","v":""}]
[null,null,314,null,null,null,null,null,{"$f":"IF(Tabelle3[[#This Row],[Number \nof Workers]]<>0,SUM(F356:H356),\"\")","v":""},{"$f":"IF(Tabelle3[[#This Row],[Number \nof Workers]]<>0,(1-I356/$H$17)*100,\"\")","v":""}]
[null,null,315,null,null,null,null,null,{"$f":"IF(Tabelle3[[#This Row],[Number \nof Workers]]<>0,SUM(F357:H357),\"\")","v":""},{"$f":"IF(Tabelle3[[#This Row],[Number \nof Workers]]<>0,(1-I357/$H$17)*100,\"\")","v":""}]
[null,null,316,null,null,null,null,null,{"$f":"IF(Tabelle3[[#This Row],[Number \nof Workers]]<>0,SUM(F358:H358),\"\")","v":""},{"$f":"IF(Tabelle3[[#This Row],[Number \nof Workers]]<>0,(1-I358/$H$17)*100,\"\")","v":""}]
[null,null,317,null,null,null,null,null,{"$f":"IF(Tabelle3[[#This Row],[Number \nof Workers]]<>0,SUM(F359:H359),\"\")","v":""},{"$f":"IF(Tabelle3[[#This Row],[Number \nof Workers]]<>0,(1-I359/$H$17)*100,\"\")","v":""}]
[null,null,318,null,null,null,null,null,{"$f":"IF(Tabelle3[[#This Row],[Number \nof Workers]]<>0,SUM(F360:H360),\"\")","v":""},{"$f":"IF(Tabelle3[[#This Row],[Number \nof Workers]]<>0,(1-I360/$H$17)*100,\"\")","v":""}]
[null,null,319,null,null,null,null,null,{"$f":"IF(Tabelle3[[#This Row],[Number \nof Workers]]<>0,SUM(F361:H361),\"\")","v":""},{"$f":"IF(Tabelle3[[#This Row],[Number \nof Workers]]<>0,(1-I361/$H$17)*100,\"\")","v":""}]
[null,null,320,null,null,null,null,null,{"$f":"IF(Tabelle3[[#This Row],[Number \nof Workers]]<>0,SUM(F362:H362),\"\")","v":""},{"$f":"IF(Tabelle3[[#This Row],[Number \nof Workers]]<>0,(1-I362/$H$17)*100,\"\")","v":""}]
[null,null,321,null,null,null,null,null,{"$f":"IF(Tabelle3[[#This Row],[Number \nof Workers]]<>0,SUM(F363:H363),\"\")","v":""},{"$f":"IF(Tabelle3[[#This Row],[Number \nof Workers]]<>0,(1-I363/$H$17)*100,\"\")","v":""}]
[null,null,322,null,null,null,null,null,{"$f":"IF(Tabelle3[[#This Row],[Number \nof Workers]]<>0,SUM(F364:H364),\"\")","v":""},{"$f":"IF(Tabelle3[[#This Row],[Number \nof Workers]]<>0,(1-I364/$H$17)*100,\"\")","v":""}]
[null,null,323,null,null,null,null,null,{"$f":"IF(Tabelle3[[#This Row],[Number \nof Workers]]<>0,SUM(F365:H365),\"\")","v":""},{"$f":"IF(Tabelle3[[#This Row],[Number \nof Workers]]<>0,(1-I365/$H$17)*100,\"\")","v":""}]
[null,null,324,null,null,null,null,null,{"$f":"IF(Tabelle3[[#This Row],[Number \nof Workers]]<>0,SUM(F366:H366),\"\")","v":""},{"$f":"IF(Tabelle3[[#This Row],[Number \nof Workers]]<>0,(1-I366/$H$17)*100,\"\")","v":""}]
[null,null,325,null,null,null,null,null,{"$f":"IF(Tabelle3[[#This Row],[Number \nof Workers]]<>0,SUM(F367:H367),\"\")","v":""},{"$f":"IF(Tabelle3[[#This Row],[Number \nof Workers]]<>0,(1-I367/$H$17)*100,\"\")","v":""}]
[null,null,326,null,null,null,null,null,{"$f":"IF(Tabelle3[[#This Row],[Number \nof Workers]]<>0,SUM(F368:H368),\"\")","v":""},{"$f":"IF(Tabelle3[[#This Row],[Number \nof Workers]]<>0,(1-I368/$H$17)*100,\"\")","v":""}]
[null,null,327,null,null,null,null,null,{"$f":"IF(Tabelle3[[#This Row],[Number \nof Workers]]<>0,SUM(F369:H369),\"\")","v":""},{"$f":"IF(Tabelle3[[#This Row],[Number \nof Workers]]<>0,(1-I369/$H$17)*100,\"\")","v":""}]
[null,null,328,null,null,null,null,null,{"$f":"IF(Tabelle3[[#This Row],[Number \nof Workers]]<>0,SUM(F370:H370),\"\")","v":""},{"$f":"IF(Tabelle3[[#This Row],[Number \nof Workers]]<>0,(1-I370/$H$17)*100,\"\")","v":""}]
[null,null,329,null,null,null,null,null,{"$f":"IF(Tabelle3[[#This Row],[Number \nof Workers]]<>0,SUM(F371:H371),\"\")","v":""},{"$f":"IF(Tabelle3[[#This Row],[Number \nof Workers]]<>0,(1-I371/$H$17)*100,\"\")","v":""}]
[null,null,330,null,null,null,null,null,{"$f":"IF(Tabelle3[[#This Row],[Number \nof Workers]]<>0,SUM(F372:H372),\"\")","v":""},{"$f":"IF(Tabelle3[[#This Row],[Number \nof Workers]]<>0,(1-I372/$H$17)*100,\"\")","v":""}]
[null,null,331,null,null,null,null,null,{"$f":"IF(Tabelle3[[#This Row],[Number \nof Workers]]<>0,SUM(F373:H373),\"\")","v":""},{"$f":"IF(Tabelle3[[#This Row],[Number \nof Workers]]<>0,(1-I373/$H$17)*100,\"\")","v":""}]
[null,null,332,null,null,null,null,null,{"$f":"IF(Tabelle3[[#This Row],[Number \nof Workers]]<>0,SUM(F374:H374),\"\")","v":""},{"$f":"IF(Tabelle3[[#This Row],[Number \nof Workers]]<>0,(1-I374/$H$17)*100,\"\")","v":""}]
[null,null,333,null,null,null,null,null,{"$f":"IF(Tabelle3[[#This Row],[Number \nof Workers]]<>0,SUM(F375:H375),\"\")","v":""},{"$f":"IF(Tabelle3[[#This Row],[Number \nof Workers]]<>0,(1-I375/$H$17)*100,\"\")","v":""}]
[null,null,334,null,null,null,null,null,{"$f":"IF(Tabelle3[[#This Row],[Number \nof Workers]]<>0,SUM(F376:H376),\"\")","v":""},{"$f":"IF(Tabelle3[[#This Row],[Number \nof Workers]]<>0,(1-I376/$H$17)*100,\"\")","v":""}]
[null,null,335,null,null,null,null,null,{"$f":"IF(Tabelle3[[#This Row],[Number \nof Workers]]<>0,SUM(F377:H377),\"\")","v":""},{"$f":"IF(Tabelle3[[#This Row],[Number \nof Workers]]<>0,(1-I377/$H$17)*100,\"\")","v":""}]
[null,null,336,null,null,null,null,null,{"$f":"IF(Tabelle3[[#This Row],[Number \nof Workers]]<>0,SUM(F378:H378),\"\")","v":""},{"$f":"IF(Tabelle3[[#This Row],[Number \nof Workers]]<>0,(1-I378/$H$17)*100,\"\")","v":""}]
[null,null,337,null,null,null,null,null,{"$f":"IF(Tabelle3[[#This Row],[Number \nof Workers]]<>0,SUM(F379:H379),\"\")","v":""},{"$f":"IF(Tabelle3[[#This Row],[Number \nof Workers]]<>0,(1-I379/$H$17)*100,\"\")","v":""}]
[null,null,338,null,null,null,null,null,{"$f":"IF(Tabelle3[[#This Row],[Number \nof Workers]]<>0,SUM(F380:H380),\"\")","v":""},{"$f":"IF(Tabelle3[[#This Row],[Number \nof Workers]]<>0,(1-I380/$H$17)*100,\"\")","v":""}]
[null,null,339,null,null,null,null,null,{"$f":"IF(Tabelle3[[#This Row],[Number \nof Workers]]<>0,SUM(F381:H381),\"\")","v":""},{"$f":"IF(Tabelle3[[#This Row],[Number \nof Workers]]<>0,(1-I381/$H$17)*100,\"\")","v":""}]
[null,null,340,null,null,null,null,null,{"$f":"IF(Tabelle3[[#This Row],[Number \nof Workers]]<>0,SUM(F382:H382),\"\")","v":""},{"$f":"IF(Tabelle3[[#This Row],[Number \nof Workers]]<>0,(1-I382/$H$17)*100,\"\")","v":""}]
[null,null,341,null,null,null,null,null,{"$f":"IF(Tabelle3[[#This Row],[Number \nof Workers]]<>0,SUM(F383:H383),\"\")","v":""},{"$f":"IF(Tabelle3[[#This Row],[Number \nof Workers]]<>0,(1-I383/$H$17)*100,\"\")","v":""}]
[null,null,342,null,null,null,null,null,{"$f":"IF(Tabelle3[[#This Row],[Number \nof Workers]]<>0,SUM(F384:H384),\"\")","v":""},{"$f":"IF(Tabelle3[[#This Row],[Number \nof Workers]]<>0,(1-I384/$H$17)*100,\"\")","v":""}]
[null,null,343,null,null,null,null,null,{"$f":"IF(Tabelle3[[#This Row],[Number \nof Workers]]<>0,SUM(F385:H385),\"\")","v":""},{"$f":"IF(Tabelle3[[#This Row],[Number \nof Workers]]<>0,(1-I385/$H$17)*100,\"\")","v":""}]
[null,null,344,null,null,null,null,null,{"$f":"IF(Tabelle3[[#This Row],[Number \nof Workers]]<>0,SUM(F386:H386),\"\")","v":""},{"$f":"IF(Tabelle3[[#This Row],[Number \nof Workers]]<>0,(1-I386/$H$17)*100,\"\")","v":""}]
[null,null,345,null,null,null,null,null,{"$f":"IF(Tabelle3[[#This Row],[Number \nof Workers]]<>0,SUM(F387:H387),\"\")","v":""},{"$f":"IF(Tabelle3[[#This Row],[Number \nof Workers]]<>0,(1-I387/$H$17)*100,\"\")","v":""}]
[null,null,346,null,null,null,null,null,{"$f":"IF(Tabelle3[[#This Row],[Number \nof Workers]]<>0,SUM(F388:H388),\"\")","v":""},{"$f":"IF(Tabelle3[[#This Row],[Number \nof Workers]]<>0,(1-I388/$H$17)*100,\"\")","v":""}]
[null,null,347,null,null,null,null,null,{"$f":"IF(Tabelle3[[#This Row],[Number \nof Workers]]<>0,SUM(F389:H389),\"\")","v":""},{"$f":"IF(Tabelle3[[#This Row],[Number \nof Workers]]<>0,(1-I389/$H$17)*100,\"\")","v":""}]
[null,null,348,null,null,null,null,null,{"$f":"IF(Tabelle3[[#This Row],[Number \nof Workers]]<>0,SUM(F390:H390),\"\")","v":""},{"$f":"IF(Tabelle3[[#This Row],[Number \nof Workers]]<>0,(1-I390/$H$17)*100,\"\")","v":""}]
[null,null,349,null,null,null,null,null,{"$f":"IF(Tabelle3[[#This Row],[Number \nof Workers]]<>0,SUM(F391:H391),\"\")","v":""},{"$f":"IF(Tabelle3[[#This Row],[Number \nof Workers]]<>0,(1-I391/$H$17)*100,\"\")","v":""}]
[null,null,350,null,null,null,null,null,{"$f":"IF(Tabelle3[[#This Row],[Number \nof Workers]]<>0,SUM(F392:H392),\"\")","v":""},{"$f":"IF(Tabelle3[[#This Row],[Number \nof Workers]]<>0,(1-I392/$H$17)*100,\"\")","v":""}]
[null,null,351,null,null,null,null,null,{"$f":"IF(Tabelle3[[#This Row],[Number \nof Workers]]<>0,SUM(F393:H393),\"\")","v":""},{"$f":"IF(Tabelle3[[#This Row],[Number \nof Workers]]<>0,(1-I393/$H$17)*100,\"\")","v":""}]
[null,null,352,null,null,null,null,null,{"$f":"IF(Tabelle3[[#This Row],[Number \nof Workers]]<>0,SUM(F394:H394),\"\")","v":""},{"$f":"IF(Tabelle3[[#This Row],[Number \nof Workers]]<>0,(1-I394/$H$17)*100,\"\")","v":""}]
[null,null,353,null,null,null,null,null,{"$f":"IF(Tabelle3[[#This Row],[Number \nof Workers]]<>0,SUM(F395:H395),\"\")","v":""},{"$f":"IF(Tabelle3[[#This Row],[Number \nof Workers]]<>0,(1-I395/$H$17)*100,\"\")","v":""}]
[null,null,354,null,null,null,null,null,{"$f":"IF(Tabelle3[[#This Row],[Number \nof Workers]]<>0,SUM(F396:H396),\"\")","v":""},{"$f":"IF(Tabelle3[[#This Row],[Number \nof Workers]]<>0,(1-I396/$H$17)*100,\"\")","v":""}]
[null,null,355,null,null,null,null,null,{"$f":"IF(Tabelle3[[#This Row],[Number \nof Workers]]<>0,SUM(F397:H397),\"\")","v":""},{"$f":"IF(Tabelle3[[#This Row],[Number \nof Workers]]<>0,(1-I397/$H$17)*100,\"\")","v":""}]
[null,null,356,null,null,null,null,null,{"$f":"IF(Tabelle3[[#This Row],[Number \nof Workers]]<>0,SUM(F398:H398),\"\")","v":""},{"$f":"IF(Tabelle3[[#This Row],[Number \nof Workers]]<>0,(1-I398/$H$17)*100,\"\")","v":""}]
[null,null,357,null,null,null,null,null,{"$f":"IF(Tabelle3[[#This Row],[Number \nof Workers]]<>0,SUM(F399:H399),\"\")","v":""},{"$f":"IF(Tabelle3[[#This Row],[Number \nof Workers]]<>0,(1-I399/$H$17)*100,\"\")","v":""}]
[null,null,358,null,null,null,null,null,{"$f":"IF(Tabelle3[[#This Row],[Number \nof Workers]]<>0,SUM(F400:H400),\"\")","v":""},{"$f":"IF(Tabelle3[[#This Row],[Number \nof Workers]]<>0,(1-I400/$H$17)*100,\"\")","v":""}]
[null,null,359,null,null,null,null,null,{"$f":"IF(Tabelle3[[#This Row],[Number \nof Workers]]<>0,SUM(F401:H401),\"\")","v":""},{"$f":"IF(Tabelle3[[#This Row],[Number \nof Workers]]<>0,(1-I401/$H$17)*100,\"\")","v":""}]
[null,null,360,null,null,null,null,null,{"$f":"IF(Tabelle3[[#This Row],[Number \nof Workers]]<>0,SUM(F402:H402),\"\")","v":""},{"$f":"IF(Tabelle3[[#This Row],[Number \nof Workers]]<>0,(1-I402/$H$17)*100,\"\")","v":""}]
[null,null,361,null,null,null,null,null,{"$f":"IF(Tabelle3[[#This Row],[Number \nof Workers]]<>0,SUM(F403:H403),\"\")","v":""},{"$f":"IF(Tabelle3[[#This Row],[Number \nof Workers]]<>0,(1-I403/$H$17)*100,\"\")","v":""}]
[null,null,362,null,null,null,null,null,{"$f":"IF(Tabelle3[[#This Row],[Number \nof Workers]]<>0,SUM(F404:H404),\"\")","v":""},{"$f":"IF(Tabelle3[[#This Row],[Number \nof Workers]]<>0,(1-I404/$H$17)*100,\"\")","v":""}]
[null,null,363,null,null,null,null,null,{"$f":"IF(Tabelle3[[#This Row],[Number \nof Workers]]<>0,SUM(F405:H405),\"\")","v":""},{"$f":"IF(Tabelle3[[#This Row],[Number \nof Workers]]<>0,(1-I405/$H$17)*100,\"\")","v":""}]
[null,null,364,null,null,null,null,null,{"$f":"IF(Tabelle3[[#This Row],[Number \nof Workers]]<>0,SUM(F406:H406),\"\")","v":""},{"$f":"IF(Tabelle3[[#This Row],[Number \nof Workers]]<>0,(1-I406/$H$17)*100,\"\")","v":""}]
[null,null,365,null,null,null,null,null,{"$f":"IF(Tabelle3[[#This Row],[Number \nof Workers]]<>0,SUM(F407:H407),\"\")","v":""},{"$f":"IF(Tabelle3[[#This Row],[Number \nof Workers]]<>0,(1-I407/$H$17)*100,\"\")","v":""}]
[null,null,366,null,null,null,null,null,{"$f":"IF(Tabelle3[[#This Row],[Number \nof Workers]]<>0,SUM(F408:H408),\"\")","v":""},{"$f":"IF(Tabelle3[[#This Row],[Number \nof Workers]]<>0,(1-I408/$H$17)*100,\"\")","v":""}]
[null,null,367,null,null,null,null,null,{"$f":"IF(Tabelle3[[#This Row],[Number \nof Workers]]<>0,SUM(F409:H409),\"\")","v":""},{"$f":"IF(Tabelle3[[#This Row],[Number \nof Workers]]<>0,(1-I409/$H$17)*100,\"\")","v":""}]
[null,null,368,null,null,null,null,null,{"$f":"IF(Tabelle3[[#This Row],[Number \nof Workers]]<>0,SUM(F410:H410),\"\")","v":""},{"$f":"IF(Tabelle3[[#This Row],[Number \nof Workers]]<>0,(1-I410/$H$17)*100,\"\")","v":""}]
[null,null,369,null,null,null,null,null,{"$f":"IF(Tabelle3[[#This Row],[Number \nof Workers]]<>0,SUM(F411:H411),\"\")","v":""},{"$f":"IF(Tabelle3[[#This Row],[Number \nof Workers]]<>0,(1-I411/$H$17)*100,\"\")","v":""}]
[null,null,370,null,null,null,null,null,{"$f":"IF(Tabelle3[[#This Row],[Number \nof Workers]]<>0,SUM(F412:H412),\"\")","v":""},{"$f":"IF(Tabelle3[[#This Row],[Number \nof Workers]]<>0,(1-I412/$H$17)*100,\"\")","v":""}]
[null,null,371,null,null,null,null,null,{"$f":"IF(Tabelle3[[#This Row],[Number \nof Workers]]<>0,SUM(F413:H413),\"\")","v":""},{"$f":"IF(Tabelle3[[#This Row],[Number \nof Workers]]<>0,(1-I413/$H$17)*100,\"\")","v":""}]
[null,null,372,null,null,null,null,null,{"$f":"IF(Tabelle3[[#This Row],[Number \nof Workers]]<>0,SUM(F414:H414),\"\")","v":""},{"$f":"IF(Tabelle3[[#This Row],[Number \nof Workers]]<>0,(1-I414/$H$17)*100,\"\")","v":""}]
[null,null,373,null,null,null,null,null,{"$f":"IF(Tabelle3[[#This Row],[Number \nof Workers]]<>0,SUM(F415:H415),\"\")","v":""},{"$f":"IF(Tabelle3[[#This Row],[Number \nof Workers]]<>0,(1-I415/$H$17)*100,\"\")","v":""}]
[null,null,374,null,null,null,null,null,{"$f":"IF(Tabelle3[[#This Row],[Number \nof Workers]]<>0,SUM(F416:H416),\"\")","v":""},{"$f":"IF(Tabelle3[[#This Row],[Number \nof Workers]]<>0,(1-I416/$H$17)*100,\"\")","v":""}]
[null,null,375,null,null,null,null,null,{"$f":"IF(Tabelle3[[#This Row],[Number \nof Workers]]<>0,SUM(F417:H417),\"\")","v":""},{"$f":"IF(Tabelle3[[#This Row],[Number \nof Workers]]<>0,(1-I417/$H$17)*100,\"\")","v":""}]
[null,null,376,null,null,null,null,null,{"$f":"IF(Tabelle3[[#This Row],[Number \nof Workers]]<>0,SUM(F418:H418),\"\")","v":""},{"$f":"IF(Tabelle3[[#This Row],[Number \nof Workers]]<>0,(1-I418/$H$17)*100,\"\")","v":""}]
[null,null,377,null,null,null,null,null,{"$f":"IF(Tabelle3[[#This Row],[Number \nof Workers]]<>0,SUM(F419:H419),\"\")","v":""},{"$f":"IF(Tabelle3[[#This Row],[Number \nof Workers]]<>0,(1-I419/$H$17)*100,\"\")","v":""}]
[null,null,378,null,null,null,null,null,{"$f":"IF(Tabelle3[[#This Row],[Number \nof Workers]]<>0,SUM(F420:H420),\"\")","v":""},{"$f":"IF(Tabelle3[[#This Row],[Number \nof Workers]]<>0,(1-I420/$H$17)*100,\"\")","v":""}]
[null,null,379,null,null,null,null,null,{"$f":"IF(Tabelle3[[#This Row],[Number \nof Workers]]<>0,SUM(F421:H421),\"\")","v":""},{"$f":"IF(Tabelle3[[#This Row],[Number \nof Workers]]<>0,(1-I421/$H$17)*100,\"\")","v":""}]
[null,null,380,null,null,null,null,null,{"$f":"IF(Tabelle3[[#This Row],[Number \nof Workers]]<>0,SUM(F422:H422),\"\")","v":""},{"$f":"IF(Tabelle3[[#This Row],[Number \nof Workers]]<>0,(1-I422/$H$17)*100,\"\")","v":""}]
[null,null,381,null,null,null,null,null,{"$f":"IF(Tabelle3[[#This Row],[Number \nof Workers]]<>0,SUM(F423:H423),\"\")","v":""},{"$f":"IF(Tabelle3[[#This Row],[Number \nof Workers]]<>0,(1-I423/$H$17)*100,\"\")","v":""}]
[null,null,382,null,null,null,null,null,{"$f":"IF(Tabelle3[[#This Row],[Number \nof Workers]]<>0,SUM(F424:H424),\"\")","v":""},{"$f":"IF(Tabelle3[[#This Row],[Number \nof Workers]]<>0,(1-I424/$H$17)*100,\"\")","v":""}]
[null,null,383,null,null,null,null,null,{"$f":"IF(Tabelle3[[#This Row],[Number \nof Workers]]<>0,SUM(F425:H425),\"\")","v":""},{"$f":"IF(Tabelle3[[#This Row],[Number \nof Workers]]<>0,(1-I425/$H$17)*100,\"\")","v":""}]
[null,null,384,null,null,null,null,null,{"$f":"IF(Tabelle3[[#This Row],[Number \nof Workers]]<>0,SUM(F426:H426),\"\")","v":""},{"$f":"IF(Tabelle3[[#This Row],[Number \nof Workers]]<>0,(1-I426/$H$17)*100,\"\")","v":""}]
[null,null,385,null,null,null,null,null,{"$f":"IF(Tabelle3[[#This Row],[Number \nof Workers]]<>0,SUM(F427:H427),\"\")","v":""},{"$f":"IF(Tabelle3[[#This Row],[Number \nof Workers]]<>0,(1-I427/$H$17)*100,\"\")","v":""}]
[null,null,386,null,null,null,null,null,{"$f":"IF(Tabelle3[[#This Row],[Number \nof Workers]]<>0,SUM(F428:H428),\"\")","v":""},{"$f":"IF(Tabelle3[[#This Row],[Number \nof Workers]]<>0,(1-I428/$H$17)*100,\"\")","v":""}]
[null,null,387,null,null,null,null,null,{"$f":"IF(Tabelle3[[#This Row],[Number \nof Workers]]<>0,SUM(F429:H429),\"\")","v":""},{"$f":"IF(Tabelle3[[#This Row],[Number \nof Workers]]<>0,(1-I429/$H$17)*100,\"\")","v":""}]
[null,null,388,null,null,null,null,null,{"$f":"IF(Tabelle3[[#This Row],[Number \nof Workers]]<>0,SUM(F430:H430),\"\")","v":""},{"$f":"IF(Tabelle3[[#This Row],[Number \nof Workers]]<>0,(1-I430/$H$17)*100,\"\")","v":""}]
[null,null,389,null,null,null,null,null,{"$f":"IF(Tabelle3[[#This Row],[Number \nof Workers]]<>0,SUM(F431:H431),\"\")","v":""},{"$f":"IF(Tabelle3[[#This Row],[Number \nof Workers]]<>0,(1-I431/$H$17)*100,\"\")","v":""}]
[null,null,390,null,null,null,null,null,{"$f":"IF(Tabelle3[[#This Row],[Number \nof Workers]]<>0,SUM(F432:H432),\"\")","v":""},{"$f":"IF(Tabelle3[[#This Row],[Number \nof Workers]]<>0,(1-I432/$H$17)*100,\"\")","v":""}]
[null,null,391,null,null,null,null,null,{"$f":"IF(Tabelle3[[#This Row],[Number \nof Workers]]<>0,SUM(F433:H433),\"\")","v":""},{"$f":"IF(Tabelle3[[#This Row],[Number \nof Workers]]<>0,(1-I433/$H$17)*100,\"\")","v":""}]
[null,null,392,null,null,null,null,null,{"$f":"IF(Tabelle3[[#This Row],[Number \nof Workers]]<>0,SUM(F434:H434),\"\")","v":""},{"$f":"IF(Tabelle3[[#This Row],[Number \nof Workers]]<>0,(1-I434/$H$17)*100,\"\")","v":""}]
[null,null,393,null,null,null,null,null,{"$f":"IF(Tabelle3[[#This Row],[Number \nof Workers]]<>0,SUM(F435:H435),\"\")","v":""},{"$f":"IF(Tabelle3[[#This Row],[Number \nof Workers]]<>0,(1-I435/$H$17)*100,\"\")","v":""}]
[null,null,394,null,null,null,null,null,{"$f":"IF(Tabelle3[[#This Row],[Number \nof Workers]]<>0,SUM(F436:H436),\"\")","v":""},{"$f":"IF(Tabelle3[[#This Row],[Number \nof Workers]]<>0,(1-I436/$H$17)*100,\"\")","v":""}]
[null,null,395,null,null,null,null,null,{"$f":"IF(Tabelle3[[#This Row],[Number \nof Workers]]<>0,SUM(F437:H437),\"\")","v":""},{"$f":"IF(Tabelle3[[#This Row],[Number \nof Workers]]<>0,(1-I437/$H$17)*100,\"\")","v":""}]
[null,null,396,null,null,null,null,null,{"$f":"IF(Tabelle3[[#This Row],[Number \nof Workers]]<>0,SUM(F438:H438),\"\")","v":""},{"$f":"IF(Tabelle3[[#This Row],[Number \nof Workers]]<>0,(1-I438/$H$17)*100,\"\")","v":""}]
[null,null,397,null,null,null,null,null,{"$f":"IF(Tabelle3[[#This Row],[Number \nof Workers]]<>0,SUM(F439:H439),\"\")","v":""},{"$f":"IF(Tabelle3[[#This Row],[Number \nof Workers]]<>0,(1-I439/$H$17)*100,\"\")","v":""}]
[null,null,398,null,null,null,null,null,{"$f":"IF(Tabelle3[[#This Row],[Number \nof Workers]]<>0,SUM(F440:H440),\"\")","v":""},{"$f":"IF(Tabelle3[[#This Row],[Number \nof Workers]]<>0,(1-I440/$H$17)*100,\"\")","v":""}]
[null,null,399,null,null,null,null,null,{"$f":"IF(Tabelle3[[#This Row],[Number \nof Workers]]<>0,SUM(F441:H441),\"\")","v":""},{"$f":"IF(Tabelle3[[#This Row],[Number \nof Workers]]<>0,(1-I441/$H$17)*100,\"\")","v":""}]
[null,null,400,null,null,null,null,null,{"$f":"IF(Tabelle3[[#This Row],[Number \nof Workers]]<>0,SUM(F442:H442),\"\")","v":""},{"$f":"IF(Tabelle3[[#This Row],[Number \nof Workers]]<>0,(1-I442/$H$17)*100,\"\")","v":""}]
[null,null,401,null,null,null,null,null,{"$f":"IF(Tabelle3[[#This Row],[Number \nof Workers]]<>0,SUM(F443:H443),\"\")","v":""},{"$f":"IF(Tabelle3[[#This Row],[Number \nof Workers]]<>0,(1-I443/$H$17)*100,\"\")","v":""}]
[null,null,402,null,null,null,null,null,{"$f":"IF(Tabelle3[[#This Row],[Number \nof Workers]]<>0,SUM(F444:H444),\"\")","v":""},{"$f":"IF(Tabelle3[[#This Row],[Number \nof Workers]]<>0,(1-I444/$H$17)*100,\"\")","v":""}]
[null,null,403,null,null,null,null,null,{"$f":"IF(Tabelle3[[#This Row],[Number \nof Workers]]<>0,SUM(F445:H445),\"\")","v":""},{"$f":"IF(Tabelle3[[#This Row],[Number \nof Workers]]<>0,(1-I445/$H$17)*100,\"\")","v":""}]
[null,null,404,null,null,null,null,null,{"$f":"IF(Tabelle3[[#This Row],[Number \nof Workers]]<>0,SUM(F446:H446),\"\")","v":""},{"$f":"IF(Tabelle3[[#This Row],[Number \nof Workers]]<>0,(1-I446/$H$17)*100,\"\")","v":""}]
[null,null,405,null,null,null,null,null,{"$f":"IF(Tabelle3[[#This Row],[Number \nof Workers]]<>0,SUM(F447:H447),\"\")","v":""},{"$f":"IF(Tabelle3[[#This Row],[Number \nof Workers]]<>0,(1-I447/$H$17)*100,\"\")","v":""}]
[null,null,406,null,null,null,null,null,{"$f":"IF(Tabelle3[[#This Row],[Number \nof Workers]]<>0,SUM(F448:H448),\"\")","v":""},{"$f":"IF(Tabelle3[[#This Row],[Number \nof Workers]]<>0,(1-I448/$H$17)*100,\"\")","v":""}]
[null,null,407,null,null,null,null,null,{"$f":"IF(Tabelle3[[#This Row],[Number \nof Workers]]<>0,SUM(F449:H449),\"\")","v":""},{"$f":"IF(Tabelle3[[#This Row],[Number \nof Workers]]<>0,(1-I449/$H$17)*100,\"\")","v":""}]
[null,null,408,null,null,null,null,null,{"$f":"IF(Tabelle3[[#This Row],[Number \nof Workers]]<>0,SUM(F450:H450),\"\")","v":""},{"$f":"IF(Tabelle3[[#This Row],[Number \nof Workers]]<>0,(1-I450/$H$17)*100,\"\")","v":""}]
[null,null,409,null,null,null,null,null,{"$f":"IF(Tabelle3[[#This Row],[Number \nof Workers]]<>0,SUM(F451:H451),\"\")","v":""},{"$f":"IF(Tabelle3[[#This Row],[Number \nof Workers]]<>0,(1-I451/$H$17)*100,\"\")","v":""}]
[null,null,410,null,null,null,null,null,{"$f":"IF(Tabelle3[[#This Row],[Number \nof Workers]]<>0,SUM(F452:H452),\"\")","v":""},{"$f":"IF(Tabelle3[[#This Row],[Number \nof Workers]]<>0,(1-I452/$H$17)*100,\"\")","v":""}]
[null,null,411,null,null,null,null,null,{"$f":"IF(Tabelle3[[#This Row],[Number \nof Workers]]<>0,SUM(F453:H453),\"\")","v":""},{"$f":"IF(Tabelle3[[#This Row],[Number \nof Workers]]<>0,(1-I453/$H$17)*100,\"\")","v":""}]
[null,null,412,null,null,null,null,null,{"$f":"IF(Tabelle3[[#This Row],[Number \nof Workers]]<>0,SUM(F454:H454),\"\")","v":""},{"$f":"IF(Tabelle3[[#This Row],[Number \nof Workers]]<>0,(1-I454/$H$17)*100,\"\")","v":""}]
[null,null,413,null,null,null,null,null,{"$f":"IF(Tabelle3[[#This Row],[Number \nof Workers]]<>0,SUM(F455:H455),\"\")","v":""},{"$f":"IF(Tabelle3[[#This Row],[Number \nof Workers]]<>0,(1-I455/$H$17)*100,\"\")","v":""}]
[null,null,414,null,null,null,null,null,{"$f":"IF(Tabelle3[[#This Row],[Number \nof Workers]]<>0,SUM(F456:H456),\"\")","v":""},{"$f":"IF(Tabelle3[[#This Row],[Number \nof Workers]]<>0,(1-I456/$H$17)*100,\"\")","v":""}]
[null,null,415,null,null,null,null,null,{"$f":"IF(Tabelle3[[#This Row],[Number \nof Workers]]<>0,SUM(F457:H457),\"\")","v":""},{"$f":"IF(Tabelle3[[#This Row],[Number \nof Workers]]<>0,(1-I457/$H$17)*100,\"\")","v":""}]
[null,null,416,null,null,null,null,null,{"$f":"IF(Tabelle3[[#This Row],[Number \nof Workers]]<>0,SUM(F458:H458),\"\")","v":""},{"$f":"IF(Tabelle3[[#This Row],[Number \nof Workers]]<>0,(1-I458/$H$17)*100,\"\")","v":""}]
[null,null,417,null,null,null,null,null,{"$f":"IF(Tabelle3[[#This Row],[Number \nof Workers]]<>0,SUM(F459:H459),\"\")","v":""},{"$f":"IF(Tabelle3[[#This Row],[Number \nof Workers]]<>0,(1-I459/$H$17)*100,\"\")","v":""}]
[null,null,418,null,null,null,null,null,{"$f":"IF(Tabelle3[[#This Row],[Number \nof Workers]]<>0,SUM(F460:H460),\"\")","v":""},{"$f":"IF(Tabelle3[[#This Row],[Number \nof Workers]]<>0,(1-I460/$H$17)*100,\"\")","v":""}]
[null,null,419,null,null,null,null,null,{"$f":"IF(Tabelle3[[#This Row],[Number \nof Workers]]<>0,SUM(F461:H461),\"\")","v":""},{"$f":"IF(Tabelle3[[#This Row],[Number \nof Workers]]<>0,(1-I461/$H$17)*100,\"\")","v":""}]
[null,null,420,null,null,null,null,null,{"$f":"IF(Tabelle3[[#This Row],[Number \nof Workers]]<>0,SUM(F462:H462),\"\")","v":""},{"$f":"IF(Tabelle3[[#This Row],[Number \nof Workers]]<>0,(1-I462/$H$17)*100,\"\")","v":""}]
[null,null,421,null,null,null,null,null,{"$f":"IF(Tabelle3[[#This Row],[Number \nof Workers]]<>0,SUM(F463:H463),\"\")","v":""},{"$f":"IF(Tabelle3[[#This Row],[Number \nof Workers]]<>0,(1-I463/$H$17)*100,\"\")","v":""}]
[null,null,422,null,null,null,null,null,{"$f":"IF(Tabelle3[[#This Row],[Number \nof Workers]]<>0,SUM(F464:H464),\"\")","v":""},{"$f":"IF(Tabelle3[[#This Row],[Number \nof Workers]]<>0,(1-I464/$H$17)*100,\"\")","v":""}]
[null,null,423,null,null,null,null,null,{"$f":"IF(Tabelle3[[#This Row],[Number \nof Workers]]<>0,SUM(F465:H465),\"\")","v":""},{"$f":"IF(Tabelle3[[#This Row],[Number \nof Workers]]<>0,(1-I465/$H$17)*100,\"\")","v":""}]
[null,null,424,null,null,null,null,null,{"$f":"IF(Tabelle3[[#This Row],[Number \nof Workers]]<>0,SUM(F466:H466),\"\")","v":""},{"$f":"IF(Tabelle3[[#This Row],[Number \nof Workers]]<>0,(1-I466/$H$17)*100,\"\")","v":""}]
[null,null,425,null,null,null,null,null,{"$f":"IF(Tabelle3[[#This Row],[Number \nof Workers]]<>0,SUM(F467:H467),\"\")","v":""},{"$f":"IF(Tabelle3[[#This Row],[Number \nof Workers]]<>0,(1-I467/$H$17)*100,\"\")","v":""}]
[null,null,426,null,null,null,null,null,{"$f":"IF(Tabelle3[[#This Row],[Number \nof Workers]]<>0,SUM(F468:H468),\"\")","v":""},{"$f":"IF(Tabelle3[[#This Row],[Number \nof Workers]]<>0,(1-I468/$H$17)*100,\"\")","v":""}]
[null,null,427,null,null,null,null,null,{"$f":"IF(Tabelle3[[#This Row],[Number \nof Workers]]<>0,SUM(F469:H469),\"\")","v":""},{"$f":"IF(Tabelle3[[#This Row],[Number \nof Workers]]<>0,(1-I469/$H$17)*100,\"\")","v":""}]
[null,null,428,null,null,null,null,null,{"$f":"IF(Tabelle3[[#This Row],[Number \nof Workers]]<>0,SUM(F470:H470),\"\")","v":""},{"$f":"IF(Tabelle3[[#This Row],[Number \nof Workers]]<>0,(1-I470/$H$17)*100,\"\")","v":""}]
[null,null,429,null,null,null,null,null,{"$f":"IF(Tabelle3[[#This Row],[Number \nof Workers]]<>0,SUM(F471:H471),\"\")","v":""},{"$f":"IF(Tabelle3[[#This Row],[Number \nof Workers]]<>0,(1-I471/$H$17)*100,\"\")","v":""}]
[null,null,430,null,null,null,null,null,{"$f":"IF(Tabelle3[[#This Row],[Number \nof Workers]]<>0,SUM(F472:H472),\"\")","v":""},{"$f":"IF(Tabelle3[[#This Row],[Number \nof Workers]]<>0,(1-I472/$H$17)*100,\"\")","v":""}]
[null,null,431,null,null,null,null,null,{"$f":"IF(Tabelle3[[#This Row],[Number \nof Workers]]<>0,SUM(F473:H473),\"\")","v":""},{"$f":"IF(Tabelle3[[#This Row],[Number \nof Workers]]<>0,(1-I473/$H$17)*100,\"\")","v":""}]
[null,null,432,null,null,null,null,null,{"$f":"IF(Tabelle3[[#This Row],[Number \nof Workers]]<>0,SUM(F474:H474),\"\")","v":""},{"$f":"IF(Tabelle3[[#This Row],[Number \nof Workers]]<>0,(1-I474/$H$17)*100,\"\")","v":""}]
[null,null,433,null,null,null,null,null,{"$f":"IF(Tabelle3[[#This Row],[Number \nof Workers]]<>0,SUM(F475:H475),\"\")","v":""},{"$f":"IF(Tabelle3[[#This Row],[Number \nof Workers]]<>0,(1-I475/$H$17)*100,\"\")","v":""}]
[null,null,434,null,null,null,null,null,{"$f":"IF(Tabelle3[[#This Row],[Number \nof Workers]]<>0,SUM(F476:H476),\"\")","v":""},{"$f":"IF(Tabelle3[[#This Row],[Number \nof Workers]]<>0,(1-I476/$H$17)*100,\"\")","v":""}]
[null,null,435,null,null,null,null,null,{"$f":"IF(Tabelle3[[#This Row],[Number \nof Workers]]<>0,SUM(F477:H477),\"\")","v":""},{"$f":"IF(Tabelle3[[#This Row],[Number \nof Workers]]<>0,(1-I477/$H$17)*100,\"\")","v":""}]
[null,null,436,null,null,null,null,null,{"$f":"IF(Tabelle3[[#This Row],[Number \nof Workers]]<>0,SUM(F478:H478),\"\")","v":""},{"$f":"IF(Tabelle3[[#This Row],[Number \nof Workers]]<>0,(1-I478/$H$17)*100,\"\")","v":""}]
[null,null,437,null,null,null,null,null,{"$f":"IF(Tabelle3[[#This Row],[Number \nof Workers]]<>0,SUM(F479:H479),\"\")","v":""},{"$f":"IF(Tabelle3[[#This Row],[Number \nof Workers]]<>0,(1-I479/$H$17)*100,\"\")","v":""}]
[null,null,438,null,null,null,null,null,{"$f":"IF(Tabelle3[[#This Row],[Number \nof Workers]]<>0,SUM(F480:H480),\"\")","v":""},{"$f":"IF(Tabelle3[[#This Row],[Number \nof Workers]]<>0,(1-I480/$H$17)*100,\"\")","v":""}]
[null,null,439,null,null,null,null,null,{"$f":"IF(Tabelle3[[#This Row],[Number \nof Workers]]<>0,SUM(F481:H481),\"\")","v":""},{"$f":"IF(Tabelle3[[#This Row],[Number \nof Workers]]<>0,(1-I481/$H$17)*100,\"\")","v":""}]
[null,null,440,null,null,null,null,null,{"$f":"IF(Tabelle3[[#This Row],[Number \nof Workers]]<>0,SUM(F482:H482),\"\")","v":""},{"$f":"IF(Tabelle3[[#This Row],[Number \nof Workers]]<>0,(1-I482/$H$17)*100,\"\")","v":""}]
[null,null,441,null,null,null,null,null,{"$f":"IF(Tabelle3[[#This Row],[Number \nof Workers]]<>0,SUM(F483:H483),\"\")","v":""},{"$f":"IF(Tabelle3[[#This Row],[Number \nof Workers]]<>0,(1-I483/$H$17)*100,\"\")","v":""}]
[null,null,442,null,null,null,null,null,{"$f":"IF(Tabelle3[[#This Row],[Number \nof Workers]]<>0,SUM(F484:H484),\"\")","v":""},{"$f":"IF(Tabelle3[[#This Row],[Number \nof Workers]]<>0,(1-I484/$H$17)*100,\"\")","v":""}]
[null,null,443,null,null,null,null,null,{"$f":"IF(Tabelle3[[#This Row],[Number \nof Workers]]<>0,SUM(F485:H485),\"\")","v":""},{"$f":"IF(Tabelle3[[#This Row],[Number \nof Workers]]<>0,(1-I485/$H$17)*100,\"\")","v":""}]
[null,null,444,null,null,null,null,null,{"$f":"IF(Tabelle3[[#This Row],[Number \nof Workers]]<>0,SUM(F486:H486),\"\")","v":""},{"$f":"IF(Tabelle3[[#This Row],[Number \nof Workers]]<>0,(1-I486/$H$17)*100,\"\")","v":""}]
[null,null,445,null,null,null,null,null,{"$f":"IF(Tabelle3[[#This Row],[Number \nof Workers]]<>0,SUM(F487:H487),\"\")","v":""},{"$f":"IF(Tabelle3[[#This Row],[Number \nof Workers]]<>0,(1-I487/$H$17)*100,\"\")","v":""}]
[null,null,446,null,null,null,null,null,{"$f":"IF(Tabelle3[[#This Row],[Number \nof Workers]]<>0,SUM(F488:H488),\"\")","v":""},{"$f":"IF(Tabelle3[[#This Row],[Number \nof Workers]]<>0,(1-I488/$H$17)*100,\"\")","v":""}]
[null,null,447,null,null,null,null,null,{"$f":"IF(Tabelle3[[#This Row],[Number \nof Workers]]<>0,SUM(F489:H489),\"\")","v":""},{"$f":"IF(Tabelle3[[#This Row],[Number \nof Workers]]<>0,(1-I489/$H$17)*100,\"\")","v":""}]
[null,null,448,null,null,null,null,null,{"$f":"IF(Tabelle3[[#This Row],[Number \nof Workers]]<>0,SUM(F490:H490),\"\")","v":""},{"$f":"IF(Tabelle3[[#This Row],[Number \nof Workers]]<>0,(1-I490/$H$17)*100,\"\")","v":""}]
[null,null,449,null,null,null,null,null,{"$f":"IF(Tabelle3[[#This Row],[Number \nof Workers]]<>0,SUM(F491:H491),\"\")","v":""},{"$f":"IF(Tabelle3[[#This Row],[Number \nof Workers]]<>0,(1-I491/$H$17)*100,\"\")","v":""}]
[null,null,450,null,null,null,null,null,{"$f":"IF(Tabelle3[[#This Row],[Number \nof Workers]]<>0,SUM(F492:H492),\"\")","v":""},{"$f":"IF(Tabelle3[[#This Row],[Number \nof Workers]]<>0,(1-I492/$H$17)*100,\"\")","v":""}]
[null,null,451,null,null,null,null,null,{"$f":"IF(Tabelle3[[#This Row],[Number \nof Workers]]<>0,SUM(F493:H493),\"\")","v":""},{"$f":"IF(Tabelle3[[#This Row],[Number \nof Workers]]<>0,(1-I493/$H$17)*100,\"\")","v":""}]
[null,null,452,null,null,null,null,null,{"$f":"IF(Tabelle3[[#This Row],[Number \nof Workers]]<>0,SUM(F494:H494),\"\")","v":""},{"$f":"IF(Tabelle3[[#This Row],[Number \nof Workers]]<>0,(1-I494/$H$17)*100,\"\")","v":""}]
[null,null,453,null,null,null,null,null,{"$f":"IF(Tabelle3[[#This Row],[Number \nof Workers]]<>0,SUM(F495:H495),\"\")","v":""},{"$f":"IF(Tabelle3[[#This Row],[Number \nof Workers]]<>0,(1-I495/$H$17)*100,\"\")","v":""}]
[null,null,454,null,null,null,null,null,{"$f":"IF(Tabelle3[[#This Row],[Number \nof Workers]]<>0,SUM(F496:H496),\"\")","v":""},{"$f":"IF(Tabelle3[[#This Row],[Number \nof Workers]]<>0,(1-I496/$H$17)*100,\"\")","v":""}]
[null,null,455,null,null,null,null,null,{"$f":"IF(Tabelle3[[#This Row],[Number \nof Workers]]<>0,SUM(F497:H497),\"\")","v":""},{"$f":"IF(Tabelle3[[#This Row],[Number \nof Workers]]<>0,(1-I497/$H$17)*100,\"\")","v":""}]
[null,null,456,null,null,null,null,null,{"$f":"IF(Tabelle3[[#This Row],[Number \nof Workers]]<>0,SUM(F498:H498),\"\")","v":""},{"$f":"IF(Tabelle3[[#This Row],[Number \nof Workers]]<>0,(1-I498/$H$17)*100,\"\")","v":""}]
[null,null,457,null,null,null,null,null,{"$f":"IF(Tabelle3[[#This Row],[Number \nof Workers]]<>0,SUM(F499:H499),\"\")","v":""},{"$f":"IF(Tabelle3[[#This Row],[Number \nof Workers]]<>0,(1-I499/$H$17)*100,\"\")","v":""}]
[null,null,458,null,null,null,null,null,{"$f":"IF(Tabelle3[[#This Row],[Number \nof Workers]]<>0,SUM(F500:H500),\"\")","v":""},{"$f":"IF(Tabelle3[[#This Row],[Number \nof Workers]]<>0,(1-I500/$H$17)*100,\"\")","v":""}]
[null,null,459,null,null,null,null,null,{"$f":"IF(Tabelle3[[#This Row],[Number \nof Workers]]<>0,SUM(F501:H501),\"\")","v":""},{"$f":"IF(Tabelle3[[#This Row],[Number \nof Workers]]<>0,(1-I501/$H$17)*100,\"\")","v":""}]
[null,null,460,null,null,null,null,null,{"$f":"IF(Tabelle3[[#This Row],[Number \nof Workers]]<>0,SUM(F502:H502),\"\")","v":""},{"$f":"IF(Tabelle3[[#This Row],[Number \nof Workers]]<>0,(1-I502/$H$17)*100,\"\")","v":""}]
[null,null,461,null,null,null,null,null,{"$f":"IF(Tabelle3[[#This Row],[Number \nof Workers]]<>0,SUM(F503:H503),\"\")","v":""},{"$f":"IF(Tabelle3[[#This Row],[Number \nof Workers]]<>0,(1-I503/$H$17)*100,\"\")","v":""}]
[null,null,462,null,null,null,null,null,{"$f":"IF(Tabelle3[[#This Row],[Number \nof Workers]]<>0,SUM(F504:H504),\"\")","v":""},{"$f":"IF(Tabelle3[[#This Row],[Number \nof Workers]]<>0,(1-I504/$H$17)*100,\"\")","v":""}]
[null,null,463,null,null,null,null,null,{"$f":"IF(Tabelle3[[#This Row],[Number \nof Workers]]<>0,SUM(F505:H505),\"\")","v":""},{"$f":"IF(Tabelle3[[#This Row],[Number \nof Workers]]<>0,(1-I505/$H$17)*100,\"\")","v":""}]
[null,null,464,null,null,null,null,null,{"$f":"IF(Tabelle3[[#This Row],[Number \nof Workers]]<>0,SUM(F506:H506),\"\")","v":""},{"$f":"IF(Tabelle3[[#This Row],[Number \nof Workers]]<>0,(1-I506/$H$17)*100,\"\")","v":""}]
[null,null,465,null,null,null,null,null,{"$f":"IF(Tabelle3[[#This Row],[Number \nof Workers]]<>0,SUM(F507:H507),\"\")","v":""},{"$f":"IF(Tabelle3[[#This Row],[Number \nof Workers]]<>0,(1-I507/$H$17)*100,\"\")","v":""}]
[null,null,466,null,null,null,null,null,{"$f":"IF(Tabelle3[[#This Row],[Number \nof Workers]]<>0,SUM(F508:H508),\"\")","v":""},{"$f":"IF(Tabelle3[[#This Row],[Number \nof Workers]]<>0,(1-I508/$H$17)*100,\"\")","v":""}]
[null,null,467,null,null,null,null,null,{"$f":"IF(Tabelle3[[#This Row],[Number \nof Workers]]<>0,SUM(F509:H509),\"\")","v":""},{"$f":"IF(Tabelle3[[#This Row],[Number \nof Workers]]<>0,(1-I509/$H$17)*100,\"\")","v":""}]
[null,null,468,null,null,null,null,null,{"$f":"IF(Tabelle3[[#This Row],[Number \nof Workers]]<>0,SUM(F510:H510),\"\")","v":""},{"$f":"IF(Tabelle3[[#This Row],[Number \nof Workers]]<>0,(1-I510/$H$17)*100,\"\")","v":""}]
[null,null,469,null,null,null,null,null,{"$f":"IF(Tabelle3[[#This Row],[Number \nof Workers]]<>0,SUM(F511:H511),\"\")","v":""},{"$f":"IF(Tabelle3[[#This Row],[Number \nof Workers]]<>0,(1-I511/$H$17)*100,\"\")","v":""}]
[null,null,470,null,null,null,null,null,{"$f":"IF(Tabelle3[[#This Row],[Number \nof Workers]]<>0,SUM(F512:H512),\"\")","v":""},{"$f":"IF(Tabelle3[[#This Row],[Number \nof Workers]]<>0,(1-I512/$H$17)*100,\"\")","v":""}]
[null,null,471,null,null,null,null,null,{"$f":"IF(Tabelle3[[#This Row],[Number \nof Workers]]<>0,SUM(F513:H513),\"\")","v":""},{"$f":"IF(Tabelle3[[#This Row],[Number \nof Workers]]<>0,(1-I513/$H$17)*100,\"\")","v":""}]
[null,null,472,null,null,null,null,null,{"$f":"IF(Tabelle3[[#This Row],[Number \nof Workers]]<>0,SUM(F514:H514),\"\")","v":""},{"$f":"IF(Tabelle3[[#This Row],[Number \nof Workers]]<>0,(1-I514/$H$17)*100,\"\")","v":""}]
[null,null,473,null,null,null,null,null,{"$f":"IF(Tabelle3[[#This Row],[Number \nof Workers]]<>0,SUM(F515:H515),\"\")","v":""},{"$f":"IF(Tabelle3[[#This Row],[Number \nof Workers]]<>0,(1-I515/$H$17)*100,\"\")","v":""}]
[null,null,474,null,null,null,null,null,{"$f":"IF(Tabelle3[[#This Row],[Number \nof Workers]]<>0,SUM(F516:H516),\"\")","v":""},{"$f":"IF(Tabelle3[[#This Row],[Number \nof Workers]]<>0,(1-I516/$H$17)*100,\"\")","v":""}]
[null,null,475,null,null,null,null,null,{"$f":"IF(Tabelle3[[#This Row],[Number \nof Workers]]<>0,SUM(F517:H517),\"\")","v":""},{"$f":"IF(Tabelle3[[#This Row],[Number \nof Workers]]<>0,(1-I517/$H$17)*100,\"\")","v":""}]
[null,null,476,null,null,null,null,null,{"$f":"IF(Tabelle3[[#This Row],[Number \nof Workers]]<>0,SUM(F518:H518),\"\")","v":""},{"$f":"IF(Tabelle3[[#This Row],[Number \nof Workers]]<>0,(1-I518/$H$17)*100,\"\")","v":""}]
[null,null,477,null,null,null,null,null,{"$f":"IF(Tabelle3[[#This Row],[Number \nof Workers]]<>0,SUM(F519:H519),\"\")","v":""},{"$f":"IF(Tabelle3[[#This Row],[Number \nof Workers]]<>0,(1-I519/$H$17)*100,\"\")","v":""}]
[null,null,478,null,null,null,null,null,{"$f":"IF(Tabelle3[[#This Row],[Number \nof Workers]]<>0,SUM(F520:H520),\"\")","v":""},{"$f":"IF(Tabelle3[[#This Row],[Number \nof Workers]]<>0,(1-I520/$H$17)*100,\"\")","v":""}]
[null,null,479,null,null,null,null,null,{"$f":"IF(Tabelle3[[#This Row],[Number \nof Workers]]<>0,SUM(F521:H521),\"\")","v":""},{"$f":"IF(Tabelle3[[#This Row],[Number \nof Workers]]<>0,(1-I521/$H$17)*100,\"\")","v":""}]
[null,null,480,null,null,null,null,null,{"$f":"IF(Tabelle3[[#This Row],[Number \nof Workers]]<>0,SUM(F522:H522),\"\")","v":""},{"$f":"IF(Tabelle3[[#This Row],[Number \nof Workers]]<>0,(1-I522/$H$17)*100,\"\")","v":""}]
[null,null,481,null,null,null,null,null,{"$f":"IF(Tabelle3[[#This Row],[Number \nof Workers]]<>0,SUM(F523:H523),\"\")","v":""},{"$f":"IF(Tabelle3[[#This Row],[Number \nof Workers]]<>0,(1-I523/$H$17)*100,\"\")","v":""}]
[null,null,482,null,null,null,null,null,{"$f":"IF(Tabelle3[[#This Row],[Number \nof Workers]]<>0,SUM(F524:H524),\"\")","v":""},{"$f":"IF(Tabelle3[[#This Row],[Number \nof Workers]]<>0,(1-I524/$H$17)*100,\"\")","v":""}]
[null,null,483,null,null,null,null,null,{"$f":"IF(Tabelle3[[#This Row],[Number \nof Workers]]<>0,SUM(F525:H525),\"\")","v":""},{"$f":"IF(Tabelle3[[#This Row],[Number \nof Workers]]<>0,(1-I525/$H$17)*100,\"\")","v":""}]
[null,null,484,null,null,null,null,null,{"$f":"IF(Tabelle3[[#This Row],[Number \nof Workers]]<>0,SUM(F526:H526),\"\")","v":""},{"$f":"IF(Tabelle3[[#This Row],[Number \nof Workers]]<>0,(1-I526/$H$17)*100,\"\")","v":""}]
[null,null,485,null,null,null,null,null,{"$f":"IF(Tabelle3[[#This Row],[Number \nof Workers]]<>0,SUM(F527:H527),\"\")","v":""},{"$f":"IF(Tabelle3[[#This Row],[Number \nof Workers]]<>0,(1-I527/$H$17)*100,\"\")","v":""}]
[null,null,486,null,null,null,null,null,{"$f":"IF(Tabelle3[[#This Row],[Number \nof Workers]]<>0,SUM(F528:H528),\"\")","v":""},{"$f":"IF(Tabelle3[[#This Row],[Number \nof Workers]]<>0,(1-I528/$H$17)*100,\"\")","v":""}]
[null,null,487,null,null,null,null,null,{"$f":"IF(Tabelle3[[#This Row],[Number \nof Workers]]<>0,SUM(F529:H529),\"\")","v":""},{"$f":"IF(Tabelle3[[#This Row],[Number \nof Workers]]<>0,(1-I529/$H$17)*100,\"\")","v":""}]
[null,null,488,null,null,null,null,null,{"$f":"IF(Tabelle3[[#This Row],[Number \nof Workers]]<>0,SUM(F530:H530),\"\")","v":""},{"$f":"IF(Tabelle3[[#This Row],[Number \nof Workers]]<>0,(1-I530/$H$17)*100,\"\")","v":""}]
[null,null,489,null,null,null,null,null,{"$f":"IF(Tabelle3[[#This Row],[Number \nof Workers]]<>0,SUM(F531:H531),\"\")","v":""},{"$f":"IF(Tabelle3[[#This Row],[Number \nof Workers]]<>0,(1-I531/$H$17)*100,\"\")","v":""}]
[null,null,490,null,null,null,null,null,{"$f":"IF(Tabelle3[[#This Row],[Number \nof Workers]]<>0,SUM(F532:H532),\"\")","v":""},{"$f":"IF(Tabelle3[[#This Row],[Number \nof Workers]]<>0,(1-I532/$H$17)*100,\"\")","v":""}]
[null,null,491,null,null,null,null,null,{"$f":"IF(Tabelle3[[#This Row],[Number \nof Workers]]<>0,SUM(F533:H533),\"\")","v":""},{"$f":"IF(Tabelle3[[#This Row],[Number \nof Workers]]<>0,(1-I533/$H$17)*100,\"\")","v":""}]
[null,null,492,null,null,null,null,null,{"$f":"IF(Tabelle3[[#This Row],[Number \nof Workers]]<>0,SUM(F534:H534),\"\")","v":""},{"$f":"IF(Tabelle3[[#This Row],[Number \nof Workers]]<>0,(1-I534/$H$17)*100,\"\")","v":""}]
[null,null,493,null,null,null,null,null,{"$f":"IF(Tabelle3[[#This Row],[Number \nof Workers]]<>0,SUM(F535:H535),\"\")","v":""},{"$f":"IF(Tabelle3[[#This Row],[Number \nof Workers]]<>0,(1-I535/$H$17)*100,\"\")","v":""}]
[null,null,494,null,null,null,null,null,{"$f":"IF(Tabelle3[[#This Row],[Number \nof Workers]]<>0,SUM(F536:H536),\"\")","v":""},{"$f":"IF(Tabelle3[[#This Row],[Number \nof Workers]]<>0,(1-I536/$H$17)*100,\"\")","v":""}]
[null,null,495,null,null,null,null,null,{"$f":"IF(Tabelle3[[#This Row],[Number \nof Workers]]<>0,SUM(F537:H537),\"\")","v":""},{"$f":"IF(Tabelle3[[#This Row],[Number \nof Workers]]<>0,(1-I537/$H$17)*100,\"\")","v":""}]
[null,null,496,null,null,null,null,null,{"$f":"IF(Tabelle3[[#This Row],[Number \nof Workers]]<>0,SUM(F538:H538),\"\")","v":""},{"$f":"IF(Tabelle3[[#This Row],[Number \nof Workers]]<>0,(1-I538/$H$17)*100,\"\")","v":""}]
[null,null,497,null,null,null,null,null,{"$f":"IF(Tabelle3[[#This Row],[Number \nof Workers]]<>0,SUM(F539:H539),\"\")","v":""},{"$f":"IF(Tabelle3[[#This Row],[Number \nof Workers]]<>0,(1-I539/$H$17)*100,\"\")","v":""}]
[null,null,498,null,null,null,null,null,{"$f":"IF(Tabelle3[[#This Row],[Number \nof Workers]]<>0,SUM(F540:H540),\"\")","v":""},{"$f":"IF(Tabelle3[[#This Row],[Number \nof Workers]]<>0,(1-I540/$H$17)*100,\"\")","v":""}]
[null,null,499,null,null,null,null,null,{"$f":"IF(Tabelle3[[#This Row],[Number \nof Workers]]<>0,SUM(F541:H541),\"\")","v":""},{"$f":"IF(Tabelle3[[#This Row],[Number \nof Workers]]<>0,(1-I541/$H$17)*100,\"\")","v":""}]
[null,null,500,null,null,null,null,null,{"$f":"IF(Tabelle3[[#This Row],[Number \nof Workers]]<>0,SUM(F542:H542),\"\")","v":""},{"$f":"IF(Tabelle3[[#This Row],[Number \nof Workers]]<>0,(1-I542/$H$17)*100,\"\")","v":""}]
[null,null,501,null,null,null,null,null,{"$f":"IF(Tabelle3[[#This Row],[Number \nof Workers]]<>0,SUM(F543:H543),\"\")","v":""},{"$f":"IF(Tabelle3[[#This Row],[Number \nof Workers]]<>0,(1-I543/$H$17)*100,\"\")","v":""}]
[null,null,502,null,null,null,null,null,{"$f":"IF(Tabelle3[[#This Row],[Number \nof Workers]]<>0,SUM(F544:H544),\"\")","v":""},{"$f":"IF(Tabelle3[[#This Row],[Number \nof Workers]]<>0,(1-I544/$H$17)*100,\"\")","v":""}]
[null,null,503,null,null,null,null,null,{"$f":"IF(Tabelle3[[#This Row],[Number \nof Workers]]<>0,SUM(F545:H545),\"\")","v":""},{"$f":"IF(Tabelle3[[#This Row],[Number \nof Workers]]<>0,(1-I545/$H$17)*100,\"\")","v":""}]
[null,null,504,null,null,null,null,null,{"$f":"IF(Tabelle3[[#This Row],[Number \nof Workers]]<>0,SUM(F546:H546),\"\")","v":""},{"$f":"IF(Tabelle3[[#This Row],[Number \nof Workers]]<>0,(1-I546/$H$17)*100,\"\")","v":""}]
[null,null,505,null,null,null,null,null,{"$f":"IF(Tabelle3[[#This Row],[Number \nof Workers]]<>0,SUM(F547:H547),\"\")","v":""},{"$f":"IF(Tabelle3[[#This Row],[Number \nof Workers]]<>0,(1-I547/$H$17)*100,\"\")","v":""}]
[null,null,506,null,null,null,null,null,{"$f":"IF(Tabelle3[[#This Row],[Number \nof Workers]]<>0,SUM(F548:H548),\"\")","v":""},{"$f":"IF(Tabelle3[[#This Row],[Number \nof Workers]]<>0,(1-I548/$H$17)*100,\"\")","v":""}]
[null,null,507,null,null,null,null,null,{"$f":"IF(Tabelle3[[#This Row],[Number \nof Workers]]<>0,SUM(F549:H549),\"\")","v":""},{"$f":"IF(Tabelle3[[#This Row],[Number \nof Workers]]<>0,(1-I549/$H$17)*100,\"\")","v":""}]
[null,null,508,null,null,null,null,null,{"$f":"IF(Tabelle3[[#This Row],[Number \nof Workers]]<>0,SUM(F550:H550),\"\")","v":""},{"$f":"IF(Tabelle3[[#This Row],[Number \nof Workers]]<>0,(1-I550/$H$17)*100,\"\")","v":""}]
[null,null,509,null,null,null,null,null,{"$f":"IF(Tabelle3[[#This Row],[Number \nof Workers]]<>0,SUM(F551:H551),\"\")","v":""},{"$f":"IF(Tabelle3[[#This Row],[Number \nof Workers]]<>0,(1-I551/$H$17)*100,\"\")","v":""}]
[null,null,510,null,null,null,null,null,{"$f":"IF(Tabelle3[[#This Row],[Number \nof Workers]]<>0,SUM(F552:H552),\"\")","v":""},{"$f":"IF(Tabelle3[[#This Row],[Number \nof Workers]]<>0,(1-I552/$H$17)*100,\"\")","v":""}]
[null,null,511,null,null,null,null,null,{"$f":"IF(Tabelle3[[#This Row],[Number \nof Workers]]<>0,SUM(F553:H553),\"\")","v":""},{"$f":"IF(Tabelle3[[#This Row],[Number \nof Workers]]<>0,(1-I553/$H$17)*100,\"\")","v":""}]
[null,null,512,null,null,null,null,null,{"$f":"IF(Tabelle3[[#This Row],[Number \nof Workers]]<>0,SUM(F554:H554),\"\")","v":""},{"$f":"IF(Tabelle3[[#This Row],[Number \nof Workers]]<>0,(1-I554/$H$17)*100,\"\")","v":""}]
[null,null,513,null,null,null,null,null,{"$f":"IF(Tabelle3[[#This Row],[Number \nof Workers]]<>0,SUM(F555:H555),\"\")","v":""},{"$f":"IF(Tabelle3[[#This Row],[Number \nof Workers]]<>0,(1-I555/$H$17)*100,\"\")","v":""}]
[null,null,514,null,null,null,null,null,{"$f":"IF(Tabelle3[[#This Row],[Number \nof Workers]]<>0,SUM(F556:H556),\"\")","v":""},{"$f":"IF(Tabelle3[[#This Row],[Number \nof Workers]]<>0,(1-I556/$H$17)*100,\"\")","v":""}]
[null,null,515,null,null,null,null,null,{"$f":"IF(Tabelle3[[#This Row],[Number \nof Workers]]<>0,SUM(F557:H557),\"\")","v":""},{"$f":"IF(Tabelle3[[#This Row],[Number \nof Workers]]<>0,(1-I557/$H$17)*100,\"\")","v":""}]
[null,null,516,null,null,null,null,null,{"$f":"IF(Tabelle3[[#This Row],[Number \nof Workers]]<>0,SUM(F558:H558),\"\")","v":""},{"$f":"IF(Tabelle3[[#This Row],[Number \nof Workers]]<>0,(1-I558/$H$17)*100,\"\")","v":""}]
[null,null,517,null,null,null,null,null,{"$f":"IF(Tabelle3[[#This Row],[Number \nof Workers]]<>0,SUM(F559:H559),\"\")","v":""},{"$f":"IF(Tabelle3[[#This Row],[Number \nof Workers]]<>0,(1-I559/$H$17)*100,\"\")","v":""}]
[null,null,518,null,null,null,null,null,{"$f":"IF(Tabelle3[[#This Row],[Number \nof Workers]]<>0,SUM(F560:H560),\"\")","v":""},{"$f":"IF(Tabelle3[[#This Row],[Number \nof Workers]]<>0,(1-I560/$H$17)*100,\"\")","v":""}]
[null,null,519,null,null,null,null,null,{"$f":"IF(Tabelle3[[#This Row],[Number \nof Workers]]<>0,SUM(F561:H561),\"\")","v":""},{"$f":"IF(Tabelle3[[#This Row],[Number \nof Workers]]<>0,(1-I561/$H$17)*100,\"\")","v":""}]
[null,null,520,null,null,null,null,null,{"$f":"IF(Tabelle3[[#This Row],[Number \nof Workers]]<>0,SUM(F562:H562),\"\")","v":""},{"$f":"IF(Tabelle3[[#This Row],[Number \nof Workers]]<>0,(1-I562/$H$17)*100,\"\")","v":""}]
[null,null,521,null,null,null,null,null,{"$f":"IF(Tabelle3[[#This Row],[Number \nof Workers]]<>0,SUM(F563:H563),\"\")","v":""},{"$f":"IF(Tabelle3[[#This Row],[Number \nof Workers]]<>0,(1-I563/$H$17)*100,\"\")","v":""}]
[null,null,522,null,null,null,null,null,{"$f":"IF(Tabelle3[[#This Row],[Number \nof Workers]]<>0,SUM(F564:H564),\"\")","v":""},{"$f":"IF(Tabelle3[[#This Row],[Number \nof Workers]]<>0,(1-I564/$H$17)*100,\"\")","v":""}]
[null,null,523,null,null,null,null,null,{"$f":"IF(Tabelle3[[#This Row],[Number \nof Workers]]<>0,SUM(F565:H565),\"\")","v":""},{"$f":"IF(Tabelle3[[#This Row],[Number \nof Workers]]<>0,(1-I565/$H$17)*100,\"\")","v":""}]
[null,null,524,null,null,null,null,null,{"$f":"IF(Tabelle3[[#This Row],[Number \nof Workers]]<>0,SUM(F566:H566),\"\")","v":""},{"$f":"IF(Tabelle3[[#This Row],[Number \nof Workers]]<>0,(1-I566/$H$17)*100,\"\")","v":""}]
[null,null,525,null,null,null,null,null,{"$f":"IF(Tabelle3[[#This Row],[Number \nof Workers]]<>0,SUM(F567:H567),\"\")","v":""},{"$f":"IF(Tabelle3[[#This Row],[Number \nof Workers]]<>0,(1-I567/$H$17)*100,\"\")","v":""}]
[null,null,526,null,null,null,null,null,{"$f":"IF(Tabelle3[[#This Row],[Number \nof Workers]]<>0,SUM(F568:H568),\"\")","v":""},{"$f":"IF(Tabelle3[[#This Row],[Number \nof Workers]]<>0,(1-I568/$H$17)*100,\"\")","v":""}]
[null,null,527,null,null,null,null,null,{"$f":"IF(Tabelle3[[#This Row],[Number \nof Workers]]<>0,SUM(F569:H569),\"\")","v":""},{"$f":"IF(Tabelle3[[#This Row],[Number \nof Workers]]<>0,(1-I569/$H$17)*100,\"\")","v":""}]
[null,null,528,null,null,null,null,null,{"$f":"IF(Tabelle3[[#This Row],[Number \nof Workers]]<>0,SUM(F570:H570),\"\")","v":""},{"$f":"IF(Tabelle3[[#This Row],[Number \nof Workers]]<>0,(1-I570/$H$17)*100,\"\")","v":""}]
[null,null,529,null,null,null,null,null,{"$f":"IF(Tabelle3[[#This Row],[Number \nof Workers]]<>0,SUM(F571:H571),\"\")","v":""},{"$f":"IF(Tabelle3[[#This Row],[Number \nof Workers]]<>0,(1-I571/$H$17)*100,\"\")","v":""}]
[null,null,530,null,null,null,null,null,{"$f":"IF(Tabelle3[[#This Row],[Number \nof Workers]]<>0,SUM(F572:H572),\"\")","v":""},{"$f":"IF(Tabelle3[[#This Row],[Number \nof Workers]]<>0,(1-I572/$H$17)*100,\"\")","v":""}]
[null,null,531,null,null,null,null,null,{"$f":"IF(Tabelle3[[#This Row],[Number \nof Workers]]<>0,SUM(F573:H573),\"\")","v":""},{"$f":"IF(Tabelle3[[#This Row],[Number \nof Workers]]<>0,(1-I573/$H$17)*100,\"\")","v":""}]
[null,null,532,null,null,null,null,null,{"$f":"IF(Tabelle3[[#This Row],[Number \nof Workers]]<>0,SUM(F574:H574),\"\")","v":""},{"$f":"IF(Tabelle3[[#This Row],[Number \nof Workers]]<>0,(1-I574/$H$17)*100,\"\")","v":""}]
[null,null,533,null,null,null,null,null,{"$f":"IF(Tabelle3[[#This Row],[Number \nof Workers]]<>0,SUM(F575:H575),\"\")","v":""},{"$f":"IF(Tabelle3[[#This Row],[Number \nof Workers]]<>0,(1-I575/$H$17)*100,\"\")","v":""}]
[null,null,534,null,null,null,null,null,{"$f":"IF(Tabelle3[[#This Row],[Number \nof Workers]]<>0,SUM(F576:H576),\"\")","v":""},{"$f":"IF(Tabelle3[[#This Row],[Number \nof Workers]]<>0,(1-I576/$H$17)*100,\"\")","v":""}]
[null,null,535,null,null,null,null,null,{"$f":"IF(Tabelle3[[#This Row],[Number \nof Workers]]<>0,SUM(F577:H577),\"\")","v":""},{"$f":"IF(Tabelle3[[#This Row],[Number \nof Workers]]<>0,(1-I577/$H$17)*100,\"\")","v":""}]
[null,null,536,null,null,null,null,null,{"$f":"IF(Tabelle3[[#This Row],[Number \nof Workers]]<>0,SUM(F578:H578),\"\")","v":""},{"$f":"IF(Tabelle3[[#This Row],[Number \nof Workers]]<>0,(1-I578/$H$17)*100,\"\")","v":""}]
[null,null,537,null,null,null,null,null,{"$f":"IF(Tabelle3[[#This Row],[Number \nof Workers]]<>0,SUM(F579:H579),\"\")","v":""},{"$f":"IF(Tabelle3[[#This Row],[Number \nof Workers]]<>0,(1-I579/$H$17)*100,\"\")","v":""}]
[null,null,538,null,null,null,null,null,{"$f":"IF(Tabelle3[[#This Row],[Number \nof Workers]]<>0,SUM(F580:H580),\"\")","v":""},{"$f":"IF(Tabelle3[[#This Row],[Number \nof Workers]]<>0,(1-I580/$H$17)*100,\"\")","v":""}]
[null,null,539,null,null,null,null,null,{"$f":"IF(Tabelle3[[#This Row],[Number \nof Workers]]<>0,SUM(F581:H581),\"\")","v":""},{"$f":"IF(Tabelle3[[#This Row],[Number \nof Workers]]<>0,(1-I581/$H$17)*100,\"\")","v":""}]
[null,null,540,null,null,null,null,null,{"$f":"IF(Tabelle3[[#This Row],[Number \nof Workers]]<>0,SUM(F582:H582),\"\")","v":""},{"$f":"IF(Tabelle3[[#This Row],[Number \nof Workers]]<>0,(1-I582/$H$17)*100,\"\")","v":""}]
[null,null,541,null,null,null,null,null,{"$f":"IF(Tabelle3[[#This Row],[Number \nof Workers]]<>0,SUM(F583:H583),\"\")","v":""},{"$f":"IF(Tabelle3[[#This Row],[Number \nof Workers]]<>0,(1-I583/$H$17)*100,\"\")","v":""}]
[null,null,542,null,null,null,null,null,{"$f":"IF(Tabelle3[[#This Row],[Number \nof Workers]]<>0,SUM(F584:H584),\"\")","v":""},{"$f":"IF(Tabelle3[[#This Row],[Number \nof Workers]]<>0,(1-I584/$H$17)*100,\"\")","v":""}]
[null,null,543,null,null,null,null,null,{"$f":"IF(Tabelle3[[#This Row],[Number \nof Workers]]<>0,SUM(F585:H585),\"\")","v":""},{"$f":"IF(Tabelle3[[#This Row],[Number \nof Workers]]<>0,(1-I585/$H$17)*100,\"\")","v":""}]
[null,null,544,null,null,null,null,null,{"$f":"IF(Tabelle3[[#This Row],[Number \nof Workers]]<>0,SUM(F586:H586),\"\")","v":""},{"$f":"IF(Tabelle3[[#This Row],[Number \nof Workers]]<>0,(1-I586/$H$17)*100,\"\")","v":""}]
[null,null,545,null,null,null,null,null,{"$f":"IF(Tabelle3[[#This Row],[Number \nof Workers]]<>0,SUM(F587:H587),\"\")","v":""},{"$f":"IF(Tabelle3[[#This Row],[Number \nof Workers]]<>0,(1-I587/$H$17)*100,\"\")","v":""}]
[null,null,546,null,null,null,null,null,{"$f":"IF(Tabelle3[[#This Row],[Number \nof Workers]]<>0,SUM(F588:H588),\"\")","v":""},{"$f":"IF(Tabelle3[[#This Row],[Number \nof Workers]]<>0,(1-I588/$H$17)*100,\"\")","v":""}]
[null,null,547,null,null,null,null,null,{"$f":"IF(Tabelle3[[#This Row],[Number \nof Workers]]<>0,SUM(F589:H589),\"\")","v":""},{"$f":"IF(Tabelle3[[#This Row],[Number \nof Workers]]<>0,(1-I589/$H$17)*100,\"\")","v":""}]
[null,null,548,null,null,null,null,null,{"$f":"IF(Tabelle3[[#This Row],[Number \nof Workers]]<>0,SUM(F590:H590),\"\")","v":""},{"$f":"IF(Tabelle3[[#This Row],[Number \nof Workers]]<>0,(1-I590/$H$17)*100,\"\")","v":""}]
[null,null,549,null,null,null,null,null,{"$f":"IF(Tabelle3[[#This Row],[Number \nof Workers]]<>0,SUM(F591:H591),\"\")","v":""},{"$f":"IF(Tabelle3[[#This Row],[Number \nof Workers]]<>0,(1-I591/$H$17)*100,\"\")","v":""}]
[null,null,550,null,null,null,null,null,{"$f":"IF(Tabelle3[[#This Row],[Number \nof Workers]]<>0,SUM(F592:H592),\"\")","v":""},{"$f":"IF(Tabelle3[[#This Row],[Number \nof Workers]]<>0,(1-I592/$H$17)*100,\"\")","v":""}]
[null,null,551,null,null,null,null,null,{"$f":"IF(Tabelle3[[#This Row],[Number \nof Workers]]<>0,SUM(F593:H593),\"\")","v":""},{"$f":"IF(Tabelle3[[#This Row],[Number \nof Workers]]<>0,(1-I593/$H$17)*100,\"\")","v":""}]
[null,null,552,null,null,null,null,null,{"$f":"IF(Tabelle3[[#This Row],[Number \nof Workers]]<>0,SUM(F594:H594),\"\")","v":""},{"$f":"IF(Tabelle3[[#This Row],[Number \nof Workers]]<>0,(1-I594/$H$17)*100,\"\")","v":""}]
[null,null,553,null,null,null,null,null,{"$f":"IF(Tabelle3[[#This Row],[Number \nof Workers]]<>0,SUM(F595:H595),\"\")","v":""},{"$f":"IF(Tabelle3[[#This Row],[Number \nof Workers]]<>0,(1-I595/$H$17)*100,\"\")","v":""}]
[null,null,554,null,null,null,null,null,{"$f":"IF(Tabelle3[[#This Row],[Number \nof Workers]]<>0,SUM(F596:H596),\"\")","v":""},{"$f":"IF(Tabelle3[[#This Row],[Number \nof Workers]]<>0,(1-I596/$H$17)*100,\"\")","v":""}]
[null,null,555,null,null,null,null,null,{"$f":"IF(Tabelle3[[#This Row],[Number \nof Workers]]<>0,SUM(F597:H597),\"\")","v":""},{"$f":"IF(Tabelle3[[#This Row],[Number \nof Workers]]<>0,(1-I597/$H$17)*100,\"\")","v":""}]
[null,null,556,null,null,null,null,null,{"$f":"IF(Tabelle3[[#This Row],[Number \nof Workers]]<>0,SUM(F598:H598),\"\")","v":""},{"$f":"IF(Tabelle3[[#This Row],[Number \nof Workers]]<>0,(1-I598/$H$17)*100,\"\")","v":""}]
[null,null,557,null,null,null,null,null,{"$f":"IF(Tabelle3[[#This Row],[Number \nof Workers]]<>0,SUM(F599:H599),\"\")","v":""},{"$f":"IF(Tabelle3[[#This Row],[Number \nof Workers]]<>0,(1-I599/$H$17)*100,\"\")","v":""}]
[null,null,558,null,null,null,null,null,{"$f":"IF(Tabelle3[[#This Row],[Number \nof Workers]]<>0,SUM(F600:H600),\"\")","v":""},{"$f":"IF(Tabelle3[[#This Row],[Number \nof Workers]]<>0,(1-I600/$H$17)*100,\"\")","v":""}]
[null,null,559,null,null,null,null,null,{"$f":"IF(Tabelle3[[#This Row],[Number \nof Workers]]<>0,SUM(F601:H601),\"\")","v":""},{"$f":"IF(Tabelle3[[#This Row],[Number \nof Workers]]<>0,(1-I601/$H$17)*100,\"\")","v":""}]
[null,null,560,null,null,null,null,null,{"$f":"IF(Tabelle3[[#This Row],[Number \nof Workers]]<>0,SUM(F602:H602),\"\")","v":""},{"$f":"IF(Tabelle3[[#This Row],[Number \nof Workers]]<>0,(1-I602/$H$17)*100,\"\")","v":""}]
[null,null,561,null,null,null,null,null,{"$f":"IF(Tabelle3[[#This Row],[Number \nof Workers]]<>0,SUM(F603:H603),\"\")","v":""},{"$f":"IF(Tabelle3[[#This Row],[Number \nof Workers]]<>0,(1-I603/$H$17)*100,\"\")","v":""}]
[null,null,562,null,null,null,null,null,{"$f":"IF(Tabelle3[[#This Row],[Number \nof Workers]]<>0,SUM(F604:H604),\"\")","v":""},{"$f":"IF(Tabelle3[[#This Row],[Number \nof Workers]]<>0,(1-I604/$H$17)*100,\"\")","v":""}]
[null,null,563,null,null,null,null,null,{"$f":"IF(Tabelle3[[#This Row],[Number \nof Workers]]<>0,SUM(F605:H605),\"\")","v":""},{"$f":"IF(Tabelle3[[#This Row],[Number \nof Workers]]<>0,(1-I605/$H$17)*100,\"\")","v":""}]
[null,null,564,null,null,null,null,null,{"$f":"IF(Tabelle3[[#This Row],[Number \nof Workers]]<>0,SUM(F606:H606),\"\")","v":""},{"$f":"IF(Tabelle3[[#This Row],[Number \nof Workers]]<>0,(1-I606/$H$17)*100,\"\")","v":""}]
[null,null,565,null,null,null,null,null,{"$f":"IF(Tabelle3[[#This Row],[Number \nof Workers]]<>0,SUM(F607:H607),\"\")","v":""},{"$f":"IF(Tabelle3[[#This Row],[Number \nof Workers]]<>0,(1-I607/$H$17)*100,\"\")","v":""}]
[null,null,566,null,null,null,null,null,{"$f":"IF(Tabelle3[[#This Row],[Number \nof Workers]]<>0,SUM(F608:H608),\"\")","v":""},{"$f":"IF(Tabelle3[[#This Row],[Number \nof Workers]]<>0,(1-I608/$H$17)*100,\"\")","v":""}]
[null,null,567,null,null,null,null,null,{"$f":"IF(Tabelle3[[#This Row],[Number \nof Workers]]<>0,SUM(F609:H609),\"\")","v":""},{"$f":"IF(Tabelle3[[#This Row],[Number \nof Workers]]<>0,(1-I609/$H$17)*100,\"\")","v":""}]
[null,null,568,null,null,null,null,null,{"$f":"IF(Tabelle3[[#This Row],[Number \nof Workers]]<>0,SUM(F610:H610),\"\")","v":""},{"$f":"IF(Tabelle3[[#This Row],[Number \nof Workers]]<>0,(1-I610/$H$17)*100,\"\")","v":""}]
[null,null,569,null,null,null,null,null,{"$f":"IF(Tabelle3[[#This Row],[Number \nof Workers]]<>0,SUM(F611:H611),\"\")","v":""},{"$f":"IF(Tabelle3[[#This Row],[Number \nof Workers]]<>0,(1-I611/$H$17)*100,\"\")","v":""}]
[null,null,570,null,null,null,null,null,{"$f":"IF(Tabelle3[[#This Row],[Number \nof Workers]]<>0,SUM(F612:H612),\"\")","v":""},{"$f":"IF(Tabelle3[[#This Row],[Number \nof Workers]]<>0,(1-I612/$H$17)*100,\"\")","v":""}]
[null,null,571,null,null,null,null,null,{"$f":"IF(Tabelle3[[#This Row],[Number \nof Workers]]<>0,SUM(F613:H613),\"\")","v":""},{"$f":"IF(Tabelle3[[#This Row],[Number \nof Workers]]<>0,(1-I613/$H$17)*100,\"\")","v":""}]
[null,null,572,null,null,null,null,null,{"$f":"IF(Tabelle3[[#This Row],[Number \nof Workers]]<>0,SUM(F614:H614),\"\")","v":""},{"$f":"IF(Tabelle3[[#This Row],[Number \nof Workers]]<>0,(1-I614/$H$17)*100,\"\")","v":""}]
[null,null,573,null,null,null,null,null,{"$f":"IF(Tabelle3[[#This Row],[Number \nof Workers]]<>0,SUM(F615:H615),\"\")","v":""},{"$f":"IF(Tabelle3[[#This Row],[Number \nof Workers]]<>0,(1-I615/$H$17)*100,\"\")","v":""}]
[null,null,574,null,null,null,null,null,{"$f":"IF(Tabelle3[[#This Row],[Number \nof Workers]]<>0,SUM(F616:H616),\"\")","v":""},{"$f":"IF(Tabelle3[[#This Row],[Number \nof Workers]]<>0,(1-I616/$H$17)*100,\"\")","v":""}]
[null,null,575,null,null,null,null,null,{"$f":"IF(Tabelle3[[#This Row],[Number \nof Workers]]<>0,SUM(F617:H617),\"\")","v":""},{"$f":"IF(Tabelle3[[#This Row],[Number \nof Workers]]<>0,(1-I617/$H$17)*100,\"\")","v":""}]
[null,null,576,null,null,null,null,null,{"$f":"IF(Tabelle3[[#This Row],[Number \nof Workers]]<>0,SUM(F618:H618),\"\")","v":""},{"$f":"IF(Tabelle3[[#This Row],[Number \nof Workers]]<>0,(1-I618/$H$17)*100,\"\")","v":""}]
[null,null,577,null,null,null,null,null,{"$f":"IF(Tabelle3[[#This Row],[Number \nof Workers]]<>0,SUM(F619:H619),\"\")","v":""},{"$f":"IF(Tabelle3[[#This Row],[Number \nof Workers]]<>0,(1-I619/$H$17)*100,\"\")","v":""}]
[null,null,578,null,null,null,null,null,{"$f":"IF(Tabelle3[[#This Row],[Number \nof Workers]]<>0,SUM(F620:H620),\"\")","v":""},{"$f":"IF(Tabelle3[[#This Row],[Number \nof Workers]]<>0,(1-I620/$H$17)*100,\"\")","v":""}]
[null,null,579,null,null,null,null,null,{"$f":"IF(Tabelle3[[#This Row],[Number \nof Workers]]<>0,SUM(F621:H621),\"\")","v":""},{"$f":"IF(Tabelle3[[#This Row],[Number \nof Workers]]<>0,(1-I621/$H$17)*100,\"\")","v":""}]
[null,null,580,null,null,null,null,null,{"$f":"IF(Tabelle3[[#This Row],[Number \nof Workers]]<>0,SUM(F622:H622),\"\")","v":""},{"$f":"IF(Tabelle3[[#This Row],[Number \nof Workers]]<>0,(1-I622/$H$17)*100,\"\")","v":""}]
[null,null,581,null,null,null,null,null,{"$f":"IF(Tabelle3[[#This Row],[Number \nof Workers]]<>0,SUM(F623:H623),\"\")","v":""},{"$f":"IF(Tabelle3[[#This Row],[Number \nof Workers]]<>0,(1-I623/$H$17)*100,\"\")","v":""}]
[null,null,582,null,null,null,null,null,{"$f":"IF(Tabelle3[[#This Row],[Number \nof Workers]]<>0,SUM(F624:H624),\"\")","v":""},{"$f":"IF(Tabelle3[[#This Row],[Number \nof Workers]]<>0,(1-I624/$H$17)*100,\"\")","v":""}]
[null,null,583,null,null,null,null,null,{"$f":"IF(Tabelle3[[#This Row],[Number \nof Workers]]<>0,SUM(F625:H625),\"\")","v":""},{"$f":"IF(Tabelle3[[#This Row],[Number \nof Workers]]<>0,(1-I625/$H$17)*100,\"\")","v":""}]
[null,null,584,null,null,null,null,null,{"$f":"IF(Tabelle3[[#This Row],[Number \nof Workers]]<>0,SUM(F626:H626),\"\")","v":""},{"$f":"IF(Tabelle3[[#This Row],[Number \nof Workers]]<>0,(1-I626/$H$17)*100,\"\")","v":""}]
[null,null,585,null,null,null,null,null,{"$f":"IF(Tabelle3[[#This Row],[Number \nof Workers]]<>0,SUM(F627:H627),\"\")","v":""},{"$f":"IF(Tabelle3[[#This Row],[Number \nof Workers]]<>0,(1-I627/$H$17)*100,\"\")","v":""}]
[null,null,586,null,null,null,null,null,{"$f":"IF(Tabelle3[[#This Row],[Number \nof Workers]]<>0,SUM(F628:H628),\"\")","v":""},{"$f":"IF(Tabelle3[[#This Row],[Number \nof Workers]]<>0,(1-I628/$H$17)*100,\"\")","v":""}]
[null,null,587,null,null,null,null,null,{"$f":"IF(Tabelle3[[#This Row],[Number \nof Workers]]<>0,SUM(F629:H629),\"\")","v":""},{"$f":"IF(Tabelle3[[#This Row],[Number \nof Workers]]<>0,(1-I629/$H$17)*100,\"\")","v":""}]
[null,null,588,null,null,null,null,null,{"$f":"IF(Tabelle3[[#This Row],[Number \nof Workers]]<>0,SUM(F630:H630),\"\")","v":""},{"$f":"IF(Tabelle3[[#This Row],[Number \nof Workers]]<>0,(1-I630/$H$17)*100,\"\")","v":""}]
[null,null,589,null,null,null,null,null,{"$f":"IF(Tabelle3[[#This Row],[Number \nof Workers]]<>0,SUM(F631:H631),\"\")","v":""},{"$f":"IF(Tabelle3[[#This Row],[Number \nof Workers]]<>0,(1-I631/$H$17)*100,\"\")","v":""}]
[null,null,590,null,null,null,null,null,{"$f":"IF(Tabelle3[[#This Row],[Number \nof Workers]]<>0,SUM(F632:H632),\"\")","v":""},{"$f":"IF(Tabelle3[[#This Row],[Number \nof Workers]]<>0,(1-I632/$H$17)*100,\"\")","v":""}]
[null,null,591,null,null,null,null,null,{"$f":"IF(Tabelle3[[#This Row],[Number \nof Workers]]<>0,SUM(F633:H633),\"\")","v":""},{"$f":"IF(Tabelle3[[#This Row],[Number \nof Workers]]<>0,(1-I633/$H$17)*100,\"\")","v":""}]
[null,null,592,null,null,null,null,null,{"$f":"IF(Tabelle3[[#This Row],[Number \nof Workers]]<>0,SUM(F634:H634),\"\")","v":""},{"$f":"IF(Tabelle3[[#This Row],[Number \nof Workers]]<>0,(1-I634/$H$17)*100,\"\")","v":""}]
[null,null,593,null,null,null,null,null,{"$f":"IF(Tabelle3[[#This Row],[Number \nof Workers]]<>0,SUM(F635:H635),\"\")","v":""},{"$f":"IF(Tabelle3[[#This Row],[Number \nof Workers]]<>0,(1-I635/$H$17)*100,\"\")","v":""}]
[null,null,594,null,null,null,null,null,{"$f":"IF(Tabelle3[[#This Row],[Number \nof Workers]]<>0,SUM(F636:H636),\"\")","v":""},{"$f":"IF(Tabelle3[[#This Row],[Number \nof Workers]]<>0,(1-I636/$H$17)*100,\"\")","v":""}]
[null,null,595,null,null,null,null,null,{"$f":"IF(Tabelle3[[#This Row],[Number \nof Workers]]<>0,SUM(F637:H637),\"\")","v":""},{"$f":"IF(Tabelle3[[#This Row],[Number \nof Workers]]<>0,(1-I637/$H$17)*100,\"\")","v":""}]
[null,null,596,null,null,null,null,null,{"$f":"IF(Tabelle3[[#This Row],[Number \nof Workers]]<>0,SUM(F638:H638),\"\")","v":""},{"$f":"IF(Tabelle3[[#This Row],[Number \nof Workers]]<>0,(1-I638/$H$17)*100,\"\")","v":""}]
[null,null,597,null,null,null,null,null,{"$f":"IF(Tabelle3[[#This Row],[Number \nof Workers]]<>0,SUM(F639:H639),\"\")","v":""},{"$f":"IF(Tabelle3[[#This Row],[Number \nof Workers]]<>0,(1-I639/$H$17)*100,\"\")","v":""}]
[null,null,598,null,null,null,null,null,{"$f":"IF(Tabelle3[[#This Row],[Number \nof Workers]]<>0,SUM(F640:H640),\"\")","v":""},{"$f":"IF(Tabelle3[[#This Row],[Number \nof Workers]]<>0,(1-I640/$H$17)*100,\"\")","v":""}]
[null,null,599,null,null,null,null,null,{"$f":"IF(Tabelle3[[#This Row],[Number \nof Workers]]<>0,SUM(F641:H641),\"\")","v":""},{"$f":"IF(Tabelle3[[#This Row],[Number \nof Workers]]<>0,(1-I641/$H$17)*100,\"\")","v":""}]
[null,null,600,null,null,null,null,null,{"$f":"IF(Tabelle3[[#This Row],[Number \nof Workers]]<>0,SUM(F642:H642),\"\")","v":""},{"$f":"IF(Tabelle3[[#This Row],[Number \nof Workers]]<>0,(1-I642/$H$17)*100,\"\")","v":""}]

{"sheet":"Scenario specification","index":2,"n_rows":47,"n_cols":11,"rows_kept":47,"cut":false,"hidden":false,"merged":[[53,4,54,6],[56,4,57,10],[37,4,38,10],[33,7,33,9],[13,4,13,10],[15,4,16,10],[30,4,31,10],[25,4,26,10],[22,4,23,6]]}
[]
[]
[]
[null,null,"Scenario specification"]
[]
[null,null,"4 base scenarios are available in this version of the tool"]
[null,null,"Please use this form to specify and define parameters relevant for the respective scenarios (where applicable)"]
[null,null,"Please feel free to suggest additions or modifications to the developers"]
[]
[]
[]
[]
[]
[null,null,"Scenario 1",null,"Closing the living wage gap by increasing wage level of all workers below living wage to living wage"]
[]
[null,null,"Comments",null,"This scenario is the most streightforward and will close the living income gap of those affected. While it leaves no one behind, it distorts the wage structure of all workers below living wage"]
[]
[]
[]
[]
[null,null,"Scenario 2",null,"Closing of the living wage gap and a specified percentage increase of the average wage gap for all workers above living wage"]
[]
[null,null,"Specifications",null,"Please enter target wage increase for workers above LW (as percentage of living wage gap)",null,null,null,null,"%"]
[]
[]
[null,null,"Comments",null,"This scenario closes the entire wage gap i.e. no worker is below living wage as well as taking the wage structure of workers into account."]
[]
[]
[]
[]
[null,null,"Scenario 3",null,"Closing the living wage gap by an absolute wage increase equal to a specifed percentage of the average wage gap"]
[]
[]
[null,null,"Specifications",null,"Please select workers affected",null,null,null,null,null,{"$f":"HYPERLINK(\"#\"&ADDRESS(ROW(),COLUMN()-1),CHAR(128))","v":"€"}]
[]
[null,null,null,null,"Please enter target base wage (as percent of living wage)",null,null,null,null,"%"]
[]
[null,null,"Comments",null,"This scenario leaves job categories earning less than the average wage of workers below living wage with a wage gap, i.e. they do not reach a living wage"]
[]
[]
[]
[]
[null,null,"Scenario 4",null,"Closing the living wage gap by a variable wage increase but with a minimum raise (for low wage levels)"]
[]
[null,null,"Specification",null,"Please enter envisaged wage increase",null,null,null,null,"%"]
[]
[null,null,null,null,"Please enter minimum wage increase (for low wages)",null,null,null,null,"USD"]

{"sheet":"Results","index":3,"n_rows":119,"n_cols":16,"rows_kept":119,"cut":false,"hidden":false,"merged":[[256,10,260,15],[197,1,197,16],[118,10,122,15],[86,10,90,15],[75,10,76,15],[2,1,2,16],[34,1,34,16],[66,1,66,16],[98,1,98,16],[54,10,58,15],[11,10,15,15],[22,10,26,15],[43,10,43,14],[44,10,44,14],[45,10,45,14],[46,10,46,13]]}
[]
[]
[null,"Scenario 1"]
[]
[]
[]
[]
[]
[null,null,null,null,null,null,null,null,null,"Employees below living wage",null,null,null,{"$f":"hide_backend!$N$9","v":{"$error":"#DIV/0!"}},"%"]
[null,null,null,null,null,null,null,null,null,"Current average wage gap",null,null,null,{"$f":"IFERROR(hide_backend!$D$10,\"No gap\")","v":"No gap"},"%"]
[]
[null,null,null,null,null,null,null,null,null,"Scenario 1","Closing the living wage gap by increasing wage level of all workers below living wage to living wage"]
[]
[]
[]
[]
[]
[null,null,null,null,null,null,null,null,null,"Cost implications",null,null,null,{"$f":"hide_backend!CM4","v":0},"USD/",{"$f":"'Data entry form'!$E$31","v":"box"}]
[null,null,null,null,null,null,null,null,null,"Total additional labor costs",null,null,null,{"$f":"N18*'Data entry form'!$E$32","v":0},"USD"]
[null,null,null,null,null,null,null,null,null,"Employees below living wage",null,null,null,{"$f":"hide_backend!CP4","v":{"$error":"#DIV/0!"}},"%"]
[null,null,null,null,null,null,null,null,null,"Remaining average wage gap ",null,null,null,{"$f":"hide_backend!CO4","v":0},"%"]
[]
[null,null,null,null,null,null,null,null,null,"Comments","This scenario distorts the wage structure of all workers below living wage"]
[]
[]
[]
[]
[]
[]
[]
[]
[]
[]
[]
[null,"Scenario 2"]
[]
[]
[]
[]
[]
[null,null,null,null,null,null,null,null,null,"Employees below living wage",null,null,null,{"$f":"hide_backend!$N$9","v":{"$error":"#DIV/0!"}},"%"]
[null,null,null,null,null,null,null,null,null,"Current average wage gap",null,null,null,{"$f":"IFERROR(hide_backend!$D$10,\"No gap\")","v":"No gap"},"%"]
[]
[null,null,null,null,null,null,null,null,null,"Scenario 2","Closing off the living wage gap and"]
[null,null,null,null,null,null,null,null,null,null,"a percentage increase of the"]
[null,null,null,null,null,null,null,null,null,null,"average wage gap for all workers"]
[null,null,null,null,null,null,null,null,null,null,"above living wage euqual to",null,null,null,{"$f":"'Scenario specification'!I23","v":0},"%"]
[]
[]
[null,null,null,null,null,null,null,null,null,"Cost implications",null,null,null,{"$f":"hide_backend!CM5","v":0},"USD/",{"$f":"'Data entry form'!$E$31","v":"box"}]
[null,null,null,null,null,null,null,null,null,"Total additional labor costs",null,null,null,{"$f":"N50*'Data entry form'!$E$32","v":0},"USD"]
[null,null,null,null,null,null,null,null,null,"Employees below living wage",null,null,null,{"$f":"hide_backend!CP5","v":{"$error":"#DIV/0!"}},"%"]
[null,null,null,null,null,null,null,null,null,"Remaining average wage gap ",null,null,null,{"$f":"hide_backend!CP4","v":{"$error":"#DIV/0!"}},"%"]
[]
[null,null,null,null,null,null,null,null,null,"Comments","This scenario closes the entire wage gap i.e. no worker is below living wage as well as taking the wage structure of workers into account."]
[]
[]
[]
[]
[]
[]
[]
[]
[]
[]
[]
[null,"Scenario 3"]
[]
[]
[]
[]
[]
[null,null,null,null,null,null,null,null,null,"Employees below living wage",null,null,null,{"$f":"hide_backend!$N$9","v":{"$error":"#DIV/0!"}},"%"]
[null,null,null,null,null,null,null,null,null,"Current average wage gap",null,null,null,{"$f":"IFERROR(hide_backend!$D$10,\"No gap\")","v":"No gap"},"%"]
[]
[null,null,null,null,null,null,null,null,null,"Scenario 3","Closing the living wage gap by an absolute wage increase equal to "]
[]
[null,null,null,null,null,null,null,null,null,null,{"$f":"'Scenario specification'!I36","v":0},"% of the average wage gap"]
[null,null,null,null,null,null,null,null,null,null,"applied to ",null,{"$f":"'Scenario specification'!H34","v":0}]
[]
[]
[null,null,null,null,null,null,null,null,null,"Cost implications",null,null,null,{"$f":"IFERROR(hide_backend!CM6,\"0,00\")","v":0},"USD/",{"$f":"'Data entry form'!$E$31","v":"box"}]
[null,null,null,null,null,null,null,null,null,"Total additional labor costs",null,null,null,{"$f":"IFERROR(N82*'Data entry form'!$E$32,\"0,00\")","v":0},"USD"]
[null,null,null,null,null,null,null,null,null,"Employees below living wage",null,null,null,{"$f":"IFERROR(hide_backend!CP6,\"0,00\")","v":"0,00"},"%"]
[null,null,null,null,null,null,null,null,null,"Remaining average wage gap ",null,null,null,{"$f":"IFERROR(hide_backend!CO6,\"0,00\")","v":0},"%"]
[]
[null,null,null,null,null,null,null,null,null,"Comments","This scenario leaves job categories earning less than the average wage of workers below living wage with a wage gap, i.e. they do not reach a living wage"]
[]
[]
[]
[]
[]
[]
[]
[]
[]
[]
[]
[null,"Scenario 4"]
[]
[]
[]
[]
[]
[null,null,null,null,null,null,null,null,null,"Employees below living wage",null,null,null,{"$f":"hide_backend!$N$9","v":{"$error":"#DIV/0!"}},"%"]
[null,null,null,null,null,null,null,null,null,"Current average wage gap",null,null,null,{"$f":"IFERROR(hide_backend!$D$10,\"No gap\")","v":"No gap"},"%"]
[]
[null,null,null,null,null,null,null,null,null,"Scenario 4","Closing the living wage gap by",null,null,null,{"$f":"'Scenario specification'!I45","v":0},"%"]
[null,null,null,null,null,null,null,null,null,null," wage increase but with a minimum raise"]
[null,null,null,null,null,null,null,null,null,null,"(for low wage levels) of",null,null,null,{"$f":"'Scenario specification'!I47","v":0},"USD"]
[]
[]
[]
[null,null,null,null,null,null,null,null,null,"Cost implications",null,null,null,{"$f":"hide_backend!CM7","v":0},"USD/",{"$f":"'Data entry form'!$E$31","v":"box"}]
[null,null,null,null,null,null,null,null,null,"Total additional labor costs",null,null,null,{"$f":"N114*'Data entry form'!$E$32","v":0},"USD"]
[null,null,null,null,null,null,null,null,null,"Employees below living wage",null,null,null,{"$f":"hide_backend!CP7","v":{"$error":"#DIV/0!"}},"%"]
[null,null,null,null,null,null,null,null,null,"Remaining average wage gap ",null,null,null,{"$f":"hide_backend!CO7","v":0},"%"]
[]
[null,null,null,null,null,null,null,null,null,"Comments","This scenario effects also job categories already earning living wages, which may inflate costs.\nLikely to be the most accepted scenario for wage negotiations."]

{"sheet":"hide_backend","index":4,"n_rows":666,"n_cols":98,"rows_kept":666,"cut":false,"hidden":true,"merged":[]}
[]
[null,"Key variables",null,null,null,null,null,null,null,null,null,null,null,null,null,null,null,null,"comments",null,null,null,null,null,null,null,null,null,null,null,null,null,null,null,null,null,null,null,null,null,null,null,null,null,null,null,null,null,null,null,null,null,null,null,null,null,null,null,null,null,null,null,null,null,null,null,null,null,null,null,null,null,null,null,null,null,null,null,null,null,null,null,null,null,null,null,null,null,null,"Results for output"]
[null,"active rows from data entry",null,{"$f":"COUNT('Data entry form'!H43:H642)","v":0},null,null,null,null,null,null,null,null,null,null,null,null,null,null,null,null,null,null,null,null,null,null,null,null,null,null,null,null,null,null,null,null,null,null,null,null,null,null,null,null,null,null,null,null,null,null,null,null,null,null,null,null,null,null,null,null,null,null,null,null,null,null,null,null,null,null,null,null,null,null,null,null,null,null,null,null,null,null,null,null,null,null,null,null,null,null,"additional costs per unit","USD remaining wage gap","% remaining wage gap","affected workers %"]
[null,"LW Benchmark",null,{"$f":"'Data entry form'!H17","v":462},{"$f":"'Data entry form'!I17","v":"USD per workforce/ month"},null,null,null,null,null,null,null,null,null,null,null,null,null,null,null,null,null,null,null,null,null,null,null,null,null,null,null,null,null,null,null,null,null,null,null,null,null,null,null,null,null,null,null,null,null,null,null,null,null,null,null,null,null,null,null,null,null,null,null,null,null,null,null,null,null,null,null,null,null,null,null,null,null,null,null,null,null,null,null,null,null,null,null,null,"S1",{"$f":"AG16","v":0},{"$f":"IF(SUM(AE16:AE666)=0,\"0\",SUM(AD16:AD666)/SUM(AE16:AE666))","v":"0"},{"$f":"(CN4/$D$4)*100","v":0},{"$f":"(SUM(AE16:AE666)/$H$9)*100","v":{"$error":"#DIV/0!"}}]
[null,null,null,null,null,null,null,null,null,null,null,null,null,null,null,null,null,null,null,null,null,null,null,null,null,null,null,null,null,null,null,null,null,null,null,null,null,null,null,null,null,null,null,null,null,null,null,null,null,null,null,null,null,null,null,null,null,null,null,null,null,null,null,null,null,null,null,null,null,null,null,null,null,null,null,null,null,null,null,null,null,null,null,null,null,null,null,null,null,"S2",{"$f":"AO16","v":0},{"$f":"IF(SUM(AM16:AM666)=0,\"0\",SUM(AL16:AL666)/SUM(AM16:AM666))","v":"0"},{"$f":"(CN5/$D$4)*100","v":0},{"$f":"(SUM(AM16:AM666)/$H$9)*100","v":{"$error":"#DIV/0!"}}]
[null,"Area of production",null,{"$f":"'Data entry form'!E28","v":50000},"ha",null,null,null,null,null,null,null,null,null,null,null,null,null,null,null,null,null,null,null,null,null,null,null,null,null,null,null,null,null,null,null,"Dropdown S2",null,null,null,null,null,null,"Dropdown S3",null,null,null,null,null,null,null,null,null,null,null,null,null,null,null,null,null,null,null,null,null,null,null,null,null,null,null,null,null,null,null,null,null,null,null,null,null,null,null,null,null,null,null,null,null,"S3",{"$f":"AY16","v":0},{"$f":"IF(SUM(AW16:AW666)=0,\"0\",SUM(AV16:AV666)/SUM(AW16:AW666))","v":"0"},0,{"$f":"(SUM(AW16:AW666)/$H$9)*100","v":{"$error":"#DIV/0!"}}]
[null,"Yield/Production",null,{"$f":"'Data entry form'!E32","v":10000},{"$f":"'Data entry form'!E31","v":"box"},null,null,null,null,null,null,null,null,null,null,null,null,null,null,null,null,null,null,null,null,null,null,null,null,null,null,null,null,null,null,null,"Specification list",null,"Referenz",{"$f":"IF('Scenario specification'!H24=\"all workers\",1,IF('Scenario specification'!H24=\"all workers below living wage\",2,\"0\"))","v":"0"},null,null,null,"Specification list",null,"Referenz",{"$f":"IF('Scenario specification'!H34=\"all workers\",1,IF('Scenario specification'!H34=\"all workers below living wage\",2,\"0\"))","v":"0"},null,"Base Wage targeted",null,{"$f":"'Scenario specification'!I36","v":0},"%",null,null,null,null,null,null,null,null,null,null,null,null,null,null,null,null,null,null,null,null,null,null,null,null,null,null,null,null,null,null,null,null,null,null,null,null,null,"S4",{"$f":"BG16","v":0},{"$f":"IF(SUM(BE16:BE666)=0,\"0\",SUM(BD16:BD666)/SUM(BE16:BE666))","v":"0"},0,{"$f":"(SUM(BE16:BE666)/$H$9)*100","v":{"$error":"#DIV/0!"}}]
[null,null,null,null,null,null,null,null,null,null,null,null,null,null,null,null,null,null,null,null,null,null,null,null,null,null,null,null,null,null,null,null,null,null,null,null,"please select",null,null,0,null,null,null,"please select",null,null,0,null,"(1-100) allowed",null,null,null,null,null,null,null,null,null,null,null,null,null,null,null,null,null,null,null,null,null,null,null,null,null,null,null,null,null,null,null,null,null,null,null,null,null,null,null,null,"S5",{"$f":"BO16","v":0},{"$f":"IF(SUM(BM16:BM666)=0,\"0\",SUM(BL16:BL666)/SUM(BM16:BM666))","v":"0"},0,{"$f":"(SUM(BM16:BM666)/$H$9)*100","v":{"$error":"#DIV/0!"}}]
[null,"# workers below LW",null,{"$f":"SUM(O16:O666)","v":0},null,"# workers",null,{"$f":"SUM(C16:C666)","v":0},null,null,"share of workers below LW",null,null,{"$f":"D9/H9*100","v":{"$error":"#DIV/0!"}},"%",null,null,null,null,null,null,null,null,null,null,null,null,null,null,null,null,null,null,null,null,null,"all workers",null,null,1,null,null,null,"all workers",null,null,1,null,null,null,null,null,null,null,null,null,null,null,null,null,null,null,null,null,null,null,null,null,null,null,null,null,null,null,null,null,null,null,null,null,null,null,null,null,null,null,null,null,null,"S6",{"$f":"BY16","v":0},{"$f":"IF(SUM(BW16:BW666)=0,\"0\",SUM(BV16:BV666)/SUM(BW16:BW666))","v":"0"},0,{"$f":"(SUM(BW16:BW666)/H9)*100","v":{"$error":"#DIV/0!"}}]
[null,"avg wage gap below LW",null,{"$f":"(D11/D4)*100","v":{"$error":"#DIV/0!"}},"%","average wage gap",null,{"$f":"(H11/D4)*100","v":{"$error":"#DIV/0!"}},"%",null,null,null,null,null,null,null,null,null,null,null,null,null,null,null,null,null,null,null,null,null,null,null,null,null,null,null,"all workers below living wage",null,null,2,null,null,null,"all workers below living wage",null,null,2,null,null,null,null,null,null,"Wage increase (percentage)",null,null,{"$f":"'Scenario specification'!I45","v":0},"%",null,null,null,null,null,null,null,null,null,null,null,null,null,null,null,null,null,null,null,null,null,null,null,null,null,null,null,null,null,null,null,"S7",{"$f":"CI16","v":0},{"$f":"IF(SUM(CG16:CG666)=0,\"0\",SUM(CF16:CF666)/SUM(CG16:CG666))","v":"0"},0,{"$f":"(SUM(CG16:CG666)/$H$9)*100","v":{"$error":"#DIV/0!"}}]
[null,null,null,{"$f":"SUM(M16:M666)/D9","v":{"$error":"#DIV/0!"}},"USD",null,null,{"$f":"SUM(J16:J666)/H9","v":{"$error":"#DIV/0!"}},"USD",null,null,null,null,null,null,null,null,null,null,null,null,null,null,null,null,null,null,null,null,null,null,"Additional costs per [unit] of output",null,null,null,null,null,null,null,null,null,null,null,null,null,null,null,null,null,null,null,null,null,"Minimum wage increase (for low wages)",null,null,{"$f":"'Scenario specification'!I47","v":0},"USD",null,null,null,"Wage increase (percentage)",null,{"$f":"'Scenario specification'!I23","v":0}]
[null,null,null,null,null,null,null,null,null,null,null,null,null,null,null,null,null,null,null,null,null,null,null,null,null,null,null,null,null,null,null,null,null,null,null,"Scenario 2",null,null,null,null,null,null,null,"Scenario 3"]
[null,null,null,null,null,null,null,null,null,null,null,null,null,null,null,null,null,null,null,null,null,null,null,null,null,null,null,null,null,null,null,"Scenario 1",null,null,null,"absolute wage increase equal to the lowest category wage gap",null,null,null,null,null,null,null,"absolute wage increase equal to X% of the average LW gap",null,null,null,null,null,null,null,null,null,"Scenario 4",null,null,null,null,null,null,null,"Scenario 5",null,null,null,null,null,null,null,"Scenario 6",null,null,null,null,null,null,null,null,null,"Scenario 7"]
[null,"Table 4: Detailed Results",null,null,null,null,null,null,null,"Calculation",null,null,null,null,null,null,null,null,"lowest worker",null,null,null,"average worker",null,null,null,null,null,null,null,null,"all below LW are increased to LW",null,null,null,"optional all or all below LW",null,null,null,null,null,null,null,"optional all or all below LW",null,null,null,null,null,null,null,null,null,"relative wge increas",null,null,null,null,null,null,null,"Close LW Gap and Increase for Worker above",null,null,null,null,null,null,null,"Free to change",null,null,null,null,null,null,null,null,null,"Free to change",null,null,null,null,null,null,null,null,null,"Results for figures (total take home remuneration, individual)"]
[null,"Job Category","Number of Workers","Monthly in-kind benefits: (capped at 30%)","Bonuses adjusted per month","Monthly wage","Total take-home remuneration","Living Wage Gap",null,"Costs per category","costs per category below LW","value of living wage gap for individual","Value of living wage gap (sum by category)","Value of living wage gap (absolute for individual)","number of workers below LW",null,"Total value of living wage gap (LW differential)",null,"lowest wage category (individual level)","wage gap for lowest category (individual level)","wage step, absolute (by individual)","wage step, relative (factor)","wage of average worker (individual level)","wage of agerage worker below LW (individual level)","average wage gap (all workers)","average wage gap (below LW)",null,"S1 - Total take-home remuneration","additional costs per category","remaining gap (by group)","remaining number of workers below LW","total costs to close LW gap (scenario 1)","additional labor costs per [unit]","[unit]",null,"S2 - total take-home remuneration","additional costs per category","remaining gap (by group)","remaining number of workers below LW","total costs to close LW gap (scenario 2)","additional labor costs per [unit]","[unit]",null,"S3 - total take-home remuneration of average worker","wage gap","total take home remuneration (new)","additional costs per category","remaining gap (by group)","remaining number of workers below LW","total costs to close LW gap (scenario 6)","additional labor costs per [unit]","[unit]",null,"S4 - total take-home remuneration","additional costs per category","remaining gap (by group)","remaining number of workers below LW","total costs to close LW gap (scenario 4)","additional labor costs per [unit]","[unit]",null,"S5 - total take-home remuneration","additional costs per category","remaining gap (by group)","remaining number of workers below LW","total costs to close LW gap (scenario 5)","additional labor costs per [unit]","[unit]",null,"S6 - total take-home remuneration of average worker","wage gap","total take home remuneration (new)","additional costs per category","remaining gap (by group)","remaining number of workers below LW","total costs to close LW gap (scenario 6)","additional labor costs per [unit]","[unit]",null,"S7 - total take-home remuneration","70% wage gap","total take home remuneration (new)","additional costs per category","remaining gap (by group)","remaining number of workers below LW","total costs to close LW gap (scenario 7)","additional labor costs per [unit]","[unit]",null,"Job Category","Total take-home remuneration","Scenario 1","Scenario 2","Scenario 3","Scenario 4","Scenario 5","Scenario 6","Scenario 7"]
[null,null,null,null,null,null,null,null,null,{"$f":"IF(C16=\"\",\"\",G16*C16)","v":""},{"$f":"IF(C16=\"\",\"\",IF(G16>=$D$4,0,J16))","v":""},{"$f":"IF(C16=\"\",\"\",IF(G16>=$D$4,0,$D$4-G16))","v":""},{"$f":"IF(C16=\"\",\"\",L16*C16)","v":""},{"$f":"IF(C16=\"\",\"\",$D$4-G16)","v":""},{"$f":"IF(C16=\"\",\"\",IF(M16=0,\"0\",C16))","v":""},null,{"$f":"SUM(M16:M666)","v":0},null,{"$f":"MIN(IF(G16:G666>0,G16:G666))","v":0},{"$f":"D4-S16","v":462},{"$f":"IF(C16=\"\",\"\",IF(G16-$S$16>0,G16-$S$16,0))","v":""},{"$f":"IF(C16=\"\",\"\",G16/$S$16)","v":""},{"$f":"SUM(J16:J666)/H9","v":{"$error":"#DIV/0!"}},{"$f":"SUM(K16:K666)/D9","v":{"$error":"#DIV/0!"}},{"$f":"$D$4-W16","v":{"$error":"#DIV/0!"}},{"$f":"$D$4-X16","v":{"$error":"#DIV/0!"}},null,{"$f":"IF(C16=\"\",\"\",IF(G16>=$D$4,G16,$D$4))","v":""},{"$f":"IF(C16=\"\",\"\",(AB16-G16)*C16)","v":""},{"$f":"IF(C16=\"\",\"\",IF(AT16-$D$4>=0,\"0\",($D$4-AT16)*C16))","v":""},{"$f":"IF(C16=\"\",\"\",IF(AB16-$D$4>=0,\"0\",C16))","v":""},{"$f":"SUM(AC16:AC666)*12","v":0},{"$f":"AF16/$D$7","v":0},{"$f":"$E$7","v":"box"},null,{"$f":"IF(C16=\"\",\"\",IF(G16>=$D$4,G16+(($D$4-$X$16)*$BL$11/100),$D$4))","v":""},{"$f":"IF(C16=\"\",\"\",(AJ16-G16)*C16)","v":""},{"$f":"IF(C16=\"\",\"\",IF(AJ16-$D$4>=0,\"0\",($D$4-AJ16)*C16))","v":""},{"$f":"IF(C16=\"\",\"\",IF(AJ16-$D$4>=0,\"0\",C16))","v":""},{"$f":"SUM(AK16:AK666)*12","v":0},{"$f":"AN16/$D$7","v":0},{"$f":"$E$7","v":"box"},null,{"$f":"X16","v":{"$error":"#DIV/0!"}},{"$f":"(D4-AR16)*(AY7/100)","v":{"$error":"#DIV/0!"}},{"$f":"IF(C16=\"\",\"\",IF($AU$7=0,\"specify scenario\",IF($AU$7=2,IF(G16>=$D$4,G16,G16+$AS$16),IF($AU$7=1,$AS$16+G16,\"specify scenario\"))))","v":""},{"$f":"IF(C16=\"\",\"\",(AT16-G16)*C16)","v":""},{"$f":"IF(C16=\"\",\"\",IF(AT16-$D$4>=0,\"0\",($D$4-AT16)*C16))","v":""},{"$f":"IF(C16=\"\",\"\",IF(AT16-$D$4>=0,\"0\",C16))","v":""},{"$f":"SUM(AU16:AU666)*12","v":0},{"$f":"AX16/$D$7","v":0},{"$f":"$E$7","v":"box"},null,{"$f":"IF(C16=\"\",\"\",IF((G16*(1+$BE$10/100))>(G16+$BE$11),(G16*(1+$BE$10/100)),(G16+$BE$11)))","v":""},{"$f":"IF(C16=\"\",\"\",(BB16-G16)*C16)","v":""},{"$f":"IF(C16=\"\",\"\",IF(BB16-$D$4>=0,\"0\",($D$4-BB16)*C16))","v":""},{"$f":"IF(C16=\"\",\"\",IF(BB16-$D$4>=0,\"0\",C16))","v":""},{"$f":"SUM(BC16:BC666)*12","v":0},{"$f":"BF16/$D$7","v":0},{"$f":"$E$7","v":"box"},null,{"$f":"IF(C16=\"\",\"\",IF(G16>=$D$4,G16+(($D$4-$X$16)*$BL$11/100),$D$4))","v":""},{"$f":"IF(C16=\"\",\"\",(BJ16-G16)*C16)","v":""},{"$f":"IF(C16=\"\",\"\",IF(BJ16-$D$4>=0,\"0\",($D$4-BJ16)*C16))","v":""},{"$f":"IF(C16=\"\",\"\",IF(BJ16-$D$4>=0,\"0\",C16))","v":""},{"$f":"SUM(BK16:BK666)*12","v":0},{"$f":"BN16/$D$7","v":0},{"$f":"$E$7","v":"box"},null,{"$f":"X16","v":{"$error":"#DIV/0!"}},{"$f":"D4-BR16","v":{"$error":"#DIV/0!"}},{"$f":"IF(C16=\"\",\"\",IF(G16>=$D$4,G16+(($D$4-$X$16)*$BL$11/100),$D$4))","v":""},{"$f":"IF(C16=\"\",\"\",(BT16-G16)*C16)","v":""},{"$f":"IF(C16=\"\",\"\",IF(BT16-$D$4>=0,\"0\",($D$4-BT16)*C16))","v":""},{"$f":"IF(C16=\"\",\"\",IF(BT16-$D$4>=0,\"0\",C16))","v":""},{"$f":"SUM(BU16:BU666)*12","v":0},{"$f":"BX16/$D$7","v":0},{"$f":"$E$7","v":"box"},null,{"$f":"BR16","v":{"$error":"#DIV/0!"}},{"$f":"(D4-BR16)*0.7","v":{"$error":"#DIV/0!"}},{"$f":"IF(C16=\"\",\"\",$CC$16+G16)","v":""},{"$f":"IF(C16=\"\",\"\",(CD16-G16)*C16)","v":""},{"$f":"IF(C16=\"\",\"\",IF(CD16-$D$4>=0,\"0\",($D$4-CD16)*C16))","v":""},{"$f":"IF(C16=\"\",\"\",IF(CD16-$D$4>=0,\"0\",C16))","v":""},{"$f":"SUM(CE16:CE666)*12","v":0},{"$f":"CH16/$D$7","v":0},{"$f":"$E$7","v":"box"},null,{"$f":"IF(C16=\"\",\"\",B16)","v":""},{"$f":"IF(C16=\"\",\"\",G16)","v":""},{"$f":"IF(C16=\"\",\"\",AB16)","v":""},{"$f":"IF(C16=\"\",\"\",AJ16)","v":""},{"$f":"IF(C16=\"\",\"\",AT16)","v":""},{"$f":"IF(C16=\"\",\"\",BB16)","v":""},{"$f":"IF(C16=\"\",\"\",BJ16)","v":""},{"$f":"IF(C16=\"\",\"\",BT16)","v":""},{"$f":"IF(C16=\"\",\"\",CD16)","v":""}]
[null,null,null,null,null,null,null,null,null,"","",{"$f":"IF(C17=\"\",\"\",IF(G17>=$D$4,0,$D$4-G17))","v":""},{"$f":"IF(C17=\"\",\"\",L17*C17)","v":""},{"$f":"IF(C17=\"\",\"\",$D$4-G17)","v":""},{"$f":"IF(C17=\"\",\"\",IF(M17=0,\"0\",C17))","v":""},null,null,null,null,null,{"$f":"IF(C17=\"\",\"\",IF(G17-$S$16>0,G17-$S$16,0))","v":""},{"$f":"IF(C17=\"\",\"\",G17/$S$16)","v":""},null,null,null,null,null,{"$f":"IF(C17=\"\",\"\",IF(G17>=$D$4,G17,$D$4))","v":""},{"$f":"IF(C17=\"\",\"\",(AB17-G17)*C17)","v":""},{"$f":"IF(C17=\"\",\"\",IF(AT17-$D$4>=0,\"0\",($D$4-AT17)*C17))","v":""},{"$f":"IF(C17=\"\",\"\",IF(AB17-$D$4>=0,\"0\",C17))","v":""},null,null,null,null,{"$f":"IF(C17=\"\",\"\",IF(G17>=$D$4,G17+(($D$4-$X$16)*$BL$11/100),$D$4))","v":""},"",{"$f":"IF(C17=\"\",\"\",IF(AJ17-$D$4>=0,\"0\",($D$4-AJ17)*C17))","v":""},{"$f":"IF(C17=\"\",\"\",IF(AJ17-$D$4>=0,\"0\",C17))","v":""},null,null,null,null,null,null,{"$f":"IF(C17=\"\",\"\",IF($AU$7=0,\"specify scenario\",IF($AU$7=2,IF(G17>=$D$4,G17,G17+$AS$16),IF($AU$7=1,$AS$16+G17,\"specify scenario\"))))","v":""},"",{"$f":"IF(C17=\"\",\"\",IF(AT17-$D$4>=0,\"0\",($D$4-AT17)*C17))","v":""},{"$f":"IF(C17=\"\",\"\",IF(AT17-$D$4>=0,\"0\",C17))","v":""},null,null,null,null,{"$f":"IF(C17=\"\",\"\",IF((G17*(1+$BE$10/100))>(G17+$BE$11),(G17*(1+$BE$10/100)),(G17+$BE$11)))","v":""},"",{"$f":"IF(C17=\"\",\"\",IF(BB17-$D$4>=0,\"0\",($D$4-BB17)*C17))","v":""},{"$f":"IF(C17=\"\",\"\",IF(BB17-$D$4>=0,\"0\",C17))","v":""},null,null,null,null,{"$f":"IF(C17=\"\",\"\",IF(G17>=$D$4,G17+(($D$4-$X$16)*$BL$11/100),$D$4))","v":""},"",{"$f":"IF(C17=\"\",\"\",IF(BJ17-$D$4>=0,\"0\",($D$4-BJ17)*C17))","v":""},{"$f":"IF(C17=\"\",\"\",IF(BJ17-$D$4>=0,\"0\",C17))","v":""},null,null,null,null,null,null,{"$f":"IF(C17=\"\",\"\",IF(G17>=$D$4,G17+(($D$4-$X$16)*$BL$11/100),$D$4))","v":""},"","","",null,null,null,null,null,null,"","","","",null,null,null,null,"","","","","",{"$f":"IF(C17=\"\",\"\",BB17)","v":""},"","",""]
[null,null,null,null,null,null,null,null,null,"","","","","","",null,null,null,null,null,"","",null,null,null,null,null,"","","","",null,null,null,null,"","","","",null,null,null,null,null,null,"","","","",null,null,null,null,"","","","",null,null,null,null,{"$f":"IF(C18=\"\",\"\",IF(G18>=$D$4,G18+(($D$4-$X$16)*$BL$11/100),$D$4))","v":""},"","","",null,null,null,null,null,null,"","","","",null,null,null,null,null,null,"","","","",null,null,null,null,"","","","","","","","",""]
[null,null,null,null,null,null,null,null,null,"","","","","","",null,null,null,null,null,"","",null,null,null,"control",null,"","","","",null,null,null,null,"","","","",null,null,null,null,null,null,"","","","",null,null,null,null,"","","","",null,null,null,null,"","","","",null,null,null,null,null,null,{"$f":"IF(C19=\"\",\"\",$BS$16+G19)","v":""},"","","",null,null,null,null,null,null,"","","","",null,null,null,null,"","","","","","","","",""]
[null,null,null,null,null,null,null,null,null,"","","","","","",null,null,null,null,null,"","",null,null,null,{"$f":"SUM(AC16:AC666)/D9","v":{"$error":"#DIV/0!"}},null,"","","","",null,null,null,null,"","","","",null,null,null,null,null,null,"","","","",null,null,null,null,"","","","",null,null,null,null,"","","","",null,null,null,null,null,null,"","","","",null,null,null,null,null,null,"","","","",null,null,null,null,"","","","","","","","",""]
[null,null,null,null,null,null,null,null,null,"","","","","","",null,null,null,null,null,"","",null,null,null,null,null,"","","","",null,null,null,null,"","","","",null,null,null,null,null,null,"","","","",null,null,null,null,"","","","",null,null,null,null,"","","","",null,null,null,null,null,null,"","",{"$f":"IF(C21=\"\",\"\",IF(BT21-$D$4>=0,\"0\",($D$4-BT21)*C21))","v":""},{"$f":"IF(C21=\"\",\"\",IF(BT21-$D$4>=0,\"0\",C21))","v":""},null,null,null,null,null,null,"","",{"$f":"IF(C21=\"\",\"\",IF(CD21-$D$4>=0,\"0\",($D$4-CD21)*C21))","v":""},{"$f":"IF(C21=\"\",\"\",IF(CD21-$D$4>=0,\"0\",C21))","v":""},null,null,null,null,"","","","","","","","",""]
[null,null,null,null,null,null,null,null,null,"","","","","","",null,null,null,null,null,"","",null,null,null,null,null,"","","","",null,null,null,null,"","","","",null,null,null,null,null,null,"","","","",null,null,null,null,"","","","",null,null,null,null,"","","","",null,null,null,null,null,null,"","","","",null,null,null,null,null,null,"","","",{"$f":"IF(C22=\"\",\"\",IF(CD22-$D$4>=0,\"0\",C22))","v":""},null,null,null,null,"","","","","","","","",""]
[null,null,null,null,null,null,null,null,null,"","","","","","",null,null,null,null,null,"","",null,null,null,null,null,"","","","",null,null,null,null,"","","","",null,null,null,null,null,null,"","","","",null,null,null,null,"","","","",null,null,null,null,"","","","",null,null,null,null,null,null,"","","","",null,null,null,null,null,null,"","","",{"$f":"IF(C23=\"\",\"\",IF(CD23-$D$4>=0,\"0\",C23))","v":""},null,null,null,null,"","","","","","","","",""]
[null,null,null,null,null,null,null,null,null,"","","","","","",null,null,null,null,null,"","",null,null,null,null,null,"","","","",null,null,null,null,"","","","",null,null,null,null,null,null,"","","","",null,null,null,null,"","","","",null,null,null,null,"","","","",null,null,null,null,null,null,"","","","",null,null,null,null,null,null,"","","","",null,null,null,null,"","","","","","","","",""]
[null,null,null,null,null,null,null,null,null,"","","","","","",null,null,null,null,null,"","",null,null,null,null,null,"","","","",null,null,null,null,"","","","",null,null,null,null,null,null,"","","","",null,null,null,null,"","","","",null,null,null,null,"","","","",null,null,null,null,null,null,"","","","",null,null,null,null,null,null,"","","","",null,null,null,null,"","","","","","","","",""]
[null,null,null,null,null,null,null,null,null,"","","","","","",null,null,null,null,null,"","",null,null,null,null,null,"","","","",null,null,null,null,"","","","",null,null,null,null,null,null,"","","","",null,null,null,null,"","","","",null,null,null,null,"","","","",null,null,null,null,null,null,"","","","",null,null,null,null,null,null,"","","","",null,null,null,null,"","","","","","","","",""]
[null,null,null,null,null,null,null,null,null,"","","","","","",null,null,null,null,null,"","",null,null,null,null,null,"","","","",null,null,null,null,"","","","",null,null,null,null,null,null,"","","","",null,null,null,null,"","","","",null,null,null,null,"","","","",null,null,null,null,null,null,"","","","",null,null,null,null,null,null,"","","","",null,null,null,null,"","","","","","","","",""]
[null,null,null,null,null,null,null,null,null,"","","","","","",null,null,null,null,null,"","",null,null,null,null,null,"","","","",null,null,null,null,"","","","",null,null,null,null,null,null,"","","","",null,null,null,null,"","","","",null,null,null,null,"","","","",null,null,null,null,null,null,"","","","",null,null,null,null,null,null,"","","","",null,null,null,null,"","","","","","","","",""]
[null,null,null,null,null,null,null,null,null,"","","","","","",null,null,null,null,null,"","",null,null,null,null,null,"","","","",null,null,null,null,"","","","",null,null,null,null,null,null,"","","","",null,null,null,null,"","","","",null,null,null,null,"","","","",null,null,null,null,null,null,"","","","",null,null,null,null,null,null,"","","","",null,null,null,null,"","","","","","","","",""]
[null,null,null,null,null,null,null,null,null,"","","","","","",null,null,null,null,null,"","",null,null,null,null,null,"","","","",null,null,null,null,"","","","",null,null,null,null,null,null,"","","","",null,null,null,null,"","","","",null,null,null,null,"","","","",null,null,null,null,null,null,"","","","",null,null,null,null,null,null,"","","","",null,null,null,null,"","","","","","","","",""]
[null,null,null,null,null,null,null,null,null,"","","","","","",null,null,null,null,null,"","",null,null,null,null,null,"","","","",null,null,null,null,"","","","",null,null,null,null,null,null,"","","","",null,null,null,null,"","","","",null,null,null,null,"","","","",null,null,null,null,null,null,"","","","",null,null,null,null,null,null,"","","","",null,null,null,null,"","","","","","","","",""]
[null,null,null,null,null,null,null,null,null,"","","","","","",null,null,null,null,null,"","",null,null,null,null,null,"","","","",null,null,null,null,"","","","",null,null,null,null,null,null,"","","","",null,null,null,null,"","","","",null,null,null,null,"","","","",null,null,null,null,null,null,"","","","",null,null,null,null,null,null,"","","","",null,null,null,null,"","","","","","","","",""]
[null,null,null,null,null,null,null,null,null,"","","","","","",null,null,null,null,null,"","",null,null,null,null,null,"","","","",null,null,null,null,"","","","",null,null,null,null,null,null,"","","","",null,null,null,null,"","","","",null,null,null,null,"","","","",null,null,null,null,null,null,"","","","",null,null,null,null,null,null,"","","","",null,null,null,null,"","","","","","","","",""]
[null,null,null,null,null,null,null,null,null,"","","","","","",null,null,null,null,null,"","",null,null,null,null,null,"","","","",null,null,null,null,"","","","",null,null,null,null,null,null,"","","","",null,null,null,null,"","","","",null,null,null,null,"","","","",null,null,null,null,null,null,"","","","",null,null,null,null,null,null,"","","","",null,null,null,null,"","","","","","","","",""]
[null,null,null,null,null,null,null,null,null,{"$f":"IF(C35=\"\",\"\",G35*C35)","v":""},{"$f":"IF(C35=\"\",\"\",IF(G35>=$D$4,0,J35))","v":""},"","","","",null,null,null,null,null,"","",null,null,null,null,null,"","","","",null,null,null,null,"","","","",null,null,null,null,null,null,"","","","",null,null,null,null,"","","","",null,null,null,null,"","","","",null,null,null,null,null,null,"","","","",null,null,null,null,null,null,"","","","",null,null,null,null,"","","","","","","","",""]
[null,null,null,null,null,null,null,null,null,{"$f":"IF(C36=\"\",\"\",G36*C36)","v":""},"","","","","",null,null,null,null,null,"","",null,null,null,null,null,"","","","",null,null,null,null,"","","","",null,null,null,null,null,null,"","","","",null,null,null,null,"","","","",null,null,null,null,"","","","",null,null,null,null,null,null,"","","","",null,null,null,null,null,null,"","","","",null,null,null,null,"","","","","","","","",""]
[null,null,null,null,null,null,null,null,null,"","","","","","",null,null,null,null,null,"","",null,null,null,null,null,"","","","",null,null,null,null,"","","","",null,null,null,null,null,null,"","","","",null,null,null,null,"","","","",null,null,null,null,"","","","",null,null,null,null,null,null,"","","","",null,null,null,null,null,null,"","","","",null,null,null,null,"","","","","","","","",""]
[null,null,null,null,null,null,null,null,null,"","","","","","",null,null,null,null,null,"","",null,null,null,null,null,"","","","",null,null,null,null,"","","","",null,null,null,null,null,null,"","","","",null,null,null,null,"","","","",null,null,null,null,"","","","",null,null,null,null,null,null,"","","","",null,null,null,null,null,null,"","","","",null,null,null,null,"","","","","","","","",""]
[null,null,null,null,null,null,null,null,null,"","","","","","",null,null,null,null,null,"","",null,null,null,null,null,"","","","",null,null,null,null,"","","","",null,null,null,null,null,null,"","","","",null,null,null,null,"","","","",null,null,null,null,"","","","",null,null,null,null,null,null,"","","","",null,null,null,null,null,null,"","","","",null,null,null,null,"","","","","","","","",""]
[null,null,null,null,null,null,null,null,null,"","","","","","",null,null,null,null,null,"","",null,null,null,null,null,"","","","",null,null,null,null,"","","","",null,null,null,null,null,null,"","","","",null,null,null,null,"","","","",null,null,null,null,"","","","",null,null,null,null,null,null,"","","","",null,null,null,null,null,null,"","","","",null,null,null,null,"","","","","","","","",""]
[null,null,null,null,null,null,null,null,null,"","","","","","",null,null,null,null,null,"","",null,null,null,null,null,"","","","",null,null,null,null,"","","","",null,null,null,null,null,null,"","","","",null,null,null,null,"","","","",null,null,null,null,"","","","",null,null,null,null,null,null,"","","","",null,null,null,null,null,null,"","","","",null,null,null,null,"","","","","","","","",""]
[null,null,null,null,null,null,null,null,null,"","","","","","",null,null,null,null,null,"","",null,null,null,null,null,"","","","",null,null,null,null,"","","","",null,null,null,null,null,null,"","","","",null,null,null,null,"","","","",null,null,null,null,"","","","",null,null,null,null,null,null,"","","","",null,null,null,null,null,null,"","","","",null,null,null,null,"","","","","","","","",""]
[null,null,null,null,null,null,null,null,null,"","","","","","",null,null,null,null,null,"","",null,null,null,null,null,"","","","",null,null,null,null,"","","","",null,null,null,null,null,null,"","","","",null,null,null,null,"","","","",null,null,null,null,"","","","",null,null,null,null,null,null,"","","","",null,null,null,null,null,null,"","","","",null,null,null,null,"","","","","","","","",""]
[null,null,null,null,null,null,null,null,null,"","","","","","",null,null,null,null,null,"","",null,null,null,null,null,"","","","",null,null,null,null,"","","","",null,null,null,null,null,null,"","","","",null,null,null,null,"","","","",null,null,null,null,"","","","",null,null,null,null,null,null,"","","","",null,null,null,null,null,null,"","","","",null,null,null,null,"","","","","","","","",""]
[null,null,null,null,null,null,null,null,null,"","","","","","",null,null,null,null,null,"","",null,null,null,null,null,"","","","",null,null,null,null,"","","","",null,null,null,null,null,null,"","","","",null,null,null,null,"","","","",null,null,null,null,"","","","",null,null,null,null,null,null,"","","","",null,null,null,null,null,null,"","","","",null,null,null,null,"","","","","","","","",""]
[null,null,null,null,null,null,null,null,null,"","","","","","",null,null,null,null,null,"","",null,null,null,null,null,"","","","",null,null,null,null,"","","","",null,null,null,null,null,null,"","","","",null,null,null,null,"","","","",null,null,null,null,"","","","",null,null,null,null,null,null,"","","","",null,null,null,null,null,null,"","","","",null,null,null,null,"","","","","","","","",""]
[null,null,null,null,null,null,null,null,null,"","","","","","",null,null,null,null,null,"","",null,null,null,null,null,"","","","",null,null,null,null,"","","","",null,null,null,null,null,null,"","","","",null,null,null,null,"","","","",null,null,null,null,"","","","",null,null,null,null,null,null,"","","","",null,null,null,null,null,null,"","","","",null,null,null,null,"","","","","","","","",""]
[null,null,null,null,null,null,null,null,null,"","","","","","",null,null,null,null,null,"","",null,null,null,null,null,"","","","",null,null,null,null,"","","","",null,null,null,null,null,null,"","","","",null,null,null,null,"","","","",null,null,null,null,"","","","",null,null,null,null,null,null,"","","","",null,null,null,null,null,null,"","","","",null,null,null,null,"","","","","","","","",""]
[null,null,null,null,null,null,null,null,null,"","","","","","",null,null,null,null,null,"","",null,null,null,null,null,"","","","",null,null,null,null,"","","","",null,null,null,null,null,null,"","","","",null,null,null,null,"","","","",null,null,null,null,"","","","",null,null,null,null,null,null,"","","","",null,null,null,null,null,null,"","","","",null,null,null,null,"","","","","","","","",""]
[null,null,null,null,null,null,null,null,null,"","","","","","",null,null,null,null,null,"","",null,null,null,null,null,"","","","",null,null,null,null,"","","","",null,null,null,null,null,null,"","","","",null,null,null,null,"","","","",null,null,null,null,"","","","",null,null,null,null,null,null,"","","","",null,null,null,null,null,null,"","","","",null,null,null,null,"","","","","","","","",""]
[null,null,null,null,null,null,null,null,null,"","","","","","",null,null,null,null,null,"","",null,null,null,null,null,"","","","",null,null,null,null,"","","","",null,null,null,null,null,null,"","","","",null,null,null,null,"","","","",null,null,null,null,"","","","",null,null,null,null,null,null,"","","","",null,null,null,null,null,null,"","","","",null,null,null,null,"","","","","","","","",""]
[null,null,null,null,null,null,null,null,null,"","","","","","",null,null,null,null,null,"","",null,null,null,null,null,"","","","",null,null,null,null,"","","","",null,null,null,null,null,null,"","","","",null,null,null,null,"","","","",null,null,null,null,"","","","",null,null,null,null,null,null,"","","","",null,null,null,null,null,null,"","","","",null,null,null,null,"","","","","","","","",""]
[null,null,null,null,null,null,null,null,null,"","","","","","",null,null,null,null,null,"","",null,null,null,null,null,"","","","",null,null,null,null,"","","","",null,null,null,null,null,null,"","","","",null,null,null,null,"","","","",null,null,null,null,"","","","",null,null,null,null,null,null,"","","","",null,null,null,null,null,null,"","","","",null,null,null,null,"","","","","","","","",""]
[null,null,null,null,null,null,null,null,null,"","","","","","",null,null,null,null,null,"","",null,null,null,null,null,"","","","",null,null,null,null,"","","","",null,null,null,null,null,null,"","","","",null,null,null,null,"","","","",null,null,null,null,"","","","",null,null,null,null,null,null,"","","","",null,null,null,null,null,null,"","","","",null,null,null,null,"","","","","","","","",""]
[null,null,null,null,null,null,null,null,null,"","","","","","",null,null,null,null,null,"","",null,null,null,null,null,"","","","",null,null,null,null,"","","","",null,null,null,null,null,null,"","","","",null,null,null,null,"","","","",null,null,null,null,"","","","",null,null,null,null,null,null,"","","","",null,null,null,null,null,null,"","","","",null,null,null,null,"","","","","","","","",""]
[null,null,null,null,null,null,null,null,null,"","","","","","",null,null,null,null,null,"","",null,null,null,null,null,"","","","",null,null,null,null,"","","","",null,null,null,null,null,null,"","","","",null,null,null,null,"","","","",null,null,null,null,"","","","",null,null,null,null,null,null,"","","","",null,null,null,null,null,null,"","","","",null,null,null,null,"","","","","","","","",""]
[null,null,null,null,null,null,null,null,null,"","","","","","",null,null,null,null,null,"","",null,null,null,null,null,"","","","",null,null,null,null,"","","","",null,null,null,null,null,null,"","","","",null,null,null,null,"","","","",null,null,null,null,"","","","",null,null,null,null,null,null,"","","","",null,null,null,null,null,null,"","","","",null,null,null,null,"","","","","","","","",""]
[null,null,null,null,null,null,null,null,null,"","","","","","",null,null,null,null,null,"","",null,null,null,null,null,"","","","",null,null,null,null,"","","","",null,null,null,null,null,null,"","","","",null,null,null,null,"","","","",null,null,null,null,"","","","",null,null,null,null,null,null,"","","","",null,null,null,null,null,null,"","","","",null,null,null,null,"","","","","","","","",""]
[null,null,null,null,null,null,null,null,null,"","","","","","",null,null,null,null,null,"","",null,null,null,null,null,"","","","",null,null,null,null,"","","","",null,null,null,null,null,null,"","","","",null,null,null,null,"","","","",null,null,null,null,"","","","",null,null,null,null,null,null,"","","","",null,null,null,null,null,null,"","","","",null,null,null,null,"","","","","","","","",""]
[null,null,null,null,null,null,null,null,null,"","","","","","",null,null,null,null,null,"","",null,null,null,null,null,"","","","",null,null,null,null,"","","","",null,null,null,null,null,null,"","","","",null,null,null,null,"","","","",null,null,null,null,"","","","",null,null,null,null,null,null,"","","","",null,null,null,null,null,null,"","","","",null,null,null,null,"","","","","","","","",""]
[null,null,null,null,null,null,null,null,null,"","","","","","",null,null,null,null,null,"","",null,null,null,null,null,"","","","",null,null,null,null,"","","","",null,null,null,null,null,null,"","","","",null,null,null,null,"","","","",null,null,null,null,"","","","",null,null,null,null,null,null,"","","","",null,null,null,null,null,null,"","","","",null,null,null,null,"","","","","","","","",""]
[null,null,null,null,null,null,null,null,null,"","","","","","",null,null,null,null,null,"","",null,null,null,null,null,"","","","",null,null,null,null,"","","","",null,null,null,null,null,null,"","","","",null,null,null,null,"","","","",null,null,null,null,"","","","",null,null,null,null,null,null,"","","","",null,null,null,null,null,null,"","","","",null,null,null,null,"","","","","","","","",""]
[null,null,null,null,null,null,null,null,null,"","","","","","",null,null,null,null,null,"","",null,null,null,null,null,"","","","",null,null,null,null,"","","","",null,null,null,null,null,null,"","","","",null,null,null,null,"","","","",null,null,null,null,"","","","",null,null,null,null,null,null,"","","","",null,null,null,null,null,null,"","","","",null,null,null,null,"","","","","","","","",""]
[null,null,null,null,null,null,null,null,null,"","","","","","",null,null,null,null,null,"","",null,null,null,null,null,"","","","",null,null,null,null,"","","","",null,null,null,null,null,null,"","","","",null,null,null,null,"","","","",null,null,null,null,"","","","",null,null,null,null,null,null,"","","","",null,null,null,null,null,null,"","","","",null,null,null,null,"","","","","","","","",""]
[null,null,null,null,null,null,null,null,null,"","","","","","",null,null,null,null,null,"","",null,null,null,null,null,"","","","",null,null,null,null,"","","","",null,null,null,null,null,null,"","","","",null,null,null,null,"","","","",null,null,null,null,"","","","",null,null,null,null,null,null,"","","","",null,null,null,null,null,null,"","","","",null,null,null,null,"","","","","","","","",""]
[null,null,null,null,null,null,null,null,null,"","","","","","",null,null,null,null,null,"","",null,null,null,null,null,"","","","",null,null,null,null,"","","","",null,null,null,null,null,null,"","","","",null,null,null,null,"","","","",null,null,null,null,"","","","",null,null,null,null,null,null,"","","","",null,null,null,null,null,null,"","","","",null,null,null,null,"","","","","","","","",""]
[null,null,null,null,null,null,null,null,null,"","","","","","",null,null,null,null,null,"","",null,null,null,null,null,"","","","",null,null,null,null,"","","","",null,null,null,null,null,null,"","","","",null,null,null,null,"","","","",null,null,null,null,"","","","",null,null,null,null,null,null,"","","","",null,null,null,null,null,null,"","","","",null,null,null,null,"","","","","","","","",""]
[null,null,null,null,null,null,null,null,null,"","","","","","",null,null,null,null,null,"","",null,null,null,null,null,"","","","",null,null,null,null,"","","","",null,null,null,null,null,null,"","","","",null,null,null,null,"","","","",null,null,null,null,"","","","",null,null,null,null,null,null,"","","","",null,null,null,null,null,null,"","","","",null,null,null,null,"","","","","","","","",""]
[null,null,null,null,null,null,null,null,null,"","","","","","",null,null,null,null,null,"","",null,null,null,null,null,"","","","",null,null,null,null,"","","","",null,null,null,null,null,null,"","","","",null,null,null,null,"","","","",null,null,null,null,"","","","",null,null,null,null,null,null,"","","","",null,null,null,null,null,null,"","","","",null,null,null,null,"","","","","","","","",""]
[null,null,null,null,null,null,null,null,null,"","","","","","",null,null,null,null,null,"","",null,null,null,null,null,"","","","",null,null,null,null,"","","","",null,null,null,null,null,null,"","","","",null,null,null,null,"","","","",null,null,null,null,"","","","",null,null,null,null,null,null,"","","","",null,null,null,null,null,null,"","","","",null,null,null,null,"","","","","","","","",""]
[null,null,null,null,null,null,null,null,null,"","","","","","",null,null,null,null,null,"","",null,null,null,null,null,"","","","",null,null,null,null,"","","","",null,null,null,null,null,null,"","","","",null,null,null,null,"","","","",null,null,null,null,"","","","",null,null,null,null,null,null,"","","","",null,null,null,null,null,null,"","","","",null,null,null,null,"","","","","","","","",""]
[null,null,null,null,null,null,null,null,null,"","","","","","",null,null,null,null,null,"","",null,null,null,null,null,"","","","",null,null,null,null,"","","","",null,null,null,null,null,null,"","","","",null,null,null,null,"","","","",null,null,null,null,"","","","",null,null,null,null,null,null,"","","","",null,null,null,null,null,null,"","","","",null,null,null,null,"","","","","","","","",""]
[null,null,null,null,null,null,null,null,null,"","","","","","",null,null,null,null,null,"","",null,null,null,null,null,"","","","",null,null,null,null,"","","","",null,null,null,null,null,null,"","","","",null,null,null,null,"","","","",null,null,null,null,"","","","",null,null,null,null,null,null,"","","","",null,null,null,null,null,null,"","","","",null,null,null,null,"","","","","","","","",""]
[null,null,null,null,null,null,null,null,null,"","","","","","",null,null,null,null,null,"","",null,null,null,null,null,"","","","",null,null,null,null,"","","","",null,null,null,null,null,null,"","","","",null,null,null,null,"","","","",null,null,null,null,"","","","",null,null,null,null,null,null,"","","","",null,null,null,null,null,null,"","","","",null,null,null,null,"","","","","","","","",""]
[null,null,null,null,null,null,null,null,null,"","","","","","",null,null,null,null,null,"","",null,null,null,null,null,"","","","",null,null,null,null,"","","","",null,null,null,null,null,null,"","","","",null,null,null,null,"","","","",null,null,null,null,"","","","",null,null,null,null,null,null,"","","","",null,null,null,null,null,null,"","","","",null,null,null,null,"","","","","","","","",""]
[null,null,null,null,null,null,null,null,null,"","","","","","",null,null,null,null,null,"","",null,null,null,null,null,"","","","",null,null,null,null,"","","","",null,null,null,null,null,null,"","","","",null,null,null,null,"","","","",null,null,null,null,"","","","",null,null,null,null,null,null,"","","","",null,null,null,null,null,null,"","","","",null,null,null,null,"","","","","","","","",""]
[null,null,null,null,null,null,null,null,null,"","","","","","",null,null,null,null,null,"","",null,null,null,null,null,"","","","",null,null,null,null,"","","","",null,null,null,null,null,null,"","","","",null,null,null,null,"","","","",null,null,null,null,"","","","",null,null,null,null,null,null,"","","","",null,null,null,null,null,null,"","","","",null,null,null,null,"","","","","","","","",""]
[null,null,null,null,null,null,null,null,null,"","","","","","",null,null,null,null,null,"","",null,null,null,null,null,"","","","",null,null,null,null,"","","","",null,null,null,null,null,null,"","","","",null,null,null,null,"","","","",null,null,null,null,"","","","",null,null,null,null,null,null,"","","","",null,null,null,null,null,null,"","","","",null,null,null,null,"","","","","","","","",""]
[null,null,null,null,null,null,null,null,null,"","","","","","",null,null,null,null,null,"","",null,null,null,null,null,"","","","",null,null,null,null,"","","","",null,null,null,null,null,null,"","","","",null,null,null,null,"","","","",null,null,null,null,"","","","",null,null,null,null,null,null,"","","","",null,null,null,null,null,null,"","","","",null,null,null,null,"","","","","","","","",""]
[null,null,null,null,null,null,null,null,null,"",{"$f":"IF(C80=\"\",\"\",IF(G80>=$D$4,0,J80))","v":""},"","","","",null,null,null,null,null,"","",null,null,null,null,null,"","","","",null,null,null,null,"",{"$f":"IF(C80=\"\",\"\",(AJ80-G80)*C80)","v":""},"","",null,null,null,null,null,null,"",{"$f":"IF(C80=\"\",\"\",(AT80-G80)*C80)","v":""},"","",null,null,null,null,"",{"$f":"IF(C80=\"\",\"\",(BB80-G80)*C80)","v":""},"","",null,null,null,null,"",{"$f":"IF(C80=\"\",\"\",(BJ80-G80)*C80)","v":""},"","",null,null,null,null,null,null,{"$f":"IF(C80=\"\",\"\",$BS$16+G80)","v":""},{"$f":"IF(C80=\"\",\"\",(BT80-G80)*C80)","v":""},{"$f":"IF(C80=\"\",\"\",IF(BT80-$D$4>=0,\"0\",($D$4-BT80)*C80))","v":""},{"$f":"IF(C80=\"\",\"\",IF(BT80-$D$4>=0,\"0\",C80))","v":""},null,null,null,null,null,null,{"$f":"IF(C80=\"\",\"\",$CC$16+G80)","v":""},{"$f":"IF(C80=\"\",\"\",(CD80-G80)*C80)","v":""},"","",null,null,null,null,{"$f":"IF(C80=\"\",\"\",B80)","v":""},{"$f":"IF(C80=\"\",\"\",G80)","v":""},{"$f":"IF(C80=\"\",\"\",AB80)","v":""},{"$f":"IF(C80=\"\",\"\",AJ80)","v":""},{"$f":"IF(C80=\"\",\"\",AT80)","v":""},{"$f":"IF(C80=\"\",\"\",BB80)","v":""},{"$f":"IF(C80=\"\",\"\",BJ80)","v":""},{"$f":"IF(C80=\"\",\"\",BT80)","v":""},{"$f":"IF(C80=\"\",\"\",CD80)","v":""}]
[null,null,null,null,null,null,null,null,null,"","",{"$f":"IF(C81=\"\",\"\",IF(G81>=$D$4,0,$D$4-G81))","v":""},{"$f":"IF(C81=\"\",\"\",L81*C81)","v":""},{"$f":"IF(C81=\"\",\"\",$D$4-G81)","v":""},{"$f":"IF(C81=\"\",\"\",IF(M81=0,\"0\",C81))","v":""},null,null,null,null,null,{"$f":"IF(C81=\"\",\"\",IF(G81-$S$16>0,G81-$S$16,0))","v":""},{"$f":"IF(C81=\"\",\"\",G81/$S$16)","v":""},null,null,null,null,null,{"$f":"IF(C81=\"\",\"\",IF(G81>=$D$4,G81,$D$4))","v":""},{"$f":"IF(C81=\"\",\"\",(AB81-G81)*C81)","v":""},{"$f":"IF(C81=\"\",\"\",IF(AT81-$D$4>=0,\"0\",($D$4-AT81)*C81))","v":""},{"$f":"IF(C81=\"\",\"\",IF(AB81-$D$4>=0,\"0\",C81))","v":""},null,null,null,null,{"$f":"IF(C81=\"\",\"\",IF(G81>=$D$4,G81+(($D$4-$X$16)*$BL$11/100),$D$4))","v":""},"",{"$f":"IF(C81=\"\",\"\",IF(AJ81-$D$4>=0,\"0\",($D$4-AJ81)*C81))","v":""},{"$f":"IF(C81=\"\",\"\",IF(AJ81-$D$4>=0,\"0\",C81))","v":""},null,null,null,null,null,null,{"$f":"IF(C81=\"\",\"\",IF($AU$7=0,\"specify scenario\",IF($AU$7=2,IF(G81>=$D$4,G81,G81+$AS$16),IF($AU$7=1,$AS$16+G81,\"specify scenario\"))))","v":""},"",{"$f":"IF(C81=\"\",\"\",IF(AT81-$D$4>=0,\"0\",($D$4-AT81)*C81))","v":""},{"$f":"IF(C81=\"\",\"\",IF(AT81-$D$4>=0,\"0\",C81))","v":""},null,null,null,null,{"$f":"IF(C81=\"\",\"\",IF((G81*(1+$BE$10/100))>(G81+$BE$11),(G81*(1+$BE$10/100)),(G81+$BE$11)))","v":""},"",{"$f":"IF(C81=\"\",\"\",IF(BB81-$D$4>=0,\"0\",($D$4-BB81)*C81))","v":""},{"$f":"IF(C81=\"\",\"\",IF(BB81-$D$4>=0,\"0\",C81))","v":""},null,null,null,null,"","",{"$f":"IF(C81=\"\",\"\",IF(BJ81-$D$4>=0,\"0\",($D$4-BJ81)*C81))","v":""},{"$f":"IF(C81=\"\",\"\",IF(BJ81-$D$4>=0,\"0\",C81))","v":""},null,null,null,null,null,null,"","","","",null,null,null,null,null,null,"","","","",null,null,null,null,"","","","","","","","",""]
[null,null,null,null,null,null,null,null,null,"","","","","","",null,null,null,null,null,"","",null,null,null,null,null,"","","","",null,null,null,null,"","","","",null,null,null,null,null,null,"","","","",null,null,null,null,"","","","",null,null,null,null,{"$f":"IF(C82=\"\",\"\",IF(G82>=$D$4,G82+(($D$4-$X$16)*$BL$11/100),$D$4))","v":""},"","","",null,null,null,null,null,null,"","","","",null,null,null,null,null,null,"","","","",null,null,null,null,"","","","","","","","",""]
[null,null,null,null,null,null,null,null,null,"","","","","","",null,null,null,null,null,"","",null,null,null,null,null,"","","","",null,null,null,null,"","","","",null,null,null,null,null,null,"","","","",null,null,null,null,"","","","",null,null,null,null,"","","","",null,null,null,null,null,null,"","","","",null,null,null,null,null,null,"","",{"$f":"IF(C83=\"\",\"\",IF(CD83-$D$4>=0,\"0\",($D$4-CD83)*C83))","v":""},"",null,null,null,null,"","","","","","","","",""]
[null,null,null,null,null,null,null,null,null,"","","","","","",null,null,null,null,null,"","",null,null,null,null,null,"","","","",null,null,null,null,"","","","",null,null,null,null,null,null,"","","","",null,null,null,null,"","","","",null,null,null,null,"","","","",null,null,null,null,null,null,"","","","",null,null,null,null,null,null,"","","","",null,null,null,null,"","","","","","","","",""]
[null,null,null,null,null,null,null,null,null,"","","","","","",null,null,null,null,null,"","",null,null,null,null,null,"","","","",null,null,null,null,"","","","",null,null,null,null,null,null,"","","","",null,null,null,null,"","","","",null,null,null,null,"","","","",null,null,null,null,null,null,"","","","",null,null,null,null,null,null,"","","","",null,null,null,null,"","","","","","","","",""]
[null,null,null,null,null,null,null,null,null,"","","","","","",null,null,null,null,null,"","",null,null,null,null,null,"","","","",null,null,null,null,"","","","",null,null,null,null,null,null,"","","","",null,null,null,null,"","","","",null,null,null,null,"","","","",null,null,null,null,null,null,"","","","",null,null,null,null,null,null,"","","","",null,null,null,null,"","","","","","","","",""]
[null,null,null,null,null,null,null,null,null,"","","","","","",null,null,null,null,null,"","",null,null,null,null,null,"","","","",null,null,null,null,"","","","",null,null,null,null,null,null,"","","","",null,null,null,null,"","","","",null,null,null,null,"","","","",null,null,null,null,null,null,"","","","",null,null,null,null,null,null,"","","",{"$f":"IF(C87=\"\",\"\",IF(CD87-$D$4>=0,\"0\",C87))","v":""},null,null,null,null,"","","","","","","","",""]
[null,null,null,null,null,null,null,null,null,"","","","","","",null,null,null,null,null,"","",null,null,null,null,null,"","","","",null,null,null,null,"","","","",null,null,null,null,null,null,"","","","",null,null,null,null,"","","","",null,null,null,null,"","","","",null,null,null,null,null,null,"","","","",null,null,null,null,null,null,"","","","",null,null,null,null,"","","","","","","","",""]
[null,null,null,null,null,null,null,null,null,"","","","","","",null,null,null,null,null,"","",null,null,null,null,null,"","","","",null,null,null,null,"","","","",null,null,null,null,null,null,"","","","",null,null,null,null,"","","","",null,null,null,null,"","","","",null,null,null,null,null,null,"","","","",null,null,null,null,null,null,"","","","",null,null,null,null,"","","","","","","","",""]
[null,null,null,null,null,null,null,null,null,"","","","","","",null,null,null,null,null,"","",null,null,null,null,null,"","","","",null,null,null,null,"","","","",null,null,null,null,null,null,"","","","",null,null,null,null,"","","","",null,null,null,null,"","","","",null,null,null,null,null,null,"","","","",null,null,null,null,null,null,"","","","",null,null,null,null,"","","","","","","","",""]
[null,null,null,null,null,null,null,null,null,"","","","","","",null,null,null,null,null,"","",null,null,null,null,null,"","","","",null,null,null,null,"","","","",null,null,null,null,null,null,"","","","",null,null,null,null,"","","","",null,null,null,null,"","","","",null,null,null,null,null,null,"","","","",null,null,null,null,null,null,"","","","",null,null,null,null,"","","","","","","","",""]
[null,null,null,null,null,null,null,null,null,"","","","","","",null,null,null,null,null,"","",null,null,null,null,null,"","","","",null,null,null,null,"","","","",null,null,null,null,null,null,"","","","",null,null,null,null,"","","","",null,null,null,null,"","","","",null,null,null,null,null,null,"","","","",null,null,null,null,null,null,"","","","",null,null,null,null,"","","","","","","","",""]
[null,null,null,null,null,null,null,null,null,"","","","","","",null,null,null,null,null,"","",null,null,null,null,null,"","","","",null,null,null,null,"","","","",null,null,null,null,null,null,"","","","",null,null,null,null,"","","","",null,null,null,null,"","","","",null,null,null,null,null,null,"","","","",null,null,null,null,null,null,"","","","",null,null,null,null,"","","","","","","","",""]
[null,null,null,null,null,null,null,null,null,"","","","","","",null,null,null,null,null,"","",null,null,null,null,null,"","","","",null,null,null,null,"","","","",null,null,null,null,null,null,"","","","",null,null,null,null,"","","","",null,null,null,null,"","","","",null,null,null,null,null,null,"","","","",null,null,null,null,null,null,"","","","",null,null,null,null,"","","","","","","","",""]
[null,null,null,null,null,null,null,null,null,"","","","","","",null,null,null,null,null,"","",null,null,null,null,null,"","","","",null,null,null,null,"","","","",null,null,null,null,null,null,"","","","",null,null,null,null,"","","","",null,null,null,null,"","","","",null,null,null,null,null,null,"","","","",null,null,null,null,null,null,"","","","",null,null,null,null,"","","","","","","","",""]
[null,null,null,null,null,null,null,null,null,"","","","","","",null,null,null,null,null,"","",null,null,null,null,null,"","","","",null,null,null,null,"","","","",null,null,null,null,null,null,"","","","",null,null,null,null,"","","","",null,null,null,null,"","","","",null,null,null,null,null,null,"","","","",null,null,null,null,null,null,"","","","",null,null,null,null,"","","","","","","","",""]
[null,null,null,null,null,null,null,null,null,"","","","","","",null,null,null,null,null,"","",null,null,null,null,null,"","","","",null,null,null,null,"","","","",null,null,null,null,null,null,"","","","",null,null,null,null,"","","","",null,null,null,null,"","","","",null,null,null,null,null,null,"","","","",null,null,null,null,null,null,"","","","",null,null,null,null,"","","","","","","","",""]
[null,null,null,null,null,null,null,null,null,"","","","","","",null,null,null,null,null,"","",null,null,null,null,null,"","","","",null,null,null,null,"","","","",null,null,null,null,null,null,"","","","",null,null,null,null,"","","","",null,null,null,null,"","","","",null,null,null,null,null,null,"","","","",null,null,null,null,null,null,"","","","",null,null,null,null,"","","","","","","","",""]
[null,null,null,null,null,null,null,null,null,"","","","","","",null,null,null,null,null,"","",null,null,null,null,null,"","","","",null,null,null,null,"","","","",null,null,null,null,null,null,"","","","",null,null,null,null,"","","","",null,null,null,null,"","","","",null,null,null,null,null,null,"","","","",null,null,null,null,null,null,"","","","",null,null,null,null,"","","","","","","","",""]
[null,null,null,null,null,null,null,null,null,{"$f":"IF(C100=\"\",\"\",G100*C100)","v":""},"","","","","",null,null,null,null,null,"","",null,null,null,null,null,"","","","",null,null,null,null,"","","","",null,null,null,null,null,null,"","","","",null,null,null,null,"","","","",null,null,null,null,"","","","",null,null,null,null,null,null,"","","","",null,null,null,null,null,null,"","","","",null,null,null,null,"","","","","","","","",""]
[null,null,null,null,null,null,null,null,null,"","","","","","",null,null,null,null,null,"","",null,null,null,null,null,"","","","",null,null,null,null,"","","","",null,null,null,null,null,null,"","","","",null,null,null,null,"","","","",null,null,null,null,"","","","",null,null,null,null,null,null,"","","","",null,null,null,null,null,null,"","","","",null,null,null,null,"","","","","","","","",""]
[null,null,null,null,null,null,null,null,null,"","","","","","",null,null,null,null,null,"","",null,null,null,null,null,"","","","",null,null,null,null,"","","","",null,null,null,null,null,null,"","","","",null,null,null,null,"","","","",null,null,null,null,"","","","",null,null,null,null,null,null,"","","","",null,null,null,null,null,null,"","","","",null,null,null,null,"","","","","","","","",""]
[null,null,null,null,null,null,null,null,null,"","","","","","",null,null,null,null,null,"","",null,null,null,null,null,"","","","",null,null,null,null,"","","","",null,null,null,null,null,null,"","","","",null,null,null,null,"","","","",null,null,null,null,"","","","",null,null,null,null,null,null,"","","","",null,null,null,null,null,null,"","","","",null,null,null,null,"","","","","","","","",""]
[null,null,null,null,null,null,null,null,null,"","","","","","",null,null,null,null,null,"","",null,null,null,null,null,"","","","",null,null,null,null,"","","","",null,null,null,null,null,null,"","","","",null,null,null,null,"","","","",null,null,null,null,"","","","",null,null,null,null,null,null,"","","","",null,null,null,null,null,null,"","","","",null,null,null,null,"","","","","","","","",""]
[null,null,null,null,null,null,null,null,null,"","","","","","",null,null,null,null,null,"","",null,null,null,null,null,"","","","",null,null,null,null,"","","","",null,null,null,null,null,null,"","","","",null,null,null,null,"","","","",null,null,null,null,"","","","",null,null,null,null,null,null,"","","","",null,null,null,null,null,null,"","","","",null,null,null,null,"","","","","","","","",""]
[null,null,null,null,null,null,null,null,null,"","","","","","",null,null,null,null,null,"","",null,null,null,null,null,"","","","",null,null,null,null,"","","","",null,null,null,null,null,null,"","","","",null,null,null,null,"","","","",null,null,null,null,"","","","",null,null,null,null,null,null,"","","","",null,null,null,null,null,null,"","","","",null,null,null,null,"","","","","","","","",""]
[null,null,null,null,null,null,null,null,null,"","","","","","",null,null,null,null,null,"","",null,null,null,null,null,"","","","",null,null,null,null,"","","","",null,null,null,null,null,null,"","","","",null,null,null,null,"","","","",null,null,null,null,"","","","",null,null,null,null,null,null,"","","","",null,null,null,null,null,null,"","","","",null,null,null,null,"","","","","","","","",""]
[null,null,null,null,null,null,null,null,null,"","","","","","",null,null,null,null,null,"","",null,null,null,null,null,"","","","",null,null,null,null,"","","","",null,null,null,null,null,null,"","","","",null,null,null,null,"","","","",null,null,null,null,"","","","",null,null,null,null,null,null,"","","","",null,null,null,null,null,null,"","","","",null,null,null,null,"","","","","","","","",""]
[null,null,null,null,null,null,null,null,null,"","","","","","",null,null,null,null,null,"","",null,null,null,null,null,"","","","",null,null,null,null,"","","","",null,null,null,null,null,null,"","","","",null,null,null,null,"","","","",null,null,null,null,"","","","",null,null,null,null,null,null,"","","","",null,null,null,null,null,null,"","","","",null,null,null,null,"","","","","","","","",""]
[null,null,null,null,null,null,null,null,null,"","","","","","",null,null,null,null,null,"","",null,null,null,null,null,"","","","",null,null,null,null,"","","","",null,null,null,null,null,null,"","","","",null,null,null,null,"","","","",null,null,null,null,"","","","",null,null,null,null,null,null,"","","","",null,null,null,null,null,null,"","","","",null,null,null,null,"","","","","","","","",""]
[null,null,null,null,null,null,null,null,null,"","","","","","",null,null,null,null,null,"","",null,null,null,null,null,"","","","",null,null,null,null,"","","","",null,null,null,null,null,null,"","","","",null,null,null,null,"","","","",null,null,null,null,"","","","",null,null,null,null,null,null,"","","","",null,null,null,null,null,null,"","","","",null,null,null,null,"","","","","","","","",""]
[null,null,null,null,null,null,null,null,null,"","","","","","",null,null,null,null,null,"","",null,null,null,null,null,"","","","",null,null,null,null,"","","","",null,null,null,null,null,null,"","","","",null,null,null,null,"","","","",null,null,null,null,"","","","",null,null,null,null,null,null,"","","","",null,null,null,null,null,null,"","","","",null,null,null,null,"","","","","","","","",""]
[null,null,null,null,null,null,null,null,null,"","","","","","",null,null,null,null,null,"","",null,null,null,null,null,"","","","",null,null,null,null,"","","","",null,null,null,null,null,null,"","","","",null,null,null,null,"","","","",null,null,null,null,"","","","",null,null,null,null,null,null,"","","","",null,null,null,null,null,null,"","","","",null,null,null,null,"","","","","","","","",""]
[null,null,null,null,null,null,null,null,null,"","","","","","",null,null,null,null,null,"","",null,null,null,null,null,"","","","",null,null,null,null,"","","","",null,null,null,null,null,null,"","","","",null,null,null,null,"","","","",null,null,null,null,"","","","",null,null,null,null,null,null,"","","","",null,null,null,null,null,null,"","","","",null,null,null,null,"","","","","","","","",""]
[null,null,null,null,null,null,null,null,null,"","","","","","",null,null,null,null,null,"","",null,null,null,null,null,"","","","",null,null,null,null,"","","","",null,null,null,null,null,null,"","","","",null,null,null,null,"","","","",null,null,null,null,"","","","",null,null,null,null,null,null,"","","","",null,null,null,null,null,null,"","","","",null,null,null,null,"","","","","","","","",""]
[null,null,null,null,null,null,null,null,null,"","","","","","",null,null,null,null,null,"","",null,null,null,null,null,"","","","",null,null,null,null,"","","","",null,null,null,null,null,null,"","","","",null,null,null,null,"","","","",null,null,null,null,"","","","",null,null,null,null,null,null,"","","","",null,null,null,null,null,null,"","","","",null,null,null,null,"","","","","","","","",""]
[null,null,null,null,null,null,null,null,null,"","","","","","",null,null,null,null,null,"","",null,null,null,null,null,"","","","",null,null,null,null,"","","","",null,null,null,null,null,null,"","","","",null,null,null,null,"","","","",null,null,null,null,"","","","",null,null,null,null,null,null,"","","","",null,null,null,null,null,null,"","","","",null,null,null,null,"","","","","","","","",""]
[null,null,null,null,null,null,null,null,null,"","","","","","",null,null,null,null,null,"","",null,null,null,null,null,"","","","",null,null,null,null,"","","","",null,null,null,null,null,null,"","","","",null,null,null,null,"","","","",null,null,null,null,"","","","",null,null,null,null,null,null,"","","","",null,null,null,null,null,null,"","","","",null,null,null,null,"","","","","","","","",""]
[null,null,null,null,null,null,null,null,null,"","","","","","",null,null,null,null,null,"","",null,null,null,null,null,"","","","",null,null,null,null,"","","","",null,null,null,null,null,null,"","","","",null,null,null,null,"","","","",null,null,null,null,"","","","",null,null,null,null,null,null,"","","","",null,null,null,null,null,null,"","","","",null,null,null,null,"","","","","","","","",""]
[null,null,null,null,null,null,null,null,null,"","","","","","",null,null,null,null,null,"","",null,null,null,null,null,"","","","",null,null,null,null,"","","","",null,null,null,null,null,null,"","","","",null,null,null,null,"","","","",null,null,null,null,"","","","",null,null,null,null,null,null,"","","","",null,null,null,null,null,null,"","","","",null,null,null,null,"","","","","","","","",""]
[null,null,null,null,null,null,null,null,null,"","","","","","",null,null,null,null,null,"","",null,null,null,null,null,"","","","",null,null,null,null,"","","","",null,null,null,null,null,null,"","","","",null,null,null,null,"","","","",null,null,null,null,"","","","",null,null,null,null,null,null,"","","","",null,null,null,null,null,null,"","","","",null,null,null,null,"","","","","","","","",""]
[null,null,null,null,null,null,null,null,null,"","","","","","",null,null,null,null,null,"","",null,null,null,null,null,"","","","",null,null,null,null,"","","","",null,null,null,null,null,null,"","","","",null,null,null,null,"","","","",null,null,null,null,"","","","",null,null,null,null,null,null,"","","","",null,null,null,null,null,null,"","","","",null,null,null,null,"","","","","","","","",""]
[null,null,null,null,null,null,null,null,null,"","","","","","",null,null,null,null,null,"","",null,null,null,null,null,"","","","",null,null,null,null,"","","","",null,null,null,null,null,null,"","","","",null,null,null,null,"","","","",null,null,null,null,"","","","",null,null,null,null,null,null,"","","","",null,null,null,null,null,null,"","","","",null,null,null,null,"","","","","","","","",""]
[null,null,null,null,null,null,null,null,null,"","","","","","",null,null,null,null,null,"","",null,null,null,null,null,"","","","",null,null,null,null,"","","","",null,null,null,null,null,null,"","","","",null,null,null,null,"","","","",null,null,null,null,"","","","",null,null,null,null,null,null,"","","","",null,null,null,null,null,null,"","","","",null,null,null,null,"","","","","","","","",""]
[null,null,null,null,null,null,null,null,null,"","","","","","",null,null,null,null,null,"","",null,null,null,null,null,"","","","",null,null,null,null,"","","","",null,null,null,null,null,null,"","","","",null,null,null,null,"","","","",null,null,null,null,"","","","",null,null,null,null,null,null,"","","","",null,null,null,null,null,null,"","","","",null,null,null,null,"","","","","","","","",""]
[null,null,null,null,null,null,null,null,null,"","","","","","",null,null,null,null,null,"","",null,null,null,null,null,"","","","",null,null,null,null,"","","","",null,null,null,null,null,null,"","","","",null,null,null,null,"","","","",null,null,null,null,"","","","",null,null,null,null,null,null,"","","","",null,null,null,null,null,null,"","","","",null,null,null,null,"","","","","","","","",""]
[null,null,null,null,null,null,null,null,null,"","","","","","",null,null,null,null,null,"","",null,null,null,null,null,"","","","",null,null,null,null,"","","","",null,null,null,null,null,null,"","","","",null,null,null,null,"","","","",null,null,null,null,"","","","",null,null,null,null,null,null,"","","","",null,null,null,null,null,null,"","","","",null,null,null,null,"","","","","","","","",""]
[null,null,null,null,null,null,null,null,null,"","","","","","",null,null,null,null,null,"","",null,null,null,null,null,"","","","",null,null,null,null,"","","","",null,null,null,null,null,null,"","","","",null,null,null,null,"","","","",null,null,null,null,"","","","",null,null,null,null,null,null,"","","","",null,null,null,null,null,null,"","","","",null,null,null,null,"","","","","","","","",""]
[null,null,null,null,null,null,null,null,null,"","","","","","",null,null,null,null,null,"","",null,null,null,null,null,"","","","",null,null,null,null,"","","","",null,null,null,null,null,null,"","","","",null,null,null,null,"","","","",null,null,null,null,"","","","",null,null,null,null,null,null,"","","","",null,null,null,null,null,null,"","","","",null,null,null,null,"","","","","","","","",""]
[null,null,null,null,null,null,null,null,null,"","","","","","",null,null,null,null,null,"","",null,null,null,null,null,"","","","",null,null,null,null,"","","","",null,null,null,null,null,null,"","","","",null,null,null,null,"","","","",null,null,null,null,"","","","",null,null,null,null,null,null,"","","","",null,null,null,null,null,null,"","","","",null,null,null,null,"","","","","","","","",""]
[null,null,null,null,null,null,null,null,null,"","","","","","",null,null,null,null,null,"","",null,null,null,null,null,"","","","",null,null,null,null,"","","","",null,null,null,null,null,null,"","","","",null,null,null,null,"","","","",null,null,null,null,"","","","",null,null,null,null,null,null,"","","","",null,null,null,null,null,null,"","","","",null,null,null,null,"","","","","","","","",""]
[null,null,null,null,null,null,null,null,null,"","","","","","",null,null,null,null,null,"","",null,null,null,null,null,"","","","",null,null,null,null,"","","","",null,null,null,null,null,null,"","","","",null,null,null,null,"","","","",null,null,null,null,"","","","",null,null,null,null,null,null,"","","","",null,null,null,null,null,null,"","","","",null,null,null,null,"","","","","","","","",""]
[null,null,null,null,null,null,null,null,null,"","","","","","",null,null,null,null,null,"","",null,null,null,null,null,"","","","",null,null,null,null,"","","","",null,null,null,null,null,null,"","","","",null,null,null,null,"","","","",null,null,null,null,"","","","",null,null,null,null,null,null,"","","","",null,null,null,null,null,null,"","","","",null,null,null,null,"","","","","","","","",""]
[null,null,null,null,null,null,null,null,null,"","","","","","",null,null,null,null,null,"","",null,null,null,null,null,"","","","",null,null,null,null,"","","","",null,null,null,null,null,null,"","","","",null,null,null,null,"","","","",null,null,null,null,"","","","",null,null,null,null,null,null,"","","","",null,null,null,null,null,null,"","","","",null,null,null,null,"","","","","","","","",""]
[null,null,null,null,null,null,null,null,null,"","","","","","",null,null,null,null,null,"","",null,null,null,null,null,"","","","",null,null,null,null,"","","","",null,null,null,null,null,null,"","","","",null,null,null,null,"","","","",null,null,null,null,"","","","",null,null,null,null,null,null,"","","","",null,null,null,null,null,null,"","","","",null,null,null,null,"","","","","","","","",""]
[null,null,null,null,null,null,null,null,null,"","","","","","",null,null,null,null,null,"","",null,null,null,null,null,"","","","",null,null,null,null,"","","","",null,null,null,null,null,null,"","","","",null,null,null,null,"","","","",null,null,null,null,"","","","",null,null,null,null,null,null,"","","","",null,null,null,null,null,null,"","","","",null,null,null,null,"","","","","","","","",""]
[null,null,null,null,null,null,null,null,null,"","","","","","",null,null,null,null,null,"","",null,null,null,null,null,"","","","",null,null,null,null,"","","","",null,null,null,null,null,null,"","","","",null,null,null,null,"","","","",null,null,null,null,"","","","",null,null,null,null,null,null,"","","","",null,null,null,null,null,null,"","","","",null,null,null,null,"","","","","","","","",""]
[null,null,null,null,null,null,null,null,null,"","","","","","",null,null,null,null,null,"","",null,null,null,null,null,"","","","",null,null,null,null,"","","","",null,null,null,null,null,null,"","","","",null,null,null,null,"","","","",null,null,null,null,"","","","",null,null,null,null,null,null,"","","","",null,null,null,null,null,null,"","","","",null,null,null,null,"","","","","","","","",""]
[null,null,null,null,null,null,null,null,null,"","","","","","",null,null,null,null,null,"","",null,null,null,null,null,"","","","",null,null,null,null,"","","","",null,null,null,null,null,null,"","","","",null,null,null,null,"","","","",null,null,null,null,"","","","",null,null,null,null,null,null,"","","","",null,null,null,null,null,null,"","","","",null,null,null,null,"","","","","","","","",""]
[null,null,null,null,null,null,null,null,null,"","","","","","",null,null,null,null,null,"","",null,null,null,null,null,"","","","",null,null,null,null,"","","","",null,null,null,null,null,null,"","","","",null,null,null,null,"","","","",null,null,null,null,"","","","",null,null,null,null,null,null,"","","","",null,null,null,null,null,null,"","","","",null,null,null,null,"","","","","","","","",""]
[null,null,null,null,null,null,null,null,null,"","","","","","",null,null,null,null,null,"","",null,null,null,null,null,"","","","",null,null,null,null,"","","","",null,null,null,null,null,null,"","","","",null,null,null,null,"","","","",null,null,null,null,"","","","",null,null,null,null,null,null,"","","","",null,null,null,null,null,null,"","","","",null,null,null,null,"","","","","","","","",""]
[null,null,null,null,null,null,null,null,null,"","","","","","",null,null,null,null,null,"","",null,null,null,null,null,"","","","",null,null,null,null,"","","","",null,null,null,null,null,null,"","","","",null,null,null,null,"","","","",null,null,null,null,"","","","",null,null,null,null,null,null,"","","","",null,null,null,null,null,null,"","","","",null,null,null,null,"","","","","","","","",""]
[null,null,null,null,null,null,null,null,null,"","","","","","",null,null,null,null,null,"","",null,null,null,null,null,"","","","",null,null,null,null,"","","","",null,null,null,null,null,null,"","","","",null,null,null,null,"","","","",null,null,null,null,"","","","",null,null,null,null,null,null,"","","","",null,null,null,null,null,null,"","","","",null,null,null,null,"","","","","","","","",""]
[null,null,null,null,null,null,null,null,null,"",{"$f":"IF(C144=\"\",\"\",IF(G144>=$D$4,0,J144))","v":""},"","","","",null,null,null,null,null,"","",null,null,null,null,null,"","","","",null,null,null,null,"",{"$f":"IF(C144=\"\",\"\",(AJ144-G144)*C144)","v":""},"","",null,null,null,null,null,null,"",{"$f":"IF(C144=\"\",\"\",(AT144-G144)*C144)","v":""},"","",null,null,null,null,"",{"$f":"IF(C144=\"\",\"\",(BB144-G144)*C144)","v":""},"","",null,null,null,null,"",{"$f":"IF(C144=\"\",\"\",(BJ144-G144)*C144)","v":""},"","",null,null,null,null,null,null,{"$f":"IF(C144=\"\",\"\",$BS$16+G144)","v":""},{"$f":"IF(C144=\"\",\"\",(BT144-G144)*C144)","v":""},{"$f":"IF(C144=\"\",\"\",IF(BT144-$D$4>=0,\"0\",($D$4-BT144)*C144))","v":""},{"$f":"IF(C144=\"\",\"\",IF(BT144-$D$4>=0,\"0\",C144))","v":""},null,null,null,null,null,null,{"$f":"IF(C144=\"\",\"\",$CC$16+G144)","v":""},{"$f":"IF(C144=\"\",\"\",(CD144-G144)*C144)","v":""},"","",null,null,null,null,{"$f":"IF(C144=\"\",\"\",B144)","v":""},{"$f":"IF(C144=\"\",\"\",G144)","v":""},{"$f":"IF(C144=\"\",\"\",AB144)","v":""},{"$f":"IF(C144=\"\",\"\",AJ144)","v":""},{"$f":"IF(C144=\"\",\"\",AT144)","v":""},{"$f":"IF(C144=\"\",\"\",BB144)","v":""},{"$f":"IF(C144=\"\",\"\",BJ144)","v":""},{"$f":"IF(C144=\"\",\"\",BT144)","v":""},{"$f":"IF(C144=\"\",\"\",CD144)","v":""}]
[null,null,null,null,null,null,null,null,null,"","",{"$f":"IF(C145=\"\",\"\",IF(G145>=$D$4,0,$D$4-G145))","v":""},{"$f":"IF(C145=\"\",\"\",L145*C145)","v":""},{"$f":"IF(C145=\"\",\"\",$D$4-G145)","v":""},{"$f":"IF(C145=\"\",\"\",IF(M145=0,\"0\",C145))","v":""},null,null,null,null,null,{"$f":"IF(C145=\"\",\"\",IF(G145-$S$16>0,G145-$S$16,0))","v":""},{"$f":"IF(C145=\"\",\"\",G145/$S$16)","v":""},null,null,null,null,null,{"$f":"IF(C145=\"\",\"\",IF(G145>=$D$4,G145,$D$4))","v":""},{"$f":"IF(C145=\"\",\"\",(AB145-G145)*C145)","v":""},{"$f":"IF(C145=\"\",\"\",IF(AT145-$D$4>=0,\"0\",($D$4-AT145)*C145))","v":""},{"$f":"IF(C145=\"\",\"\",IF(AB145-$D$4>=0,\"0\",C145))","v":""},null,null,null,null,{"$f":"IF(C145=\"\",\"\",IF(G145>=$D$4,G145+(($D$4-$X$16)*$BL$11/100),$D$4))","v":""},"",{"$f":"IF(C145=\"\",\"\",IF(AJ145-$D$4>=0,\"0\",($D$4-AJ145)*C145))","v":""},{"$f":"IF(C145=\"\",\"\",IF(AJ145-$D$4>=0,\"0\",C145))","v":""},null,null,null,null,null,null,{"$f":"IF(C145=\"\",\"\",IF($AU$7=0,\"specify scenario\",IF($AU$7=2,IF(G145>=$D$4,G145,G145+$AS$16),IF($AU$7=1,$AS$16+G145,\"specify scenario\"))))","v":""},"",{"$f":"IF(C145=\"\",\"\",IF(AT145-$D$4>=0,\"0\",($D$4-AT145)*C145))","v":""},{"$f":"IF(C145=\"\",\"\",IF(AT145-$D$4>=0,\"0\",C145))","v":""},null,null,null,null,{"$f":"IF(C145=\"\",\"\",IF((G145*(1+$BE$10/100))>(G145+$BE$11),(G145*(1+$BE$10/100)),(G145+$BE$11)))","v":""},"",{"$f":"IF(C145=\"\",\"\",IF(BB145-$D$4>=0,\"0\",($D$4-BB145)*C145))","v":""},{"$f":"IF(C145=\"\",\"\",IF(BB145-$D$4>=0,\"0\",C145))","v":""},null,null,null,null,"","",{"$f":"IF(C145=\"\",\"\",IF(BJ145-$D$4>=0,\"0\",($D$4-BJ145)*C145))","v":""},{"$f":"IF(C145=\"\",\"\",IF(BJ145-$D$4>=0,\"0\",C145))","v":""},null,null,null,null,null,null,"","","","",null,null,null,null,null,null,"","","","",null,null,null,null,"","","","","","","","",""]
[null,null,null,null,null,null,null,null,null,"","","","","","",null,null,null,null,null,"","",null,null,null,null,null,"","","","",null,null,null,null,"","","","",null,null,null,null,null,null,"","","","",null,null,null,null,"","","","",null,null,null,null,{"$f":"IF(C146=\"\",\"\",IF(G146>=$D$4,G146+(($D$4-$X$16)*$BL$11/100),$D$4))","v":""},"","","",null,null,null,null,null,null,"","","","",null,null,null,null,null,null,"","","","",null,null,null,null,"","","","","","","","",""]
[null,null,null,null,null,null,null,null,null,"","","","","","",null,null,null,null,null,"","",null,null,null,null,null,"","","","",null,null,null,null,"","","","",null,null,null,null,null,null,"","","","",null,null,null,null,"","","","",null,null,null,null,"","","","",null,null,null,null,null,null,"","","","",null,null,null,null,null,null,"","",{"$f":"IF(C147=\"\",\"\",IF(CD147-$D$4>=0,\"0\",($D$4-CD147)*C147))","v":""},"",null,null,null,null,"","","","","","","","",""]
[null,null,null,null,null,null,null,null,null,"","","","","","",null,null,null,null,null,"","",null,null,null,null,null,"","","","",null,null,null,null,"","","","",null,null,null,null,null,null,"","","","",null,null,null,null,"","","","",null,null,null,null,"","","","",null,null,null,null,null,null,"","","","",null,null,null,null,null,null,"","","","",null,null,null,null,"","","","","","","","",""]
[null,null,null,null,null,null,null,null,null,"","","","","","",null,null,null,null,null,"","",null,null,null,null,null,"","","","",null,null,null,null,"","","","",null,null,null,null,null,null,"","","","",null,null,null,null,"","","","",null,null,null,null,"","","","",null,null,null,null,null,null,"","","","",null,null,null,null,null,null,"","","","",null,null,null,null,"","","","","","","","",""]
[null,null,null,null,null,null,null,null,null,"","","","","","",null,null,null,null,null,"","",null,null,null,null,null,"","","","",null,null,null,null,"","","","",null,null,null,null,null,null,"","","","",null,null,null,null,"","","","",null,null,null,null,"","","","",null,null,null,null,null,null,"","","","",null,null,null,null,null,null,"","","","",null,null,null,null,"","","","","","","","",""]
[null,null,null,null,null,null,null,null,null,"","","","","","",null,null,null,null,null,"","",null,null,null,null,null,"","","","",null,null,null,null,"","","","",null,null,null,null,null,null,"","","","",null,null,null,null,"","","","",null,null,null,null,"","","","",null,null,null,null,null,null,"","","","",null,null,null,null,null,null,"","","",{"$f":"IF(C151=\"\",\"\",IF(CD151-$D$4>=0,\"0\",C151))","v":""},null,null,null,null,"","","","","","","","",""]
[null,null,null,null,null,null,null,null,null,"","","","","","",null,null,null,null,null,"","",null,null,null,null,null,"","","","",null,null,null,null,"","","","",null,null,null,null,null,null,"","","","",null,null,null,null,"","","","",null,null,null,null,"","","","",null,null,null,null,null,null,"","","","",null,null,null,null,null,null,"","","","",null,null,null,null,"","","","","","","","",""]
[null,null,null,null,null,null,null,null,null,"","","","","","",null,null,null,null,null,"","",null,null,null,null,null,"","","","",null,null,null,null,"","","","",null,null,null,null,null,null,"","","","",null,null,null,null,"","","","",null,null,null,null,"","","","",null,null,null,null,null,null,"","","","",null,null,null,null,null,null,"","","","",null,null,null,null,"","","","","","","","",""]
[null,null,null,null,null,null,null,null,null,"","","","","","",null,null,null,null,null,"","",null,null,null,null,null,"","","","",null,null,null,null,"","","","",null,null,null,null,null,null,"","","","",null,null,null,null,"","","","",null,null,null,null,"","","","",null,null,null,null,null,null,"","","","",null,null,null,null,null,null,"","","","",null,null,null,null,"","","","","","","","",""]
[null,null,null,null,null,null,null,null,null,"","","","","","",null,null,null,null,null,"","",null,null,null,null,null,"","","","",null,null,null,null,"","","","",null,null,null,null,null,null,"","","","",null,null,null,null,"","","","",null,null,null,null,"","","","",null,null,null,null,null,null,"","","","",null,null,null,null,null,null,"","","","",null,null,null,null,"","","","","","","","",""]
[null,null,null,null,null,null,null,null,null,"","","","","","",null,null,null,null,null,"","",null,null,null,null,null,"","","","",null,null,null,null,"","","","",null,null,null,null,null,null,"","","","",null,null,null,null,"","","","",null,null,null,null,"","","","",null,null,null,null,null,null,"","","","",null,null,null,null,null,null,"","","","",null,null,null,null,"","","","","","","","",""]
[null,null,null,null,null,null,null,null,null,"","","","","","",null,null,null,null,null,"","",null,null,null,null,null,"","","","",null,null,null,null,"","","","",null,null,null,null,null,null,"","","","",null,null,null,null,"","","","",null,null,null,null,"","","","",null,null,null,null,null,null,"","","","",null,null,null,null,null,null,"","","","",null,null,null,null,"","","","","","","","",""]
[null,null,null,null,null,null,null,null,null,"","","","","","",null,null,null,null,null,"","",null,null,null,null,null,"","","","",null,null,null,null,"","","","",null,null,null,null,null,null,"","","","",null,null,null,null,"","","","",null,null,null,null,"","","","",null,null,null,null,null,null,"","","","",null,null,null,null,null,null,"","","","",null,null,null,null,"","","","","","","","",""]
[null,null,null,null,null,null,null,null,null,"","","","","","",null,null,null,null,null,"","",null,null,null,null,null,"","","","",null,null,null,null,"","","","",null,null,null,null,null,null,"","","","",null,null,null,null,"","","","",null,null,null,null,"","","","",null,null,null,null,null,null,"","","","",null,null,null,null,null,null,"","","","",null,null,null,null,"","","","","","","","",""]
[null,null,null,null,null,null,null,null,null,"","","","","","",null,null,null,null,null,"","",null,null,null,null,null,"","","","",null,null,null,null,"","","","",null,null,null,null,null,null,"","","","",null,null,null,null,"","","","",null,null,null,null,"","","","",null,null,null,null,null,null,"","","","",null,null,null,null,null,null,"","","","",null,null,null,null,"","","","","","","","",""]
[null,null,null,null,null,null,null,null,null,"","","","","","",null,null,null,null,null,"","",null,null,null,null,null,"","","","",null,null,null,null,"","","","",null,null,null,null,null,null,"","","","",null,null,null,null,"","","","",null,null,null,null,"","","","",null,null,null,null,null,null,"","","","",null,null,null,null,null,null,"","","","",null,null,null,null,"","","","","","","","",""]
[null,null,null,null,null,null,null,null,null,"","","","","","",null,null,null,null,null,"","",null,null,null,null,null,"","","","",null,null,null,null,"","","","",null,null,null,null,null,null,"","","","",null,null,null,null,"","","","",null,null,null,null,"","","","",null,null,null,null,null,null,"","","","",null,null,null,null,null,null,"","","","",null,null,null,null,"","","","","","","","",""]
[null,null,null,null,null,null,null,null,null,"","","","","","",null,null,null,null,null,"","",null,null,null,null,null,"","","","",null,null,null,null,"","","","",null,null,null,null,null,null,"","","","",null,null,null,null,"","","","",null,null,null,null,"","","","",null,null,null,null,null,null,"","","","",null,null,null,null,null,null,"","","","",null,null,null,null,"","","","","","","","",""]
[null,null,null,null,null,null,null,null,null,{"$f":"IF(C164=\"\",\"\",G164*C164)","v":""},"","","","","",null,null,null,null,null,"","",null,null,null,null,null,"","","","",null,null,null,null,"","","","",null,null,null,null,null,null,"","","","",null,null,null,null,"","","","",null,null,null,null,"","","","",null,null,null,null,null,null,"","","","",null,null,null,null,null,null,"","","","",null,null,null,null,"","","","","","","","",""]
[null,null,null,null,null,null,null,null,null,"","","","","","",null,null,null,null,null,"","",null,null,null,null,null,"","","","",null,null,null,null,"","","","",null,null,null,null,null,null,"","","","",null,null,null,null,"","","","",null,null,null,null,"","","","",null,null,null,null,null,null,"","","","",null,null,null,null,null,null,"","","","",null,null,null,null,"","","","","","","","",""]
[null,null,null,null,null,null,null,null,null,"","","","","","",null,null,null,null,null,"","",null,null,null,null,null,"","","","",null,null,null,null,"","","","",null,null,null,null,null,null,"","","","",null,null,null,null,"","","","",null,null,null,null,"","","","",null,null,null,null,null,null,"","","","",null,null,null,null,null,null,"","","","",null,null,null,null,"","","","","","","","",""]
[null,null,null,null,null,null,null,null,null,"","","","","","",null,null,null,null,null,"","",null,null,null,null,null,"","","","",null,null,null,null,"","","","",null,null,null,null,null,null,"","","","",null,null,null,null,"","","","",null,null,null,null,"","","","",null,null,null,null,null,null,"","","","",null,null,null,null,null,null,"","","","",null,null,null,null,"","","","","","","","",""]
[null,null,null,null,null,null,null,null,null,"","","","","","",null,null,null,null,null,"","",null,null,null,null,null,"","","","",null,null,null,null,"","","","",null,null,null,null,null,null,"","","","",null,null,null,null,"","","","",null,null,null,null,"","","","",null,null,null,null,null,null,"","","","",null,null,null,null,null,null,"","","","",null,null,null,null,"","","","","","","","",""]
[null,null,null,null,null,null,null,null,null,"","","","","","",null,null,null,null,null,"","",null,null,null,null,null,"","","","",null,null,null,null,"","","","",null,null,null,null,null,null,"","","","",null,null,null,null,"","","","",null,null,null,null,"","","","",null,null,null,null,null,null,"","","","",null,null,null,null,null,null,"","","","",null,null,null,null,"","","","","","","","",""]
[null,null,null,null,null,null,null,null,null,"","","","","","",null,null,null,null,null,"","",null,null,null,null,null,"","","","",null,null,null,null,"","","","",null,null,null,null,null,null,"","","","",null,null,null,null,"","","","",null,null,null,null,"","","","",null,null,null,null,null,null,"","","","",null,null,null,null,null,null,"","","","",null,null,null,null,"","","","","","","","",""]
[null,null,null,null,null,null,null,null,null,"","","","","","",null,null,null,null,null,"","",null,null,null,null,null,"","","","",null,null,null,null,"","","","",null,null,null,null,null,null,"","","","",null,null,null,null,"","","","",null,null,null,null,"","","","",null,null,null,null,null,null,"","","","",null,null,null,null,null,null,"","","","",null,null,null,null,"","","","","","","","",""]
[null,null,null,null,null,null,null,null,null,"","","","","","",null,null,null,null,null,"","",null,null,null,null,null,"","","","",null,null,null,null,"","","","",null,null,null,null,null,null,"","","","",null,null,null,null,"","","","",null,null,null,null,"","","","",null,null,null,null,null,null,"","","","",null,null,null,null,null,null,"","","","",null,null,null,null,"","","","","","","","",""]
[null,null,null,null,null,null,null,null,null,"","","","","","",null,null,null,null,null,"","",null,null,null,null,null,"","","","",null,null,null,null,"","","","",null,null,null,null,null,null,"","","","",null,null,null,null,"","","","",null,null,null,null,"","","","",null,null,null,null,null,null,"","","","",null,null,null,null,null,null,"","","","",null,null,null,null,"","","","","","","","",""]
[null,null,null,null,null,null,null,null,null,"","","","","","",null,null,null,null,null,"","",null,null,null,null,null,"","","","",null,null,null,null,"","","","",null,null,null,null,null,null,"","","","",null,null,null,null,"","","","",null,null,null,null,"","","","",null,null,null,null,null,null,"","","","",null,null,null,null,null,null,"","","","",null,null,null,null,"","","","","","","","",""]
[null,null,null,null,null,null,null,null,null,"","","","","","",null,null,null,null,null,"","",null,null,null,null,null,"","","","",null,null,null,null,"","","","",null,null,null,null,null,null,"","","","",null,null,null,null,"","","","",null,null,null,null,"","","","",null,null,null,null,null,null,"","","","",null,null,null,null,null,null,"","","","",null,null,null,null,"","","","","","","","",""]
[null,null,null,null,null,null,null,null,null,"","","","","","",null,null,null,null,null,"","",null,null,null,null,null,"","","","",null,null,null,null,"","","","",null,null,null,null,null,null,"","","","",null,null,null,null,"","","","",null,null,null,null,"","","","",null,null,null,null,null,null,"","","","",null,null,null,null,null,null,"","","","",null,null,null,null,"","","","","","","","",""]
[null,null,null,null,null,null,null,null,null,"","","","","","",null,null,null,null,null,"","",null,null,null,null,null,"","","","",null,null,null,null,"","","","",null,null,null,null,null,null,"","","","",null,null,null,null,"","","","",null,null,null,null,"","","","",null,null,null,null,null,null,"","","","",null,null,null,null,null,null,"","","","",null,null,null,null,"","","","","","","","",""]
[null,null,null,null,null,null,null,null,null,"","","","","","",null,null,null,null,null,"","",null,null,null,null,null,"","","","",null,null,null,null,"","","","",null,null,null,null,null,null,"","","","",null,null,null,null,"","","","",null,null,null,null,"","","","",null,null,null,null,null,null,"","","","",null,null,null,null,null,null,"","","","",null,null,null,null,"","","","","","","","",""]
[null,null,null,null,null,null,null,null,null,"","","","","","",null,null,null,null,null,"","",null,null,null,null,null,"","","","",null,null,null,null,"","","","",null,null,null,null,null,null,"","","","",null,null,null,null,"","","","",null,null,null,null,"","","","",null,null,null,null,null,null,"","","","",null,null,null,null,null,null,"","","","",null,null,null,null,"","","","","","","","",""]
[null,null,null,null,null,null,null,null,null,"","","","","","",null,null,null,null,null,"","",null,null,null,null,null,"","","","",null,null,null,null,"","","","",null,null,null,null,null,null,"","","","",null,null,null,null,"","","","",null,null,null,null,"","","","",null,null,null,null,null,null,"","","","",null,null,null,null,null,null,"","","","",null,null,null,null,"","","","","","","","",""]
[null,null,null,null,null,null,null,null,null,"","","","","","",null,null,null,null,null,"","",null,null,null,null,null,"","","","",null,null,null,null,"","","","",null,null,null,null,null,null,"","","","",null,null,null,null,"","","","",null,null,null,null,"","","","",null,null,null,null,null,null,"","","","",null,null,null,null,null,null,"","","","",null,null,null,null,"","","","","","","","",""]
[null,null,null,null,null,null,null,null,null,"","","","","","",null,null,null,null,null,"","",null,null,null,null,null,"","","","",null,null,null,null,"","","","",null,null,null,null,null,null,"","","","",null,null,null,null,"","","","",null,null,null,null,"","","","",null,null,null,null,null,null,"","","","",null,null,null,null,null,null,"","","","",null,null,null,null,"","","","","","","","",""]
[null,null,null,null,null,null,null,null,null,"","","","","","",null,null,null,null,null,"","",null,null,null,null,null,"","","","",null,null,null,null,"","","","",null,null,null,null,null,null,"","","","",null,null,null,null,"","","","",null,null,null,null,"","","","",null,null,null,null,null,null,"","","","",null,null,null,null,null,null,"","","","",null,null,null,null,"","","","","","","","",""]
[null,null,null,null,null,null,null,null,null,"","","","","","",null,null,null,null,null,"","",null,null,null,null,null,"","","","",null,null,null,null,"","","","",null,null,null,null,null,null,"","","","",null,null,null,null,"","","","",null,null,null,null,"","","","",null,null,null,null,null,null,"","","","",null,null,null,null,null,null,"","","","",null,null,null,null,"","","","","","","","",""]
[null,null,null,null,null,null,null,null,null,"","","","","","",null,null,null,null,null,"","",null,null,null,null,null,"","","","",null,null,null,null,"","","","",null,null,null,null,null,null,"","","","",null,null,null,null,"","","","",null,null,null,null,"","","","",null,null,null,null,null,null,"","","","",null,null,null,null,null,null,"","","","",null,null,null,null,"","","","","","","","",""]
[null,null,null,null,null,null,null,null,null,"","","","","","",null,null,null,null,null,"","",null,null,null,null,null,"","","","",null,null,null,null,"","","","",null,null,null,null,null,null,"","","","",null,null,null,null,"","","","",null,null,null,null,"","","","",null,null,null,null,null,null,"","","","",null,null,null,null,null,null,"","","","",null,null,null,null,"","","","","","","","",""]
[null,null,null,null,null,null,null,null,null,"","","","","","",null,null,null,null,null,"","",null,null,null,null,null,"","","","",null,null,null,null,"","","","",null,null,null,null,null,null,"","","","",null,null,null,null,"","","","",null,null,null,null,"","","","",null,null,null,null,null,null,"","","","",null,null,null,null,null,null,"","","","",null,null,null,null,"","","","","","","","",""]
[null,null,null,null,null,null,null,null,null,"","","","","","",null,null,null,null,null,"","",null,null,null,null,null,"","","","",null,null,null,null,"","","","",null,null,null,null,null,null,"","","","",null,null,null,null,"","","","",null,null,null,null,"","","","",null,null,null,null,null,null,"","","","",null,null,null,null,null,null,"","","","",null,null,null,null,"","","","","","","","",""]
[null,null,null,null,null,null,null,null,null,"","","","","","",null,null,null,null,null,"","",null,null,null,null,null,"","","","",null,null,null,null,"","","","",null,null,null,null,null,null,"","","","",null,null,null,null,"","","","",null,null,null,null,"","","","",null,null,null,null,null,null,"","","","",null,null,null,null,null,null,"","","","",null,null,null,null,"","","","","","","","",""]
[null,null,null,null,null,null,null,null,null,"","","","","","",null,null,null,null,null,"","",null,null,null,null,null,"","","","",null,null,null,null,"","","","",null,null,null,null,null,null,"","","","",null,null,null,null,"","","","",null,null,null,null,"","","","",null,null,null,null,null,null,"","","","",null,null,null,null,null,null,"","","","",null,null,null,null,"","","","","","","","",""]
[null,null,null,null,null,null,null,null,null,"","","","","","",null,null,null,null,null,"","",null,null,null,null,null,"","","","",null,null,null,null,"","","","",null,null,null,null,null,null,"","","","",null,null,null,null,"","","","",null,null,null,null,"","","","",null,null,null,null,null,null,"","","","",null,null,null,null,null,null,"","","","",null,null,null,null,"","","","","","","","",""]
[null,null,null,null,null,null,null,null,null,"","","","","","",null,null,null,null,null,"","",null,null,null,null,null,"","","","",null,null,null,null,"","","","",null,null,null,null,null,null,"","","","",null,null,null,null,"","","","",null,null,null,null,"","","","",null,null,null,null,null,null,"","","","",null,null,null,null,null,null,"","","","",null,null,null,null,"","","","","","","","",""]
[null,null,null,null,null,null,null,null,null,"","","","","","",null,null,null,null,null,"","",null,null,null,null,null,"","","","",null,null,null,null,"","","","",null,null,null,null,null,null,"","","","",null,null,null,null,"","","","",null,null,null,null,"","","","",null,null,null,null,null,null,"","","","",null,null,null,null,null,null,"","","","",null,null,null,null,"","","","","","","","",""]
[null,null,null,null,null,null,null,null,null,"","","","","","",null,null,null,null,null,"","",null,null,null,null,null,"","","","",null,null,null,null,"","","","",null,null,null,null,null,null,"","","","",null,null,null,null,"","","","",null,null,null,null,"","","","",null,null,null,null,null,null,"","","","",null,null,null,null,null,null,"","","","",null,null,null,null,"","","","","","","","",""]
[null,null,null,null,null,null,null,null,null,"","","","","","",null,null,null,null,null,"","",null,null,null,null,null,"","","","",null,null,null,null,"","","","",null,null,null,null,null,null,"","","","",null,null,null,null,"","","","",null,null,null,null,"","","","",null,null,null,null,null,null,"","","","",null,null,null,null,null,null,"","","","",null,null,null,null,"","","","","","","","",""]
[null,null,null,null,null,null,null,null,null,"","","","","","",null,null,null,null,null,"","",null,null,null,null,null,"","","","",null,null,null,null,"","","","",null,null,null,null,null,null,"","","","",null,null,null,null,"","","","",null,null,null,null,"","","","",null,null,null,null,null,null,"","","","",null,null,null,null,null,null,"","","","",null,null,null,null,"","","","","","","","",""]
[null,null,null,null,null,null,null,null,null,"","","","","","",null,null,null,null,null,"","",null,null,null,null,null,"","","","",null,null,null,null,"","","","",null,null,null,null,null,null,"","","","",null,null,null,null,"","","","",null,null,null,null,"","","","",null,null,null,null,null,null,"","","","",null,null,null,null,null,null,"","","","",null,null,null,null,"","","","","","","","",""]
[null,null,null,null,null,null,null,null,null,"","","","","","",null,null,null,null,null,"","",null,null,null,null,null,"","","","",null,null,null,null,"","","","",null,null,null,null,null,null,"","","","",null,null,null,null,"","","","",null,null,null,null,"","","","",null,null,null,null,null,null,"","","","",null,null,null,null,null,null,"","","","",null,null,null,null,"","","","","","","","",""]
[null,null,null,null,null,null,null,null,null,"","","","","","",null,null,null,null,null,"","",null,null,null,null,null,"","","","",null,null,null,null,"","","","",null,null,null,null,null,null,"","","","",null,null,null,null,"","","","",null,null,null,null,"","","","",null,null,null,null,null,null,"","","","",null,null,null,null,null,null,"","","","",null,null,null,null,"","","","","","","","",""]
[null,null,null,null,null,null,null,null,null,"","","","","","",null,null,null,null,null,"","",null,null,null,null,null,"","","","",null,null,null,null,"","","","",null,null,null,null,null,null,"","","","",null,null,null,null,"","","","",null,null,null,null,"","","","",null,null,null,null,null,null,"","","","",null,null,null,null,null,null,"","","","",null,null,null,null,"","","","","","","","",""]
[null,null,null,null,null,null,null,null,null,"","","","","","",null,null,null,null,null,"","",null,null,null,null,null,"","","","",null,null,null,null,"","","","",null,null,null,null,null,null,"","","","",null,null,null,null,"","","","",null,null,null,null,"","","","",null,null,null,null,null,null,"","","","",null,null,null,null,null,null,"","","","",null,null,null,null,"","","","","","","","",""]
[null,null,null,null,null,null,null,null,null,"","","","","","",null,null,null,null,null,"","",null,null,null,null,null,"","","","",null,null,null,null,"","","","",null,null,null,null,null,null,"","","","",null,null,null,null,"","","","",null,null,null,null,"","","","",null,null,null,null,null,null,"","","","",null,null,null,null,null,null,"","","","",null,null,null,null,"","","","","","","","",""]
[null,null,null,null,null,null,null,null,null,"","","","","","",null,null,null,null,null,"","",null,null,null,null,null,"","","","",null,null,null,null,"","","","",null,null,null,null,null,null,"","","","",null,null,null,null,"","","","",null,null,null,null,"","","","",null,null,null,null,null,null,"","","","",null,null,null,null,null,null,"","","","",null,null,null,null,"","","","","","","","",""]
[null,null,null,null,null,null,null,null,null,"","","","","","",null,null,null,null,null,"","",null,null,null,null,null,"","","","",null,null,null,null,"","","","",null,null,null,null,null,null,"","","","",null,null,null,null,"","","","",null,null,null,null,"","","","",null,null,null,null,null,null,"","","","",null,null,null,null,null,null,"","","","",null,null,null,null,"","","","","","","","",""]
[null,null,null,null,null,null,null,null,null,"","","","","","",null,null,null,null,null,"","",null,null,null,null,null,"","","","",null,null,null,null,"","","","",null,null,null,null,null,null,"","","","",null,null,null,null,"","","","",null,null,null,null,"","","","",null,null,null,null,null,null,"","","","",null,null,null,null,null,null,"","","","",null,null,null,null,"","","","","","","","",""]
[null,null,null,null,null,null,null,null,null,"","","","","","",null,null,null,null,null,"","",null,null,null,null,null,"","","","",null,null,null,null,"","","","",null,null,null,null,null,null,"","","","",null,null,null,null,"","","","",null,null,null,null,"","","","",null,null,null,null,null,null,"","","","",null,null,null,null,null,null,"","","","",null,null,null,null,"","","","","","","","",""]
[null,null,null,null,null,null,null,null,null,"","","","","","",null,null,null,null,null,"","",null,null,null,null,null,"","","","",null,null,null,null,"","","","",null,null,null,null,null,null,"","","","",null,null,null,null,"","","","",null,null,null,null,"","","","",null,null,null,null,null,null,"","","","",null,null,null,null,null,null,"","","","",null,null,null,null,"","","","","","","","",""]
[null,null,null,null,null,null,null,null,null,"",{"$f":"IF(C208=\"\",\"\",IF(G208>=$D$4,0,J208))","v":""},"","","","",null,null,null,null,null,"","",null,null,null,null,null,"","","","",null,null,null,null,"",{"$f":"IF(C208=\"\",\"\",(AJ208-G208)*C208)","v":""},"","",null,null,null,null,null,null,"",{"$f":"IF(C208=\"\",\"\",(AT208-G208)*C208)","v":""},"","",null,null,null,null,"",{"$f":"IF(C208=\"\",\"\",(BB208-G208)*C208)","v":""},"","",null,null,null,null,"",{"$f":"IF(C208=\"\",\"\",(BJ208-G208)*C208)","v":""},"","",null,null,null,null,null,null,{"$f":"IF(C208=\"\",\"\",$BS$16+G208)","v":""},{"$f":"IF(C208=\"\",\"\",(BT208-G208)*C208)","v":""},{"$f":"IF(C208=\"\",\"\",IF(BT208-$D$4>=0,\"0\",($D$4-BT208)*C208))","v":""},{"$f":"IF(C208=\"\",\"\",IF(BT208-$D$4>=0,\"0\",C208))","v":""},null,null,null,null,null,null,{"$f":"IF(C208=\"\",\"\",$CC$16+G208)","v":""},{"$f":"IF(C208=\"\",\"\",(CD208-G208)*C208)","v":""},"","",null,null,null,null,{"$f":"IF(C208=\"\",\"\",B208)","v":""},{"$f":"IF(C208=\"\",\"\",G208)","v":""},{"$f":"IF(C208=\"\",\"\",AB208)","v":""},{"$f":"IF(C208=\"\",\"\",AJ208)","v":""},{"$f":"IF(C208=\"\",\"\",AT208)","v":""},{"$f":"IF(C208=\"\",\"\",BB208)","v":""},{"$f":"IF(C208=\"\",\"\",BJ208)","v":""},{"$f":"IF(C208=\"\",\"\",BT208)","v":""},{"$f":"IF(C208=\"\",\"\",CD208)","v":""}]
[null,null,null,null,null,null,null,null,null,"","",{"$f":"IF(C209=\"\",\"\",IF(G209>=$D$4,0,$D$4-G209))","v":""},{"$f":"IF(C209=\"\",\"\",L209*C209)","v":""},{"$f":"IF(C209=\"\",\"\",$D$4-G209)","v":""},{"$f":"IF(C209=\"\",\"\",IF(M209=0,\"0\",C209))","v":""},null,null,null,null,null,{"$f":"IF(C209=\"\",\"\",IF(G209-$S$16>0,G209-$S$16,0))","v":""},{"$f":"IF(C209=\"\",\"\",G209/$S$16)","v":""},null,null,null,null,null,{"$f":"IF(C209=\"\",\"\",IF(G209>=$D$4,G209,$D$4))","v":""},{"$f":"IF(C209=\"\",\"\",(AB209-G209)*C209)","v":""},{"$f":"IF(C209=\"\",\"\",IF(AT209-$D$4>=0,\"0\",($D$4-AT209)*C209))","v":""},{"$f":"IF(C209=\"\",\"\",IF(AB209-$D$4>=0,\"0\",C209))","v":""},null,null,null,null,{"$f":"IF(C209=\"\",\"\",IF(G209>=$D$4,G209+(($D$4-$X$16)*$BL$11/100),$D$4))","v":""},"",{"$f":"IF(C209=\"\",\"\",IF(AJ209-$D$4>=0,\"0\",($D$4-AJ209)*C209))","v":""},{"$f":"IF(C209=\"\",\"\",IF(AJ209-$D$4>=0,\"0\",C209))","v":""},null,null,null,null,null,null,{"$f":"IF(C209=\"\",\"\",IF($AU$7=0,\"specify scenario\",IF($AU$7=2,IF(G209>=$D$4,G209,G209+$AS$16),IF($AU$7=1,$AS$16+G209,\"specify scenario\"))))","v":""},"",{"$f":"IF(C209=\"\",\"\",IF(AT209-$D$4>=0,\"0\",($D$4-AT209)*C209))","v":""},{"$f":"IF(C209=\"\",\"\",IF(AT209-$D$4>=0,\"0\",C209))","v":""},null,null,null,null,{"$f":"IF(C209=\"\",\"\",IF((G209*(1+$BE$10/100))>(G209+$BE$11),(G209*(1+$BE$10/100)),(G209+$BE$11)))","v":""},"",{"$f":"IF(C209=\"\",\"\",IF(BB209-$D$4>=0,\"0\",($D$4-BB209)*C209))","v":""},{"$f":"IF(C209=\"\",\"\",IF(BB209-$D$4>=0,\"0\",C209))","v":""},null,null,null,null,"","",{"$f":"IF(C209=\"\",\"\",IF(BJ209-$D$4>=0,\"0\",($D$4-BJ209)*C209))","v":""},{"$f":"IF(C209=\"\",\"\",IF(BJ209-$D$4>=0,\"0\",C209))","v":""},null,null,null,null,null,null,"","","","",null,null,null,null,null,null,"","","","",null,null,null,null,"","","","","","","","",""]
[null,null,null,null,null,null,null,null,null,"","","","","","",null,null,null,null,null,"","",null,null,null,null,null,"","","","",null,null,null,null,"","","","",null,null,null,null,null,null,"","","","",null,null,null,null,"","","","",null,null,null,null,{"$f":"IF(C210=\"\",\"\",IF(G210>=$D$4,G210+(($D$4-$X$16)*$BL$11/100),$D$4))","v":""},"","","",null,null,null,null,null,null,"","","","",null,null,null,null,null,null,"","","","",null,null,null,null,"","","","","","","","",""]
[null,null,null,null,null,null,null,null,null,"","","","","","",null,null,null,null,null,"","",null,null,null,null,null,"","","","",null,null,null,null,"","","","",null,null,null,null,null,null,"","","","",null,null,null,null,"","","","",null,null,null,null,"","","","",null,null,null,null,null,null,"","","","",null,null,null,null,null,null,"","",{"$f":"IF(C211=\"\",\"\",IF(CD211-$D$4>=0,\"0\",($D$4-CD211)*C211))","v":""},"",null,null,null,null,"","","","","","","","",""]
[null,null,null,null,null,null,null,null,null,"","","","","","",null,null,null,null,null,"","",null,null,null,null,null,"","","","",null,null,null,null,"","","","",null,null,null,null,null,null,"","","","",null,null,null,null,"","","","",null,null,null,null,"","","","",null,null,null,null,null,null,"","","","",null,null,null,null,null,null,"","","","",null,null,null,null,"","","","","","","","",""]
[null,null,null,null,null,null,null,null,null,"","","","","","",null,null,null,null,null,"","",null,null,null,null,null,"","","","",null,null,null,null,"","","","",null,null,null,null,null,null,"","","","",null,null,null,null,"","","","",null,null,null,null,"","","","",null,null,null,null,null,null,"","","","",null,null,null,null,null,null,"","","","",null,null,null,null,"","","","","","","","",""]
[null,null,null,null,null,null,null,null,null,"","","","","","",null,null,null,null,null,"","",null,null,null,null,null,"","","","",null,null,null,null,"","","","",null,null,null,null,null,null,"","","","",null,null,null,null,"","","","",null,null,null,null,"","","","",null,null,null,null,null,null,"","","","",null,null,null,null,null,null,"","","","",null,null,null,null,"","","","","","","","",""]
[null,null,null,null,null,null,null,null,null,"","","","","","",null,null,null,null,null,"","",null,null,null,null,null,"","","","",null,null,null,null,"","","","",null,null,null,null,null,null,"","","","",null,null,null,null,"","","","",null,null,null,null,"","","","",null,null,null,null,null,null,"","","","",null,null,null,null,null,null,"","","",{"$f":"IF(C215=\"\",\"\",IF(CD215-$D$4>=0,\"0\",C215))","v":""},null,null,null,null,"","","","","","","","",""]
[null,null,null,null,null,null,null,null,null,"","","","","","",null,null,null,null,null,"","",null,null,null,null,null,"","","","",null,null,null,null,"","","","",null,null,null,null,null,null,"","","","",null,null,null,null,"","","","",null,null,null,null,"","","","",null,null,null,null,null,null,"","","","",null,null,null,null,null,null,"","","","",null,null,null,null,"","","","","","","","",""]
[null,null,null,null,null,null,null,null,null,"","","","","","",null,null,null,null,null,"","",null,null,null,null,null,"","","","",null,null,null,null,"","","","",null,null,null,null,null,null,"","","","",null,null,null,null,"","","","",null,null,null,null,"","","","",null,null,null,null,null,null,"","","","",null,null,null,null,null,null,"","","","",null,null,null,null,"","","","","","","","",""]
[null,null,null,null,null,null,null,null,null,"","","","","","",null,null,null,null,null,"","",null,null,null,null,null,"","","","",null,null,null,null,"","","","",null,null,null,null,null,null,"","","","",null,null,null,null,"","","","",null,null,null,null,"","","","",null,null,null,null,null,null,"","","","",null,null,null,null,null,null,"","","","",null,null,null,null,"","","","","","","","",""]
[null,null,null,null,null,null,null,null,null,"","","","","","",null,null,null,null,null,"","",null,null,null,null,null,"","","","",null,null,null,null,"","","","",null,null,null,null,null,null,"","","","",null,null,null,null,"","","","",null,null,null,null,"","","","",null,null,null,null,null,null,"","","","",null,null,null,null,null,null,"","","","",null,null,null,null,"","","","","","","","",""]
[null,null,null,null,null,null,null,null,null,"","","","","","",null,null,null,null,null,"","",null,null,null,null,null,"","","","",null,null,null,null,"","","","",null,null,null,null,null,null,"","","","",null,null,null,null,"","","","",null,null,null,null,"","","","",null,null,null,null,null,null,"","","","",null,null,null,null,null,null,"","","","",null,null,null,null,"","","","","","","","",""]
[null,null,null,null,null,null,null,null,null,"","","","","","",null,null,null,null,null,"","",null,null,null,null,null,"","","","",null,null,null,null,"","","","",null,null,null,null,null,null,"","","","",null,null,null,null,"","","","",null,null,null,null,"","","","",null,null,null,null,null,null,"","","","",null,null,null,null,null,null,"","","","",null,null,null,null,"","","","","","","","",""]
[null,null,null,null,null,null,null,null,null,"","","","","","",null,null,null,null,null,"","",null,null,null,null,null,"","","","",null,null,null,null,"","","","",null,null,null,null,null,null,"","","","",null,null,null,null,"","","","",null,null,null,null,"","","","",null,null,null,null,null,null,"","","","",null,null,null,null,null,null,"","","","",null,null,null,null,"","","","","","","","",""]
[null,null,null,null,null,null,null,null,null,"","","","","","",null,null,null,null,null,"","",null,null,null,null,null,"","","","",null,null,null,null,"","","","",null,null,null,null,null,null,"","","","",null,null,null,null,"","","","",null,null,null,null,"","","","",null,null,null,null,null,null,"","","","",null,null,null,null,null,null,"","","","",null,null,null,null,"","","","","","","","",""]
[null,null,null,null,null,null,null,null,null,"","","","","","",null,null,null,null,null,"","",null,null,null,null,null,"","","","",null,null,null,null,"","","","",null,null,null,null,null,null,"","","","",null,null,null,null,"","","","",null,null,null,null,"","","","",null,null,null,null,null,null,"","","","",null,null,null,null,null,null,"","","","",null,null,null,null,"","","","","","","","",""]
[null,null,null,null,null,null,null,null,null,"","","","","","",null,null,null,null,null,"","",null,null,null,null,null,"","","","",null,null,null,null,"","","","",null,null,null,null,null,null,"","","","",null,null,null,null,"","","","",null,null,null,null,"","","","",null,null,null,null,null,null,"","","","",null,null,null,null,null,null,"","","","",null,null,null,null,"","","","","","","","",""]
[null,null,null,null,null,null,null,null,null,"","","","","","",null,null,null,null,null,"","",null,null,null,null,null,"","","","",null,null,null,null,"","","","",null,null,null,null,null,null,"","","","",null,null,null,null,"","","","",null,null,null,null,"","","","",null,null,null,null,null,null,"","","","",null,null,null,null,null,null,"","","","",null,null,null,null,"","","","","","","","",""]
[null,null,null,null,null,null,null,null,null,"","","","","","",null,null,null,null,null,"","",null,null,null,null,null,"","","","",null,null,null,null,"","","","",null,null,null,null,null,null,"","","","",null,null,null,null,"","","","",null,null,null,null,"","","","",null,null,null,null,null,null,"","","","",null,null,null,null,null,null,"","","","",null,null,null,null,"","","","","","","","",""]
[null,null,null,null,null,null,null,null,null,{"$f":"IF(C228=\"\",\"\",G228*C228)","v":""},"","","","","",null,null,null,null,null,"","",null,null,null,null,null,"","","","",null,null,null,null,"","","","",null,null,null,null,null,null,"","","","",null,null,null,null,"","","","",null,null,null,null,"","","","",null,null,null,null,null,null,"","","","",null,null,null,null,null,null,"","","","",null,null,null,null,"","","","","","","","",""]
[null,null,null,null,null,null,null,null,null,"","","","","","",null,null,null,null,null,"","",null,null,null,null,null,"","","","",null,null,null,null,"","","","",null,null,null,null,null,null,"","","","",null,null,null,null,"","","","",null,null,null,null,"","","","",null,null,null,null,null,null,"","","","",null,null,null,null,null,null,"","","","",null,null,null,null,"","","","","","","","",""]
[null,null,null,null,null,null,null,null,null,"","","","","","",null,null,null,null,null,"","",null,null,null,null,null,"","","","",null,null,null,null,"","","","",null,null,null,null,null,null,"","","","",null,null,null,null,"","","","",null,null,null,null,"","","","",null,null,null,null,null,null,"","","","",null,null,null,null,null,null,"","","","",null,null,null,null,"","","","","","","","",""]
[null,null,null,null,null,null,null,null,null,"","","","","","",null,null,null,null,null,"","",null,null,null,null,null,"","","","",null,null,null,null,"","","","",null,null,null,null,null,null,"","","","",null,null,null,null,"","","","",null,null,null,null,"","","","",null,null,null,null,null,null,"","","","",null,null,null,null,null,null,"","","","",null,null,null,null,"","","","","","","","",""]
[null,null,null,null,null,null,null,null,null,"","","","","","",null,null,null,null,null,"","",null,null,null,null,null,"","","","",null,null,null,null,"","","","",null,null,null,null,null,null,"","","","",null,null,null,null,"","","","",null,null,null,null,"","","","",null,null,null,null,null,null,"","","","",null,null,null,null,null,null,"","","","",null,null,null,null,"","","","","","","","",""]
[null,null,null,null,null,null,null,null,null,"","","","","","",null,null,null,null,null,"","",null,null,null,null,null,"","","","",null,null,null,null,"","","","",null,null,null,null,null,null,"","","","",null,null,null,null,"","","","",null,null,null,null,"","","","",null,null,null,null,null,null,"","","","",null,null,null,null,null,null,"","","","",null,null,null,null,"","","","","","","","",""]
[null,null,null,null,null,null,null,null,null,"","","","","","",null,null,null,null,null,"","",null,null,null,null,null,"","","","",null,null,null,null,"","","","",null,null,null,null,null,null,"","","","",null,null,null,null,"","","","",null,null,null,null,"","","","",null,null,null,null,null,null,"","","","",null,null,null,null,null,null,"","","","",null,null,null,null,"","","","","","","","",""]
[null,null,null,null,null,null,null,null,null,"","","","","","",null,null,null,null,null,"","",null,null,null,null,null,"","","","",null,null,null,null,"","","","",null,null,null,null,null,null,"","","","",null,null,null,null,"","","","",null,null,null,null,"","","","",null,null,null,null,null,null,"","","","",null,null,null,null,null,null,"","","","",null,null,null,null,"","","","","","","","",""]
[null,null,null,null,null,null,null,null,null,"","","","","","",null,null,null,null,null,"","",null,null,null,null,null,"","","","",null,null,null,null,"","","","",null,null,null,null,null,null,"","","","",null,null,null,null,"","","","",null,null,null,null,"","","","",null,null,null,null,null,null,"","","","",null,null,null,null,null,null,"","","","",null,null,null,null,"","","","","","","","",""]
[null,null,null,null,null,null,null,null,null,"","","","","","",null,null,null,null,null,"","",null,null,null,null,null,"","","","",null,null,null,null,"","","","",null,null,null,null,null,null,"","","","",null,null,null,null,"","","","",null,null,null,null,"","","","",null,null,null,null,null,null,"","","","",null,null,null,null,null,null,"","","","",null,null,null,null,"","","","","","","","",""]
[null,null,null,null,null,null,null,null,null,"","","","","","",null,null,null,null,null,"","",null,null,null,null,null,"","","","",null,null,null,null,"","","","",null,null,null,null,null,null,"","","","",null,null,null,null,"","","","",null,null,null,null,"","","","",null,null,null,null,null,null,"","","","",null,null,null,null,null,null,"","","","",null,null,null,null,"","","","","","","","",""]
[null,null,null,null,null,null,null,null,null,"","","","","","",null,null,null,null,null,"","",null,null,null,null,null,"","","","",null,null,null,null,"","","","",null,null,null,null,null,null,"","","","",null,null,null,null,"","","","",null,null,null,null,"","","","",null,null,null,null,null,null,"","","","",null,null,null,null,null,null,"","","","",null,null,null,null,"","","","","","","","",""]
[null,null,null,null,null,null,null,null,null,"","","","","","",null,null,null,null,null,"","",null,null,null,null,null,"","","","",null,null,null,null,"","","","",null,null,null,null,null,null,"","","","",null,null,null,null,"","","","",null,null,null,null,"","","","",null,null,null,null,null,null,"","","","",null,null,null,null,null,null,"","","","",null,null,null,null,"","","","","","","","",""]
[null,null,null,null,null,null,null,null,null,"","","","","","",null,null,null,null,null,"","",null,null,null,null,null,"","","","",null,null,null,null,"","","","",null,null,null,null,null,null,"","","","",null,null,null,null,"","","","",null,null,null,null,"","","","",null,null,null,null,null,null,"","","","",null,null,null,null,null,null,"","","","",null,null,null,null,"","","","","","","","",""]
[null,null,null,null,null,null,null,null,null,"","","","","","",null,null,null,null,null,"","",null,null,null,null,null,"","","","",null,null,null,null,"","","","",null,null,null,null,null,null,"","","","",null,null,null,null,"","","","",null,null,null,null,"","","","",null,null,null,null,null,null,"","","","",null,null,null,null,null,null,"","","","",null,null,null,null,"","","","","","","","",""]
[null,null,null,null,null,null,null,null,null,"","","","","","",null,null,null,null,null,"","",null,null,null,null,null,"","","","",null,null,null,null,"","","","",null,null,null,null,null,null,"","","","",null,null,null,null,"","","","",null,null,null,null,"","","","",null,null,null,null,null,null,"","","","",null,null,null,null,null,null,"","","","",null,null,null,null,"","","","","","","","",""]
[null,null,null,null,null,null,null,null,null,"","","","","","",null,null,null,null,null,"","",null,null,null,null,null,"","","","",null,null,null,null,"","","","",null,null,null,null,null,null,"","","","",null,null,null,null,"","","","",null,null,null,null,"","","","",null,null,null,null,null,null,"","","","",null,null,null,null,null,null,"","","","",null,null,null,null,"","","","","","","","",""]
[null,null,null,null,null,null,null,null,null,"","","","","","",null,null,null,null,null,"","",null,null,null,null,null,"","","","",null,null,null,null,"","","","",null,null,null,null,null,null,"","","","",null,null,null,null,"","","","",null,null,null,null,"","","","",null,null,null,null,null,null,"","","","",null,null,null,null,null,null,"","","","",null,null,null,null,"","","","","","","","",""]
[null,null,null,null,null,null,null,null,null,"","","","","","",null,null,null,null,null,"","",null,null,null,null,null,"","","","",null,null,null,null,"","","","",null,null,null,null,null,null,"","","","",null,null,null,null,"","","","",null,null,null,null,"","","","",null,null,null,null,null,null,"","","","",null,null,null,null,null,null,"","","","",null,null,null,null,"","","","","","","","",""]
[null,null,null,null,null,null,null,null,null,"","","","","","",null,null,null,null,null,"","",null,null,null,null,null,"","","","",null,null,null,null,"","","","",null,null,null,null,null,null,"","","","",null,null,null,null,"","","","",null,null,null,null,"","","","",null,null,null,null,null,null,"","","","",null,null,null,null,null,null,"","","","",null,null,null,null,"","","","","","","","",""]
[null,null,null,null,null,null,null,null,null,"","","","","","",null,null,null,null,null,"","",null,null,null,null,null,"","","","",null,null,null,null,"","","","",null,null,null,null,null,null,"","","","",null,null,null,null,"","","","",null,null,null,null,"","","","",null,null,null,null,null,null,"","","","",null,null,null,null,null,null,"","","","",null,null,null,null,"","","","","","","","",""]
[null,null,null,null,null,null,null,null,null,"","","","","","",null,null,null,null,null,"","",null,null,null,null,null,"","","","",null,null,null,null,"","","","",null,null,null,null,null,null,"","","","",null,null,null,null,"","","","",null,null,null,null,"","","","",null,null,null,null,null,null,"","","","",null,null,null,null,null,null,"","","","",null,null,null,null,"","","","","","","","",""]
[null,null,null,null,null,null,null,null,null,"","","","","","",null,null,null,null,null,"","",null,null,null,null,null,"","","","",null,null,null,null,"","","","",null,null,null,null,null,null,"","","","",null,null,null,null,"","","","",null,null,null,null,"","","","",null,null,null,null,null,null,"","","","",null,null,null,null,null,null,"","","","",null,null,null,null,"","","","","","","","",""]
[null,null,null,null,null,null,null,null,null,"","","","","","",null,null,null,null,null,"","",null,null,null,null,null,"","","","",null,null,null,null,"","","","",null,null,null,null,null,null,"","","","",null,null,null,null,"","","","",null,null,null,null,"","","","",null,null,null,null,null,null,"","","","",null,null,null,null,null,null,"","","","",null,null,null,null,"","","","","","","","",""]
[null,null,null,null,null,null,null,null,null,"","","","","","",null,null,null,null,null,"","",null,null,null,null,null,"","","","",null,null,null,null,"","","","",null,null,null,null,null,null,"","","","",null,null,null,null,"","","","",null,null,null,null,"","","","",null,null,null,null,null,null,"","","","",null,null,null,null,null,null,"","","","",null,null,null,null,"","","","","","","","",""]
[null,null,null,null,null,null,null,null,null,"","","","","","",null,null,null,null,null,"","",null,null,null,null,null,"","","","",null,null,null,null,"","","","",null,null,null,null,null,null,"","","","",null,null,null,null,"","","","",null,null,null,null,"","","","",null,null,null,null,null,null,"","","","",null,null,null,null,null,null,"","","","",null,null,null,null,"","","","","","","","",""]
[null,null,null,null,null,null,null,null,null,"","","","","","",null,null,null,null,null,"","",null,null,null,null,null,"","","","",null,null,null,null,"","","","",null,null,null,null,null,null,"","","","",null,null,null,null,"","","","",null,null,null,null,"","","","",null,null,null,null,null,null,"","","","",null,null,null,null,null,null,"","","","",null,null,null,null,"","","","","","","","",""]
[null,null,null,null,null,null,null,null,null,"","","","","","",null,null,null,null,null,"","",null,null,null,null,null,"","","","",null,null,null,null,"","","","",null,null,null,null,null,null,"","","","",null,null,null,null,"","","","",null,null,null,null,"","","","",null,null,null,null,null,null,"","","","",null,null,null,null,null,null,"","","","",null,null,null,null,"","","","","","","","",""]
[null,null,null,null,null,null,null,null,null,"","","","","","",null,null,null,null,null,"","",null,null,null,null,null,"","","","",null,null,null,null,"","","","",null,null,null,null,null,null,"","","","",null,null,null,null,"","","","",null,null,null,null,"","","","",null,null,null,null,null,null,"","","","",null,null,null,null,null,null,"","","","",null,null,null,null,"","","","","","","","",""]
[null,null,null,null,null,null,null,null,null,"","","","","","",null,null,null,null,null,"","",null,null,null,null,null,"","","","",null,null,null,null,"","","","",null,null,null,null,null,null,"","","","",null,null,null,null,"","","","",null,null,null,null,"","","","",null,null,null,null,null,null,"","","","",null,null,null,null,null,null,"","","","",null,null,null,null,"","","","","","","","",""]
[null,null,null,null,null,null,null,null,null,"","","","","","",null,null,null,null,null,"","",null,null,null,null,null,"","","","",null,null,null,null,"","","","",null,null,null,null,null,null,"","","","",null,null,null,null,"","","","",null,null,null,null,"","","","",null,null,null,null,null,null,"","","","",null,null,null,null,null,null,"","","","",null,null,null,null,"","","","","","","","",""]
[null,null,null,null,null,null,null,null,null,"","","","","","",null,null,null,null,null,"","",null,null,null,null,null,"","","","",null,null,null,null,"","","","",null,null,null,null,null,null,"","","","",null,null,null,null,"","","","",null,null,null,null,"","","","",null,null,null,null,null,null,"","","","",null,null,null,null,null,null,"","","","",null,null,null,null,"","","","","","","","",""]
[null,null,null,null,null,null,null,null,null,"","","","","","",null,null,null,null,null,"","",null,null,null,null,null,"","","","",null,null,null,null,"","","","",null,null,null,null,null,null,"","","","",null,null,null,null,"","","","",null,null,null,null,"","","","",null,null,null,null,null,null,"","","","",null,null,null,null,null,null,"","","","",null,null,null,null,"","","","","","","","",""]
[null,null,null,null,null,null,null,null,null,"","","","","","",null,null,null,null,null,"","",null,null,null,null,null,"","","","",null,null,null,null,"","","","",null,null,null,null,null,null,"","","","",null,null,null,null,"","","","",null,null,null,null,"","","","",null,null,null,null,null,null,"","","","",null,null,null,null,null,null,"","","","",null,null,null,null,"","","","","","","","",""]
[null,null,null,null,null,null,null,null,null,"","","","","","",null,null,null,null,null,"","",null,null,null,null,null,"","","","",null,null,null,null,"","","","",null,null,null,null,null,null,"","","","",null,null,null,null,"","","","",null,null,null,null,"","","","",null,null,null,null,null,null,"","","","",null,null,null,null,null,null,"","","","",null,null,null,null,"","","","","","","","",""]
[null,null,null,null,null,null,null,null,null,"","","","","","",null,null,null,null,null,"","",null,null,null,null,null,"","","","",null,null,null,null,"","","","",null,null,null,null,null,null,"","","","",null,null,null,null,"","","","",null,null,null,null,"","","","",null,null,null,null,null,null,"","","","",null,null,null,null,null,null,"","","","",null,null,null,null,"","","","","","","","",""]
[null,null,null,null,null,null,null,null,null,"","","","","","",null,null,null,null,null,"","",null,null,null,null,null,"","","","",null,null,null,null,"","","","",null,null,null,null,null,null,"","","","",null,null,null,null,"","","","",null,null,null,null,"","","","",null,null,null,null,null,null,"","","","",null,null,null,null,null,null,"","","","",null,null,null,null,"","","","","","","","",""]
[null,null,null,null,null,null,null,null,null,"","","","","","",null,null,null,null,null,"","",null,null,null,null,null,"","","","",null,null,null,null,"","","","",null,null,null,null,null,null,"","","","",null,null,null,null,"","","","",null,null,null,null,"","","","",null,null,null,null,null,null,"","","","",null,null,null,null,null,null,"","","","",null,null,null,null,"","","","","","","","",""]
[null,null,null,null,null,null,null,null,null,"","","","","","",null,null,null,null,null,"","",null,null,null,null,null,"","","","",null,null,null,null,"","","","",null,null,null,null,null,null,"","","","",null,null,null,null,"","","","",null,null,null,null,"","","","",null,null,null,null,null,null,"","","","",null,null,null,null,null,null,"","","","",null,null,null,null,"","","","","","","","",""]
[null,null,null,null,null,null,null,null,null,"","","","","","",null,null,null,null,null,"","",null,null,null,null,null,"","","","",null,null,null,null,"","","","",null,null,null,null,null,null,"","","","",null,null,null,null,"","","","",null,null,null,null,"","","","",null,null,null,null,null,null,"","","","",null,null,null,null,null,null,"","","","",null,null,null,null,"","","","","","","","",""]
[null,null,null,null,null,null,null,null,null,"","","","","","",null,null,null,null,null,"","",null,null,null,null,null,"","","","",null,null,null,null,"","","","",null,null,null,null,null,null,"","","","",null,null,null,null,"","","","",null,null,null,null,"","","","",null,null,null,null,null,null,"","","","",null,null,null,null,null,null,"","","","",null,null,null,null,"","","","","","","","",""]
[null,null,null,null,null,null,null,null,null,"","","","","","",null,null,null,null,null,"","",null,null,null,null,null,"","","","",null,null,null,null,"","","","",null,null,null,null,null,null,"","","","",null,null,null,null,"","","","",null,null,null,null,"","","","",null,null,null,null,null,null,"","","","",null,null,null,null,null,null,"","","","",null,null,null,null,"","","","","","","","",""]
[null,null,null,null,null,null,null,null,null,"","","","","","",null,null,null,null,null,"","",null,null,null,null,null,"","","","",null,null,null,null,"","","","",null,null,null,null,null,null,"","","","",null,null,null,null,"","","","",null,null,null,null,"","","","",null,null,null,null,null,null,"","","","",null,null,null,null,null,null,"","","","",null,null,null,null,"","","","","","","","",""]
[null,null,null,null,null,null,null,null,null,"","","","","","",null,null,null,null,null,"","",null,null,null,null,null,"","","","",null,null,null,null,"","","","",null,null,null,null,null,null,"","","","",null,null,null,null,"","","","",null,null,null,null,"","","","",null,null,null,null,null,null,"","","","",null,null,null,null,null,null,"","","","",null,null,null,null,"","","","","","","","",""]
[null,null,null,null,null,null,null,null,null,"",{"$f":"IF(C272=\"\",\"\",IF(G272>=$D$4,0,J272))","v":""},"","","","",null,null,null,null,null,"","",null,null,null,null,null,"","","","",null,null,null,null,"",{"$f":"IF(C272=\"\",\"\",(AJ272-G272)*C272)","v":""},"","",null,null,null,null,null,null,"",{"$f":"IF(C272=\"\",\"\",(AT272-G272)*C272)","v":""},"","",null,null,null,null,"",{"$f":"IF(C272=\"\",\"\",(BB272-G272)*C272)","v":""},"","",null,null,null,null,"",{"$f":"IF(C272=\"\",\"\",(BJ272-G272)*C272)","v":""},"","",null,null,null,null,null,null,{"$f":"IF(C272=\"\",\"\",$BS$16+G272)","v":""},{"$f":"IF(C272=\"\",\"\",(BT272-G272)*C272)","v":""},{"$f":"IF(C272=\"\",\"\",IF(BT272-$D$4>=0,\"0\",($D$4-BT272)*C272))","v":""},{"$f":"IF(C272=\"\",\"\",IF(BT272-$D$4>=0,\"0\",C272))","v":""},null,null,null,null,null,null,{"$f":"IF(C272=\"\",\"\",$CC$16+G272)","v":""},{"$f":"IF(C272=\"\",\"\",(CD272-G272)*C272)","v":""},"","",null,null,null,null,{"$f":"IF(C272=\"\",\"\",B272)","v":""},{"$f":"IF(C272=\"\",\"\",G272)","v":""},{"$f":"IF(C272=\"\",\"\",AB272)","v":""},{"$f":"IF(C272=\"\",\"\",AJ272)","v":""},{"$f":"IF(C272=\"\",\"\",AT272)","v":""},{"$f":"IF(C272=\"\",\"\",BB272)","v":""},{"$f":"IF(C272=\"\",\"\",BJ272)","v":""},{"$f":"IF(C272=\"\",\"\",BT272)","v":""},{"$f":"IF(C272=\"\",\"\",CD272)","v":""}]
[null,null,null,null,null,null,null,null,null,"","",{"$f":"IF(C273=\"\",\"\",IF(G273>=$D$4,0,$D$4-G273))","v":""},{"$f":"IF(C273=\"\",\"\",L273*C273)","v":""},{"$f":"IF(C273=\"\",\"\",$D$4-G273)","v":""},{"$f":"IF(C273=\"\",\"\",IF(M273=0,\"0\",C273))","v":""},null,null,null,null,null,{"$f":"IF(C273=\"\",\"\",IF(G273-$S$16>0,G273-$S$16,0))","v":""},{"$f":"IF(C273=\"\",\"\",G273/$S$16)","v":""},null,null,null,null,null,{"$f":"IF(C273=\"\",\"\",IF(G273>=$D$4,G273,$D$4))","v":""},{"$f":"IF(C273=\"\",\"\",(AB273-G273)*C273)","v":""},{"$f":"IF(C273=\"\",\"\",IF(AT273-$D$4>=0,\"0\",($D$4-AT273)*C273))","v":""},{"$f":"IF(C273=\"\",\"\",IF(AB273-$D$4>=0,\"0\",C273))","v":""},null,null,null,null,{"$f":"IF(C273=\"\",\"\",IF(G273>=$D$4,G273+(($D$4-$X$16)*$BL$11/100),$D$4))","v":""},"",{"$f":"IF(C273=\"\",\"\",IF(AJ273-$D$4>=0,\"0\",($D$4-AJ273)*C273))","v":""},{"$f":"IF(C273=\"\",\"\",IF(AJ273-$D$4>=0,\"0\",C273))","v":""},null,null,null,null,null,null,{"$f":"IF(C273=\"\",\"\",IF($AU$7=0,\"specify scenario\",IF($AU$7=2,IF(G273>=$D$4,G273,G273+$AS$16),IF($AU$7=1,$AS$16+G273,\"specify scenario\"))))","v":""},"",{"$f":"IF(C273=\"\",\"\",IF(AT273-$D$4>=0,\"0\",($D$4-AT273)*C273))","v":""},{"$f":"IF(C273=\"\",\"\",IF(AT273-$D$4>=0,\"0\",C273))","v":""},null,null,null,null,{"$f":"IF(C273=\"\",\"\",IF((G273*(1+$BE$10/100))>(G273+$BE$11),(G273*(1+$BE$10/100)),(G273+$BE$11)))","v":""},"",{"$f":"IF(C273=\"\",\"\",IF(BB273-$D$4>=0,\"0\",($D$4-BB273)*C273))","v":""},{"$f":"IF(C273=\"\",\"\",IF(BB273-$D$4>=0,\"0\",C273))","v":""},null,null,null,null,"","",{"$f":"IF(C273=\"\",\"\",IF(BJ273-$D$4>=0,\"0\",($D$4-BJ273)*C273))","v":""},{"$f":"IF(C273=\"\",\"\",IF(BJ273-$D$4>=0,\"0\",C273))","v":""},null,null,null,null,null,null,"","","","",null,null,null,null,null,null,"","","","",null,null,null,null,"","","","","","","","",""]
[null,null,null,null,null,null,null,null,null,"","","","","","",null,null,null,null,null,"","",null,null,null,null,null,"","","","",null,null,null,null,"","","","",null,null,null,null,null,null,"","","","",null,null,null,null,"","","","",null,null,null,null,{"$f":"IF(C274=\"\",\"\",IF(G274>=$D$4,G274+(($D$4-$X$16)*$BL$11/100),$D$4))","v":""},"","","",null,null,null,null,null,null,"","","","",null,null,null,null,null,null,"","","","",null,null,null,null,"","","","","","","","",""]
[null,null,null,null,null,null,null,null,null,"","","","","","",null,null,null,null,null,"","",null,null,null,null,null,"","","","",null,null,null,null,"","","","",null,null,null,null,null,null,"","","","",null,null,null,null,"","","","",null,null,null,null,"","","","",null,null,null,null,null,null,"","","","",null,null,null,null,null,null,"","",{"$f":"IF(C275=\"\",\"\",IF(CD275-$D$4>=0,\"0\",($D$4-CD275)*C275))","v":""},"",null,null,null,null,"","","","","","","","",""]
[null,null,null,null,null,null,null,null,null,"","","","","","",null,null,null,null,null,"","",null,null,null,null,null,"","","","",null,null,null,null,"","","","",null,null,null,null,null,null,"","","","",null,null,null,null,"","","","",null,null,null,null,"","","","",null,null,null,null,null,null,"","","","",null,null,null,null,null,null,"","","","",null,null,null,null,"","","","","","","","",""]
[null,null,null,null,null,null,null,null,null,"","","","","","",null,null,null,null,null,"","",null,null,null,null,null,"","","","",null,null,null,null,"","","","",null,null,null,null,null,null,"","","","",null,null,null,null,"","","","",null,null,null,null,"","","","",null,null,null,null,null,null,"","","","",null,null,null,null,null,null,"","","","",null,null,null,null,"","","","","","","","",""]
[null,null,null,null,null,null,null,null,null,"","","","","","",null,null,null,null,null,"","",null,null,null,null,null,"","","","",null,null,null,null,"","","","",null,null,null,null,null,null,"","","","",null,null,null,null,"","","","",null,null,null,null,"","","","",null,null,null,null,null,null,"","","","",null,null,null,null,null,null,"","","","",null,null,null,null,"","","","","","","","",""]
[null,null,null,null,null,null,null,null,null,"","","","","","",null,null,null,null,null,"","",null,null,null,null,null,"","","","",null,null,null,null,"","","","",null,null,null,null,null,null,"","","","",null,null,null,null,"","","","",null,null,null,null,"","","","",null,null,null,null,null,null,"","","","",null,null,null,null,null,null,"","","",{"$f":"IF(C279=\"\",\"\",IF(CD279-$D$4>=0,\"0\",C279))","v":""},null,null,null,null,"","","","","","","","",""]
[null,null,null,null,null,null,null,null,null,"","","","","","",null,null,null,null,null,"","",null,null,null,null,null,"","","","",null,null,null,null,"","","","",null,null,null,null,null,null,"","","","",null,null,null,null,"","","","",null,null,null,null,"","","","",null,null,null,null,null,null,"","","","",null,null,null,null,null,null,"","","","",null,null,null,null,"","","","","","","","",""]
[null,null,null,null,null,null,null,null,null,"","","","","","",null,null,null,null,null,"","",null,null,null,null,null,"","","","",null,null,null,null,"","","","",null,null,null,null,null,null,"","","","",null,null,null,null,"","","","",null,null,null,null,"","","","",null,null,null,null,null,null,"","","","",null,null,null,null,null,null,"","","","",null,null,null,null,"","","","","","","","",""]
[null,null,null,null,null,null,null,null,null,"","","","","","",null,null,null,null,null,"","",null,null,null,null,null,"","","","",null,null,null,null,"","","","",null,null,null,null,null,null,"","","","",null,null,null,null,"","","","",null,null,null,null,"","","","",null,null,null,null,null,null,"","","","",null,null,null,null,null,null,"","","","",null,null,null,null,"","","","","","","","",""]
[null,null,null,null,null,null,null,null,null,"","","","","","",null,null,null,null,null,"","",null,null,null,null,null,"","","","",null,null,null,null,"","","","",null,null,null,null,null,null,"","","","",null,null,null,null,"","","","",null,null,null,null,"","","","",null,null,null,null,null,null,"","","","",null,null,null,null,null,null,"","","","",null,null,null,null,"","","","","","","","",""]
[null,null,null,null,null,null,null,null,null,"","","","","","",null,null,null,null,null,"","",null,null,null,null,null,"","","","",null,null,null,null,"","","","",null,null,null,null,null,null,"","","","",null,null,null,null,"","","","",null,null,null,null,"","","","",null,null,null,null,null,null,"","","","",null,null,null,null,null,null,"","","","",null,null,null,null,"","","","","","","","",""]
[null,null,null,null,null,null,null,null,null,"","","","","","",null,null,null,null,null,"","",null,null,null,null,null,"","","","",null,null,null,null,"","","","",null,null,null,null,null,null,"","","","",null,null,null,null,"","","","",null,null,null,null,"","","","",null,null,null,null,null,null,"","","","",null,null,null,null,null,null,"","","","",null,null,null,null,"","","","","","","","",""]
[null,null,null,null,null,null,null,null,null,"","","","","","",null,null,null,null,null,"","",null,null,null,null,null,"","","","",null,null,null,null,"","","","",null,null,null,null,null,null,"","","","",null,null,null,null,"","","","",null,null,null,null,"","","","",null,null,null,null,null,null,"","","","",null,null,null,null,null,null,"","","","",null,null,null,null,"","","","","","","","",""]
[null,null,null,null,null,null,null,null,null,"","","","","","",null,null,null,null,null,"","",null,null,null,null,null,"","","","",null,null,null,null,"","","","",null,null,null,null,null,null,"","","","",null,null,null,null,"","","","",null,null,null,null,"","","","",null,null,null,null,null,null,"","","","",null,null,null,null,null,null,"","","","",null,null,null,null,"","","","","","","","",""]
[null,null,null,null,null,null,null,null,null,"","","","","","",null,null,null,null,null,"","",null,null,null,null,null,"","","","",null,null,null,null,"","","","",null,null,null,null,null,null,"","","","",null,null,null,null,"","","","",null,null,null,null,"","","","",null,null,null,null,null,null,"","","","",null,null,null,null,null,null,"","","","",null,null,null,null,"","","","","","","","",""]
[null,null,null,null,null,null,null,null,null,"","","","","","",null,null,null,null,null,"","",null,null,null,null,null,"","","","",null,null,null,null,"","","","",null,null,null,null,null,null,"","","","",null,null,null,null,"","","","",null,null,null,null,"","","","",null,null,null,null,null,null,"","","","",null,null,null,null,null,null,"","","","",null,null,null,null,"","","","","","","","",""]
[null,null,null,null,null,null,null,null,null,"","","","","","",null,null,null,null,null,"","",null,null,null,null,null,"","","","",null,null,null,null,"","","","",null,null,null,null,null,null,"","","","",null,null,null,null,"","","","",null,null,null,null,"","","","",null,null,null,null,null,null,"","","","",null,null,null,null,null,null,"","","","",null,null,null,null,"","","","","","","","",""]
[null,null,null,null,null,null,null,null,null,"","","","","","",null,null,null,null,null,"","",null,null,null,null,null,"","","","",null,null,null,null,"","","","",null,null,null,null,null,null,"","","","",null,null,null,null,"","","","",null,null,null,null,"","","","",null,null,null,null,null,null,"","","","",null,null,null,null,null,null,"","","","",null,null,null,null,"","","","","","","","",""]
[null,null,null,null,null,null,null,null,null,{"$f":"IF(C292=\"\",\"\",G292*C292)","v":""},"","","","","",null,null,null,null,null,"","",null,null,null,null,null,"","","","",null,null,null,null,"","","","",null,null,null,null,null,null,"","","","",null,null,null,null,"","","","",null,null,null,null,"","","","",null,null,null,null,null,null,"","","","",null,null,null,null,null,null,"","","","",null,null,null,null,"","","","","","","","",""]
[null,null,null,null,null,null,null,null,null,"","","","","","",null,null,null,null,null,"","",null,null,null,null,null,"","","","",null,null,null,null,"","","","",null,null,null,null,null,null,"","","","",null,null,null,null,"","","","",null,null,null,null,"","","","",null,null,null,null,null,null,"","","","",null,null,null,null,null,null,"","","","",null,null,null,null,"","","","","","","","",""]
[null,null,null,null,null,null,null,null,null,"","","","","","",null,null,null,null,null,"","",null,null,null,null,null,"","","","",null,null,null,null,"","","","",null,null,null,null,null,null,"","","","",null,null,null,null,"","","","",null,null,null,null,"","","","",null,null,null,null,null,null,"","","","",null,null,null,null,null,null,"","","","",null,null,null,null,"","","","","","","","",""]
[null,null,null,null,null,null,null,null,null,"","","","","","",null,null,null,null,null,"","",null,null,null,null,null,"","","","",null,null,null,null,"","","","",null,null,null,null,null,null,"","","","",null,null,null,null,"","","","",null,null,null,null,"","","","",null,null,null,null,null,null,"","","","",null,null,null,null,null,null,"","","","",null,null,null,null,"","","","","","","","",""]
[null,null,null,null,null,null,null,null,null,"","","","","","",null,null,null,null,null,"","",null,null,null,null,null,"","","","",null,null,null,null,"","","","",null,null,null,null,null,null,"","","","",null,null,null,null,"","","","",null,null,null,null,"","","","",null,null,null,null,null,null,"","","","",null,null,null,null,null,null,"","","","",null,null,null,null,"","","","","","","","",""]
[null,null,null,null,null,null,null,null,null,"","","","","","",null,null,null,null,null,"","",null,null,null,null,null,"","","","",null,null,null,null,"","","","",null,null,null,null,null,null,"","","","",null,null,null,null,"","","","",null,null,null,null,"","","","",null,null,null,null,null,null,"","","","",null,null,null,null,null,null,"","","","",null,null,null,null,"","","","","","","","",""]
[null,null,null,null,null,null,null,null,null,"","","","","","",null,null,null,null,null,"","",null,null,null,null,null,"","","","",null,null,null,null,"","","","",null,null,null,null,null,null,"","","","",null,null,null,null,"","","","",null,null,null,null,"","","","",null,null,null,null,null,null,"","","","",null,null,null,null,null,null,"","","","",null,null,null,null,"","","","","","","","",""]
[null,null,null,null,null,null,null,null,null,"","","","","","",null,null,null,null,null,"","",null,null,null,null,null,"","","","",null,null,null,null,"","","","",null,null,null,null,null,null,"","","","",null,null,null,null,"","","","",null,null,null,null,"","","","",null,null,null,null,null,null,"","","","",null,null,null,null,null,null,"","","","",null,null,null,null,"","","","","","","","",""]
[null,null,null,null,null,null,null,null,null,"","","","","","",null,null,null,null,null,"","",null,null,null,null,null,"","","","",null,null,null,null,"","","","",null,null,null,null,null,null,"","","","",null,null,null,null,"","","","",null,null,null,null,"","","","",null,null,null,null,null,null,"","","","",null,null,null,null,null,null,"","","","",null,null,null,null,"","","","","","","","",""]
[null,null,null,null,null,null,null,null,null,"","","","","","",null,null,null,null,null,"","",null,null,null,null,null,"","","","",null,null,null,null,"","","","",null,null,null,null,null,null,"","","","",null,null,null,null,"","","","",null,null,null,null,"","","","",null,null,null,null,null,null,"","","","",null,null,null,null,null,null,"","","","",null,null,null,null,"","","","","","","","",""]
[null,null,null,null,null,null,null,null,null,"","","","","","",null,null,null,null,null,"","",null,null,null,null,null,"","","","",null,null,null,null,"","","","",null,null,null,null,null,null,"","","","",null,null,null,null,"","","","",null,null,null,null,"","","","",null,null,null,null,null,null,"","","","",null,null,null,null,null,null,"","","","",null,null,null,null,"","","","","","","","",""]
[null,null,null,null,null,null,null,null,null,"","","","","","",null,null,null,null,null,"","",null,null,null,null,null,"","","","",null,null,null,null,"","","","",null,null,null,null,null,null,"","","","",null,null,null,null,"","","","",null,null,null,null,"","","","",null,null,null,null,null,null,"","","","",null,null,null,null,null,null,"","","","",null,null,null,null,"","","","","","","","",""]
[null,null,null,null,null,null,null,null,null,"","","","","","",null,null,null,null,null,"","",null,null,null,null,null,"","","","",null,null,null,null,"","","","",null,null,null,null,null,null,"","","","",null,null,null,null,"","","","",null,null,null,null,"","","","",null,null,null,null,null,null,"","","","",null,null,null,null,null,null,"","","","",null,null,null,null,"","","","","","","","",""]
[null,null,null,null,null,null,null,null,null,"","","","","","",null,null,null,null,null,"","",null,null,null,null,null,"","","","",null,null,null,null,"","","","",null,null,null,null,null,null,"","","","",null,null,null,null,"","","","",null,null,null,null,"","","","",null,null,null,null,null,null,"","","","",null,null,null,null,null,null,"","","","",null,null,null,null,"","","","","","","","",""]
[null,null,null,null,null,null,null,null,null,"","","","","","",null,null,null,null,null,"","",null,null,null,null,null,"","","","",null,null,null,null,"","","","",null,null,null,null,null,null,"","","","",null,null,null,null,"","","","",null,null,null,null,"","","","",null,null,null,null,null,null,"","","","",null,null,null,null,null,null,"","","","",null,null,null,null,"","","","","","","","",""]
[null,null,null,null,null,null,null,null,null,"","","","","","",null,null,null,null,null,"","",null,null,null,null,null,"","","","",null,null,null,null,"","","","",null,null,null,null,null,null,"","","","",null,null,null,null,"","","","",null,null,null,null,"","","","",null,null,null,null,null,null,"","","","",null,null,null,null,null,null,"","","","",null,null,null,null,"","","","","","","","",""]
[null,null,null,null,null,null,null,null,null,"","","","","","",null,null,null,null,null,"","",null,null,null,null,null,"","","","",null,null,null,null,"","","","",null,null,null,null,null,null,"","","","",null,null,null,null,"","","","",null,null,null,null,"","","","",null,null,null,null,null,null,"","","","",null,null,null,null,null,null,"","","","",null,null,null,null,"","","","","","","","",""]
[null,null,null,null,null,null,null,null,null,"","","","","","",null,null,null,null,null,"","",null,null,null,null,null,"","","","",null,null,null,null,"","","","",null,null,null,null,null,null,"","","","",null,null,null,null,"","","","",null,null,null,null,"","","","",null,null,null,null,null,null,"","","","",null,null,null,null,null,null,"","","","",null,null,null,null,"","","","","","","","",""]
[null,null,null,null,null,null,null,null,null,"","","","","","",null,null,null,null,null,"","",null,null,null,null,null,"","","","",null,null,null,null,"","","","",null,null,null,null,null,null,"","","","",null,null,null,null,"","","","",null,null,null,null,"","","","",null,null,null,null,null,null,"","","","",null,null,null,null,null,null,"","","","",null,null,null,null,"","","","","","","","",""]
[null,null,null,null,null,null,null,null,null,"","","","","","",null,null,null,null,null,"","",null,null,null,null,null,"","","","",null,null,null,null,"","","","",null,null,null,null,null,null,"","","","",null,null,null,null,"","","","",null,null,null,null,"","","","",null,null,null,null,null,null,"","","","",null,null,null,null,null,null,"","","","",null,null,null,null,"","","","","","","","",""]
[null,null,null,null,null,null,null,null,null,"","","","","","",null,null,null,null,null,"","",null,null,null,null,null,"","","","",null,null,null,null,"","","","",null,null,null,null,null,null,"","","","",null,null,null,null,"","","","",null,null,null,null,"","","","",null,null,null,null,null,null,"","","","",null,null,null,null,null,null,"","","","",null,null,null,null,"","","","","","","","",""]
[null,null,null,null,null,null,null,null,null,"","","","","","",null,null,null,null,null,"","",null,null,null,null,null,"","","","",null,null,null,null,"","","","",null,null,null,null,null,null,"","","","",null,null,null,null,"","","","",null,null,null,null,"","","","",null,null,null,null,null,null,"","","","",null,null,null,null,null,null,"","","","",null,null,null,null,"","","","","","","","",""]
[null,null,null,null,null,null,null,null,null,"","","","","","",null,null,null,null,null,"","",null,null,null,null,null,"","","","",null,null,null,null,"","","","",null,null,null,null,null,null,"","","","",null,null,null,null,"","","","",null,null,null,null,"","","","",null,null,null,null,null,null,"","","","",null,null,null,null,null,null,"","","","",null,null,null,null,"","","","","","","","",""]
[null,null,null,null,null,null,null,null,null,"","","","","","",null,null,null,null,null,"","",null,null,null,null,null,"","","","",null,null,null,null,"","","","",null,null,null,null,null,null,"","","","",null,null,null,null,"","","","",null,null,null,null,"","","","",null,null,null,null,null,null,"","","","",null,null,null,null,null,null,"","","","",null,null,null,null,"","","","","","","","",""]
[null,null,null,null,null,null,null,null,null,"","","","","","",null,null,null,null,null,"","",null,null,null,null,null,"","","","",null,null,null,null,"","","","",null,null,null,null,null,null,"","","","",null,null,null,null,"","","","",null,null,null,null,"","","","",null,null,null,null,null,null,"","","","",null,null,null,null,null,null,"","","","",null,null,null,null,"","","","","","","","",""]
[null,null,null,null,null,null,null,null,null,"","","","","","",null,null,null,null,null,"","",null,null,null,null,null,"","","","",null,null,null,null,"","","","",null,null,null,null,null,null,"","","","",null,null,null,null,"","","","",null,null,null,null,"","","","",null,null,null,null,null,null,"","","","",null,null,null,null,null,null,"","","","",null,null,null,null,"","","","","","","","",""]
[null,null,null,null,null,null,null,null,null,"","","","","","",null,null,null,null,null,"","",null,null,null,null,null,"","","","",null,null,null,null,"","","","",null,null,null,null,null,null,"","","","",null,null,null,null,"","","","",null,null,null,null,"","","","",null,null,null,null,null,null,"","","","",null,null,null,null,null,null,"","","","",null,null,null,null,"","","","","","","","",""]
[null,null,null,null,null,null,null,null,null,"","","","","","",null,null,null,null,null,"","",null,null,null,null,null,"","","","",null,null,null,null,"","","","",null,null,null,null,null,null,"","","","",null,null,null,null,"","","","",null,null,null,null,"","","","",null,null,null,null,null,null,"","","","",null,null,null,null,null,null,"","","","",null,null,null,null,"","","","","","","","",""]
[null,null,null,null,null,null,null,null,null,"","","","","","",null,null,null,null,null,"","",null,null,null,null,null,"","","","",null,null,null,null,"","","","",null,null,null,null,null,null,"","","","",null,null,null,null,"","","","",null,null,null,null,"","","","",null,null,null,null,null,null,"","","","",null,null,null,null,null,null,"","","","",null,null,null,null,"","","","","","","","",""]
[null,null,null,null,null,null,null,null,null,"","","","","","",null,null,null,null,null,"","",null,null,null,null,null,"","","","",null,null,null,null,"","","","",null,null,null,null,null,null,"","","","",null,null,null,null,"","","","",null,null,null,null,"","","","",null,null,null,null,null,null,"","","","",null,null,null,null,null,null,"","","","",null,null,null,null,"","","","","","","","",""]
[null,null,null,null,null,null,null,null,null,"","","","","","",null,null,null,null,null,"","",null,null,null,null,null,"","","","",null,null,null,null,"","","","",null,null,null,null,null,null,"","","","",null,null,null,null,"","","","",null,null,null,null,"","","","",null,null,null,null,null,null,"","","","",null,null,null,null,null,null,"","","","",null,null,null,null,"","","","","","","","",""]
[null,null,null,null,null,null,null,null,null,"","","","","","",null,null,null,null,null,"","",null,null,null,null,null,"","","","",null,null,null,null,"","","","",null,null,null,null,null,null,"","","","",null,null,null,null,"","","","",null,null,null,null,"","","","",null,null,null,null,null,null,"","","","",null,null,null,null,null,null,"","","","",null,null,null,null,"","","","","","","","",""]
[null,null,null,null,null,null,null,null,null,"","","","","","",null,null,null,null,null,"","",null,null,null,null,null,"","","","",null,null,null,null,"","","","",null,null,null,null,null,null,"","","","",null,null,null,null,"","","","",null,null,null,null,"","","","",null,null,null,null,null,null,"","","","",null,null,null,null,null,null,"","","","",null,null,null,null,"","","","","","","","",""]
[null,null,null,null,null,null,null,null,null,"","","","","","",null,null,null,null,null,"","",null,null,null,null,null,"","","","",null,null,null,null,"","","","",null,null,null,null,null,null,"","","","",null,null,null,null,"","","","",null,null,null,null,"","","","",null,null,null,null,null,null,"","","","",null,null,null,null,null,null,"","","","",null,null,null,null,"","","","","","","","",""]
[null,null,null,null,null,null,null,null,null,"","","","","","",null,null,null,null,null,"","",null,null,null,null,null,"","","","",null,null,null,null,"","","","",null,null,null,null,null,null,"","","","",null,null,null,null,"","","","",null,null,null,null,"","","","",null,null,null,null,null,null,"","","","",null,null,null,null,null,null,"","","","",null,null,null,null,"","","","","","","","",""]
[null,null,null,null,null,null,null,null,null,"","","","","","",null,null,null,null,null,"","",null,null,null,null,null,"","","","",null,null,null,null,"","","","",null,null,null,null,null,null,"","","","",null,null,null,null,"","","","",null,null,null,null,"","","","",null,null,null,null,null,null,"","","","",null,null,null,null,null,null,"","","","",null,null,null,null,"","","","","","","","",""]
[null,null,null,null,null,null,null,null,null,"","","","","","",null,null,null,null,null,"","",null,null,null,null,null,"","","","",null,null,null,null,"","","","",null,null,null,null,null,null,"","","","",null,null,null,null,"","","","",null,null,null,null,"","","","",null,null,null,null,null,null,"","","","",null,null,null,null,null,null,"","","","",null,null,null,null,"","","","","","","","",""]
[null,null,null,null,null,null,null,null,null,"","","","","","",null,null,null,null,null,"","",null,null,null,null,null,"","","","",null,null,null,null,"","","","",null,null,null,null,null,null,"","","","",null,null,null,null,"","","","",null,null,null,null,"","","","",null,null,null,null,null,null,"","","","",null,null,null,null,null,null,"","","","",null,null,null,null,"","","","","","","","",""]
[null,null,null,null,null,null,null,null,null,"","","","","","",null,null,null,null,null,"","",null,null,null,null,null,"","","","",null,null,null,null,"","","","",null,null,null,null,null,null,"","","","",null,null,null,null,"","","","",null,null,null,null,"","","","",null,null,null,null,null,null,"","","","",null,null,null,null,null,null,"","","","",null,null,null,null,"","","","","","","","",""]
[null,null,null,null,null,null,null,null,null,"","","","","","",null,null,null,null,null,"","",null,null,null,null,null,"","","","",null,null,null,null,"","","","",null,null,null,null,null,null,"","","","",null,null,null,null,"","","","",null,null,null,null,"","","","",null,null,null,null,null,null,"","","","",null,null,null,null,null,null,"","","","",null,null,null,null,"","","","","","","","",""]
[null,null,null,null,null,null,null,null,null,"","","","","","",null,null,null,null,null,"","",null,null,null,null,null,"","","","",null,null,null,null,"","","","",null,null,null,null,null,null,"","","","",null,null,null,null,"","","","",null,null,null,null,"","","","",null,null,null,null,null,null,"","","","",null,null,null,null,null,null,"","","","",null,null,null,null,"","","","","","","","",""]
[null,null,null,null,null,null,null,null,null,"","","","","","",null,null,null,null,null,"","",null,null,null,null,null,"","","","",null,null,null,null,"","","","",null,null,null,null,null,null,"","","","",null,null,null,null,"","","","",null,null,null,null,"","","","",null,null,null,null,null,null,"","","","",null,null,null,null,null,null,"","","","",null,null,null,null,"","","","","","","","",""]
[null,null,null,null,null,null,null,null,null,"","","","","","",null,null,null,null,null,"","",null,null,null,null,null,"","","","",null,null,null,null,"","","","",null,null,null,null,null,null,"","","","",null,null,null,null,"","","","",null,null,null,null,"","","","",null,null,null,null,null,null,"","","","",null,null,null,null,null,null,"","","","",null,null,null,null,"","","","","","","","",""]
[null,null,null,null,null,null,null,null,null,"","","","","","",null,null,null,null,null,"","",null,null,null,null,null,"","","","",null,null,null,null,"","","","",null,null,null,null,null,null,"","","","",null,null,null,null,"","","","",null,null,null,null,"","","","",null,null,null,null,null,null,"","","","",null,null,null,null,null,null,"","","","",null,null,null,null,"","","","","","","","",""]
[null,null,null,null,null,null,null,null,null,"",{"$f":"IF(C336=\"\",\"\",IF(G336>=$D$4,0,J336))","v":""},"","","","",null,null,null,null,null,"","",null,null,null,null,null,"","","","",null,null,null,null,"",{"$f":"IF(C336=\"\",\"\",(AJ336-G336)*C336)","v":""},"","",null,null,null,null,null,null,"",{"$f":"IF(C336=\"\",\"\",(AT336-G336)*C336)","v":""},"","",null,null,null,null,"",{"$f":"IF(C336=\"\",\"\",(BB336-G336)*C336)","v":""},"","",null,null,null,null,"",{"$f":"IF(C336=\"\",\"\",(BJ336-G336)*C336)","v":""},"","",null,null,null,null,null,null,{"$f":"IF(C336=\"\",\"\",$BS$16+G336)","v":""},{"$f":"IF(C336=\"\",\"\",(BT336-G336)*C336)","v":""},{"$f":"IF(C336=\"\",\"\",IF(BT336-$D$4>=0,\"0\",($D$4-BT336)*C336))","v":""},{"$f":"IF(C336=\"\",\"\",IF(BT336-$D$4>=0,\"0\",C336))","v":""},null,null,null,null,null,null,{"$f":"IF(C336=\"\",\"\",$CC$16+G336)","v":""},{"$f":"IF(C336=\"\",\"\",(CD336-G336)*C336)","v":""},"","",null,null,null,null,{"$f":"IF(C336=\"\",\"\",B336)","v":""},{"$f":"IF(C336=\"\",\"\",G336)","v":""},{"$f":"IF(C336=\"\",\"\",AB336)","v":""},{"$f":"IF(C336=\"\",\"\",AJ336)","v":""},{"$f":"IF(C336=\"\",\"\",AT336)","v":""},{"$f":"IF(C336=\"\",\"\",BB336)","v":""},{"$f":"IF(C336=\"\",\"\",BJ336)","v":""},{"$f":"IF(C336=\"\",\"\",BT336)","v":""},{"$f":"IF(C336=\"\",\"\",CD336)","v":""}]
[null,null,null,null,null,null,null,null,null,"","",{"$f":"IF(C337=\"\",\"\",IF(G337>=$D$4,0,$D$4-G337))","v":""},{"$f":"IF(C337=\"\",\"\",L337*C337)","v":""},{"$f":"IF(C337=\"\",\"\",$D$4-G337)","v":""},{"$f":"IF(C337=\"\",\"\",IF(M337=0,\"0\",C337))","v":""},null,null,null,null,null,{"$f":"IF(C337=\"\",\"\",IF(G337-$S$16>0,G337-$S$16,0))","v":""},{"$f":"IF(C337=\"\",\"\",G337/$S$16)","v":""},null,null,null,null,null,{"$f":"IF(C337=\"\",\"\",IF(G337>=$D$4,G337,$D$4))","v":""},{"$f":"IF(C337=\"\",\"\",(AB337-G337)*C337)","v":""},{"$f":"IF(C337=\"\",\"\",IF(AT337-$D$4>=0,\"0\",($D$4-AT337)*C337))","v":""},{"$f":"IF(C337=\"\",\"\",IF(AB337-$D$4>=0,\"0\",C337))","v":""},null,null,null,null,{"$f":"IF(C337=\"\",\"\",IF(G337>=$D$4,G337+(($D$4-$X$16)*$BL$11/100),$D$4))","v":""},"",{"$f":"IF(C337=\"\",\"\",IF(AJ337-$D$4>=0,\"0\",($D$4-AJ337)*C337))","v":""},{"$f":"IF(C337=\"\",\"\",IF(AJ337-$D$4>=0,\"0\",C337))","v":""},null,null,null,null,null,null,{"$f":"IF(C337=\"\",\"\",IF($AU$7=0,\"specify scenario\",IF($AU$7=2,IF(G337>=$D$4,G337,G337+$AS$16),IF($AU$7=1,$AS$16+G337,\"specify scenario\"))))","v":""},"",{"$f":"IF(C337=\"\",\"\",IF(AT337-$D$4>=0,\"0\",($D$4-AT337)*C337))","v":""},{"$f":"IF(C337=\"\",\"\",IF(AT337-$D$4>=0,\"0\",C337))","v":""},null,null,null,null,{"$f":"IF(C337=\"\",\"\",IF((G337*(1+$BE$10/100))>(G337+$BE$11),(G337*(1+$BE$10/100)),(G337+$BE$11)))","v":""},"",{"$f":"IF(C337=\"\",\"\",IF(BB337-$D$4>=0,\"0\",($D$4-BB337)*C337))","v":""},{"$f":"IF(C337=\"\",\"\",IF(BB337-$D$4>=0,\"0\",C337))","v":""},null,null,null,null,"","",{"$f":"IF(C337=\"\",\"\",IF(BJ337-$D$4>=0,\"0\",($D$4-BJ337)*C337))","v":""},{"$f":"IF(C337=\"\",\"\",IF(BJ337-$D$4>=0,\"0\",C337))","v":""},null,null,null,null,null,null,"","","","",null,null,null,null,null,null,"","","","",null,null,null,null,"","","","","","","","",""]
[null,null,null,null,null,null,null,null,null,"","","","","","",null,null,null,null,null,"","",null,null,null,null,null,"","","","",null,null,null,null,"","","","",null,null,null,null,null,null,"","","","",null,null,null,null,"","","","",null,null,null,null,{"$f":"IF(C338=\"\",\"\",IF(G338>=$D$4,G338+(($D$4-$X$16)*$BL$11/100),$D$4))","v":""},"","","",null,null,null,null,null,null,"","","","",null,null,null,null,null,null,"","","","",null,null,null,null,"","","","","","","","",""]
[null,null,null,null,null,null,null,null,null,"","","","","","",null,null,null,null,null,"","",null,null,null,null,null,"","","","",null,null,null,null,"","","","",null,null,null,null,null,null,"","","","",null,null,null,null,"","","","",null,null,null,null,"","","","",null,null,null,null,null,null,"","","","",null,null,null,null,null,null,"","",{"$f":"IF(C339=\"\",\"\",IF(CD339-$D$4>=0,\"0\",($D$4-CD339)*C339))","v":""},"",null,null,null,null,"","","","","","","","",""]
[null,null,null,null,null,null,null,null,null,"","","","","","",null,null,null,null,null,"","",null,null,null,null,null,"","","","",null,null,null,null,"","","","",null,null,null,null,null,null,"","","","",null,null,null,null,"","","","",null,null,null,null,"","","","",null,null,null,null,null,null,"","","","",null,null,null,null,null,null,"","","","",null,null,null,null,"","","","","","","","",""]
[null,null,null,null,null,null,null,null,null,"","","","","","",null,null,null,null,null,"","",null,null,null,null,null,"","","","",null,null,null,null,"","","","",null,null,null,null,null,null,"","","","",null,null,null,null,"","","","",null,null,null,null,"","","","",null,null,null,null,null,null,"","","","",null,null,null,null,null,null,"","","","",null,null,null,null,"","","","","","","","",""]
[null,null,null,null,null,null,null,null,null,"","","","","","",null,null,null,null,null,"","",null,null,null,null,null,"","","","",null,null,null,null,"","","","",null,null,null,null,null,null,"","","","",null,null,null,null,"","","","",null,null,null,null,"","","","",null,null,null,null,null,null,"","","","",null,null,null,null,null,null,"","","","",null,null,null,null,"","","","","","","","",""]
[null,null,null,null,null,null,null,null,null,"","","","","","",null,null,null,null,null,"","",null,null,null,null,null,"","","","",null,null,null,null,"","","","",null,null,null,null,null,null,"","","","",null,null,null,null,"","","","",null,null,null,null,"","","","",null,null,null,null,null,null,"","","","",null,null,null,null,null,null,"","","",{"$f":"IF(C343=\"\",\"\",IF(CD343-$D$4>=0,\"0\",C343))","v":""},null,null,null,null,"","","","","","","","",""]
[null,null,null,null,null,null,null,null,null,"","","","","","",null,null,null,null,null,"","",null,null,null,null,null,"","","","",null,null,null,null,"","","","",null,null,null,null,null,null,"","","","",null,null,null,null,"","","","",null,null,null,null,"","","","",null,null,null,null,null,null,"","","","",null,null,null,null,null,null,"","","","",null,null,null,null,"","","","","","","","",""]
[null,null,null,null,null,null,null,null,null,"","","","","","",null,null,null,null,null,"","",null,null,null,null,null,"","","","",null,null,null,null,"","","","",null,null,null,null,null,null,"","","","",null,null,null,null,"","","","",null,null,null,null,"","","","",null,null,null,null,null,null,"","","","",null,null,null,null,null,null,"","","","",null,null,null,null,"","","","","","","","",""]
[null,null,null,null,null,null,null,null,null,"","","","","","",null,null,null,null,null,"","",null,null,null,null,null,"","","","",null,null,null,null,"","","","",null,null,null,null,null,null,"","","","",null,null,null,null,"","","","",null,null,null,null,"","","","",null,null,null,null,null,null,"","","","",null,null,null,null,null,null,"","","","",null,null,null,null,"","","","","","","","",""]
[null,null,null,null,null,null,null,null,null,"","","","","","",null,null,null,null,null,"","",null,null,null,null,null,"","","","",null,null,null,null,"","","","",null,null,null,null,null,null,"","","","",null,null,null,null,"","","","",null,null,null,null,"","","","",null,null,null,null,null,null,"","","","",null,null,null,null,null,null,"","","","",null,null,null,null,"","","","","","","","",""]
[null,null,null,null,null,null,null,null,null,"","","","","","",null,null,null,null,null,"","",null,null,null,null,null,"","","","",null,null,null,null,"","","","",null,null,null,null,null,null,"","","","",null,null,null,null,"","","","",null,null,null,null,"","","","",null,null,null,null,null,null,"","","","",null,null,null,null,null,null,"","","","",null,null,null,null,"","","","","","","","",""]
[null,null,null,null,null,null,null,null,null,"","","","","","",null,null,null,null,null,"","",null,null,null,null,null,"","","","",null,null,null,null,"","","","",null,null,null,null,null,null,"","","","",null,null,null,null,"","","","",null,null,null,null,"","","","",null,null,null,null,null,null,"","","","",null,null,null,null,null,null,"","","","",null,null,null,null,"","","","","","","","",""]
[null,null,null,null,null,null,null,null,null,"","","","","","",null,null,null,null,null,"","",null,null,null,null,null,"","","","",null,null,null,null,"","","","",null,null,null,null,null,null,"","","","",null,null,null,null,"","","","",null,null,null,null,"","","","",null,null,null,null,null,null,"","","","",null,null,null,null,null,null,"","","","",null,null,null,null,"","","","","","","","",""]
[null,null,null,null,null,null,null,null,null,"","","","","","",null,null,null,null,null,"","",null,null,null,null,null,"","","","",null,null,null,null,"","","","",null,null,null,null,null,null,"","","","",null,null,null,null,"","","","",null,null,null,null,"","","","",null,null,null,null,null,null,"","","","",null,null,null,null,null,null,"","","","",null,null,null,null,"","","","","","","","",""]
[null,null,null,null,null,null,null,null,null,"","","","","","",null,null,null,null,null,"","",null,null,null,null,null,"","","","",null,null,null,null,"","","","",null,null,null,null,null,null,"","","","",null,null,null,null,"","","","",null,null,null,null,"","","","",null,null,null,null,null,null,"","","","",null,null,null,null,null,null,"","","","",null,null,null,null,"","","","","","","","",""]
[null,null,null,null,null,null,null,null,null,"","","","","","",null,null,null,null,null,"","",null,null,null,null,null,"","","","",null,null,null,null,"","","","",null,null,null,null,null,null,"","","","",null,null,null,null,"","","","",null,null,null,null,"","","","",null,null,null,null,null,null,"","","","",null,null,null,null,null,null,"","","","",null,null,null,null,"","","","","","","","",""]
[null,null,null,null,null,null,null,null,null,"","","","","","",null,null,null,null,null,"","",null,null,null,null,null,"","","","",null,null,null,null,"","","","",null,null,null,null,null,null,"","","","",null,null,null,null,"","","","",null,null,null,null,"","","","",null,null,null,null,null,null,"","","","",null,null,null,null,null,null,"","","","",null,null,null,null,"","","","","","","","",""]
[null,null,null,null,null,null,null,null,null,"","","","","","",null,null,null,null,null,"","",null,null,null,null,null,"","","","",null,null,null,null,"","","","",null,null,null,null,null,null,"","","","",null,null,null,null,"","","","",null,null,null,null,"","","","",null,null,null,null,null,null,"","","","",null,null,null,null,null,null,"","","","",null,null,null,null,"","","","","","","","",""]
[null,null,null,null,null,null,null,null,null,{"$f":"IF(C356=\"\",\"\",G356*C356)","v":""},"","","","","",null,null,null,null,null,"","",null,null,null,null,null,"","","","",null,null,null,null,"","","","",null,null,null,null,null,null,"","","","",null,null,null,null,"","","","",null,null,null,null,"","","","",null,null,null,null,null,null,"","","","",null,null,null,null,null,null,"","","","",null,null,null,null,"","","","","","","","",""]
[null,null,null,null,null,null,null,null,null,"","","","","","",null,null,null,null,null,"","",null,null,null,null,null,"","","","",null,null,null,null,"","","","",null,null,null,null,null,null,"","","","",null,null,null,null,"","","","",null,null,null,null,"","","","",null,null,null,null,null,null,"","","","",null,null,null,null,null,null,"","","","",null,null,null,null,"","","","","","","","",""]
[null,null,null,null,null,null,null,null,null,"","","","","","",null,null,null,null,null,"","",null,null,null,null,null,"","","","",null,null,null,null,"","","","",null,null,null,null,null,null,"","","","",null,null,null,null,"","","","",null,null,null,null,"","","","",null,null,null,null,null,null,"","","","",null,null,null,null,null,null,"","","","",null,null,null,null,"","","","","","","","",""]
[null,null,null,null,null,null,null,null,null,"","","","","","",null,null,null,null,null,"","",null,null,null,null,null,"","","","",null,null,null,null,"","","","",null,null,null,null,null,null,"","","","",null,null,null,null,"","","","",null,null,null,null,"","","","",null,null,null,null,null,null,"","","","",null,null,null,null,null,null,"","","","",null,null,null,null,"","","","","","","","",""]
[null,null,null,null,null,null,null,null,null,"","","","","","",null,null,null,null,null,"","",null,null,null,null,null,"","","","",null,null,null,null,"","","","",null,null,null,null,null,null,"","","","",null,null,null,null,"","","","",null,null,null,null,"","","","",null,null,null,null,null,null,"","","","",null,null,null,null,null,null,"","","","",null,null,null,null,"","","","","","","","",""]
[null,null,null,null,null,null,null,null,null,"","","","","","",null,null,null,null,null,"","",null,null,null,null,null,"","","","",null,null,null,null,"","","","",null,null,null,null,null,null,"","","","",null,null,null,null,"","","","",null,null,null,null,"","","","",null,null,null,null,null,null,"","","","",null,null,null,null,null,null,"","","","",null,null,null,null,"","","","","","","","",""]
[null,null,null,null,null,null,null,null,null,"","","","","","",null,null,null,null,null,"","",null,null,null,null,null,"","","","",null,null,null,null,"","","","",null,null,null,null,null,null,"","","","",null,null,null,null,"","","","",null,null,null,null,"","","","",null,null,null,null,null,null,"","","","",null,null,null,null,null,null,"","","","",null,null,null,null,"","","","","","","","",""]
[null,null,null,null,null,null,null,null,null,"","","","","","",null,null,null,null,null,"","",null,null,null,null,null,"","","","",null,null,null,null,"","","","",null,null,null,null,null,null,"","","","",null,null,null,null,"","","","",null,null,null,null,"","","","",null,null,null,null,null,null,"","","","",null,null,null,null,null,null,"","","","",null,null,null,null,"","","","","","","","",""]
[null,null,null,null,null,null,null,null,null,"","","","","","",null,null,null,null,null,"","",null,null,null,null,null,"","","","",null,null,null,null,"","","","",null,null,null,null,null,null,"","","","",null,null,null,null,"","","","",null,null,null,null,"","","","",null,null,null,null,null,null,"","","","",null,null,null,null,null,null,"","","","",null,null,null,null,"","","","","","","","",""]
[null,null,null,null,null,null,null,null,null,"","","","","","",null,null,null,null,null,"","",null,null,null,null,null,"","","","",null,null,null,null,"","","","",null,null,null,null,null,null,"","","","",null,null,null,null,"","","","",null,null,null,null,"","","","",null,null,null,null,null,null,"","","","",null,null,null,null,null,null,"","","","",null,null,null,null,"","","","","","","","",""]
[null,null,null,null,null,null,null,null,null,"","","","","","",null,null,null,null,null,"","",null,null,null,null,null,"","","","",null,null,null,null,"","","","",null,null,null,null,null,null,"","","","",null,null,null,null,"","","","",null,null,null,null,"","","","",null,null,null,null,null,null,"","","","",null,null,null,null,null,null,"","","","",null,null,null,null,"","","","","","","","",""]
[null,null,null,null,null,null,null,null,null,"","","","","","",null,null,null,null,null,"","",null,null,null,null,null,"","","","",null,null,null,null,"","","","",null,null,null,null,null,null,"","","","",null,null,null,null,"","","","",null,null,null,null,"","","","",null,null,null,null,null,null,"","","","",null,null,null,null,null,null,"","","","",null,null,null,null,"","","","","","","","",""]
[null,null,null,null,null,null,null,null,null,"","","","","","",null,null,null,null,null,"","",null,null,null,null,null,"","","","",null,null,null,null,"","","","",null,null,null,null,null,null,"","","","",null,null,null,null,"","","","",null,null,null,null,"","","","",null,null,null,null,null,null,"","","","",null,null,null,null,null,null,"","","","",null,null,null,null,"","","","","","","","",""]
[null,null,null,null,null,null,null,null,null,"","","","","","",null,null,null,null,null,"","",null,null,null,null,null,"","","","",null,null,null,null,"","","","",null,null,null,null,null,null,"","","","",null,null,null,null,"","","","",null,null,null,null,"","","","",null,null,null,null,null,null,"","","","",null,null,null,null,null,null,"","","","",null,null,null,null,"","","","","","","","",""]
[null,null,null,null,null,null,null,null,null,"","","","","","",null,null,null,null,null,"","",null,null,null,null,null,"","","","",null,null,null,null,"","","","",null,null,null,null,null,null,"","","","",null,null,null,null,"","","","",null,null,null,null,"","","","",null,null,null,null,null,null,"","","","",null,null,null,null,null,null,"","","","",null,null,null,null,"","","","","","","","",""]
[null,null,null,null,null,null,null,null,null,"","","","","","",null,null,null,null,null,"","",null,null,null,null,null,"","","","",null,null,null,null,"","","","",null,null,null,null,null,null,"","","","",null,null,null,null,"","","","",null,null,null,null,"","","","",null,null,null,null,null,null,"","","","",null,null,null,null,null,null,"","","","",null,null,null,null,"","","","","","","","",""]
[null,null,null,null,null,null,null,null,null,"","","","","","",null,null,null,null,null,"","",null,null,null,null,null,"","","","",null,null,null,null,"","","","",null,null,null,null,null,null,"","","","",null,null,null,null,"","","","",null,null,null,null,"","","","",null,null,null,null,null,null,"","","","",null,null,null,null,null,null,"","","","",null,null,null,null,"","","","","","","","",""]
[null,null,null,null,null,null,null,null,null,"","","","","","",null,null,null,null,null,"","",null,null,null,null,null,"","","","",null,null,null,null,"","","","",null,null,null,null,null,null,"","","","",null,null,null,null,"","","","",null,null,null,null,"","","","",null,null,null,null,null,null,"","","","",null,null,null,null,null,null,"","","","",null,null,null,null,"","","","","","","","",""]
[null,null,null,null,null,null,null,null,null,"","","","","","",null,null,null,null,null,"","",null,null,null,null,null,"","","","",null,null,null,null,"","","","",null,null,null,null,null,null,"","","","",null,null,null,null,"","","","",null,null,null,null,"","","","",null,null,null,null,null,null,"","","","",null,null,null,null,null,null,"","","","",null,null,null,null,"","","","","","","","",""]
[null,null,null,null,null,null,null,null,null,"","","","","","",null,null,null,null,null,"","",null,null,null,null,null,"","","","",null,null,null,null,"","","","",null,null,null,null,null,null,"","","","",null,null,null,null,"","","","",null,null,null,null,"","","","",null,null,null,null,null,null,"","","","",null,null,null,null,null,null,"","","","",null,null,null,null,"","","","","","","","",""]
[null,null,null,null,null,null,null,null,null,"","","","","","",null,null,null,null,null,"","",null,null,null,null,null,"","","","",null,null,null,null,"","","","",null,null,null,null,null,null,"","","","",null,null,null,null,"","","","",null,null,null,null,"","","","",null,null,null,null,null,null,"","","","",null,null,null,null,null,null,"","","","",null,null,null,null,"","","","","","","","",""]
[null,null,null,null,null,null,null,null,null,"","","","","","",null,null,null,null,null,"","",null,null,null,null,null,"","","","",null,null,null,null,"","","","",null,null,null,null,null,null,"","","","",null,null,null,null,"","","","",null,null,null,null,"","","","",null,null,null,null,null,null,"","","","",null,null,null,null,null,null,"","","","",null,null,null,null,"","","","","","","","",""]
[null,null,null,null,null,null,null,null,null,"","","","","","",null,null,null,null,null,"","",null,null,null,null,null,"","","","",null,null,null,null,"","","","",null,null,null,null,null,null,"","","","",null,null,null,null,"","","","",null,null,null,null,"","","","",null,null,null,null,null,null,"","","","",null,null,null,null,null,null,"","","","",null,null,null,null,"","","","","","","","",""]
[null,null,null,null,null,null,null,null,null,"","","","","","",null,null,null,null,null,"","",null,null,null,null,null,"","","","",null,null,null,null,"","","","",null,null,null,null,null,null,"","","","",null,null,null,null,"","","","",null,null,null,null,"","","","",null,null,null,null,null,null,"","","","",null,null,null,null,null,null,"","","","",null,null,null,null,"","","","","","","","",""]
[null,null,null,null,null,null,null,null,null,"","","","","","",null,null,null,null,null,"","",null,null,null,null,null,"","","","",null,null,null,null,"","","","",null,null,null,null,null,null,"","","","",null,null,null,null,"","","","",null,null,null,null,"","","","",null,null,null,null,null,null,"","","","",null,null,null,null,null,null,"","","","",null,null,null,null,"","","","","","","","",""]
[null,null,null,null,null,null,null,null,null,"","","","","","",null,null,null,null,null,"","",null,null,null,null,null,"","","","",null,null,null,null,"","","","",null,null,null,null,null,null,"","","","",null,null,null,null,"","","","",null,null,null,null,"","","","",null,null,null,null,null,null,"","","","",null,null,null,null,null,null,"","","","",null,null,null,null,"","","","","","","","",""]
[null,null,null,null,null,null,null,null,null,"","","","","","",null,null,null,null,null,"","",null,null,null,null,null,"","","","",null,null,null,null,"","","","",null,null,null,null,null,null,"","","","",null,null,null,null,"","","","",null,null,null,null,"","","","",null,null,null,null,null,null,"","","","",null,null,null,null,null,null,"","","","",null,null,null,null,"","","","","","","","",""]
[null,null,null,null,null,null,null,null,null,"","","","","","",null,null,null,null,null,"","",null,null,null,null,null,"","","","",null,null,null,null,"","","","",null,null,null,null,null,null,"","","","",null,null,null,null,"","","","",null,null,null,null,"","","","",null,null,null,null,null,null,"","","","",null,null,null,null,null,null,"","","","",null,null,null,null,"","","","","","","","",""]
[null,null,null,null,null,null,null,null,null,"","","","","","",null,null,null,null,null,"","",null,null,null,null,null,"","","","",null,null,null,null,"","","","",null,null,null,null,null,null,"","","","",null,null,null,null,"","","","",null,null,null,null,"","","","",null,null,null,null,null,null,"","","","",null,null,null,null,null,null,"","","","",null,null,null,null,"","","","","","","","",""]
[null,null,null,null,null,null,null,null,null,"","","","","","",null,null,null,null,null,"","",null,null,null,null,null,"","","","",null,null,null,null,"","","","",null,null,null,null,null,null,"","","","",null,null,null,null,"","","","",null,null,null,null,"","","","",null,null,null,null,null,null,"","","","",null,null,null,null,null,null,"","","","",null,null,null,null,"","","","","","","","",""]
[null,null,null,null,null,null,null,null,null,"","","","","","",null,null,null,null,null,"","",null,null,null,null,null,"","","","",null,null,null,null,"","","","",null,null,null,null,null,null,"","","","",null,null,null,null,"","","","",null,null,null,null,"","","","",null,null,null,null,null,null,"","","","",null,null,null,null,null,null,"","","","",null,null,null,null,"","","","","","","","",""]
[null,null,null,null,null,null,null,null,null,"","","","","","",null,null,null,null,null,"","",null,null,null,null,null,"","","","",null,null,null,null,"","","","",null,null,null,null,null,null,"","","","",null,null,null,null,"","","","",null,null,null,null,"","","","",null,null,null,null,null,null,"","","","",null,null,null,null,null,null,"","","","",null,null,null,null,"","","","","","","","",""]
[null,null,null,null,null,null,null,null,null,"","","","","","",null,null,null,null,null,"","",null,null,null,null,null,"","","","",null,null,null,null,"","","","",null,null,null,null,null,null,"","","","",null,null,null,null,"","","","",null,null,null,null,"","","","",null,null,null,null,null,null,"","","","",null,null,null,null,null,null,"","","","",null,null,null,null,"","","","","","","","",""]
[null,null,null,null,null,null,null,null,null,"","","","","","",null,null,null,null,null,"","",null,null,null,null,null,"","","","",null,null,null,null,"","","","",null,null,null,null,null,null,"","","","",null,null,null,null,"","","","",null,null,null,null,"","","","",null,null,null,null,null,null,"","","","",null,null,null,null,null,null,"","","","",null,null,null,null,"","","","","","","","",""]
[null,null,null,null,null,null,null,null,null,"","","","","","",null,null,null,null,null,"","",null,null,null,null,null,"","","","",null,null,null,null,"","","","",null,null,null,null,null,null,"","","","",null,null,null,null,"","","","",null,null,null,null,"","","","",null,null,null,null,null,null,"","","","",null,null,null,null,null,null,"","","","",null,null,null,null,"","","","","","","","",""]
[null,null,null,null,null,null,null,null,null,"","","","","","",null,null,null,null,null,"","",null,null,null,null,null,"","","","",null,null,null,null,"","","","",null,null,null,null,null,null,"","","","",null,null,null,null,"","","","",null,null,null,null,"","","","",null,null,null,null,null,null,"","","","",null,null,null,null,null,null,"","","","",null,null,null,null,"","","","","","","","",""]
[null,null,null,null,null,null,null,null,null,"","","","","","",null,null,null,null,null,"","",null,null,null,null,null,"","","","",null,null,null,null,"","","","",null,null,null,null,null,null,"","","","",null,null,null,null,"","","","",null,null,null,null,"","","","",null,null,null,null,null,null,"","","","",null,null,null,null,null,null,"","","","",null,null,null,null,"","","","","","","","",""]
[null,null,null,null,null,null,null,null,null,"","","","","","",null,null,null,null,null,"","",null,null,null,null,null,"","","","",null,null,null,null,"","","","",null,null,null,null,null,null,"","","","",null,null,null,null,"","","","",null,null,null,null,"","","","",null,null,null,null,null,null,"","","","",null,null,null,null,null,null,"","","","",null,null,null,null,"","","","","","","","",""]
[null,null,null,null,null,null,null,null,null,"","","","","","",null,null,null,null,null,"","",null,null,null,null,null,"","","","",null,null,null,null,"","","","",null,null,null,null,null,null,"","","","",null,null,null,null,"","","","",null,null,null,null,"","","","",null,null,null,null,null,null,"","","","",null,null,null,null,null,null,"","","","",null,null,null,null,"","","","","","","","",""]
[null,null,null,null,null,null,null,null,null,"","","","","","",null,null,null,null,null,"","",null,null,null,null,null,"","","","",null,null,null,null,"","","","",null,null,null,null,null,null,"","","","",null,null,null,null,"","","","",null,null,null,null,"","","","",null,null,null,null,null,null,"","","","",null,null,null,null,null,null,"","","","",null,null,null,null,"","","","","","","","",""]
[null,null,null,null,null,null,null,null,null,"","","","","","",null,null,null,null,null,"","",null,null,null,null,null,"","","","",null,null,null,null,"","","","",null,null,null,null,null,null,"","","","",null,null,null,null,"","","","",null,null,null,null,"","","","",null,null,null,null,null,null,"","","","",null,null,null,null,null,null,"","","","",null,null,null,null,"","","","","","","","",""]
[null,null,null,null,null,null,null,null,null,"","","","","","",null,null,null,null,null,"","",null,null,null,null,null,"","","","",null,null,null,null,"","","","",null,null,null,null,null,null,"","","","",null,null,null,null,"","","","",null,null,null,null,"","","","",null,null,null,null,null,null,"","","","",null,null,null,null,null,null,"","","","",null,null,null,null,"","","","","","","","",""]
[null,null,null,null,null,null,null,null,null,"","","","","","",null,null,null,null,null,"","",null,null,null,null,null,"","","","",null,null,null,null,"","","","",null,null,null,null,null,null,"","","","",null,null,null,null,"","","","",null,null,null,null,"","","","",null,null,null,null,null,null,"","","","",null,null,null,null,null,null,"","","","",null,null,null,null,"","","","","","","","",""]
[null,null,null,null,null,null,null,null,null,"","","","","","",null,null,null,null,null,"","",null,null,null,null,null,"","","","",null,null,null,null,"","","","",null,null,null,null,null,null,"","","","",null,null,null,null,"","","","",null,null,null,null,"","","","",null,null,null,null,null,null,"","","","",null,null,null,null,null,null,"","","","",null,null,null,null,"","","","","","","","",""]
[null,null,null,null,null,null,null,null,null,"",{"$f":"IF(C400=\"\",\"\",IF(G400>=$D$4,0,J400))","v":""},"","","","",null,null,null,null,null,"","",null,null,null,null,null,"","","","",null,null,null,null,"",{"$f":"IF(C400=\"\",\"\",(AJ400-G400)*C400)","v":""},"","",null,null,null,null,null,null,"",{"$f":"IF(C400=\"\",\"\",(AT400-G400)*C400)","v":""},"","",null,null,null,null,"",{"$f":"IF(C400=\"\",\"\",(BB400-G400)*C400)","v":""},"","",null,null,null,null,"",{"$f":"IF(C400=\"\",\"\",(BJ400-G400)*C400)","v":""},"","",null,null,null,null,null,null,{"$f":"IF(C400=\"\",\"\",$BS$16+G400)","v":""},{"$f":"IF(C400=\"\",\"\",(BT400-G400)*C400)","v":""},{"$f":"IF(C400=\"\",\"\",IF(BT400-$D$4>=0,\"0\",($D$4-BT400)*C400))","v":""},{"$f":"IF(C400=\"\",\"\",IF(BT400-$D$4>=0,\"0\",C400))","v":""},null,null,null,null,null,null,{"$f":"IF(C400=\"\",\"\",$CC$16+G400)","v":""},{"$f":"IF(C400=\"\",\"\",(CD400-G400)*C400)","v":""},"","",null,null,null,null,{"$f":"IF(C400=\"\",\"\",B400)","v":""},{"$f":"IF(C400=\"\",\"\",G400)","v":""},{"$f":"IF(C400=\"\",\"\",AB400)","v":""},{"$f":"IF(C400=\"\",\"\",AJ400)","v":""},{"$f":"IF(C400=\"\",\"\",AT400)","v":""},{"$f":"IF(C400=\"\",\"\",BB400)","v":""},{"$f":"IF(C400=\"\",\"\",BJ400)","v":""},{"$f":"IF(C400=\"\",\"\",BT400)","v":""},{"$f":"IF(C400=\"\",\"\",CD400)","v":""}]
[null,null,null,null,null,null,null,null,null,"","",{"$f":"IF(C401=\"\",\"\",IF(G401>=$D$4,0,$D$4-G401))","v":""},{"$f":"IF(C401=\"\",\"\",L401*C401)","v":""},{"$f":"IF(C401=\"\",\"\",$D$4-G401)","v":""},{"$f":"IF(C401=\"\",\"\",IF(M401=0,\"0\",C401))","v":""},null,null,null,null,null,{"$f":"IF(C401=\"\",\"\",IF(G401-$S$16>0,G401-$S$16,0))","v":""},{"$f":"IF(C401=\"\",\"\",G401/$S$16)","v":""},null,null,null,null,null,{"$f":"IF(C401=\"\",\"\",IF(G401>=$D$4,G401,$D$4))","v":""},{"$f":"IF(C401=\"\",\"\",(AB401-G401)*C401)","v":""},{"$f":"IF(C401=\"\",\"\",IF(AT401-$D$4>=0,\"0\",($D$4-AT401)*C401))","v":""},{"$f":"IF(C401=\"\",\"\",IF(AB401-$D$4>=0,\"0\",C401))","v":""},null,null,null,null,{"$f":"IF(C401=\"\",\"\",IF(G401>=$D$4,G401+(($D$4-$X$16)*$BL$11/100),$D$4))","v":""},"",{"$f":"IF(C401=\"\",\"\",IF(AJ401-$D$4>=0,\"0\",($D$4-AJ401)*C401))","v":""},{"$f":"IF(C401=\"\",\"\",IF(AJ401-$D$4>=0,\"0\",C401))","v":""},null,null,null,null,null,null,{"$f":"IF(C401=\"\",\"\",IF($AU$7=0,\"specify scenario\",IF($AU$7=2,IF(G401>=$D$4,G401,G401+$AS$16),IF($AU$7=1,$AS$16+G401,\"specify scenario\"))))","v":""},"",{"$f":"IF(C401=\"\",\"\",IF(AT401-$D$4>=0,\"0\",($D$4-AT401)*C401))","v":""},{"$f":"IF(C401=\"\",\"\",IF(AT401-$D$4>=0,\"0\",C401))","v":""},null,null,null,null,{"$f":"IF(C401=\"\",\"\",IF((G401*(1+$BE$10/100))>(G401+$BE$11),(G401*(1+$BE$10/100)),(G401+$BE$11)))","v":""},"",{"$f":"IF(C401=\"\",\"\",IF(BB401-$D$4>=0,\"0\",($D$4-BB401)*C401))","v":""},{"$f":"IF(C401=\"\",\"\",IF(BB401-$D$4>=0,\"0\",C401))","v":""},null,null,null,null,"","",{"$f":"IF(C401=\"\",\"\",IF(BJ401-$D$4>=0,\"0\",($D$4-BJ401)*C401))","v":""},{"$f":"IF(C401=\"\",\"\",IF(BJ401-$D$4>=0,\"0\",C401))","v":""},null,null,null,null,null,null,"","","","",null,null,null,null,null,null,"","","","",null,null,null,null,"","","","","","","","",""]
[null,null,null,null,null,null,null,null,null,"","","","","","",null,null,null,null,null,"","",null,null,null,null,null,"","","","",null,null,null,null,"","","","",null,null,null,null,null,null,"","","","",null,null,null,null,"","","","",null,null,null,null,{"$f":"IF(C402=\"\",\"\",IF(G402>=$D$4,G402+(($D$4-$X$16)*$BL$11/100),$D$4))","v":""},"","","",null,null,null,null,null,null,"","","","",null,null,null,null,null,null,"","","","",null,null,null,null,"","","","","","","","",""]
[null,null,null,null,null,null,null,null,null,"","","","","","",null,null,null,null,null,"","",null,null,null,null,null,"","","","",null,null,null,null,"","","","",null,null,null,null,null,null,"","","","",null,null,null,null,"","","","",null,null,null,null,"","","","",null,null,null,null,null,null,"","","","",null,null,null,null,null,null,"","",{"$f":"IF(C403=\"\",\"\",IF(CD403-$D$4>=0,\"0\",($D$4-CD403)*C403))","v":""},"",null,null,null,null,"","","","","","","","",""]
[null,null,null,null,null,null,null,null,null,"","","","","","",null,null,null,null,null,"","",null,null,null,null,null,"","","","",null,null,null,null,"","","","",null,null,null,null,null,null,"","","","",null,null,null,null,"","","","",null,null,null,null,"","","","",null,null,null,null,null,null,"","","","",null,null,null,null,null,null,"","","","",null,null,null,null,"","","","","","","","",""]
[null,null,null,null,null,null,null,null,null,"","","","","","",null,null,null,null,null,"","",null,null,null,null,null,"","","","",null,null,null,null,"","","","",null,null,null,null,null,null,"","","","",null,null,null,null,"","","","",null,null,null,null,"","","","",null,null,null,null,null,null,"","","","",null,null,null,null,null,null,"","","","",null,null,null,null,"","","","","","","","",""]
[null,null,null,null,null,null,null,null,null,"","","","","","",null,null,null,null,null,"","",null,null,null,null,null,"","","","",null,null,null,null,"","","","",null,null,null,null,null,null,"","","","",null,null,null,null,"","","","",null,null,null,null,"","","","",null,null,null,null,null,null,"","","","",null,null,null,null,null,null,"","","","",null,null,null,null,"","","","","","","","",""]
[null,null,null,null,null,null,null,null,null,"","","","","","",null,null,null,null,null,"","",null,null,null,null,null,"","","","",null,null,null,null,"","","","",null,null,null,null,null,null,"","","","",null,null,null,null,"","","","",null,null,null,null,"","","","",null,null,null,null,null,null,"","","","",null,null,null,null,null,null,"","","",{"$f":"IF(C407=\"\",\"\",IF(CD407-$D$4>=0,\"0\",C407))","v":""},null,null,null,null,"","","","","","","","",""]
[null,null,null,null,null,null,null,null,null,"","","","","","",null,null,null,null,null,"","",null,null,null,null,null,"","","","",null,null,null,null,"","","","",null,null,null,null,null,null,"","","","",null,null,null,null,"","","","",null,null,null,null,"","","","",null,null,null,null,null,null,"","","","",null,null,null,null,null,null,"","","","",null,null,null,null,"","","","","","","","",""]
[null,null,null,null,null,null,null,null,null,"","","","","","",null,null,null,null,null,"","",null,null,null,null,null,"","","","",null,null,null,null,"","","","",null,null,null,null,null,null,"","","","",null,null,null,null,"","","","",null,null,null,null,"","","","",null,null,null,null,null,null,"","","","",null,null,null,null,null,null,"","","","",null,null,null,null,"","","","","","","","",""]
[null,null,null,null,null,null,null,null,null,"","","","","","",null,null,null,null,null,"","",null,null,null,null,null,"","","","",null,null,null,null,"","","","",null,null,null,null,null,null,"","","","",null,null,null,null,"","","","",null,null,null,null,"","","","",null,null,null,null,null,null,"","","","",null,null,null,null,null,null,"","","","",null,null,null,null,"","","","","","","","",""]
[null,null,null,null,null,null,null,null,null,"","","","","","",null,null,null,null,null,"","",null,null,null,null,null,"","","","",null,null,null,null,"","","","",null,null,null,null,null,null,"","","","",null,null,null,null,"","","","",null,null,null,null,"","","","",null,null,null,null,null,null,"","","","",null,null,null,null,null,null,"","","","",null,null,null,null,"","","","","","","","",""]
[null,null,null,null,null,null,null,null,null,"","","","","","",null,null,null,null,null,"","",null,null,null,null,null,"","","","",null,null,null,null,"","","","",null,null,null,null,null,null,"","","","",null,null,null,null,"","","","",null,null,null,null,"","","","",null,null,null,null,null,null,"","","","",null,null,null,null,null,null,"","","","",null,null,null,null,"","","","","","","","",""]
[null,null,null,null,null,null,null,null,null,"","","","","","",null,null,null,null,null,"","",null,null,null,null,null,"","","","",null,null,null,null,"","","","",null,null,null,null,null,null,"","","","",null,null,null,null,"","","","",null,null,null,null,"","","","",null,null,null,null,null,null,"","","","",null,null,null,null,null,null,"","","","",null,null,null,null,"","","","","","","","",""]
[null,null,null,null,null,null,null,null,null,"","","","","","",null,null,null,null,null,"","",null,null,null,null,null,"","","","",null,null,null,null,"","","","",null,null,null,null,null,null,"","","","",null,null,null,null,"","","","",null,null,null,null,"","","","",null,null,null,null,null,null,"","","","",null,null,null,null,null,null,"","","","",null,null,null,null,"","","","","","","","",""]
[null,null,null,null,null,null,null,null,null,"","","","","","",null,null,null,null,null,"","",null,null,null,null,null,"","","","",null,null,null,null,"","","","",null,null,null,null,null,null,"","","","",null,null,null,null,"","","","",null,null,null,null,"","","","",null,null,null,null,null,null,"","","","",null,null,null,null,null,null,"","","","",null,null,null,null,"","","","","","","","",""]
[null,null,null,null,null,null,null,null,null,"","","","","","",null,null,null,null,null,"","",null,null,null,null,null,"","","","",null,null,null,null,"","","","",null,null,null,null,null,null,"","","","",null,null,null,null,"","","","",null,null,null,null,"","","","",null,null,null,null,null,null,"","","","",null,null,null,null,null,null,"","","","",null,null,null,null,"","","","","","","","",""]
[null,null,null,null,null,null,null,null,null,"","","","","","",null,null,null,null,null,"","",null,null,null,null,null,"","","","",null,null,null,null,"","","","",null,null,null,null,null,null,"","","","",null,null,null,null,"","","","",null,null,null,null,"","","","",null,null,null,null,null,null,"","","","",null,null,null,null,null,null,"","","","",null,null,null,null,"","","","","","","","",""]
[null,null,null,null,null,null,null,null,null,"","","","","","",null,null,null,null,null,"","",null,null,null,null,null,"","","","",null,null,null,null,"","","","",null,null,null,null,null,null,"","","","",null,null,null,null,"","","","",null,null,null,null,"","","","",null,null,null,null,null,null,"","","","",null,null,null,null,null,null,"","","","",null,null,null,null,"","","","","","","","",""]
[null,null,null,null,null,null,null,null,null,"","","","","","",null,null,null,null,null,"","",null,null,null,null,null,"","","","",null,null,null,null,"","","","",null,null,null,null,null,null,"","","","",null,null,null,null,"","","","",null,null,null,null,"","","","",null,null,null,null,null,null,"","","","",null,null,null,null,null,null,"","","","",null,null,null,null,"","","","","","","","",""]
[null,null,null,null,null,null,null,null,null,{"$f":"IF(C420=\"\",\"\",G420*C420)","v":""},"","","","","",null,null,null,null,null,"","",null,null,null,null,null,"","","","",null,null,null,null,"","","","",null,null,null,null,null,null,"","","","",null,null,null,null,"","","","",null,null,null,null,"","","","",null,null,null,null,null,null,"","","","",null,null,null,null,null,null,"","","","",null,null,null,null,"","","","","","","","",""]
[null,null,null,null,null,null,null,null,null,"","","","","","",null,null,null,null,null,"","",null,null,null,null,null,"","","","",null,null,null,null,"","","","",null,null,null,null,null,null,"","","","",null,null,null,null,"","","","",null,null,null,null,"","","","",null,null,null,null,null,null,"","","","",null,null,null,null,null,null,"","","","",null,null,null,null,"","","","","","","","",""]
[null,null,null,null,null,null,null,null,null,"","","","","","",null,null,null,null,null,"","",null,null,null,null,null,"","","","",null,null,null,null,"","","","",null,null,null,null,null,null,"","","","",null,null,null,null,"","","","",null,null,null,null,"","","","",null,null,null,null,null,null,"","","","",null,null,null,null,null,null,"","","","",null,null,null,null,"","","","","","","","",""]
[null,null,null,null,null,null,null,null,null,"","","","","","",null,null,null,null,null,"","",null,null,null,null,null,"","","","",null,null,null,null,"","","","",null,null,null,null,null,null,"","","","",null,null,null,null,"","","","",null,null,null,null,"","","","",null,null,null,null,null,null,"","","","",null,null,null,null,null,null,"","","","",null,null,null,null,"","","","","","","","",""]
[null,null,null,null,null,null,null,null,null,"","","","","","",null,null,null,null,null,"","",null,null,null,null,null,"","","","",null,null,null,null,"","","","",null,null,null,null,null,null,"","","","",null,null,null,null,"","","","",null,null,null,null,"","","","",null,null,null,null,null,null,"","","","",null,null,null,null,null,null,"","","","",null,null,null,null,"","","","","","","","",""]
[null,null,null,null,null,null,null,null,null,"","","","","","",null,null,null,null,null,"","",null,null,null,null,null,"","","","",null,null,null,null,"","","","",null,null,null,null,null,null,"","","","",null,null,null,null,"","","","",null,null,null,null,"","","","",null,null,null,null,null,null,"","","","",null,null,null,null,null,null,"","","","",null,null,null,null,"","","","","","","","",""]
[null,null,null,null,null,null,null,null,null,"","","","","","",null,null,null,null,null,"","",null,null,null,null,null,"","","","",null,null,null,null,"","","","",null,null,null,null,null,null,"","","","",null,null,null,null,"","","","",null,null,null,null,"","","","",null,null,null,null,null,null,"","","","",null,null,null,null,null,null,"","","","",null,null,null,null,"","","","","","","","",""]
[null,null,null,null,null,null,null,null,null,"","","","","","",null,null,null,null,null,"","",null,null,null,null,null,"","","","",null,null,null,null,"","","","",null,null,null,null,null,null,"","","","",null,null,null,null,"","","","",null,null,null,null,"","","","",null,null,null,null,null,null,"","","","",null,null,null,null,null,null,"","","","",null,null,null,null,"","","","","","","","",""]
[null,null,null,null,null,null,null,null,null,"","","","","","",null,null,null,null,null,"","",null,null,null,null,null,"","","","",null,null,null,null,"","","","",null,null,null,null,null,null,"","","","",null,null,null,null,"","","","",null,null,null,null,"","","","",null,null,null,null,null,null,"","","","",null,null,null,null,null,null,"","","","",null,null,null,null,"","","","","","","","",""]
[null,null,null,null,null,null,null,null,null,"","","","","","",null,null,null,null,null,"","",null,null,null,null,null,"","","","",null,null,null,null,"","","","",null,null,null,null,null,null,"","","","",null,null,null,null,"","","","",null,null,null,null,"","","","",null,null,null,null,null,null,"","","","",null,null,null,null,null,null,"","","","",null,null,null,null,"","","","","","","","",""]
[null,null,null,null,null,null,null,null,null,"","","","","","",null,null,null,null,null,"","",null,null,null,null,null,"","","","",null,null,null,null,"","","","",null,null,null,null,null,null,"","","","",null,null,null,null,"","","","",null,null,null,null,"","","","",null,null,null,null,null,null,"","","","",null,null,null,null,null,null,"","","","",null,null,null,null,"","","","","","","","",""]
[null,null,null,null,null,null,null,null,null,"","","","","","",null,null,null,null,null,"","",null,null,null,null,null,"","","","",null,null,null,null,"","","","",null,null,null,null,null,null,"","","","",null,null,null,null,"","","","",null,null,null,null,"","","","",null,null,null,null,null,null,"","","","",null,null,null,null,null,null,"","","","",null,null,null,null,"","","","","","","","",""]
[null,null,null,null,null,null,null,null,null,"","","","","","",null,null,null,null,null,"","",null,null,null,null,null,"","","","",null,null,null,null,"","","","",null,null,null,null,null,null,"","","","",null,null,null,null,"","","","",null,null,null,null,"","","","",null,null,null,null,null,null,"","","","",null,null,null,null,null,null,"","","","",null,null,null,null,"","","","","","","","",""]
[null,null,null,null,null,null,null,null,null,"","","","","","",null,null,null,null,null,"","",null,null,null,null,null,"","","","",null,null,null,null,"","","","",null,null,null,null,null,null,"","","","",null,null,null,null,"","","","",null,null,null,null,"","","","",null,null,null,null,null,null,"","","","",null,null,null,null,null,null,"","","","",null,null,null,null,"","","","","","","","",""]
[null,null,null,null,null,null,null,null,null,"","","","","","",null,null,null,null,null,"","",null,null,null,null,null,"","","","",null,null,null,null,"","","","",null,null,null,null,null,null,"","","","",null,null,null,null,"","","","",null,null,null,null,"","","","",null,null,null,null,null,null,"","","","",null,null,null,null,null,null,"","","","",null,null,null,null,"","","","","","","","",""]
[null,null,null,null,null,null,null,null,null,"","","","","","",null,null,null,null,null,"","",null,null,null,null,null,"","","","",null,null,null,null,"","","","",null,null,null,null,null,null,"","","","",null,null,null,null,"","","","",null,null,null,null,"","","","",null,null,null,null,null,null,"","","","",null,null,null,null,null,null,"","","","",null,null,null,null,"","","","","","","","",""]
[null,null,null,null,null,null,null,null,null,"","","","","","",null,null,null,null,null,"","",null,null,null,null,null,"","","","",null,null,null,null,"","","","",null,null,null,null,null,null,"","","","",null,null,null,null,"","","","",null,null,null,null,"","","","",null,null,null,null,null,null,"","","","",null,null,null,null,null,null,"","","","",null,null,null,null,"","","","","","","","",""]
[null,null,null,null,null,null,null,null,null,"","","","","","",null,null,null,null,null,"","",null,null,null,null,null,"","","","",null,null,null,null,"","","","",null,null,null,null,null,null,"","","","",null,null,null,null,"","","","",null,null,null,null,"","","","",null,null,null,null,null,null,"","","","",null,null,null,null,null,null,"","","","",null,null,null,null,"","","","","","","","",""]
[null,null,null,null,null,null,null,null,null,"","","","","","",null,null,null,null,null,"","",null,null,null,null,null,"","","","",null,null,null,null,"","","","",null,null,null,null,null,null,"","","","",null,null,null,null,"","","","",null,null,null,null,"","","","",null,null,null,null,null,null,"","","","",null,null,null,null,null,null,"","","","",null,null,null,null,"","","","","","","","",""]
[null,null,null,null,null,null,null,null,null,"","","","","","",null,null,null,null,null,"","",null,null,null,null,null,"","","","",null,null,null,null,"","","","",null,null,null,null,null,null,"","","","",null,null,null,null,"","","","",null,null,null,null,"","","","",null,null,null,null,null,null,"","","","",null,null,null,null,null,null,"","","","",null,null,null,null,"","","","","","","","",""]
[null,null,null,null,null,null,null,null,null,"","","","","","",null,null,null,null,null,"","",null,null,null,null,null,"","","","",null,null,null,null,"","","","",null,null,null,null,null,null,"","","","",null,null,null,null,"","","","",null,null,null,null,"","","","",null,null,null,null,null,null,"","","","",null,null,null,null,null,null,"","","","",null,null,null,null,"","","","","","","","",""]
[null,null,null,null,null,null,null,null,null,"","","","","","",null,null,null,null,null,"","",null,null,null,null,null,"","","","",null,null,null,null,"","","","",null,null,null,null,null,null,"","","","",null,null,null,null,"","","","",null,null,null,null,"","","","",null,null,null,null,null,null,"","","","",null,null,null,null,null,null,"","","","",null,null,null,null,"","","","","","","","",""]
[null,null,null,null,null,null,null,null,null,"","","","","","",null,null,null,null,null,"","",null,null,null,null,null,"","","","",null,null,null,null,"","","","",null,null,null,null,null,null,"","","","",null,null,null,null,"","","","",null,null,null,null,"","","","",null,null,null,null,null,null,"","","","",null,null,null,null,null,null,"","","","",null,null,null,null,"","","","","","","","",""]
[null,null,null,null,null,null,null,null,null,"","","","","","",null,null,null,null,null,"","",null,null,null,null,null,"","","","",null,null,null,null,"","","","",null,null,null,null,null,null,"","","","",null,null,null,null,"","","","",null,null,null,null,"","","","",null,null,null,null,null,null,"","","","",null,null,null,null,null,null,"","","","",null,null,null,null,"","","","","","","","",""]
[null,null,null,null,null,null,null,null,null,"","","","","","",null,null,null,null,null,"","",null,null,null,null,null,"","","","",null,null,null,null,"","","","",null,null,null,null,null,null,"","","","",null,null,null,null,"","","","",null,null,null,null,"","","","",null,null,null,null,null,null,"","","","",null,null,null,null,null,null,"","","","",null,null,null,null,"","","","","","","","",""]
[null,null,null,null,null,null,null,null,null,"","","","","","",null,null,null,null,null,"","",null,null,null,null,null,"","","","",null,null,null,null,"","","","",null,null,null,null,null,null,"","","","",null,null,null,null,"","","","",null,null,null,null,"","","","",null,null,null,null,null,null,"","","","",null,null,null,null,null,null,"","","","",null,null,null,null,"","","","","","","","",""]
[null,null,null,null,null,null,null,null,null,"","","","","","",null,null,null,null,null,"","",null,null,null,null,null,"","","","",null,null,null,null,"","","","",null,null,null,null,null,null,"","","","",null,null,null,null,"","","","",null,null,null,null,"","","","",null,null,null,null,null,null,"","","","",null,null,null,null,null,null,"","","","",null,null,null,null,"","","","","","","","",""]
[null,null,null,null,null,null,null,null,null,"","","","","","",null,null,null,null,null,"","",null,null,null,null,null,"","","","",null,null,null,null,"","","","",null,null,null,null,null,null,"","","","",null,null,null,null,"","","","",null,null,null,null,"","","","",null,null,null,null,null,null,"","","","",null,null,null,null,null,null,"","","","",null,null,null,null,"","","","","","","","",""]
[null,null,null,null,null,null,null,null,null,"","","","","","",null,null,null,null,null,"","",null,null,null,null,null,"","","","",null,null,null,null,"","","","",null,null,null,null,null,null,"","","","",null,null,null,null,"","","","",null,null,null,null,"","","","",null,null,null,null,null,null,"","","","",null,null,null,null,null,null,"","","","",null,null,null,null,"","","","","","","","",""]
[null,null,null,null,null,null,null,null,null,"","","","","","",null,null,null,null,null,"","",null,null,null,null,null,"","","","",null,null,null,null,"","","","",null,null,null,null,null,null,"","","","",null,null,null,null,"","","","",null,null,null,null,"","","","",null,null,null,null,null,null,"","","","",null,null,null,null,null,null,"","","","",null,null,null,null,"","","","","","","","",""]
[null,null,null,null,null,null,null,null,null,"","","","","","",null,null,null,null,null,"","",null,null,null,null,null,"","","","",null,null,null,null,"","","","",null,null,null,null,null,null,"","","","",null,null,null,null,"","","","",null,null,null,null,"","","","",null,null,null,null,null,null,"","","","",null,null,null,null,null,null,"","","","",null,null,null,null,"","","","","","","","",""]
[null,null,null,null,null,null,null,null,null,"","","","","","",null,null,null,null,null,"","",null,null,null,null,null,"","","","",null,null,null,null,"","","","",null,null,null,null,null,null,"","","","",null,null,null,null,"","","","",null,null,null,null,"","","","",null,null,null,null,null,null,"","","","",null,null,null,null,null,null,"","","","",null,null,null,null,"","","","","","","","",""]
[null,null,null,null,null,null,null,null,null,"","","","","","",null,null,null,null,null,"","",null,null,null,null,null,"","","","",null,null,null,null,"","","","",null,null,null,null,null,null,"","","","",null,null,null,null,"","","","",null,null,null,null,"","","","",null,null,null,null,null,null,"","","","",null,null,null,null,null,null,"","","","",null,null,null,null,"","","","","","","","",""]
[null,null,null,null,null,null,null,null,null,"","","","","","",null,null,null,null,null,"","",null,null,null,null,null,"","","","",null,null,null,null,"","","","",null,null,null,null,null,null,"","","","",null,null,null,null,"","","","",null,null,null,null,"","","","",null,null,null,null,null,null,"","","","",null,null,null,null,null,null,"","","","",null,null,null,null,"","","","","","","","",""]
[null,null,null,null,null,null,null,null,null,"","","","","","",null,null,null,null,null,"","",null,null,null,null,null,"","","","",null,null,null,null,"","","","",null,null,null,null,null,null,"","","","",null,null,null,null,"","","","",null,null,null,null,"","","","",null,null,null,null,null,null,"","","","",null,null,null,null,null,null,"","","","",null,null,null,null,"","","","","","","","",""]
[null,null,null,null,null,null,null,null,null,"","","","","","",null,null,null,null,null,"","",null,null,null,null,null,"","","","",null,null,null,null,"","","","",null,null,null,null,null,null,"","","","",null,null,null,null,"","","","",null,null,null,null,"","","","",null,null,null,null,null,null,"","","","",null,null,null,null,null,null,"","","","",null,null,null,null,"","","","","","","","",""]
[null,null,null,null,null,null,null,null,null,"","","","","","",null,null,null,null,null,"","",null,null,null,null,null,"","","","",null,null,null,null,"","","","",null,null,null,null,null,null,"","","","",null,null,null,null,"","","","",null,null,null,null,"","","","",null,null,null,null,null,null,"","","","",null,null,null,null,null,null,"","","","",null,null,null,null,"","","","","","","","",""]
[null,null,null,null,null,null,null,null,null,"","","","","","",null,null,null,null,null,"","",null,null,null,null,null,"","","","",null,null,null,null,"","","","",null,null,null,null,null,null,"","","","",null,null,null,null,"","","","",null,null,null,null,"","","","",null,null,null,null,null,null,"","","","",null,null,null,null,null,null,"","","","",null,null,null,null,"","","","","","","","",""]
[null,null,null,null,null,null,null,null,null,"","","","","","",null,null,null,null,null,"","",null,null,null,null,null,"","","","",null,null,null,null,"","","","",null,null,null,null,null,null,"","","","",null,null,null,null,"","","","",null,null,null,null,"","","","",null,null,null,null,null,null,"","","","",null,null,null,null,null,null,"","","","",null,null,null,null,"","","","","","","","",""]
[null,null,null,null,null,null,null,null,null,"","","","","","",null,null,null,null,null,"","",null,null,null,null,null,"","","","",null,null,null,null,"","","","",null,null,null,null,null,null,"","","","",null,null,null,null,"","","","",null,null,null,null,"","","","",null,null,null,null,null,null,"","","","",null,null,null,null,null,null,"","","","",null,null,null,null,"","","","","","","","",""]
[null,null,null,null,null,null,null,null,null,"","","","","","",null,null,null,null,null,"","",null,null,null,null,null,"","","","",null,null,null,null,"","","","",null,null,null,null,null,null,"","","","",null,null,null,null,"","","","",null,null,null,null,"","","","",null,null,null,null,null,null,"","","","",null,null,null,null,null,null,"","","","",null,null,null,null,"","","","","","","","",""]
[null,null,null,null,null,null,null,null,null,"","","","","","",null,null,null,null,null,"","",null,null,null,null,null,"","","","",null,null,null,null,"","","","",null,null,null,null,null,null,"","","","",null,null,null,null,"","","","",null,null,null,null,"","","","",null,null,null,null,null,null,"","","","",null,null,null,null,null,null,"","","","",null,null,null,null,"","","","","","","","",""]
[null,null,null,null,null,null,null,null,null,"","","","","","",null,null,null,null,null,"","",null,null,null,null,null,"","","","",null,null,null,null,"","","","",null,null,null,null,null,null,"","","","",null,null,null,null,"","","","",null,null,null,null,"","","","",null,null,null,null,null,null,"","","","",null,null,null,null,null,null,"","","","",null,null,null,null,"","","","","","","","",""]
[null,null,null,null,null,null,null,null,null,"","","","","","",null,null,null,null,null,"","",null,null,null,null,null,"","","","",null,null,null,null,"","","","",null,null,null,null,null,null,"","","","",null,null,null,null,"","","","",null,null,null,null,"","","","",null,null,null,null,null,null,"","","","",null,null,null,null,null,null,"","","","",null,null,null,null,"","","","","","","","",""]
[null,null,null,null,null,null,null,null,null,"",{"$f":"IF(C464=\"\",\"\",IF(G464>=$D$4,0,J464))","v":""},"","","","",null,null,null,null,null,"","",null,null,null,null,null,"","","","",null,null,null,null,"",{"$f":"IF(C464=\"\",\"\",(AJ464-G464)*C464)","v":""},"","",null,null,null,null,null,null,"",{"$f":"IF(C464=\"\",\"\",(AT464-G464)*C464)","v":""},"","",null,null,null,null,"",{"$f":"IF(C464=\"\",\"\",(BB464-G464)*C464)","v":""},"","",null,null,null,null,"",{"$f":"IF(C464=\"\",\"\",(BJ464-G464)*C464)","v":""},"","",null,null,null,null,null,null,{"$f":"IF(C464=\"\",\"\",$BS$16+G464)","v":""},{"$f":"IF(C464=\"\",\"\",(BT464-G464)*C464)","v":""},{"$f":"IF(C464=\"\",\"\",IF(BT464-$D$4>=0,\"0\",($D$4-BT464)*C464))","v":""},{"$f":"IF(C464=\"\",\"\",IF(BT464-$D$4>=0,\"0\",C464))","v":""},null,null,null,null,null,null,{"$f":"IF(C464=\"\",\"\",$CC$16+G464)","v":""},{"$f":"IF(C464=\"\",\"\",(CD464-G464)*C464)","v":""},"","",null,null,null,null,{"$f":"IF(C464=\"\",\"\",B464)","v":""},{"$f":"IF(C464=\"\",\"\",G464)","v":""},{"$f":"IF(C464=\"\",\"\",AB464)","v":""},{"$f":"IF(C464=\"\",\"\",AJ464)","v":""},{"$f":"IF(C464=\"\",\"\",AT464)","v":""},{"$f":"IF(C464=\"\",\"\",BB464)","v":""},{"$f":"IF(C464=\"\",\"\",BJ464)","v":""},{"$f":"IF(C464=\"\",\"\",BT464)","v":""},{"$f":"IF(C464=\"\",\"\",CD464)","v":""}]
[null,null,null,null,null,null,null,null,null,"","",{"$f":"IF(C465=\"\",\"\",IF(G465>=$D$4,0,$D$4-G465))","v":""},{"$f":"IF(C465=\"\",\"\",L465*C465)","v":""},{"$f":"IF(C465=\"\",\"\",$D$4-G465)","v":""},{"$f":"IF(C465=\"\",\"\",IF(M465=0,\"0\",C465))","v":""},null,null,null,null,null,{"$f":"IF(C465=\"\",\"\",IF(G465-$S$16>0,G465-$S$16,0))","v":""},{"$f":"IF(C465=\"\",\"\",G465/$S$16)","v":""},null,null,null,null,null,{"$f":"IF(C465=\"\",\"\",IF(G465>=$D$4,G465,$D$4))","v":""},{"$f":"IF(C465=\"\",\"\",(AB465-G465)*C465)","v":""},{"$f":"IF(C465=\"\",\"\",IF(AT465-$D$4>=0,\"0\",($D$4-AT465)*C465))","v":""},{"$f":"IF(C465=\"\",\"\",IF(AB465-$D$4>=0,\"0\",C465))","v":""},null,null,null,null,{"$f":"IF(C465=\"\",\"\",IF(G465>=$D$4,G465+(($D$4-$X$16)*$BL$11/100),$D$4))","v":""},"",{"$f":"IF(C465=\"\",\"\",IF(AJ465-$D$4>=0,\"0\",($D$4-AJ465)*C465))","v":""},{"$f":"IF(C465=\"\",\"\",IF(AJ465-$D$4>=0,\"0\",C465))","v":""},null,null,null,null,null,null,{"$f":"IF(C465=\"\",\"\",IF($AU$7=0,\"specify scenario\",IF($AU$7=2,IF(G465>=$D$4,G465,G465+$AS$16),IF($AU$7=1,$AS$16+G465,\"specify scenario\"))))","v":""},"",{"$f":"IF(C465=\"\",\"\",IF(AT465-$D$4>=0,\"0\",($D$4-AT465)*C465))","v":""},{"$f":"IF(C465=\"\",\"\",IF(AT465-$D$4>=0,\"0\",C465))","v":""},null,null,null,null,{"$f":"IF(C465=\"\",\"\",IF((G465*(1+$BE$10/100))>(G465+$BE$11),(G465*(1+$BE$10/100)),(G465+$BE$11)))","v":""},"",{"$f":"IF(C465=\"\",\"\",IF(BB465-$D$4>=0,\"0\",($D$4-BB465)*C465))","v":""},{"$f":"IF(C465=\"\",\"\",IF(BB465-$D$4>=0,\"0\",C465))","v":""},null,null,null,null,"","",{"$f":"IF(C465=\"\",\"\",IF(BJ465-$D$4>=0,\"0\",($D$4-BJ465)*C465))","v":""},{"$f":"IF(C465=\"\",\"\",IF(BJ465-$D$4>=0,\"0\",C465))","v":""},null,null,null,null,null,null,"","","","",null,null,null,null,null,null,"","","","",null,null,null,null,"","","","","","","","",""]
[null,null,null,null,null,null,null,null,null,"","","","","","",null,null,null,null,null,"","",null,null,null,null,null,"","","","",null,null,null,null,"","","","",null,null,null,null,null,null,"","","","",null,null,null,null,"","","","",null,null,null,null,{"$f":"IF(C466=\"\",\"\",IF(G466>=$D$4,G466+(($D$4-$X$16)*$BL$11/100),$D$4))","v":""},"","","",null,null,null,null,null,null,"","","","",null,null,null,null,null,null,"","","","",null,null,null,null,"","","","","","","","",""]
[null,null,null,null,null,null,null,null,null,"","","","","","",null,null,null,null,null,"","",null,null,null,null,null,"","","","",null,null,null,null,"","","","",null,null,null,null,null,null,"","","","",null,null,null,null,"","","","",null,null,null,null,"","","","",null,null,null,null,null,null,"","","","",null,null,null,null,null,null,"","",{"$f":"IF(C467=\"\",\"\",IF(CD467-$D$4>=0,\"0\",($D$4-CD467)*C467))","v":""},"",null,null,null,null,"","","","","","","","",""]
[null,null,null,null,null,null,null,null,null,"","","","","","",null,null,null,null,null,"","",null,null,null,null,null,"","","","",null,null,null,null,"","","","",null,null,null,null,null,null,"","","","",null,null,null,null,"","","","",null,null,null,null,"","","","",null,null,null,null,null,null,"","","","",null,null,null,null,null,null,"","","","",null,null,null,null,"","","","","","","","",""]
[null,null,null,null,null,null,null,null,null,"","","","","","",null,null,null,null,null,"","",null,null,null,null,null,"","","","",null,null,null,null,"","","","",null,null,null,null,null,null,"","","","",null,null,null,null,"","","","",null,null,null,null,"","","","",null,null,null,null,null,null,"","","","",null,null,null,null,null,null,"","","","",null,null,null,null,"","","","","","","","",""]
[null,null,null,null,null,null,null,null,null,"","","","","","",null,null,null,null,null,"","",null,null,null,null,null,"","","","",null,null,null,null,"","","","",null,null,null,null,null,null,"","","","",null,null,null,null,"","","","",null,null,null,null,"","","","",null,null,null,null,null,null,"","","","",null,null,null,null,null,null,"","","","",null,null,null,null,"","","","","","","","",""]
[null,null,null,null,null,null,null,null,null,"","","","","","",null,null,null,null,null,"","",null,null,null,null,null,"","","","",null,null,null,null,"","","","",null,null,null,null,null,null,"","","","",null,null,null,null,"","","","",null,null,null,null,"","","","",null,null,null,null,null,null,"","","","",null,null,null,null,null,null,"","","",{"$f":"IF(C471=\"\",\"\",IF(CD471-$D$4>=0,\"0\",C471))","v":""},null,null,null,null,"","","","","","","","",""]
[null,null,null,null,null,null,null,null,null,"","","","","","",null,null,null,null,null,"","",null,null,null,null,null,"","","","",null,null,null,null,"","","","",null,null,null,null,null,null,"","","","",null,null,null,null,"","","","",null,null,null,null,"","","","",null,null,null,null,null,null,"","","","",null,null,null,null,null,null,"","","","",null,null,null,null,"","","","","","","","",""]
[null,null,null,null,null,null,null,null,null,"","","","","","",null,null,null,null,null,"","",null,null,null,null,null,"","","","",null,null,null,null,"","","","",null,null,null,null,null,null,"","","","",null,null,null,null,"","","","",null,null,null,null,"","","","",null,null,null,null,null,null,"","","","",null,null,null,null,null,null,"","","","",null,null,null,null,"","","","","","","","",""]
[null,null,null,null,null,null,null,null,null,"","","","","","",null,null,null,null,null,"","",null,null,null,null,null,"","","","",null,null,null,null,"","","","",null,null,null,null,null,null,"","","","",null,null,null,null,"","","","",null,null,null,null,"","","","",null,null,null,null,null,null,"","","","",null,null,null,null,null,null,"","","","",null,null,null,null,"","","","","","","","",""]
[null,null,null,null,null,null,null,null,null,"","","","","","",null,null,null,null,null,"","",null,null,null,null,null,"","","","",null,null,null,null,"","","","",null,null,null,null,null,null,"","","","",null,null,null,null,"","","","",null,null,null,null,"","","","",null,null,null,null,null,null,"","","","",null,null,null,null,null,null,"","","","",null,null,null,null,"","","","","","","","",""]
[null,null,null,null,null,null,null,null,null,"","","","","","",null,null,null,null,null,"","",null,null,null,null,null,"","","","",null,null,null,null,"","","","",null,null,null,null,null,null,"","","","",null,null,null,null,"","","","",null,null,null,null,"","","","",null,null,null,null,null,null,"","","","",null,null,null,null,null,null,"","","","",null,null,null,null,"","","","","","","","",""]
[null,null,null,null,null,null,null,null,null,"","","","","","",null,null,null,null,null,"","",null,null,null,null,null,"","","","",null,null,null,null,"","","","",null,null,null,null,null,null,"","","","",null,null,null,null,"","","","",null,null,null,null,"","","","",null,null,null,null,null,null,"","","","",null,null,null,null,null,null,"","","","",null,null,null,null,"","","","","","","","",""]
[null,null,null,null,null,null,null,null,null,"","","","","","",null,null,null,null,null,"","",null,null,null,null,null,"","","","",null,null,null,null,"","","","",null,null,null,null,null,null,"","","","",null,null,null,null,"","","","",null,null,null,null,"","","","",null,null,null,null,null,null,"","","","",null,null,null,null,null,null,"","","","",null,null,null,null,"","","","","","","","",""]
[null,null,null,null,null,null,null,null,null,"","","","","","",null,null,null,null,null,"","",null,null,null,null,null,"","","","",null,null,null,null,"","","","",null,null,null,null,null,null,"","","","",null,null,null,null,"","","","",null,null,null,null,"","","","",null,null,null,null,null,null,"","","","",null,null,null,null,null,null,"","","","",null,null,null,null,"","","","","","","","",""]
[null,null,null,null,null,null,null,null,null,"","","","","","",null,null,null,null,null,"","",null,null,null,null,null,"","","","",null,null,null,null,"","","","",null,null,null,null,null,null,"","","","",null,null,null,null,"","","","",null,null,null,null,"","","","",null,null,null,null,null,null,"","","","",null,null,null,null,null,null,"","","","",null,null,null,null,"","","","","","","","",""]
[null,null,null,null,null,null,null,null,null,"","","","","","",null,null,null,null,null,"","",null,null,null,null,null,"","","","",null,null,null,null,"","","","",null,null,null,null,null,null,"","","","",null,null,null,null,"","","","",null,null,null,null,"","","","",null,null,null,null,null,null,"","","","",null,null,null,null,null,null,"","","","",null,null,null,null,"","","","","","","","",""]
[null,null,null,null,null,null,null,null,null,"","","","","","",null,null,null,null,null,"","",null,null,null,null,null,"","","","",null,null,null,null,"","","","",null,null,null,null,null,null,"","","","",null,null,null,null,"","","","",null,null,null,null,"","","","",null,null,null,null,null,null,"","","","",null,null,null,null,null,null,"","","","",null,null,null,null,"","","","","","","","",""]
[null,null,null,null,null,null,null,null,null,"","","","","","",null,null,null,null,null,"","",null,null,null,null,null,"","","","",null,null,null,null,"","","","",null,null,null,null,null,null,"","","","",null,null,null,null,"","","","",null,null,null,null,"","","","",null,null,null,null,null,null,"","","","",null,null,null,null,null,null,"","","","",null,null,null,null,"","","","","","","","",""]
[null,null,null,null,null,null,null,null,null,{"$f":"IF(C484=\"\",\"\",G484*C484)","v":""},"","","","","",null,null,null,null,null,"","",null,null,null,null,null,"","","","",null,null,null,null,"","","","",null,null,null,null,null,null,"","","","",null,null,null,null,"","","","",null,null,null,null,"","","","",null,null,null,null,null,null,"","","","",null,null,null,null,null,null,"","","","",null,null,null,null,"","","","","","","","",""]
[null,null,null,null,null,null,null,null,null,"","","","","","",null,null,null,null,null,"","",null,null,null,null,null,"","","","",null,null,null,null,"","","","",null,null,null,null,null,null,"","","","",null,null,null,null,"","","","",null,null,null,null,"","","","",null,null,null,null,null,null,"","","","",null,null,null,null,null,null,"","","","",null,null,null,null,"","","","","","","","",""]
[null,null,null,null,null,null,null,null,null,"","","","","","",null,null,null,null,null,"","",null,null,null,null,null,"","","","",null,null,null,null,"","","","",null,null,null,null,null,null,"","","","",null,null,null,null,"","","","",null,null,null,null,"","","","",null,null,null,null,null,null,"","","","",null,null,null,null,null,null,"","","","",null,null,null,null,"","","","","","","","",""]
[null,null,null,null,null,null,null,null,null,"","","","","","",null,null,null,null,null,"","",null,null,null,null,null,"","","","",null,null,null,null,"","","","",null,null,null,null,null,null,"","","","",null,null,null,null,"","","","",null,null,null,null,"","","","",null,null,null,null,null,null,"","","","",null,null,null,null,null,null,"","","","",null,null,null,null,"","","","","","","","",""]
[null,null,null,null,null,null,null,null,null,"","","","","","",null,null,null,null,null,"","",null,null,null,null,null,"","","","",null,null,null,null,"","","","",null,null,null,null,null,null,"","","","",null,null,null,null,"","","","",null,null,null,null,"","","","",null,null,null,null,null,null,"","","","",null,null,null,null,null,null,"","","","",null,null,null,null,"","","","","","","","",""]
[null,null,null,null,null,null,null,null,null,"","","","","","",null,null,null,null,null,"","",null,null,null,null,null,"","","","",null,null,null,null,"","","","",null,null,null,null,null,null,"","","","",null,null,null,null,"","","","",null,null,null,null,"","","","",null,null,null,null,null,null,"","","","",null,null,null,null,null,null,"","","","",null,null,null,null,"","","","","","","","",""]
[null,null,null,null,null,null,null,null,null,"","","","","","",null,null,null,null,null,"","",null,null,null,null,null,"","","","",null,null,null,null,"","","","",null,null,null,null,null,null,"","","","",null,null,null,null,"","","","",null,null,null,null,"","","","",null,null,null,null,null,null,"","","","",null,null,null,null,null,null,"","","","",null,null,null,null,"","","","","","","","",""]
[null,null,null,null,null,null,null,null,null,"","","","","","",null,null,null,null,null,"","",null,null,null,null,null,"","","","",null,null,null,null,"","","","",null,null,null,null,null,null,"","","","",null,null,null,null,"","","","",null,null,null,null,"","","","",null,null,null,null,null,null,"","","","",null,null,null,null,null,null,"","","","",null,null,null,null,"","","","","","","","",""]
[null,null,null,null,null,null,null,null,null,"","","","","","",null,null,null,null,null,"","",null,null,null,null,null,"","","","",null,null,null,null,"","","","",null,null,null,null,null,null,"","","","",null,null,null,null,"","","","",null,null,null,null,"","","","",null,null,null,null,null,null,"","","","",null,null,null,null,null,null,"","","","",null,null,null,null,"","","","","","","","",""]
[null,null,null,null,null,null,null,null,null,"","","","","","",null,null,null,null,null,"","",null,null,null,null,null,"","","","",null,null,null,null,"","","","",null,null,null,null,null,null,"","","","",null,null,null,null,"","","","",null,null,null,null,"","","","",null,null,null,null,null,null,"","","","",null,null,null,null,null,null,"","","","",null,null,null,null,"","","","","","","","",""]
[null,null,null,null,null,null,null,null,null,"","","","","","",null,null,null,null,null,"","",null,null,null,null,null,"","","","",null,null,null,null,"","","","",null,null,null,null,null,null,"","","","",null,null,null,null,"","","","",null,null,null,null,"","","","",null,null,null,null,null,null,"","","","",null,null,null,null,null,null,"","","","",null,null,null,null,"","","","","","","","",""]
[null,null,null,null,null,null,null,null,null,"","","","","","",null,null,null,null,null,"","",null,null,null,null,null,"","","","",null,null,null,null,"","","","",null,null,null,null,null,null,"","","","",null,null,null,null,"","","","",null,null,null,null,"","","","",null,null,null,null,null,null,"","","","",null,null,null,null,null,null,"","","","",null,null,null,null,"","","","","","","","",""]
[null,null,null,null,null,null,null,null,null,"","","","","","",null,null,null,null,null,"","",null,null,null,null,null,"","","","",null,null,null,null,"","","","",null,null,null,null,null,null,"","","","",null,null,null,null,"","","","",null,null,null,null,"","","","",null,null,null,null,null,null,"","","","",null,null,null,null,null,null,"","","","",null,null,null,null,"","","","","","","","",""]
[null,null,null,null,null,null,null,null,null,"","","","","","",null,null,null,null,null,"","",null,null,null,null,null,"","","","",null,null,null,null,"","","","",null,null,null,null,null,null,"","","","",null,null,null,null,"","","","",null,null,null,null,"","","","",null,null,null,null,null,null,"","","","",null,null,null,null,null,null,"","","","",null,null,null,null,"","","","","","","","",""]
[null,null,null,null,null,null,null,null,null,"","","","","","",null,null,null,null,null,"","",null,null,null,null,null,"","","","",null,null,null,null,"","","","",null,null,null,null,null,null,"","","","",null,null,null,null,"","","","",null,null,null,null,"","","","",null,null,null,null,null,null,"","","","",null,null,null,null,null,null,"","","","",null,null,null,null,"","","","","","","","",""]
[null,null,null,null,null,null,null,null,null,"","","","","","",null,null,null,null,null,"","",null,null,null,null,null,"","","","",null,null,null,null,"","","","",null,null,null,null,null,null,"","","","",null,null,null,null,"","","","",null,null,null,null,"","","","",null,null,null,null,null,null,"","","","",null,null,null,null,null,null,"","","","",null,null,null,null,"","","","","","","","",""]
[null,null,null,null,null,null,null,null,null,"","","","","","",null,null,null,null,null,"","",null,null,null,null,null,"","","","",null,null,null,null,"","","","",null,null,null,null,null,null,"","","","",null,null,null,null,"","","","",null,null,null,null,"","","","",null,null,null,null,null,null,"","","","",null,null,null,null,null,null,"","","","",null,null,null,null,"","","","","","","","",""]
[null,null,null,null,null,null,null,null,null,"","","","","","",null,null,null,null,null,"","",null,null,null,null,null,"","","","",null,null,null,null,"","","","",null,null,null,null,null,null,"","","","",null,null,null,null,"","","","",null,null,null,null,"","","","",null,null,null,null,null,null,"","","","",null,null,null,null,null,null,"","","","",null,null,null,null,"","","","","","","","",""]
[null,null,null,null,null,null,null,null,null,"","","","","","",null,null,null,null,null,"","",null,null,null,null,null,"","","","",null,null,null,null,"","","","",null,null,null,null,null,null,"","","","",null,null,null,null,"","","","",null,null,null,null,"","","","",null,null,null,null,null,null,"","","","",null,null,null,null,null,null,"","","","",null,null,null,null,"","","","","","","","",""]
[null,null,null,null,null,null,null,null,null,"","","","","","",null,null,null,null,null,"","",null,null,null,null,null,"","","","",null,null,null,null,"","","","",null,null,null,null,null,null,"","","","",null,null,null,null,"","","","",null,null,null,null,"","","","",null,null,null,null,null,null,"","","","",null,null,null,null,null,null,"","","","",null,null,null,null,"","","","","","","","",""]
[null,null,null,null,null,null,null,null,null,"","","","","","",null,null,null,null,null,"","",null,null,null,null,null,"","","","",null,null,null,null,"","","","",null,null,null,null,null,null,"","","","",null,null,null,null,"","","","",null,null,null,null,"","","","",null,null,null,null,null,null,"","","","",null,null,null,null,null,null,"","","","",null,null,null,null,"","","","","","","","",""]
[null,null,null,null,null,null,null,null,null,"","","","","","",null,null,null,null,null,"","",null,null,null,null,null,"","","","",null,null,null,null,"","","","",null,null,null,null,null,null,"","","","",null,null,null,null,"","","","",null,null,null,null,"","","","",null,null,null,null,null,null,"","","","",null,null,null,null,null,null,"","","","",null,null,null,null,"","","","","","","","",""]
[null,null,null,null,null,null,null,null,null,"","","","","","",null,null,null,null,null,"","",null,null,null,null,null,"","","","",null,null,null,null,"","","","",null,null,null,null,null,null,"","","","",null,null,null,null,"","","","",null,null,null,null,"","","","",null,null,null,null,null,null,"","","","",null,null,null,null,null,null,"","","","",null,null,null,null,"","","","","","","","",""]
[null,null,null,null,null,null,null,null,null,"","","","","","",null,null,null,null,null,"","",null,null,null,null,null,"","","","",null,null,null,null,"","","","",null,null,null,null,null,null,"","","","",null,null,null,null,"","","","",null,null,null,null,"","","","",null,null,null,null,null,null,"","","","",null,null,null,null,null,null,"","","","",null,null,null,null,"","","","","","","","",""]
[null,null,null,null,null,null,null,null,null,"","","","","","",null,null,null,null,null,"","",null,null,null,null,null,"","","","",null,null,null,null,"","","","",null,null,null,null,null,null,"","","","",null,null,null,null,"","","","",null,null,null,null,"","","","",null,null,null,null,null,null,"","","","",null,null,null,null,null,null,"","","","",null,null,null,null,"","","","","","","","",""]
[null,null,null,null,null,null,null,null,null,"","","","","","",null,null,null,null,null,"","",null,null,null,null,null,"","","","",null,null,null,null,"","","","",null,null,null,null,null,null,"","","","",null,null,null,null,"","","","",null,null,null,null,"","","","",null,null,null,null,null,null,"","","","",null,null,null,null,null,null,"","","","",null,null,null,null,"","","","","","","","",""]
[null,null,null,null,null,null,null,null,null,"","","","","","",null,null,null,null,null,"","",null,null,null,null,null,"","","","",null,null,null,null,"","","","",null,null,null,null,null,null,"","","","",null,null,null,null,"","","","",null,null,null,null,"","","","",null,null,null,null,null,null,"","","","",null,null,null,null,null,null,"","","","",null,null,null,null,"","","","","","","","",""]
[null,null,null,null,null,null,null,null,null,"","","","","","",null,null,null,null,null,"","",null,null,null,null,null,"","","","",null,null,null,null,"","","","",null,null,null,null,null,null,"","","","",null,null,null,null,"","","","",null,null,null,null,"","","","",null,null,null,null,null,null,"","","","",null,null,null,null,null,null,"","","","",null,null,null,null,"","","","","","","","",""]
[null,null,null,null,null,null,null,null,null,"","","","","","",null,null,null,null,null,"","",null,null,null,null,null,"","","","",null,null,null,null,"","","","",null,null,null,null,null,null,"","","","",null,null,null,null,"","","","",null,null,null,null,"","","","",null,null,null,null,null,null,"","","","",null,null,null,null,null,null,"","","","",null,null,null,null,"","","","","","","","",""]
[null,null,null,null,null,null,null,null,null,"","","","","","",null,null,null,null,null,"","",null,null,null,null,null,"","","","",null,null,null,null,"","","","",null,null,null,null,null,null,"","","","",null,null,null,null,"","","","",null,null,null,null,"","","","",null,null,null,null,null,null,"","","","",null,null,null,null,null,null,"","","","",null,null,null,null,"","","","","","","","",""]
[null,null,null,null,null,null,null,null,null,"","","","","","",null,null,null,null,null,"","",null,null,null,null,null,"","","","",null,null,null,null,"","","","",null,null,null,null,null,null,"","","","",null,null,null,null,"","","","",null,null,null,null,"","","","",null,null,null,null,null,null,"","","","",null,null,null,null,null,null,"","","","",null,null,null,null,"","","","","","","","",""]
[null,null,null,null,null,null,null,null,null,"","","","","","",null,null,null,null,null,"","",null,null,null,null,null,"","","","",null,null,null,null,"","","","",null,null,null,null,null,null,"","","","",null,null,null,null,"","","","",null,null,null,null,"","","","",null,null,null,null,null,null,"","","","",null,null,null,null,null,null,"","","","",null,null,null,null,"","","","","","","","",""]
[null,null,null,null,null,null,null,null,null,"","","","","","",null,null,null,null,null,"","",null,null,null,null,null,"","","","",null,null,null,null,"","","","",null,null,null,null,null,null,"","","","",null,null,null,null,"","","","",null,null,null,null,"","","","",null,null,null,null,null,null,"","","","",null,null,null,null,null,null,"","","","",null,null,null,null,"","","","","","","","",""]
[null,null,null,null,null,null,null,null,null,"","","","","","",null,null,null,null,null,"","",null,null,null,null,null,"","","","",null,null,null,null,"","","","",null,null,null,null,null,null,"","","","",null,null,null,null,"","","","",null,null,null,null,"","","","",null,null,null,null,null,null,"","","","",null,null,null,null,null,null,"","","","",null,null,null,null,"","","","","","","","",""]
[null,null,null,null,null,null,null,null,null,"","","","","","",null,null,null,null,null,"","",null,null,null,null,null,"","","","",null,null,null,null,"","","","",null,null,null,null,null,null,"","","","",null,null,null,null,"","","","",null,null,null,null,"","","","",null,null,null,null,null,null,"","","","",null,null,null,null,null,null,"","","","",null,null,null,null,"","","","","","","","",""]
[null,null,null,null,null,null,null,null,null,"","","","","","",null,null,null,null,null,"","",null,null,null,null,null,"","","","",null,null,null,null,"","","","",null,null,null,null,null,null,"","","","",null,null,null,null,"","","","",null,null,null,null,"","","","",null,null,null,null,null,null,"","","","",null,null,null,null,null,null,"","","","",null,null,null,null,"","","","","","","","",""]
[null,null,null,null,null,null,null,null,null,"","","","","","",null,null,null,null,null,"","",null,null,null,null,null,"","","","",null,null,null,null,"","","","",null,null,null,null,null,null,"","","","",null,null,null,null,"","","","",null,null,null,null,"","","","",null,null,null,null,null,null,"","","","",null,null,null,null,null,null,"","","","",null,null,null,null,"","","","","","","","",""]
[null,null,null,null,null,null,null,null,null,"","","","","","",null,null,null,null,null,"","",null,null,null,null,null,"","","","",null,null,null,null,"","","","",null,null,null,null,null,null,"","","","",null,null,null,null,"","","","",null,null,null,null,"","","","",null,null,null,null,null,null,"","","","",null,null,null,null,null,null,"","","","",null,null,null,null,"","","","","","","","",""]
[null,null,null,null,null,null,null,null,null,"","","","","","",null,null,null,null,null,"","",null,null,null,null,null,"","","","",null,null,null,null,"","","","",null,null,null,null,null,null,"","","","",null,null,null,null,"","","","",null,null,null,null,"","","","",null,null,null,null,null,null,"","","","",null,null,null,null,null,null,"","","","",null,null,null,null,"","","","","","","","",""]
[null,null,null,null,null,null,null,null,null,"","","","","","",null,null,null,null,null,"","",null,null,null,null,null,"","","","",null,null,null,null,"","","","",null,null,null,null,null,null,"","","","",null,null,null,null,"","","","",null,null,null,null,"","","","",null,null,null,null,null,null,"","","","",null,null,null,null,null,null,"","","","",null,null,null,null,"","","","","","","","",""]
[null,null,null,null,null,null,null,null,null,"","","","","","",null,null,null,null,null,"","",null,null,null,null,null,"","","","",null,null,null,null,"","","","",null,null,null,null,null,null,"","","","",null,null,null,null,"","","","",null,null,null,null,"","","","",null,null,null,null,null,null,"","","","",null,null,null,null,null,null,"","","","",null,null,null,null,"","","","","","","","",""]
[null,null,null,null,null,null,null,null,null,"","","","","","",null,null,null,null,null,"","",null,null,null,null,null,"","","","",null,null,null,null,"","","","",null,null,null,null,null,null,"","","","",null,null,null,null,"","","","",null,null,null,null,"","","","",null,null,null,null,null,null,"","","","",null,null,null,null,null,null,"","","","",null,null,null,null,"","","","","","","","",""]
[null,null,null,null,null,null,null,null,null,"","","","","","",null,null,null,null,null,"","",null,null,null,null,null,"","","","",null,null,null,null,"","","","",null,null,null,null,null,null,"","","","",null,null,null,null,"","","","",null,null,null,null,"","","","",null,null,null,null,null,null,"","","","",null,null,null,null,null,null,"","","","",null,null,null,null,"","","","","","","","",""]
[null,null,null,null,null,null,null,null,null,"","","","","","",null,null,null,null,null,"","",null,null,null,null,null,"","","","",null,null,null,null,"","","","",null,null,null,null,null,null,"","","","",null,null,null,null,"","","","",null,null,null,null,"","","","",null,null,null,null,null,null,"","","","",null,null,null,null,null,null,"","","","",null,null,null,null,"","","","","","","","",""]
[null,null,null,null,null,null,null,null,null,"",{"$f":"IF(C528=\"\",\"\",IF(G528>=$D$4,0,J528))","v":""},"","","","",null,null,null,null,null,"","",null,null,null,null,null,"","","","",null,null,null,null,"",{"$f":"IF(C528=\"\",\"\",(AJ528-G528)*C528)","v":""},"","",null,null,null,null,null,null,"",{"$f":"IF(C528=\"\",\"\",(AT528-G528)*C528)","v":""},"","",null,null,null,null,"",{"$f":"IF(C528=\"\",\"\",(BB528-G528)*C528)","v":""},"","",null,null,null,null,"",{"$f":"IF(C528=\"\",\"\",(BJ528-G528)*C528)","v":""},"","",null,null,null,null,null,null,{"$f":"IF(C528=\"\",\"\",$BS$16+G528)","v":""},{"$f":"IF(C528=\"\",\"\",(BT528-G528)*C528)","v":""},{"$f":"IF(C528=\"\",\"\",IF(BT528-$D$4>=0,\"0\",($D$4-BT528)*C528))","v":""},{"$f":"IF(C528=\"\",\"\",IF(BT528-$D$4>=0,\"0\",C528))","v":""},null,null,null,null,null,null,{"$f":"IF(C528=\"\",\"\",$CC$16+G528)","v":""},{"$f":"IF(C528=\"\",\"\",(CD528-G528)*C528)","v":""},"","",null,null,null,null,{"$f":"IF(C528=\"\",\"\",B528)","v":""},{"$f":"IF(C528=\"\",\"\",G528)","v":""},{"$f":"IF(C528=\"\",\"\",AB528)","v":""},{"$f":"IF(C528=\"\",\"\",AJ528)","v":""},{"$f":"IF(C528=\"\",\"\",AT528)","v":""},{"$f":"IF(C528=\"\",\"\",BB528)","v":""},{"$f":"IF(C528=\"\",\"\",BJ528)","v":""},{"$f":"IF(C528=\"\",\"\",BT528)","v":""},{"$f":"IF(C528=\"\",\"\",CD528)","v":""}]
[null,null,null,null,null,null,null,null,null,"","",{"$f":"IF(C529=\"\",\"\",IF(G529>=$D$4,0,$D$4-G529))","v":""},{"$f":"IF(C529=\"\",\"\",L529*C529)","v":""},{"$f":"IF(C529=\"\",\"\",$D$4-G529)","v":""},{"$f":"IF(C529=\"\",\"\",IF(M529=0,\"0\",C529))","v":""},null,null,null,null,null,{"$f":"IF(C529=\"\",\"\",IF(G529-$S$16>0,G529-$S$16,0))","v":""},{"$f":"IF(C529=\"\",\"\",G529/$S$16)","v":""},null,null,null,null,null,{"$f":"IF(C529=\"\",\"\",IF(G529>=$D$4,G529,$D$4))","v":""},{"$f":"IF(C529=\"\",\"\",(AB529-G529)*C529)","v":""},{"$f":"IF(C529=\"\",\"\",IF(AT529-$D$4>=0,\"0\",($D$4-AT529)*C529))","v":""},{"$f":"IF(C529=\"\",\"\",IF(AB529-$D$4>=0,\"0\",C529))","v":""},null,null,null,null,{"$f":"IF(C529=\"\",\"\",IF(G529>=$D$4,G529+(($D$4-$X$16)*$BL$11/100),$D$4))","v":""},"",{"$f":"IF(C529=\"\",\"\",IF(AJ529-$D$4>=0,\"0\",($D$4-AJ529)*C529))","v":""},{"$f":"IF(C529=\"\",\"\",IF(AJ529-$D$4>=0,\"0\",C529))","v":""},null,null,null,null,null,null,{"$f":"IF(C529=\"\",\"\",IF($AU$7=0,\"specify scenario\",IF($AU$7=2,IF(G529>=$D$4,G529,G529+$AS$16),IF($AU$7=1,$AS$16+G529,\"specify scenario\"))))","v":""},"",{"$f":"IF(C529=\"\",\"\",IF(AT529-$D$4>=0,\"0\",($D$4-AT529)*C529))","v":""},{"$f":"IF(C529=\"\",\"\",IF(AT529-$D$4>=0,\"0\",C529))","v":""},null,null,null,null,{"$f":"IF(C529=\"\",\"\",IF((G529*(1+$BE$10/100))>(G529+$BE$11),(G529*(1+$BE$10/100)),(G529+$BE$11)))","v":""},"",{"$f":"IF(C529=\"\",\"\",IF(BB529-$D$4>=0,\"0\",($D$4-BB529)*C529))","v":""},{"$f":"IF(C529=\"\",\"\",IF(BB529-$D$4>=0,\"0\",C529))","v":""},null,null,null,null,"","",{"$f":"IF(C529=\"\",\"\",IF(BJ529-$D$4>=0,\"0\",($D$4-BJ529)*C529))","v":""},{"$f":"IF(C529=\"\",\"\",IF(BJ529-$D$4>=0,\"0\",C529))","v":""},null,null,null,null,null,null,"","","","",null,null,null,null,null,null,"","","","",null,null,null,null,"","","","","","","","",""]
[null,null,null,null,null,null,null,null,null,"","","","","","",null,null,null,null,null,"","",null,null,null,null,null,"","","","",null,null,null,null,"","","","",null,null,null,null,null,null,"","","","",null,null,null,null,"","","","",null,null,null,null,{"$f":"IF(C530=\"\",\"\",IF(G530>=$D$4,G530+(($D$4-$X$16)*$BL$11/100),$D$4))","v":""},"","","",null,null,null,null,null,null,"","","","",null,null,null,null,null,null,"","","","",null,null,null,null,"","","","","","","","",""]
[null,null,null,null,null,null,null,null,null,"","","","","","",null,null,null,null,null,"","",null,null,null,null,null,"","","","",null,null,null,null,"","","","",null,null,null,null,null,null,"","","","",null,null,null,null,"","","","",null,null,null,null,"","","","",null,null,null,null,null,null,"","","","",null,null,null,null,null,null,"","",{"$f":"IF(C531=\"\",\"\",IF(CD531-$D$4>=0,\"0\",($D$4-CD531)*C531))","v":""},"",null,null,null,null,"","","","","","","","",""]
[null,null,null,null,null,null,null,null,null,"","","","","","",null,null,null,null,null,"","",null,null,null,null,null,"","","","",null,null,null,null,"","","","",null,null,null,null,null,null,"","","","",null,null,null,null,"","","","",null,null,null,null,"","","","",null,null,null,null,null,null,"","","","",null,null,null,null,null,null,"","","","",null,null,null,null,"","","","","","","","",""]
[null,null,null,null,null,null,null,null,null,"","","","","","",null,null,null,null,null,"","",null,null,null,null,null,"","","","",null,null,null,null,"","","","",null,null,null,null,null,null,"","","","",null,null,null,null,"","","","",null,null,null,null,"","","","",null,null,null,null,null,null,"","","","",null,null,null,null,null,null,"","","","",null,null,null,null,"","","","","","","","",""]
[null,null,null,null,null,null,null,null,null,"","","","","","",null,null,null,null,null,"","",null,null,null,null,null,"","","","",null,null,null,null,"","","","",null,null,null,null,null,null,"","","","",null,null,null,null,"","","","",null,null,null,null,"","","","",null,null,null,null,null,null,"","","","",null,null,null,null,null,null,"","","","",null,null,null,null,"","","","","","","","",""]
[null,null,null,null,null,null,null,null,null,"","","","","","",null,null,null,null,null,"","",null,null,null,null,null,"","","","",null,null,null,null,"","","","",null,null,null,null,null,null,"","","","",null,null,null,null,"","","","",null,null,null,null,"","","","",null,null,null,null,null,null,"","","","",null,null,null,null,null,null,"","","",{"$f":"IF(C535=\"\",\"\",IF(CD535-$D$4>=0,\"0\",C535))","v":""},null,null,null,null,"","","","","","","","",""]
[null,null,null,null,null,null,null,null,null,"","","","","","",null,null,null,null,null,"","",null,null,null,null,null,"","","","",null,null,null,null,"","","","",null,null,null,null,null,null,"","","","",null,null,null,null,"","","","",null,null,null,null,"","","","",null,null,null,null,null,null,"","","","",null,null,null,null,null,null,"","","","",null,null,null,null,"","","","","","","","",""]
[null,null,null,null,null,null,null,null,null,"","","","","","",null,null,null,null,null,"","",null,null,null,null,null,"","","","",null,null,null,null,"","","","",null,null,null,null,null,null,"","","","",null,null,null,null,"","","","",null,null,null,null,"","","","",null,null,null,null,null,null,"","","","",null,null,null,null,null,null,"","","","",null,null,null,null,"","","","","","","","",""]
[null,null,null,null,null,null,null,null,null,"","","","","","",null,null,null,null,null,"","",null,null,null,null,null,"","","","",null,null,null,null,"","","","",null,null,null,null,null,null,"","","","",null,null,null,null,"","","","",null,null,null,null,"","","","",null,null,null,null,null,null,"","","","",null,null,null,null,null,null,"","","","",null,null,null,null,"","","","","","","","",""]
[null,null,null,null,null,null,null,null,null,"","","","","","",null,null,null,null,null,"","",null,null,null,null,null,"","","","",null,null,null,null,"","","","",null,null,null,null,null,null,"","","","",null,null,null,null,"","","","",null,null,null,null,"","","","",null,null,null,null,null,null,"","","","",null,null,null,null,null,null,"","","","",null,null,null,null,"","","","","","","","",""]
[null,null,null,null,null,null,null,null,null,"","","","","","",null,null,null,null,null,"","",null,null,null,null,null,"","","","",null,null,null,null,"","","","",null,null,null,null,null,null,"","","","",null,null,null,null,"","","","",null,null,null,null,"","","","",null,null,null,null,null,null,"","","","",null,null,null,null,null,null,"","","","",null,null,null,null,"","","","","","","","",""]
[null,null,null,null,null,null,null,null,null,"","","","","","",null,null,null,null,null,"","",null,null,null,null,null,"","","","",null,null,null,null,"","","","",null,null,null,null,null,null,"","","","",null,null,null,null,"","","","",null,null,null,null,"","","","",null,null,null,null,null,null,"","","","",null,null,null,null,null,null,"","","","",null,null,null,null,"","","","","","","","",""]
[null,null,null,null,null,null,null,null,null,"","","","","","",null,null,null,null,null,"","",null,null,null,null,null,"","","","",null,null,null,null,"","","","",null,null,null,null,null,null,"","","","",null,null,null,null,"","","","",null,null,null,null,"","","","",null,null,null,null,null,null,"","","","",null,null,null,null,null,null,"","","","",null,null,null,null,"","","","","","","","",""]
[null,null,null,null,null,null,null,null,null,"","","","","","",null,null,null,null,null,"","",null,null,null,null,null,"","","","",null,null,null,null,"","","","",null,null,null,null,null,null,"","","","",null,null,null,null,"","","","",null,null,null,null,"","","","",null,null,null,null,null,null,"","","","",null,null,null,null,null,null,"","","","",null,null,null,null,"","","","","","","","",""]
[null,null,null,null,null,null,null,null,null,"","","","","","",null,null,null,null,null,"","",null,null,null,null,null,"","","","",null,null,null,null,"","","","",null,null,null,null,null,null,"","","","",null,null,null,null,"","","","",null,null,null,null,"","","","",null,null,null,null,null,null,"","","","",null,null,null,null,null,null,"","","","",null,null,null,null,"","","","","","","","",""]
[null,null,null,null,null,null,null,null,null,"","","","","","",null,null,null,null,null,"","",null,null,null,null,null,"","","","",null,null,null,null,"","","","",null,null,null,null,null,null,"","","","",null,null,null,null,"","","","",null,null,null,null,"","","","",null,null,null,null,null,null,"","","","",null,null,null,null,null,null,"","","","",null,null,null,null,"","","","","","","","",""]
[null,null,null,null,null,null,null,null,null,"","","","","","",null,null,null,null,null,"","",null,null,null,null,null,"","","","",null,null,null,null,"","","","",null,null,null,null,null,null,"","","","",null,null,null,null,"","","","",null,null,null,null,"","","","",null,null,null,null,null,null,"","","","",null,null,null,null,null,null,"","","","",null,null,null,null,"","","","","","","","",""]
[null,null,null,null,null,null,null,null,null,"","","","","","",null,null,null,null,null,"","",null,null,null,null,null,"","","","",null,null,null,null,"","","","",null,null,null,null,null,null,"","","","",null,null,null,null,"","","","",null,null,null,null,"","","","",null,null,null,null,null,null,"","","","",null,null,null,null,null,null,"","","","",null,null,null,null,"","","","","","","","",""]
[null,null,null,null,null,null,null,null,null,{"$f":"IF(C548=\"\",\"\",G548*C548)","v":""},"","","","","",null,null,null,null,null,"","",null,null,null,null,null,"","","","",null,null,null,null,"","","","",null,null,null,null,null,null,"","","","",null,null,null,null,"","","","",null,null,null,null,"","","","",null,null,null,null,null,null,"","","","",null,null,null,null,null,null,"","","","",null,null,null,null,"","","","","","","","",""]
[null,null,null,null,null,null,null,null,null,"","","","","","",null,null,null,null,null,"","",null,null,null,null,null,"","","","",null,null,null,null,"","","","",null,null,null,null,null,null,"","","","",null,null,null,null,"","","","",null,null,null,null,"","","","",null,null,null,null,null,null,"","","","",null,null,null,null,null,null,"","","","",null,null,null,null,"","","","","","","","",""]
[null,null,null,null,null,null,null,null,null,"","","","","","",null,null,null,null,null,"","",null,null,null,null,null,"","","","",null,null,null,null,"","","","",null,null,null,null,null,null,"","","","",null,null,null,null,"","","","",null,null,null,null,"","","","",null,null,null,null,null,null,"","","","",null,null,null,null,null,null,"","","","",null,null,null,null,"","","","","","","","",""]
[null,null,null,null,null,null,null,null,null,"","","","","","",null,null,null,null,null,"","",null,null,null,null,null,"","","","",null,null,null,null,"","","","",null,null,null,null,null,null,"","","","",null,null,null,null,"","","","",null,null,null,null,"","","","",null,null,null,null,null,null,"","","","",null,null,null,null,null,null,"","","","",null,null,null,null,"","","","","","","","",""]
[null,null,null,null,null,null,null,null,null,"","","","","","",null,null,null,null,null,"","",null,null,null,null,null,"","","","",null,null,null,null,"","","","",null,null,null,null,null,null,"","","","",null,null,null,null,"","","","",null,null,null,null,"","","","",null,null,null,null,null,null,"","","","",null,null,null,null,null,null,"","","","",null,null,null,null,"","","","","","","","",""]
[null,null,null,null,null,null,null,null,null,"","","","","","",null,null,null,null,null,"","",null,null,null,null,null,"","","","",null,null,null,null,"","","","",null,null,null,null,null,null,"","","","",null,null,null,null,"","","","",null,null,null,null,"","","","",null,null,null,null,null,null,"","","","",null,null,null,null,null,null,"","","","",null,null,null,null,"","","","","","","","",""]
[null,null,null,null,null,null,null,null,null,"","","","","","",null,null,null,null,null,"","",null,null,null,null,null,"","","","",null,null,null,null,"","","","",null,null,null,null,null,null,"","","","",null,null,null,null,"","","","",null,null,null,null,"","","","",null,null,null,null,null,null,"","","","",null,null,null,null,null,null,"","","","",null,null,null,null,"","","","","","","","",""]
[null,null,null,null,null,null,null,null,null,"","","","","","",null,null,null,null,null,"","",null,null,null,null,null,"","","","",null,null,null,null,"","","","",null,null,null,null,null,null,"","","","",null,null,null,null,"","","","",null,null,null,null,"","","","",null,null,null,null,null,null,"","","","",null,null,null,null,null,null,"","","","",null,null,null,null,"","","","","","","","",""]
[null,null,null,null,null,null,null,null,null,"","","","","","",null,null,null,null,null,"","",null,null,null,null,null,"","","","",null,null,null,null,"","","","",null,null,null,null,null,null,"","","","",null,null,null,null,"","","","",null,null,null,null,"","","","",null,null,null,null,null,null,"","","","",null,null,null,null,null,null,"","","","",null,null,null,null,"","","","","","","","",""]
[null,null,null,null,null,null,null,null,null,"","","","","","",null,null,null,null,null,"","",null,null,null,null,null,"","","","",null,null,null,null,"","","","",null,null,null,null,null,null,"","","","",null,null,null,null,"","","","",null,null,null,null,"","","","",null,null,null,null,null,null,"","","","",null,null,null,null,null,null,"","","","",null,null,null,null,"","","","","","","","",""]
[null,null,null,null,null,null,null,null,null,"","","","","","",null,null,null,null,null,"","",null,null,null,null,null,"","","","",null,null,null,null,"","","","",null,null,null,null,null,null,"","","","",null,null,null,null,"","","","",null,null,null,null,"","","","",null,null,null,null,null,null,"","","","",null,null,null,null,null,null,"","","","",null,null,null,null,"","","","","","","","",""]
[null,null,null,null,null,null,null,null,null,"","","","","","",null,null,null,null,null,"","",null,null,null,null,null,"","","","",null,null,null,null,"","","","",null,null,null,null,null,null,"","","","",null,null,null,null,"","","","",null,null,null,null,"","","","",null,null,null,null,null,null,"","","","",null,null,null,null,null,null,"","","","",null,null,null,null,"","","","","","","","",""]
[null,null,null,null,null,null,null,null,null,"","","","","","",null,null,null,null,null,"","",null,null,null,null,null,"","","","",null,null,null,null,"","","","",null,null,null,null,null,null,"","","","",null,null,null,null,"","","","",null,null,null,null,"","","","",null,null,null,null,null,null,"","","","",null,null,null,null,null,null,"","","","",null,null,null,null,"","","","","","","","",""]
[null,null,null,null,null,null,null,null,null,"","","","","","",null,null,null,null,null,"","",null,null,null,null,null,"","","","",null,null,null,null,"","","","",null,null,null,null,null,null,"","","","",null,null,null,null,"","","","",null,null,null,null,"","","","",null,null,null,null,null,null,"","","","",null,null,null,null,null,null,"","","","",null,null,null,null,"","","","","","","","",""]
[null,null,null,null,null,null,null,null,null,"","","","","","",null,null,null,null,null,"","",null,null,null,null,null,"","","","",null,null,null,null,"","","","",null,null,null,null,null,null,"","","","",null,null,null,null,"","","","",null,null,null,null,"","","","",null,null,null,null,null,null,"","","","",null,null,null,null,null,null,"","","","",null,null,null,null,"","","","","","","","",""]
[null,null,null,null,null,null,null,null,null,"","","","","","",null,null,null,null,null,"","",null,null,null,null,null,"","","","",null,null,null,null,"","","","",null,null,null,null,null,null,"","","","",null,null,null,null,"","","","",null,null,null,null,"","","","",null,null,null,null,null,null,"","","","",null,null,null,null,null,null,"","","","",null,null,null,null,"","","","","","","","",""]
[null,null,null,null,null,null,null,null,null,"","","","","","",null,null,null,null,null,"","",null,null,null,null,null,"","","","",null,null,null,null,"","","","",null,null,null,null,null,null,"","","","",null,null,null,null,"","","","",null,null,null,null,"","","","",null,null,null,null,null,null,"","","","",null,null,null,null,null,null,"","","","",null,null,null,null,"","","","","","","","",""]
[null,null,null,null,null,null,null,null,null,"","","","","","",null,null,null,null,null,"","",null,null,null,null,null,"","","","",null,null,null,null,"","","","",null,null,null,null,null,null,"","","","",null,null,null,null,"","","","",null,null,null,null,"","","","",null,null,null,null,null,null,"","","","",null,null,null,null,null,null,"","","","",null,null,null,null,"","","","","","","","",""]
[null,null,null,null,null,null,null,null,null,"","","","","","",null,null,null,null,null,"","",null,null,null,null,null,"","","","",null,null,null,null,"","","","",null,null,null,null,null,null,"","","","",null,null,null,null,"","","","",null,null,null,null,"","","","",null,null,null,null,null,null,"","","","",null,null,null,null,null,null,"","","","",null,null,null,null,"","","","","","","","",""]
[null,null,null,null,null,null,null,null,null,"","","","","","",null,null,null,null,null,"","",null,null,null,null,null,"","","","",null,null,null,null,"","","","",null,null,null,null,null,null,"","","","",null,null,null,null,"","","","",null,null,null,null,"","","","",null,null,null,null,null,null,"","","","",null,null,null,null,null,null,"","","","",null,null,null,null,"","","","","","","","",""]
[null,null,null,null,null,null,null,null,null,"","","","","","",null,null,null,null,null,"","",null,null,null,null,null,"","","","",null,null,null,null,"","","","",null,null,null,null,null,null,"","","","",null,null,null,null,"","","","",null,null,null,null,"","","","",null,null,null,null,null,null,"","","","",null,null,null,null,null,null,"","","","",null,null,null,null,"","","","","","","","",""]
[null,null,null,null,null,null,null,null,null,"","","","","","",null,null,null,null,null,"","",null,null,null,null,null,"","","","",null,null,null,null,"","","","",null,null,null,null,null,null,"","","","",null,null,null,null,"","","","",null,null,null,null,"","","","",null,null,null,null,null,null,"","","","",null,null,null,null,null,null,"","","","",null,null,null,null,"","","","","","","","",""]
[null,null,null,null,null,null,null,null,null,"","","","","","",null,null,null,null,null,"","",null,null,null,null,null,"","","","",null,null,null,null,"","","","",null,null,null,null,null,null,"","","","",null,null,null,null,"","","","",null,null,null,null,"","","","",null,null,null,null,null,null,"","","","",null,null,null,null,null,null,"","","","",null,null,null,null,"","","","","","","","",""]
[null,null,null,null,null,null,null,null,null,"","","","","","",null,null,null,null,null,"","",null,null,null,null,null,"","","","",null,null,null,null,"","","","",null,null,null,null,null,null,"","","","",null,null,null,null,"","","","",null,null,null,null,"","","","",null,null,null,null,null,null,"","","","",null,null,null,null,null,null,"","","","",null,null,null,null,"","","","","","","","",""]
[null,null,null,null,null,null,null,null,null,"","","","","","",null,null,null,null,null,"","",null,null,null,null,null,"","","","",null,null,null,null,"","","","",null,null,null,null,null,null,"","","","",null,null,null,null,"","","","",null,null,null,null,"","","","",null,null,null,null,null,null,"","","","",null,null,null,null,null,null,"","","","",null,null,null,null,"","","","","","","","",""]
[null,null,null,null,null,null,null,null,null,"","","","","","",null,null,null,null,null,"","",null,null,null,null,null,"","","","",null,null,null,null,"","","","",null,null,null,null,null,null,"","","","",null,null,null,null,"","","","",null,null,null,null,"","","","",null,null,null,null,null,null,"","","","",null,null,null,null,null,null,"","","","",null,null,null,null,"","","","","","","","",""]
[null,null,null,null,null,null,null,null,null,"","","","","","",null,null,null,null,null,"","",null,null,null,null,null,"","","","",null,null,null,null,"","","","",null,null,null,null,null,null,"","","","",null,null,null,null,"","","","",null,null,null,null,"","","","",null,null,null,null,null,null,"","","","",null,null,null,null,null,null,"","","","",null,null,null,null,"","","","","","","","",""]
[null,null,null,null,null,null,null,null,null,"","","","","","",null,null,null,null,null,"","",null,null,null,null,null,"","","","",null,null,null,null,"","","","",null,null,null,null,null,null,"","","","",null,null,null,null,"","","","",null,null,null,null,"","","","",null,null,null,null,null,null,"","","","",null,null,null,null,null,null,"","","","",null,null,null,null,"","","","","","","","",""]
[null,null,null,null,null,null,null,null,null,"","","","","","",null,null,null,null,null,"","",null,null,null,null,null,"","","","",null,null,null,null,"","","","",null,null,null,null,null,null,"","","","",null,null,null,null,"","","","",null,null,null,null,"","","","",null,null,null,null,null,null,"","","","",null,null,null,null,null,null,"","","","",null,null,null,null,"","","","","","","","",""]
[null,null,null,null,null,null,null,null,null,"","","","","","",null,null,null,null,null,"","",null,null,null,null,null,"","","","",null,null,null,null,"","","","",null,null,null,null,null,null,"","","","",null,null,null,null,"","","","",null,null,null,null,"","","","",null,null,null,null,null,null,"","","","",null,null,null,null,null,null,"","","","",null,null,null,null,"","","","","","","","",""]
[null,null,null,null,null,null,null,null,null,"","","","","","",null,null,null,null,null,"","",null,null,null,null,null,"","","","",null,null,null,null,"","","","",null,null,null,null,null,null,"","","","",null,null,null,null,"","","","",null,null,null,null,"","","","",null,null,null,null,null,null,"","","","",null,null,null,null,null,null,"","","","",null,null,null,null,"","","","","","","","",""]
[null,null,null,null,null,null,null,null,null,"","","","","","",null,null,null,null,null,"","",null,null,null,null,null,"","","","",null,null,null,null,"","","","",null,null,null,null,null,null,"","","","",null,null,null,null,"","","","",null,null,null,null,"","","","",null,null,null,null,null,null,"","","","",null,null,null,null,null,null,"","","","",null,null,null,null,"","","","","","","","",""]
[null,null,null,null,null,null,null,null,null,"","","","","","",null,null,null,null,null,"","",null,null,null,null,null,"","","","",null,null,null,null,"","","","",null,null,null,null,null,null,"","","","",null,null,null,null,"","","","",null,null,null,null,"","","","",null,null,null,null,null,null,"","","","",null,null,null,null,null,null,"","","","",null,null,null,null,"","","","","","","","",""]
[null,null,null,null,null,null,null,null,null,"","","","","","",null,null,null,null,null,"","",null,null,null,null,null,"","","","",null,null,null,null,"","","","",null,null,null,null,null,null,"","","","",null,null,null,null,"","","","",null,null,null,null,"","","","",null,null,null,null,null,null,"","","","",null,null,null,null,null,null,"","","","",null,null,null,null,"","","","","","","","",""]
[null,null,null,null,null,null,null,null,null,"","","","","","",null,null,null,null,null,"","",null,null,null,null,null,"","","","",null,null,null,null,"","","","",null,null,null,null,null,null,"","","","",null,null,null,null,"","","","",null,null,null,null,"","","","",null,null,null,null,null,null,"","","","",null,null,null,null,null,null,"","","","",null,null,null,null,"","","","","","","","",""]
[null,null,null,null,null,null,null,null,null,"","","","","","",null,null,null,null,null,"","",null,null,null,null,null,"","","","",null,null,null,null,"","","","",null,null,null,null,null,null,"","","","",null,null,null,null,"","","","",null,null,null,null,"","","","",null,null,null,null,null,null,"","","","",null,null,null,null,null,null,"","","","",null,null,null,null,"","","","","","","","",""]
[null,null,null,null,null,null,null,null,null,"","","","","","",null,null,null,null,null,"","",null,null,null,null,null,"","","","",null,null,null,null,"","","","",null,null,null,null,null,null,"","","","",null,null,null,null,"","","","",null,null,null,null,"","","","",null,null,null,null,null,null,"","","","",null,null,null,null,null,null,"","","","",null,null,null,null,"","","","","","","","",""]
[null,null,null,null,null,null,null,null,null,"","","","","","",null,null,null,null,null,"","",null,null,null,null,null,"","","","",null,null,null,null,"","","","",null,null,null,null,null,null,"","","","",null,null,null,null,"","","","",null,null,null,null,"","","","",null,null,null,null,null,null,"","","","",null,null,null,null,null,null,"","","","",null,null,null,null,"","","","","","","","",""]
[null,null,null,null,null,null,null,null,null,"","","","","","",null,null,null,null,null,"","",null,null,null,null,null,"","","","",null,null,null,null,"","","","",null,null,null,null,null,null,"","","","",null,null,null,null,"","","","",null,null,null,null,"","","","",null,null,null,null,null,null,"","","","",null,null,null,null,null,null,"","","","",null,null,null,null,"","","","","","","","",""]
[null,null,null,null,null,null,null,null,null,"","","","","","",null,null,null,null,null,"","",null,null,null,null,null,"","","","",null,null,null,null,"","","","",null,null,null,null,null,null,"","","","",null,null,null,null,"","","","",null,null,null,null,"","","","",null,null,null,null,null,null,"","","","",null,null,null,null,null,null,"","","","",null,null,null,null,"","","","","","","","",""]
[null,null,null,null,null,null,null,null,null,"","","","","","",null,null,null,null,null,"","",null,null,null,null,null,"","","","",null,null,null,null,"","","","",null,null,null,null,null,null,"","","","",null,null,null,null,"","","","",null,null,null,null,"","","","",null,null,null,null,null,null,"","","","",null,null,null,null,null,null,"","","","",null,null,null,null,"","","","","","","","",""]
[null,null,null,null,null,null,null,null,null,"","","","","","",null,null,null,null,null,"","",null,null,null,null,null,"","","","",null,null,null,null,"","","","",null,null,null,null,null,null,"","","","",null,null,null,null,"","","","",null,null,null,null,"","","","",null,null,null,null,null,null,"","","","",null,null,null,null,null,null,"","","","",null,null,null,null,"","","","","","","","",""]
[null,null,null,null,null,null,null,null,null,"","","","","","",null,null,null,null,null,"","",null,null,null,null,null,"","","","",null,null,null,null,"","","","",null,null,null,null,null,null,"","","","",null,null,null,null,"","","","",null,null,null,null,"","","","",null,null,null,null,null,null,"","","","",null,null,null,null,null,null,"","","","",null,null,null,null,"","","","","","","","",""]
[null,null,null,null,null,null,null,null,null,"","","","","","",null,null,null,null,null,"","",null,null,null,null,null,"","","","",null,null,null,null,"","","","",null,null,null,null,null,null,"","","","",null,null,null,null,"","","","",null,null,null,null,"","","","",null,null,null,null,null,null,"","","","",null,null,null,null,null,null,"","","","",null,null,null,null,"","","","","","","","",""]
[null,null,null,null,null,null,null,null,null,"",{"$f":"IF(C592=\"\",\"\",IF(G592>=$D$4,0,J592))","v":""},"","","","",null,null,null,null,null,"","",null,null,null,null,null,"","","","",null,null,null,null,"",{"$f":"IF(C592=\"\",\"\",(AJ592-G592)*C592)","v":""},"","",null,null,null,null,null,null,"",{"$f":"IF(C592=\"\",\"\",(AT592-G592)*C592)","v":""},"","",null,null,null,null,"",{"$f":"IF(C592=\"\",\"\",(BB592-G592)*C592)","v":""},"","",null,null,null,null,"",{"$f":"IF(C592=\"\",\"\",(BJ592-G592)*C592)","v":""},"","",null,null,null,null,null,null,{"$f":"IF(C592=\"\",\"\",$BS$16+G592)","v":""},{"$f":"IF(C592=\"\",\"\",(BT592-G592)*C592)","v":""},{"$f":"IF(C592=\"\",\"\",IF(BT592-$D$4>=0,\"0\",($D$4-BT592)*C592))","v":""},{"$f":"IF(C592=\"\",\"\",IF(BT592-$D$4>=0,\"0\",C592))","v":""},null,null,null,null,null,null,{"$f":"IF(C592=\"\",\"\",$CC$16+G592)","v":""},{"$f":"IF(C592=\"\",\"\",(CD592-G592)*C592)","v":""},"","",null,null,null,null,{"$f":"IF(C592=\"\",\"\",B592)","v":""},{"$f":"IF(C592=\"\",\"\",G592)","v":""},{"$f":"IF(C592=\"\",\"\",AB592)","v":""},{"$f":"IF(C592=\"\",\"\",AJ592)","v":""},{"$f":"IF(C592=\"\",\"\",AT592)","v":""},{"$f":"IF(C592=\"\",\"\",BB592)","v":""},{"$f":"IF(C592=\"\",\"\",BJ592)","v":""},{"$f":"IF(C592=\"\",\"\",BT592)","v":""},{"$f":"IF(C592=\"\",\"\",CD592)","v":""}]
[null,null,null,null,null,null,null,null,null,"","",{"$f":"IF(C593=\"\",\"\",IF(G593>=$D$4,0,$D$4-G593))","v":""},{"$f":"IF(C593=\"\",\"\",L593*C593)","v":""},{"$f":"IF(C593=\"\",\"\",$D$4-G593)","v":""},{"$f":"IF(C593=\"\",\"\",IF(M593=0,\"0\",C593))","v":""},null,null,null,null,null,{"$f":"IF(C593=\"\",\"\",IF(G593-$S$16>0,G593-$S$16,0))","v":""},{"$f":"IF(C593=\"\",\"\",G593/$S$16)","v":""},null,null,null,null,null,{"$f":"IF(C593=\"\",\"\",IF(G593>=$D$4,G593,$D$4))","v":""},{"$f":"IF(C593=\"\",\"\",(AB593-G593)*C593)","v":""},{"$f":"IF(C593=\"\",\"\",IF(AT593-$D$4>=0,\"0\",($D$4-AT593)*C593))","v":""},{"$f":"IF(C593=\"\",\"\",IF(AB593-$D$4>=0,\"0\",C593))","v":""},null,null,null,null,{"$f":"IF(C593=\"\",\"\",IF(G593>=$D$4,G593+(($D$4-$X$16)*$BL$11/100),$D$4))","v":""},"",{"$f":"IF(C593=\"\",\"\",IF(AJ593-$D$4>=0,\"0\",($D$4-AJ593)*C593))","v":""},{"$f":"IF(C593=\"\",\"\",IF(AJ593-$D$4>=0,\"0\",C593))","v":""},null,null,null,null,null,null,{"$f":"IF(C593=\"\",\"\",IF($AU$7=0,\"specify scenario\",IF($AU$7=2,IF(G593>=$D$4,G593,G593+$AS$16),IF($AU$7=1,$AS$16+G593,\"specify scenario\"))))","v":""},"",{"$f":"IF(C593=\"\",\"\",IF(AT593-$D$4>=0,\"0\",($D$4-AT593)*C593))","v":""},{"$f":"IF(C593=\"\",\"\",IF(AT593-$D$4>=0,\"0\",C593))","v":""},null,null,null,null,{"$f":"IF(C593=\"\",\"\",IF((G593*(1+$BE$10/100))>(G593+$BE$11),(G593*(1+$BE$10/100)),(G593+$BE$11)))","v":""},"",{"$f":"IF(C593=\"\",\"\",IF(BB593-$D$4>=0,\"0\",($D$4-BB593)*C593))","v":""},{"$f":"IF(C593=\"\",\"\",IF(BB593-$D$4>=0,\"0\",C593))","v":""},null,null,null,null,"","",{"$f":"IF(C593=\"\",\"\",IF(BJ593-$D$4>=0,\"0\",($D$4-BJ593)*C593))","v":""},{"$f":"IF(C593=\"\",\"\",IF(BJ593-$D$4>=0,\"0\",C593))","v":""},null,null,null,null,null,null,"","","","",null,null,null,null,null,null,"","","","",null,null,null,null,"","","","","","","","",""]
[null,null,null,null,null,null,null,null,null,"","","","","","",null,null,null,null,null,"","",null,null,null,null,null,"","","","",null,null,null,null,"","","","",null,null,null,null,null,null,"","","","",null,null,null,null,"","","","",null,null,null,null,{"$f":"IF(C594=\"\",\"\",IF(G594>=$D$4,G594+(($D$4-$X$16)*$BL$11/100),$D$4))","v":""},"","","",null,null,null,null,null,null,"","","","",null,null,null,null,null,null,"","","","",null,null,null,null,"","","","","","","","",""]
[null,null,null,null,null,null,null,null,null,"","","","","","",null,null,null,null,null,"","",null,null,null,null,null,"","","","",null,null,null,null,"","","","",null,null,null,null,null,null,"","","","",null,null,null,null,"","","","",null,null,null,null,"","","","",null,null,null,null,null,null,"","","","",null,null,null,null,null,null,"","",{"$f":"IF(C595=\"\",\"\",IF(CD595-$D$4>=0,\"0\",($D$4-CD595)*C595))","v":""},"",null,null,null,null,"","","","","","","","",""]
[null,null,null,null,null,null,null,null,null,"","","","","","",null,null,null,null,null,"","",null,null,null,null,null,"","","","",null,null,null,null,"","","","",null,null,null,null,null,null,"","","","",null,null,null,null,"","","","",null,null,null,null,"","","","",null,null,null,null,null,null,"","","","",null,null,null,null,null,null,"","","","",null,null,null,null,"","","","","","","","",""]
[null,null,null,null,null,null,null,null,null,"","","","","","",null,null,null,null,null,"","",null,null,null,null,null,"","","","",null,null,null,null,"","","","",null,null,null,null,null,null,"","","","",null,null,null,null,"","","","",null,null,null,null,"","","","",null,null,null,null,null,null,"","","","",null,null,null,null,null,null,"","","","",null,null,null,null,"","","","","","","","",""]
[null,null,null,null,null,null,null,null,null,"","","","","","",null,null,null,null,null,"","",null,null,null,null,null,"","","","",null,null,null,null,"","","","",null,null,null,null,null,null,"","","","",null,null,null,null,"","","","",null,null,null,null,"","","","",null,null,null,null,null,null,"","","","",null,null,null,null,null,null,"","","","",null,null,null,null,"","","","","","","","",""]
[null,null,null,null,null,null,null,null,null,"","","","","","",null,null,null,null,null,"","",null,null,null,null,null,"","","","",null,null,null,null,"","","","",null,null,null,null,null,null,"","","","",null,null,null,null,"","","","",null,null,null,null,"","","","",null,null,null,null,null,null,"","","","",null,null,null,null,null,null,"","","",{"$f":"IF(C599=\"\",\"\",IF(CD599-$D$4>=0,\"0\",C599))","v":""},null,null,null,null,"","","","","","","","",""]
[null,null,null,null,null,null,null,null,null,"","","","","","",null,null,null,null,null,"","",null,null,null,null,null,"","","","",null,null,null,null,"","","","",null,null,null,null,null,null,"","","","",null,null,null,null,"","","","",null,null,null,null,"","","","",null,null,null,null,null,null,"","","","",null,null,null,null,null,null,"","","","",null,null,null,null,"","","","","","","","",""]
[null,null,null,null,null,null,null,null,null,"","","","","","",null,null,null,null,null,"","",null,null,null,null,null,"","","","",null,null,null,null,"","","","",null,null,null,null,null,null,"","","","",null,null,null,null,"","","","",null,null,null,null,"","","","",null,null,null,null,null,null,"","","","",null,null,null,null,null,null,"","","","",null,null,null,null,"","","","","","","","",""]
[null,null,null,null,null,null,null,null,null,"","","","","","",null,null,null,null,null,"","",null,null,null,null,null,"","","","",null,null,null,null,"","","","",null,null,null,null,null,null,"","","","",null,null,null,null,"","","","",null,null,null,null,"","","","",null,null,null,null,null,null,"","","","",null,null,null,null,null,null,"","","","",null,null,null,null,"","","","","","","","",""]
[null,null,null,null,null,null,null,null,null,"","","","","","",null,null,null,null,null,"","",null,null,null,null,null,"","","","",null,null,null,null,"","","","",null,null,null,null,null,null,"","","","",null,null,null,null,"","","","",null,null,null,null,"","","","",null,null,null,null,null,null,"","","","",null,null,null,null,null,null,"","","","",null,null,null,null,"","","","","","","","",""]
[null,null,null,null,null,null,null,null,null,"","","","","","",null,null,null,null,null,"","",null,null,null,null,null,"","","","",null,null,null,null,"","","","",null,null,null,null,null,null,"","","","",null,null,null,null,"","","","",null,null,null,null,"","","","",null,null,null,null,null,null,"","","","",null,null,null,null,null,null,"","","","",null,null,null,null,"","","","","","","","",""]
[null,null,null,null,null,null,null,null,null,"","","","","","",null,null,null,null,null,"","",null,null,null,null,null,"","","","",null,null,null,null,"","","","",null,null,null,null,null,null,"","","","",null,null,null,null,"","","","",null,null,null,null,"","","","",null,null,null,null,null,null,"","","","",null,null,null,null,null,null,"","","","",null,null,null,null,"","","","","","","","",""]
[null,null,null,null,null,null,null,null,null,"","","","","","",null,null,null,null,null,"","",null,null,null,null,null,"","","","",null,null,null,null,"","","","",null,null,null,null,null,null,"","","","",null,null,null,null,"","","","",null,null,null,null,"","","","",null,null,null,null,null,null,"","","","",null,null,null,null,null,null,"","","","",null,null,null,null,"","","","","","","","",""]
[null,null,null,null,null,null,null,null,null,"","","","","","",null,null,null,null,null,"","",null,null,null,null,null,"","","","",null,null,null,null,"","","","",null,null,null,null,null,null,"","","","",null,null,null,null,"","","","",null,null,null,null,"","","","",null,null,null,null,null,null,"","","","",null,null,null,null,null,null,"","","","",null,null,null,null,"","","","","","","","",""]
[null,null,null,null,null,null,null,null,null,"","","","","","",null,null,null,null,null,"","",null,null,null,null,null,"","","","",null,null,null,null,"","","","",null,null,null,null,null,null,"","","","",null,null,null,null,"","","","",null,null,null,null,"","","","",null,null,null,null,null,null,"","","","",null,null,null,null,null,null,"","","","",null,null,null,null,"","","","","","","","",""]
[null,null,null,null,null,null,null,null,null,"","","","","","",null,null,null,null,null,"","",null,null,null,null,null,"","","","",null,null,null,null,"","","","",null,null,null,null,null,null,"","","","",null,null,null,null,"","","","",null,null,null,null,"","","","",null,null,null,null,null,null,"","","","",null,null,null,null,null,null,"","","","",null,null,null,null,"","","","","","","","",""]
[null,null,null,null,null,null,null,null,null,"","","","","","",null,null,null,null,null,"","",null,null,null,null,null,"","","","",null,null,null,null,"","","","",null,null,null,null,null,null,"","","","",null,null,null,null,"","","","",null,null,null,null,"","","","",null,null,null,null,null,null,"","","","",null,null,null,null,null,null,"","","","",null,null,null,null,"","","","","","","","",""]
[null,null,null,null,null,null,null,null,null,"","","","","","",null,null,null,null,null,"","",null,null,null,null,null,"","","","",null,null,null,null,"","","","",null,null,null,null,null,null,"","","","",null,null,null,null,"","","","",null,null,null,null,"","","","",null,null,null,null,null,null,"","","","",null,null,null,null,null,null,"","","","",null,null,null,null,"","","","","","","","",""]
[null,null,null,null,null,null,null,null,null,{"$f":"IF(C612=\"\",\"\",G612*C612)","v":""},"","","","","",null,null,null,null,null,"","",null,null,null,null,null,"","","","",null,null,null,null,"","","","",null,null,null,null,null,null,"","","","",null,null,null,null,"","","","",null,null,null,null,"","","","",null,null,null,null,null,null,"","","","",null,null,null,null,null,null,"","","","",null,null,null,null,"","","","","","","","",""]
[null,null,null,null,null,null,null,null,null,"","","","","","",null,null,null,null,null,"","",null,null,null,null,null,"","","","",null,null,null,null,"","","","",null,null,null,null,null,null,"","","","",null,null,null,null,"","","","",null,null,null,null,"","","","",null,null,null,null,null,null,"","","","",null,null,null,null,null,null,"","","","",null,null,null,null,"","","","","","","","",""]
[null,null,null,null,null,null,null,null,null,"","","","","","",null,null,null,null,null,"","",null,null,null,null,null,"","","","",null,null,null,null,"","","","",null,null,null,null,null,null,"","","","",null,null,null,null,"","","","",null,null,null,null,"","","","",null,null,null,null,null,null,"","","","",null,null,null,null,null,null,"","","","",null,null,null,null,"","","","","","","","",""]
[null,null,null,null,null,null,null,null,null,"","","","","","",null,null,null,null,null,"","",null,null,null,null,null,"","","","",null,null,null,null,"","","","",null,null,null,null,null,null,"","","","",null,null,null,null,"","","","",null,null,null,null,"","","","",null,null,null,null,null,null,"","","","",null,null,null,null,null,null,"","","","",null,null,null,null,"","","","","","","","",""]
[null,null,null,null,null,null,null,null,null,"","","","","","",null,null,null,null,null,"","",null,null,null,null,null,"","","","",null,null,null,null,"","","","",null,null,null,null,null,null,"","","","",null,null,null,null,"","","","",null,null,null,null,"","","","",null,null,null,null,null,null,"","","","",null,null,null,null,null,null,"","","","",null,null,null,null,"","","","","","","","",""]
[null,null,null,null,null,null,null,null,null,"","","","","","",null,null,null,null,null,"","",null,null,null,null,null,"","","","",null,null,null,null,"","","","",null,null,null,null,null,null,"","","","",null,null,null,null,"","","","",null,null,null,null,"","","","",null,null,null,null,null,null,"","","","",null,null,null,null,null,null,"","","","",null,null,null,null,"","","","","","","","",""]
[null,null,null,null,null,null,null,null,null,"","","","","","",null,null,null,null,null,"","",null,null,null,null,null,"","","","",null,null,null,null,"","","","",null,null,null,null,null,null,"","","","",null,null,null,null,"","","","",null,null,null,null,"","","","",null,null,null,null,null,null,"","","","",null,null,null,null,null,null,"","","","",null,null,null,null,"","","","","","","","",""]
[null,null,null,null,null,null,null,null,null,"","","","","","",null,null,null,null,null,"","",null,null,null,null,null,"","","","",null,null,null,null,"","","","",null,null,null,null,null,null,"","","","",null,null,null,null,"","","","",null,null,null,null,"","","","",null,null,null,null,null,null,"","","","",null,null,null,null,null,null,"","","","",null,null,null,null,"","","","","","","","",""]
[null,null,null,null,null,null,null,null,null,"","","","","","",null,null,null,null,null,"","",null,null,null,null,null,"","","","",null,null,null,null,"","","","",null,null,null,null,null,null,"","","","",null,null,null,null,"","","","",null,null,null,null,"","","","",null,null,null,null,null,null,"","","","",null,null,null,null,null,null,"","","","",null,null,null,null,"","","","","","","","",""]
[null,null,null,null,null,null,null,null,null,"","","","","","",null,null,null,null,null,"","",null,null,null,null,null,"","","","",null,null,null,null,"","","","",null,null,null,null,null,null,"","","","",null,null,null,null,"","","","",null,null,null,null,"","","","",null,null,null,null,null,null,"","","","",null,null,null,null,null,null,"","","","",null,null,null,null,"","","","","","","","",""]
[null,null,null,null,null,null,null,null,null,"","","","","","",null,null,null,null,null,"","",null,null,null,null,null,"","","","",null,null,null,null,"","","","",null,null,null,null,null,null,"","","","",null,null,null,null,"","","","",null,null,null,null,"","","","",null,null,null,null,null,null,"","","","",null,null,null,null,null,null,"","","","",null,null,null,null,"","","","","","","","",""]
[null,null,null,null,null,null,null,null,null,"","","","","","",null,null,null,null,null,"","",null,null,null,null,null,"","","","",null,null,null,null,"","","","",null,null,null,null,null,null,"","","","",null,null,null,null,"","","","",null,null,null,null,"","","","",null,null,null,null,null,null,"","","","",null,null,null,null,null,null,"","","","",null,null,null,null,"","","","","","","","",""]
[null,null,null,null,null,null,null,null,null,"","","","","","",null,null,null,null,null,"","",null,null,null,null,null,"","","","",null,null,null,null,"","","","",null,null,null,null,null,null,"","","","",null,null,null,null,"","","","",null,null,null,null,"","","","",null,null,null,null,null,null,"","","","",null,null,null,null,null,null,"","","","",null,null,null,null,"","","","","","","","",""]
[null,null,null,null,null,null,null,null,null,"","","","","","",null,null,null,null,null,"","",null,null,null,null,null,"","","","",null,null,null,null,"","","","",null,null,null,null,null,null,"","","","",null,null,null,null,"","","","",null,null,null,null,"","","","",null,null,null,null,null,null,"","","","",null,null,null,null,null,null,"","","","",null,null,null,null,"","","","","","","","",""]
[null,null,null,null,null,null,null,null,null,"","","","","","",null,null,null,null,null,"","",null,null,null,null,null,"","","","",null,null,null,null,"","","","",null,null,null,null,null,null,"","","","",null,null,null,null,"","","","",null,null,null,null,"","","","",null,null,null,null,null,null,"","","","",null,null,null,null,null,null,"","","","",null,null,null,null,"","","","","","","","",""]
[null,null,null,null,null,null,null,null,null,"","","","","","",null,null,null,null,null,"","",null,null,null,null,null,"","","","",null,null,null,null,"","","","",null,null,null,null,null,null,"","","","",null,null,null,null,"","","","",null,null,null,null,"","","","",null,null,null,null,null,null,"","","","",null,null,null,null,null,null,"","","","",null,null,null,null,"","","","","","","","",""]
[null,null,null,null,null,null,null,null,null,"","","","","","",null,null,null,null,null,"","",null,null,null,null,null,"","","","",null,null,null,null,"","","","",null,null,null,null,null,null,"","","","",null,null,null,null,"","","","",null,null,null,null,"","","","",null,null,null,null,null,null,"","","","",null,null,null,null,null,null,"","","","",null,null,null,null,"","","","","","","","",""]
[null,null,null,null,null,null,null,null,null,"","","","","","",null,null,null,null,null,"","",null,null,null,null,null,"","","","",null,null,null,null,"","","","",null,null,null,null,null,null,"","","","",null,null,null,null,"","","","",null,null,null,null,"","","","",null,null,null,null,null,null,"","","","",null,null,null,null,null,null,"","","","",null,null,null,null,"","","","","","","","",""]
[null,null,null,null,null,null,null,null,null,"","","","","","",null,null,null,null,null,"","",null,null,null,null,null,"","","","",null,null,null,null,"","","","",null,null,null,null,null,null,"","","","",null,null,null,null,"","","","",null,null,null,null,"","","","",null,null,null,null,null,null,"","","","",null,null,null,null,null,null,"","","","",null,null,null,null,"","","","","","","","",""]
[null,null,null,null,null,null,null,null,null,"","","","","","",null,null,null,null,null,"","",null,null,null,null,null,"","","","",null,null,null,null,"","","","",null,null,null,null,null,null,"","","","",null,null,null,null,"","","","",null,null,null,null,"","","","",null,null,null,null,null,null,"","","","",null,null,null,null,null,null,"","","","",null,null,null,null,"","","","","","","","",""]
[null,null,null,null,null,null,null,null,null,"","","","","","",null,null,null,null,null,"","",null,null,null,null,null,"","","","",null,null,null,null,"","","","",null,null,null,null,null,null,"","","","",null,null,null,null,"","","","",null,null,null,null,"","","","",null,null,null,null,null,null,"","","","",null,null,null,null,null,null,"","","","",null,null,null,null,"","","","","","","","",""]
[null,null,null,null,null,null,null,null,null,"","","","","","",null,null,null,null,null,"","",null,null,null,null,null,"","","","",null,null,null,null,"","","","",null,null,null,null,null,null,"","","","",null,null,null,null,"","","","",null,null,null,null,"","","","",null,null,null,null,null,null,"","","","",null,null,null,null,null,null,"","","","",null,null,null,null,"","","","","","","","",""]
[null,null,null,null,null,null,null,null,null,"","","","","","",null,null,null,null,null,"","",null,null,null,null,null,"","","","",null,null,null,null,"","","","",null,null,null,null,null,null,"","","","",null,null,null,null,"","","","",null,null,null,null,"","","","",null,null,null,null,null,null,"","","","",null,null,null,null,null,null,"","","","",null,null,null,null,"","","","","","","","",""]
[null,null,null,null,null,null,null,null,null,"","","","","","",null,null,null,null,null,"","",null,null,null,null,null,"","","","",null,null,null,null,"","","","",null,null,null,null,null,null,"","","","",null,null,null,null,"","","","",null,null,null,null,"","","","",null,null,null,null,null,null,"","","","",null,null,null,null,null,null,"","","","",null,null,null,null,"","","","","","","","",""]
[null,null,null,null,null,null,null,null,null,"","","","","","",null,null,null,null,null,"","",null,null,null,null,null,"","","","",null,null,null,null,"","","","",null,null,null,null,null,null,"","","","",null,null,null,null,"","","","",null,null,null,null,"","","","",null,null,null,null,null,null,"","","","",null,null,null,null,null,null,"","","","",null,null,null,null,"","","","","","","","",""]
[null,null,null,null,null,null,null,null,null,"","","","","","",null,null,null,null,null,"","",null,null,null,null,null,"","","","",null,null,null,null,"","","","",null,null,null,null,null,null,"","","","",null,null,null,null,"","","","",null,null,null,null,"","","","",null,null,null,null,null,null,"","","","",null,null,null,null,null,null,"","","","",null,null,null,null,"","","","","","","","",""]
[null,null,null,null,null,null,null,null,null,"","","","","","",null,null,null,null,null,"","",null,null,null,null,null,"","","","",null,null,null,null,"","","","",null,null,null,null,null,null,"","","","",null,null,null,null,"","","","",null,null,null,null,"","","","",null,null,null,null,null,null,"","","","",null,null,null,null,null,null,"","","","",null,null,null,null,"","","","","","","","",""]
[null,null,null,null,null,null,null,null,null,"","","","","","",null,null,null,null,null,"","",null,null,null,null,null,"","","","",null,null,null,null,"","","","",null,null,null,null,null,null,"","","","",null,null,null,null,"","","","",null,null,null,null,"","","","",null,null,null,null,null,null,"","","","",null,null,null,null,null,null,"","","","",null,null,null,null,"","","","","","","","",""]
[null,null,null,null,null,null,null,null,null,"","","","","","",null,null,null,null,null,"","",null,null,null,null,null,"","","","",null,null,null,null,"","","","",null,null,null,null,null,null,"","","","",null,null,null,null,"","","","",null,null,null,null,"","","","",null,null,null,null,null,null,"","","","",null,null,null,null,null,null,"","","","",null,null,null,null,"","","","","","","","",""]
[null,null,null,null,null,null,null,null,null,"","","","","","",null,null,null,null,null,"","",null,null,null,null,null,"","","","",null,null,null,null,"","","","",null,null,null,null,null,null,"","","","",null,null,null,null,"","","","",null,null,null,null,"","","","",null,null,null,null,null,null,"","","","",null,null,null,null,null,null,"","","","",null,null,null,null,"","","","","","","","",""]
[null,null,null,null,null,null,null,null,null,"","","","","","",null,null,null,null,null,"","",null,null,null,null,null,"","","","",null,null,null,null,"","","","",null,null,null,null,null,null,"","","","",null,null,null,null,"","","","",null,null,null,null,"","","","",null,null,null,null,null,null,"","","","",null,null,null,null,null,null,"","","","",null,null,null,null,"","","","","","","","",""]
[null,null,null,null,null,null,null,null,null,"","","","","","",null,null,null,null,null,"","",null,null,null,null,null,"","","","",null,null,null,null,"","","","",null,null,null,null,null,null,"","","","",null,null,null,null,"","","","",null,null,null,null,"","","","",null,null,null,null,null,null,"","","","",null,null,null,null,null,null,"","","","",null,null,null,null,"","","","","","","","",""]
[null,null,null,null,null,null,null,null,null,"","","","","","",null,null,null,null,null,"","",null,null,null,null,null,"","","","",null,null,null,null,"","","","",null,null,null,null,null,null,"","","","",null,null,null,null,"","","","",null,null,null,null,"","","","",null,null,null,null,null,null,"","","","",null,null,null,null,null,null,"","","","",null,null,null,null,"","","","","","","","",""]
[null,null,null,null,null,null,null,null,null,"","","","","","",null,null,null,null,null,"","",null,null,null,null,null,"","","","",null,null,null,null,"","","","",null,null,null,null,null,null,"","","","",null,null,null,null,"","","","",null,null,null,null,"","","","",null,null,null,null,null,null,"","","","",null,null,null,null,null,null,"","","","",null,null,null,null,"","","","","","","","",""]
[null,null,null,null,null,null,null,null,null,"","","","","","",null,null,null,null,null,"","",null,null,null,null,null,"","","","",null,null,null,null,"","","","",null,null,null,null,null,null,"","","","",null,null,null,null,"","","","",null,null,null,null,"","","","",null,null,null,null,null,null,"","","","",null,null,null,null,null,null,"","","","",null,null,null,null,"","","","","","","","",""]
[null,null,null,null,null,null,null,null,null,"","","","","","",null,null,null,null,null,"","",null,null,null,null,null,"","","","",null,null,null,null,"","","","",null,null,null,null,null,null,"","","","",null,null,null,null,"","","","",null,null,null,null,"","","","",null,null,null,null,null,null,"","","","",null,null,null,null,null,null,"","","","",null,null,null,null,"","","","","","","","",""]
[null,null,null,null,null,null,null,null,null,"","","","","","",null,null,null,null,null,"","",null,null,null,null,null,"","","","",null,null,null,null,"","","","",null,null,null,null,null,null,"","","","",null,null,null,null,"","","","",null,null,null,null,"","","","",null,null,null,null,null,null,"","","","",null,null,null,null,null,null,"","","","",null,null,null,null,"","","","","","","","",""]
[null,null,null,null,null,null,null,null,null,"","","","","","",null,null,null,null,null,"","",null,null,null,null,null,"","","","",null,null,null,null,"","","","",null,null,null,null,null,null,"","","","",null,null,null,null,"","","","",null,null,null,null,"","","","",null,null,null,null,null,null,"","","","",null,null,null,null,null,null,"","","","",null,null,null,null,"","","","","","","","",""]
[null,null,null,null,null,null,null,null,null,"","","","","","",null,null,null,null,null,"","",null,null,null,null,null,"","","","",null,null,null,null,"","","","",null,null,null,null,null,null,"","","","",null,null,null,null,"","","","",null,null,null,null,"","","","",null,null,null,null,null,null,"","","","",null,null,null,null,null,null,"","","","",null,null,null,null,"","","","","","","","",""]
[null,null,null,null,null,null,null,null,null,"","","","","","",null,null,null,null,null,"","",null,null,null,null,null,"","","","",null,null,null,null,"","","","",null,null,null,null,null,null,"","","","",null,null,null,null,"","","","",null,null,null,null,"","","","",null,null,null,null,null,null,"","","","",null,null,null,null,null,null,"","","","",null,null,null,null,"","","","","","","","",""]
[null,null,null,null,null,null,null,null,null,"","","","","","",null,null,null,null,null,"","",null,null,null,null,null,"","","","",null,null,null,null,"","","","",null,null,null,null,null,null,"","","","",null,null,null,null,"","","","",null,null,null,null,"","","","",null,null,null,null,null,null,"","","","",null,null,null,null,null,null,"","","","",null,null,null,null,"","","","","","","","",""]
[null,null,null,null,null,null,null,null,null,"","","","","","",null,null,null,null,null,"","",null,null,null,null,null,"","","","",null,null,null,null,"","","","",null,null,null,null,null,null,"","","","",null,null,null,null,"","","","",null,null,null,null,"","","","",null,null,null,null,null,null,"","","","",null,null,null,null,null,null,"","","","",null,null,null,null,"","","","","","","","",""]
[null,null,null,null,null,null,null,null,null,"","","","","","",null,null,null,null,null,"","",null,null,null,null,null,"","","","",null,null,null,null,"","","","",null,null,null,null,null,null,"","","","",null,null,null,null,"","","","",null,null,null,null,"","","","",null,null,null,null,null,null,"","","","",null,null,null,null,null,null,"","","","",null,null,null,null,"","","","","","","","",""]
[null,null,null,null,null,null,null,null,null,"","","","","","",null,null,null,null,null,"","",null,null,null,null,null,"","","","",null,null,null,null,"","","","",null,null,null,null,null,null,"","","","",null,null,null,null,"","","","",null,null,null,null,"","","","",null,null,null,null,null,null,"","","","",null,null,null,null,null,null,"","","","",null,null,null,null,"","","","","","","","",""]
[null,null,null,null,null,null,null,null,null,"",{"$f":"IF(C656=\"\",\"\",IF(G656>=$D$4,0,J656))","v":""},"","","","",null,null,null,null,null,"","",null,null,null,null,null,"","","","",null,null,null,null,"",{"$f":"IF(C656=\"\",\"\",(AJ656-G656)*C656)","v":""},"","",null,null,null,null,null,null,"",{"$f":"IF(C656=\"\",\"\",(AT656-G656)*C656)","v":""},"","",null,null,null,null,"",{"$f":"IF(C656=\"\",\"\",(BB656-G656)*C656)","v":""},"","",null,null,null,null,"",{"$f":"IF(C656=\"\",\"\",(BJ656-G656)*C656)","v":""},"","",null,null,null,null,null,null,{"$f":"IF(C656=\"\",\"\",$BS$16+G656)","v":""},{"$f":"IF(C656=\"\",\"\",(BT656-G656)*C656)","v":""},{"$f":"IF(C656=\"\",\"\",IF(BT656-$D$4>=0,\"0\",($D$4-BT656)*C656))","v":""},{"$f":"IF(C656=\"\",\"\",IF(BT656-$D$4>=0,\"0\",C656))","v":""},null,null,null,null,null,null,{"$f":"IF(C656=\"\",\"\",$CC$16+G656)","v":""},{"$f":"IF(C656=\"\",\"\",(CD656-G656)*C656)","v":""},"","",null,null,null,null,{"$f":"IF(C656=\"\",\"\",B656)","v":""},{"$f":"IF(C656=\"\",\"\",G656)","v":""},{"$f":"IF(C656=\"\",\"\",AB656)","v":""},{"$f":"IF(C656=\"\",\"\",AJ656)","v":""},{"$f":"IF(C656=\"\",\"\",AT656)","v":""},{"$f":"IF(C656=\"\",\"\",BB656)","v":""},{"$f":"IF(C656=\"\",\"\",BJ656)","v":""},{"$f":"IF(C656=\"\",\"\",BT656)","v":""},{"$f":"IF(C656=\"\",\"\",CD656)","v":""}]
[null,null,null,null,null,null,null,null,null,"","",{"$f":"IF(C657=\"\",\"\",IF(G657>=$D$4,0,$D$4-G657))","v":""},{"$f":"IF(C657=\"\",\"\",L657*C657)","v":""},{"$f":"IF(C657=\"\",\"\",$D$4-G657)","v":""},{"$f":"IF(C657=\"\",\"\",IF(M657=0,\"0\",C657))","v":""},null,null,null,null,null,{"$f":"IF(C657=\"\",\"\",IF(G657-$S$16>0,G657-$S$16,0))","v":""},{"$f":"IF(C657=\"\",\"\",G657/$S$16)","v":""},null,null,null,null,null,{"$f":"IF(C657=\"\",\"\",IF(G657>=$D$4,G657,$D$4))","v":""},{"$f":"IF(C657=\"\",\"\",(AB657-G657)*C657)","v":""},{"$f":"IF(C657=\"\",\"\",IF(AT657-$D$4>=0,\"0\",($D$4-AT657)*C657))","v":""},{"$f":"IF(C657=\"\",\"\",IF(AB657-$D$4>=0,\"0\",C657))","v":""},null,null,null,null,{"$f":"IF(C657=\"\",\"\",IF(G657>=$D$4,G657+(($D$4-$X$16)*$BL$11/100),$D$4))","v":""},"",{"$f":"IF(C657=\"\",\"\",IF(AJ657-$D$4>=0,\"0\",($D$4-AJ657)*C657))","v":""},{"$f":"IF(C657=\"\",\"\",IF(AJ657-$D$4>=0,\"0\",C657))","v":""},null,null,null,null,null,null,{"$f":"IF(C657=\"\",\"\",IF($AU$7=0,\"specify scenario\",IF($AU$7=2,IF(G657>=$D$4,G657,G657+$AS$16),IF($AU$7=1,$AS$16+G657,\"specify scenario\"))))","v":""},"",{"$f":"IF(C657=\"\",\"\",IF(AT657-$D$4>=0,\"0\",($D$4-AT657)*C657))","v":""},{"$f":"IF(C657=\"\",\"\",IF(AT657-$D$4>=0,\"0\",C657))","v":""},null,null,null,null,{"$f":"IF(C657=\"\",\"\",IF((G657*(1+$BE$10/100))>(G657+$BE$11),(G657*(1+$BE$10/100)),(G657+$BE$11)))","v":""},"",{"$f":"IF(C657=\"\",\"\",IF(BB657-$D$4>=0,\"0\",($D$4-BB657)*C657))","v":""},{"$f":"IF(C657=\"\",\"\",IF(BB657-$D$4>=0,\"0\",C657))","v":""},null,null,null,null,"","",{"$f":"IF(C657=\"\",\"\",IF(BJ657-$D$4>=0,\"0\",($D$4-BJ657)*C657))","v":""},{"$f":"IF(C657=\"\",\"\",IF(BJ657-$D$4>=0,\"0\",C657))","v":""},null,null,null,null,null,null,"","","","",null,null,null,null,null,null,"","","","",null,null,null,null,"","","","","","","","",""]
[null,null,null,null,null,null,null,null,null,"","","","","","",null,null,null,null,null,"","",null,null,null,null,null,"","","","",null,null,null,null,"","","","",null,null,null,null,null,null,"","","","",null,null,null,null,"","","","",null,null,null,null,{"$f":"IF(C658=\"\",\"\",IF(G658>=$D$4,G658+(($D$4-$X$16)*$BL$11/100),$D$4))","v":""},"","","",null,null,null,null,null,null,"","","","",null,null,null,null,null,null,"","","","",null,null,null,null,"","","","","","","","",""]
[null,null,null,null,null,null,null,null,null,"","","","","","",null,null,null,null,null,"","",null,null,null,null,null,"","","","",null,null,null,null,"","","","",null,null,null,null,null,null,"","","","",null,null,null,null,"","","","",null,null,null,null,"","","","",null,null,null,null,null,null,"","","","",null,null,null,null,null,null,"","",{"$f":"IF(C659=\"\",\"\",IF(CD659-$D$4>=0,\"0\",($D$4-CD659)*C659))","v":""},"",null,null,null,null,"","","","","","","","",""]
[null,null,null,null,null,null,null,null,null,"","","","","","",null,null,null,null,null,"","",null,null,null,null,null,"","","","",null,null,null,null,"","","","",null,null,null,null,null,null,"","","","",null,null,null,null,"","","","",null,null,null,null,"","","","",null,null,null,null,null,null,"","","","",null,null,null,null,null,null,"","","","",null,null,null,null,"","","","","","","","",""]
[null,null,null,null,null,null,null,null,null,"","","","","","",null,null,null,null,null,"","",null,null,null,null,null,"","","","",null,null,null,null,"","","","",null,null,null,null,null,null,"","","","",null,null,null,null,"","","","",null,null,null,null,"","","","",null,null,null,null,null,null,"","","","",null,null,null,null,null,null,"","","","",null,null,null,null,"","","","","","","","",""]
[null,null,null,null,null,null,null,null,null,"","","","","","",null,null,null,null,null,"","",null,null,null,null,null,"","","","",null,null,null,null,"","","","",null,null,null,null,null,null,"","","","",null,null,null,null,"","","","",null,null,null,null,"","","","",null,null,null,null,null,null,"","","","",null,null,null,null,null,null,"","","","",null,null,null,null,"","","","","","","","",""]
[null,null,null,null,null,null,null,null,null,"","","","","","",null,null,null,null,null,"","",null,null,null,null,null,"","","","",null,null,null,null,"","","","",null,null,null,null,null,null,"","","","",null,null,null,null,"","","","",null,null,null,null,"","","","",null,null,null,null,null,null,"","","","",null,null,null,null,null,null,"","","",{"$f":"IF(C663=\"\",\"\",IF(CD663-$D$4>=0,\"0\",C663))","v":""},null,null,null,null,"","","","","","","","",""]
[null,null,null,null,null,null,null,null,null,"","","","","","",null,null,null,null,null,"","",null,null,null,null,null,"","","","",null,null,null,null,"","","","",null,null,null,null,null,null,"","","","",null,null,null,null,"","","","",null,null,null,null,"","","","",null,null,null,null,null,null,"","","","",null,null,null,null,null,null,"","","","",null,null,null,null,"","","","","","","","",""]
[null,null,null,null,null,null,null,null,null,"","","","","","",null,null,null,null,null,"","",null,null,null,null,null,"","","","",null,null,null,null,"","","","",null,null,null,null,null,null,"","","","",null,null,null,null,"","","","",null,null,null,null,"","","","",null,null,null,null,null,null,"","","","",null,null,null,null,null,null,"","","","",null,null,null,null,"","","","","","","","",""]
[null,null,null,null,null,null,null,null,null,"","","","","","",null,null,null,null,null,"","",null,null,null,null,null,"","","","",null,null,null,null,"","","","",null,null,null,null,null,null,"","","","",null,null,null,null,"","","","",null,null,null,null,"","","","",null,null,null,null,null,null,"","","","",null,null,null,null,null,null,"","","","",null,null,null,null,"","","","","","","","",""]

{"sheet":"hide_backend_figures","index":5,"n_rows":1,"n_cols":10,"rows_kept":1,"cut":false,"hidden":true,"merged":[]}
["Job Category","LW Benchmark","Total take-home remuneration","scenario 1","scenario 2","scenario 3","scenario 4","scenario 5","scenario 6","scenario 7"]

{"sheet":"hide_LW Database","index":6,"n_rows":68,"n_cols":73,"rows_kept":68,"cut":false,"hidden":true,"merged":[[4,70,5,70],[4,71,5,71],[3,49,3,58],[3,59,3,68],[3,69,3,71],[4,49,4,50],[4,51,4,54],[4,55,4,58],[4,69,5,69],[4,59,4,60],[4,61,4,64],[4,65,4,68],[4,0,5,0],[4,1,5,1],[4,2,5,2],[4,22,4,24],[4,26,4,29],[4,10,4,13],[4,14,4,17],[4,18,4,21],[4,30,4,33],[4,34,4,37],[4,38,4,40],[4,41,4,44],[4,45,4,48],[2,7,2,21],[0,0,0,2],[0,3,1,6],[1,0,1,2],[2,0,2,2],[2,3,2,6],[3,0,3,2],[3,3,3,6],[3,7,3,21],[3,22,3,37],[3,38,3,48],[2,22,2,37],[2,38,2,48],[2,49,2,58],[2,59,2,68],[2,69,2,71]]}
["Living Wage & Living Income Dataset",null,null,"ALIGN (www.align-tool.com) provides an overview of the available living wage and income studies based on the internationally acknowledged Anker methodology."]
["Data valid on April/ September 2021"]
["Geography\nSource: GLWC & LICoP",null,null,"Family composition\nSource: GLWC & LICoP",null,null,null,"International Poverty Lines\nSource: World Bank",null,null,null,null,null,null,null,null,null,null,null,null,null,null,"National Poverty Lines",null,null,null,null,null,null,null,null,null,null,null,null,null,null,null,"Minimum Wages\nSource: ILO & WageIndicator Foundation",null,null,null,null,null,null,null,null,null,null,"(Gross) Living Wages \nSource: Global Living Wage Coalition",null,null,null,null,null,null,null,null,null,"Living Income\nSource: GLWC & LICoP",null,null,null,null,null,null,null,null,null,"Currency "]
["LW / LI are based on the cost of living in a specific geography, at country or sub-country level, and differ per rural, urban or peri-urban areas",null,null,"The family composition parameters, such as family size, adults per family and labour force are taken from the LW/LI studies.",null,null,null,"The International Poverty Lines are retrieved from the World Bank and differ per country according to the World Bank classification by income group. They are based on a division into 4 income groupings: low-income Int. Poverty Line, set at $1.90/day; lower-middle income Int. Poverty Line, set at $3.20/day; upper-middle income Int. Poverty Line, set at $5.50/day; and high-income Int. Poverty Line, set at $21.70/day. Information on family size and labour force from the LW/LI studies was taken into account.",null,null,null,null,null,null,null,null,null,null,null,null,null,null,"The National Poverty Lines are retrieved from official governmental sources that differ per country. The information on family size and labour force from the LW/LI studies was taken into account.",null,null,null,null,null,null,null,null,null,null,null,null,null,null,null,"The data refer to national minimum wage rates where they exist. For countries with multiple minimum wage rates, the selected rate has been specified. Data reported as hourly, weekly, and yearly are converted to monthly, using a 45-hour standard work week, with a maximum of 8hours per day. The information on family size and labour force from the LW/LI studies was taken into account.",null,null,null,null,null,null,null,null,null,null,"The information is from the Global Living Wage Coalition, from living wage studies that use the full Anker Methodology and Anker Reference Values. The Global Living Wage Coalition's data on family size and labour force were taken into account.",null,null,null,null,null,null,null,null,null,"Information from LW/LI studies that use the full Anker Methodology and Anker Reference Values. In the lack of a living income study, cost of living data was taken from living wage studies to provide living income estimates. The information on family size and labour force from the LW/LI studies was taken into account.",null,null,null,null,null,null,null,null,null,"Currency conversion rates to LCU, EUR & USD are from InforEuro, January 2021. International dollars were calculated using the World Bank PPP conversion factor for 2019."]
["Country","Locality","Region/area","Study type","Family size","Adults per family","Labour force","Year","Poverty headcount ratio","Int. poverty line\nPer person/day","Int. poverty line\nPer person/month",null,null,null,"Int. poverty line\nPer workforce/month",null,null,null,"Int. poverty line \nPer family/month",null,null,null,null,null,null,"National poverty line\nPer person/day","National poverty line\nPer person/month",null,null,null,"National poverty line\nPer workforce/month",null,null,null,"National poverty line\nPer family/month",null,null,null,null,null,null,"Minimum Wage \nPer workforce/month",null,null,null,"Minimum Wage\nPer family/month",null,null,null,null,null,"Living Wage \nPer workforce/month",null,null,null,"Living Wage\nPer family/month",null,null,null,null,null,"Living Income\nPer person/month",null,null,null,"Living Income\nPer family/month",null,null,null,"Local currency unit (LCU)","Currency code","2019 PPP Conversion factor"]
[null,null,null,null,"#people","#adults","Workforce/ family",null,"% of population","USD","USD","EUR","LCU","2019 PPP$","USD","EUR","LCU","2019 PPP$","USD","EUR","LCU","2019 PPP$","Year","To add","Source","LCU","LCU","USD","EUR","2019 PPP$","LCU","USD","EUR","2019 PPP$","LCU","USD","EUR","2019 PPP$","Year","Type","Source","LCU","USD","EUR","2019 PPP$","LCU","USD","EUR","2019 PPP$","Year","Source","LCU","USD","EUR","2019 PPP$","LCU","USD","EUR","2019 PPP$","Year","Source","LCU","USD","EUR","2019 PPP$","LCU","USD","EUR","2019 PPP$"]
["Argentina","Non-Metropolitan Urban",null,"Living Wage Reference Value",4,2,1.66,2019,14,5.5,167.2,950.53199999999993,8057.7023999999992,388.26759404139671,402.89156626506025,2290.4385542168675,19416.150361445783,935.58456395517294,668.8,3802.1279999999997,32230.809599999997,1553.0703761655868,null,null,null,null,null,null,null,0,null,null,null,null,null,null,null,0,2021,null,"Wage Indicator",21600,305.7974092163941,2148.2267997451686,1.4358275520317147,35856,430,350,1727.7534166499277,2020,"GLWC",38741,548.46747363205202,480.18678170469946,{"$error":"#REF!"},{"$f":"AZ7*G7","v":64310.06},{"$f":"BA7*G7","v":910.45600622920631},{"$f":"BB7*G7","v":797.11005762980108},{"$error":"#REF!"},2020,"Calculated from GLWC",15096.039999999999,181,147,1058.8742971708557,60384.159999999996,724,588,2909.6647353730446,"Argentine peso","ARS",20.752961420573499,{"$f":"IF(C7>0,B7&\" \"&C7,B7)","v":"Non-Metropolitan Urban"}]
["Argentina","Rural",null,"Living Income Reference Value",4,2,null,2019,14,5.5,167.2,950.53199999999993,8057.7023999999992,388.26759404139671,null,null,null,null,668.8,3802.1279999999997,32230.809599999997,1553.0703761655868,null,null,null,null,null,null,null,0,null,null,null,null,null,null,null,0,2021,null,"Wage Indicator",21600,305.7974092163941,2148.2267997451686,1.4358275520317147,null,null,null,null,null,null,null,{"$error":"#N/A"},{"$error":"#N/A"},{"$error":"#REF!"},{"$f":"AZ8*G8","v":0},{"$f":"BA8*G8","v":{"$error":"#N/A"}},{"$f":"BB8*G8","v":{"$error":"#N/A"}},{"$error":"#REF!"},2020,"GLWC",12505.75,177.04749769944078,1243.7586713385715,877.18482740138677,50023,708.18999079776313,4975.034685354286,3508.7393096055471,"Argentine peso","ARS",20.752961420573499,{"$f":"IF(C8>0,B8&\" \"&C8,B8)","v":"Rural"}]
["Bangladesh","Urban","Satellite Cities and Districts Surrounding Dhaka","Living Wage Benchmark",4,2,1.58,2016,52,3.2,97.28,306.04287999999997,7633.3759573333364,367.82104503726254,246.27848101265823,774.79210126582268,19325.002423628699,931.19251908167723,389.12,1224.1715199999999,30533.503829333345,1471.2841801490501,2016,"Low poverty line","Bangladesh Bureau of Statistics (BBS)",61.25,1862,23.729390640845406,74.652662956099647,89.72213469997115,4713.9240506329115,60.074406685684572,188.99408343316367,227.14464481005353,7448,94.917562563381622,298.61065182439859,358.8885387998846,2013,null,"Wage Indicator",1500,19.205350456994516,36.562536285101125,0.95294914106795292,2370,30.344453722051338,57.768807330459779,114.20056887160666,2021,"GLWC",17926,210.69581570286789,178.24866008462624,{"$error":"#REF!"},28323.08,332.89938881053126,281.63288293370948,{"$error":"#REF!"},2021,"Calculated from GLWC",7076.75,83.382042653359704,585.75884963985197,350.51867328138269,28307,333.52817061343882,2343.0353985594079,1402.0746931255308,"Bangladeshi taka","BDT",20.752961420573499,{"$f":"IF(C9>0,B9&\" \"&C9,B9)","v":"Urban Satellite Cities and Districts Surrounding Dhaka"}]
["Bangladesh","Urban","Dhaka City","Living Wage Benchmark",4,2,1.58,2016,52,3.2,97.28,306.04287999999997,7633.3759573333364,367.82104503726254,246.27848101265823,774.79210126582268,19325.002423628699,931.19251908167723,389.12,1224.1715199999999,30533.503829333345,1471.2841801490501,2016,"Low poverty line","Bangladesh Bureau of Statistics (BBS)",61.25,1862,23.729390640845406,74.652662956099647,89.72213469997115,4713.9240506329115,60.074406685684572,188.99408343316367,227.14464481005353,7448,94.917562563381622,298.61065182439859,358.8885387998846,2013,null,"Wage Indicator",1500,19.205350456994516,36.562536285101125,68.878059503588091,2370,30.344453722051338,57.768807330459779,114.20056887160666,2021,"GLWC",21648,254.44287729196051,215.25867418899858,{"$error":"#REF!"},34203.840000000004,402.01974612129766,340.10870521861779,{"$error":"#REF!"},2021,"Calculated from GLWC",8546.75,100.7023666298233,707.4341255745087,423.32927839299924,34187,402.80946651929321,2829.7365022980348,1693.317113571997,"Bangladeshi taka","BDT",20.752961420573499,"Urban Dhaka City"]
["Belize","Rural",null,null,null,null,null,null,null,null,null,null,null,null,null,null,null,null,null,null,null,null,null,null,null,null,null,null,null,null,null,null,null,null,null,null,null,null,null,null,null,null,null,null,null,null,null,null,null,2021,"GLWC",905,452.5,382.815,{"$error":"#DIV/0!"},0,0,0,{"$error":"#DIV/0!"},2021,null,null,null,null,{"$error":"#DIV/0!"},1401,null,null,null,"Belizean dollar","BZD",null,"Rural"]
["Brazil","Urban","Minas Gerais South/Southwestern Region","Living Wage Benchmark",4,2,1.71,2019,20,5.5,167.2,950.53199999999993,659.77120000000002,289.2829259492047,391.11111111111109,2223.4666666666667,1543.3244444444445,676.68520689872446,668.8,3802.1279999999997,2639.0848000000001,1157.1317037968188,2017,null,"Universidade Federal do Rio Grande do Sul",2.3026315789473686,70,21.07164358819988,79.945815773630343,30.692162398789655,163.74269005847952,49.290394358362292,187.00775619562654,71.794531926993344,280,84.286574352799519,319.78326309452137,122.76864959515862,2021,null,"Wage Indicator",1100,213.55076684139004,1500.1941370607651,2484.3551623968865,1881,365.17181129877696,2565.3319743739085,824.74224960176207,2021,"GLWC",2271,420.94531974050051,356.11974050046342,{"$error":"#REF!"},3883.41,719.8164967562559,608.96475625579239,{"$error":"#REF!"},2019,"Calculated from GLWC",759,192.34668018246325,1093.4908768373034,332.79073229544781,3036,769.38672072985298,4373.9635073492136,1331.1629291817912,"Brazilian real","BRL",2.28071255099186,"Urban Minas Gerais South/Southwestern Region"]
["Brazil","Non-metropolitan","State of São Paulo, non-metropolitan areas","Living Wage Benchmark",4,2,1.68,2019,20,5.5,167.2,950.53199999999993,659.77120000000002,289.2829259492047,398.09523809523807,2263.1714285714284,1570.8838095238095,688.76887130763021,668.8,3802.1279999999997,2639.0848000000001,1157.1317037968188,2017,null,"Universidade Federal do Rio Grande do Sul",2.3026315789473686,70,21.07164358819988,79.945815773630343,30.692162398789655,166.66666666666669,50.17057997190448,190.3471804134056,73.076577139975385,280,84.286574352799519,319.78326309452137,122.76864959515862,2021,null,"Wage Indicator",1100,213.55076684139004,1500.1941370607651,2484.3551623968865,1848,358.76528829353526,2520.3261502620853,810.27308732804693,2021,"GLWC",2710,502.31696014828549,424.96014828544952,{"$error":"#REF!"},4552.8,843.89249304911959,713.93304911955522,{"$error":"#REF!"},2021,"Calculated from GLWC",932.25,180.98427489807804,1271.4145311589982,414.08775443469273,3729,723.93709959231217,5085.6581246359929,1656.3510177387709,"Brazilian real","BRL",2.28071255099186,"Non-metropolitan State of São Paulo, non-metropolitan areas"]
["Burkina Faso","Rural",null,"Living Income Reference Value",5.5,2,1.64,2014,44,1.9,57.76,131.46176,28519.42337359802,12504.611052890114,193.70731707317074,440.87785365853659,95644.407655359217,41936.195604204651,317.68,723.03967999999998,156856.8285547891,68775.360790895618,2009,null,"World Bank, 2016",365.88399999999996,11122.873599999999,23.650923121511781,36.6579794957037,4876.9291838915733,37302.32,79.317120224582197,122.93834586973803,16355.555189880277,61175.804799999998,130.0800771683148,201.61888722637036,26823.110511403651,2012,null,"Wage Indicator",34664,67.89456400629156,121.93870107584587,7759822.6521275109,56848.959999999999,111.34708497031815,199.9794697643872,24925.964464604243,null,null,null,{"$error":"#N/A"},{"$error":"#N/A"},{"$error":"#REF!"},0,{"$error":"#N/A"},{"$error":"#N/A"},{"$error":"#REF!"},2020,"GLWC",15703.09090909091,27.28191927187887,191.65548288494904,6739.3253277767017,86367,150.05055599533378,1054.1051558672198,37066.28930277186,"West African CFA franc","XOF",2.28071255099186,"Rural"]
["Cameroon","Rural",null,"LW & LI Reference Value",5.5,2,1.71,2014,47,3.2,97.28,221.40928,48032.713050270351,21060.397562762297,312.88888888888886,712.13511111111109,154491.18232543094,67738.120815902119,535.04,1217.7510399999999,264179.92177648691,115832.18659519263,2007,null,"World Bank, 2016",570.34500000000003,17338.488000000001,36.224961449004667,47.198621816583632,7602.2241349352244,55767.066666666673,116.51303390030741,151.80843274339765,24451.598094820896,95361.684000000008,199.23728796952565,259.59241999120997,41812.232742143737,2014,null,"Wage Indicator",36270,73.457137353604907,167.18844461680476,7852185.6455734847,62021.7,125.61170487466438,285.89224029473615,27194.00126641446,2020,"GLWC",104623,181.76779695832676,159.13886900342791,{"$error":"#REF!"},178905.33,310.82293279873875,272.12746599586171,{"$error":"#REF!"},2020,"GLWC",28317.454545454544,49.197607870112961,345.61319528754353,12556.730434069179,155746,270.58684328562128,1900.8725740814896,69062.017387380489,"Central African CFA franc","XAF",2.28071255099186,"Rural"]
["Chile","Non-Metropolitan Urban",null,"Living Wage Reference Value",4,2,1.7,2017,4,5.5,167.2,634.35679999999991,108485.01012242923,271.94487148525855,393.41176470588232,1492.6042352941174,255258.84734689232,639.87028584766711,668.8,2537.4271999999996,433940.04048971692,1087.7794859410342,2021,null,"Ministerio de Desarollo Social",5810.0328947368425,176625,222.8067847806569,1565.2176630841147,442.75483656108486,415588.23529411765,524.25125830742797,3682.8650896096819,1041.7760860260819,706500,891.22713912262759,6260.870652336459,1771.0193462443394,2020,null,"Wage Indicator",326500,411.86930067025889,2893.3818372085689,648810.82629286335,555050,781,636,1391.3719577252944,2020,"GLWC",623057,785.96646513846713,688.11866804676049,{"$error":"#REF!"},1059196.8999999999,1336.1429907353941,1169.8017356794928,{"$error":"#REF!"},2020,"Calculated from  GLWC",218194.57499999998,275.24547324745589,1933.5994495633777,553.15647332500998,872778.29999999993,1100.9818929898236,7734.3977982535107,2212.6258933000399,"Chilean peso","CLP",398.92280199999999,"Non-Metropolitan Urban"]
["China","Urban","Zhengzhou","Living Wage Benchmark",3.5,2,1.78,2016,24,5.5,167.2,526.01119999999992,1110.9566930835049,264.00895664152608,328.76404494382018,1034.2916853932581,2184.4654077484647,519.11873496929297,585.19999999999993,1841.0391999999997,3888.3484257922673,924.03134824534141,2011,null,"World Bank, 2016",6.5860000000000003,200.21440000000001,30.985931801111512,51.900027517344917,47.579167736861613,393.68,60.927393990949597,102.05061590489169,93.554543302817777,700.75040000000001,108.45076130389029,181.6500963107072,166.52708707901564,2019,"urban","ILO",1416,204.96830995447817,1165.2448420912083,336.49977981302067,2520.48,364.84359171897114,2074.1358189223506,598.96960806717675,2019,"GLWC",3036,439.46595269900826,392.56450133552607,{"$error":"#REF!"},5404.08,782.24939580423472,698.76481237723647,{"$error":"#REF!"},2019,"Calculated from  GLWC",1385.1428571428571,200.5016881879157,1139.8520973483007,329.16685482920184,4848,701.75590865770494,3989.4823407190524,1152.0839919022064,"Chinese Yuan Renminbi","CNY",4.2080265276453197,"Urban Zhengzhou"]
["China","Urban","Chengdu","Living Wage Benchmark",3.5,2,1.78,2016,24,5.5,167.2,526.01119999999992,1110.9566930835049,264.00895664152608,328.76404494382018,1034.2916853932581,2184.4654077484647,519.11873496929297,585.19999999999993,1841.0391999999997,3888.3484257922673,924.03134824534141,2011,null,"World Bank, 2016",6.5860000000000003,200.21440000000001,30.985931801111512,51.900027517344917,47.579167736861613,393.68,60.927393990949597,102.05061590489169,93.554543302817777,700.75040000000001,108.45076130389029,181.6500963107072,166.52708707901564,2019,"urban","ILO",1416,204.96830995447817,1165.2448420912083,336.49977981302067,2520.48,364.84359171897114,2074.1358189223506,598.96960806717675,2019,"GLWC",2597,375.9199865478671,335.80039854030343,{"$error":"#REF!"},4622.66,669.13757605520345,597.72470940174014,{"$error":"#REF!"},2019,"Calculated from  GLWC",1183.7142857142858,171.34457387841061,974.09390249876435,281.29915007371767,4143,599.70600857443719,3409.3286587456751,984.54702525801179,"Chinese Yuan Renminbi","CNY",4.2080265276453197,"Urban Chengdu"]
["China","Urban","Hangzhou","Living Wage Benchmark",3.5,2,1.78,2016,24,5.5,167.2,526.01119999999992,1110.9566930835049,264.00895664152608,328.76404494382018,1034.2916853932581,2184.4654077484647,519.11873496929297,585.19999999999993,1841.0391999999997,3888.3484257922673,924.03134824534141,2011,null,"World Bank, 2016",6.5860000000000003,200.21440000000001,30.985931801111512,51.900027517344917,47.579167736861613,393.68,60.927393990949597,102.05061590489169,93.554543302817777,700.75040000000001,108.45076130389029,181.6500963107072,166.52708707901564,2019,"urban","ILO",1416,204.96830995447817,1165.2448420912083,336.49977981302067,2520.48,364.84359171897114,2074.1358189223506,598.96960806717675,2019,"GLWC",4159,602.02203467561776,537.77198980713206,{"$error":"#REF!"},7403.02,1071.5992217225996,957.23414185669503,{"$error":"#REF!"},2019,"Calculated from  GLWC",1892.8571428571429,273.99415929144828,1557.6567955718835,449.82062979444351,6625,958.97955752006908,5451.7987845015923,1574.3722042805523,"Chinese Yuan Renminbi","CNY",4.2080265276453197,"Urban Hangzhou"]
["China","Urban","Shanghai","Living Wage Benchmark",3.5,2,1.78,2016,24,5.5,167.2,526.01119999999992,1110.9566930835049,264.00895664152608,328.76404494382018,1034.2916853932581,2184.4654077484647,519.11873496929297,585.19999999999993,1841.0391999999997,3888.3484257922673,924.03134824534141,2011,null,"World Bank, 2016",6.5860000000000003,200.21440000000001,30.985931801111512,51.900027517344917,47.579167736861613,393.68,60.927393990949597,102.05061590489169,93.554543302817777,700.75040000000001,108.45076130389029,181.6500963107072,166.52708707901564,2019,"urban","ILO",1416,204.96830995447817,1165.2448420912083,336.49977981302067,2520.48,364.84359171897114,2074.1358189223506,598.96960806717675,2019,"GLWC",4502,651.67184421967568,582.12298584075711,{"$error":"#REF!"},8013.56,1159.9758827110227,1036.1789147965476,{"$error":"#REF!"},2019,"Calculated from  GLWC",2049.1428571428573,296.61677138690828,1686.2663453345738,486.96053688841488,7172,1038.1586998541791,5901.9322086710081,1704.361879109452,"Chinese Yuan Renminbi","CNY",4.2080265276453197,"Urban Shanghai"]
["China","Urban","Shenzhen","Living Wage Benchmark",3.5,2,1.78,2016,24,5.5,167.2,526.01119999999992,1110.9566930835049,264.00895664152608,328.76404494382018,1034.2916853932581,2184.4654077484647,519.11873496929297,585.19999999999993,1841.0391999999997,3888.3484257922673,924.03134824534141,2011,null,"World Bank, 2016",6.5860000000000003,200.21440000000001,30.985931801111512,51.900027517344917,47.579167736861613,393.68,60.927393990949597,102.05061590489169,93.554543302817777,700.75040000000001,108.45076130389029,181.6500963107072,166.52708707901564,2019,"urban","ILO",1416,204.96830995447817,1165.2448420912083,336.49977981302067,2520.48,364.84359171897114,2074.1358189223506,598.96960806717675,2019,"GLWC",3004,434.83390049664717,388.42679908166019,{"$error":"#REF!"},5347.12,774.00434288403198,691.3997023653551,{"$error":"#REF!"},2019,"Calculated from  GLWC",1399.4285714285713,202.56956863539833,1151.6079976922395,332.56172750689575,4898,708.99349022389413,4030.6279919228377,1163.9660462741351,"Chinese Yuan Renminbi","CNY",4.2080265276453197,"Urban Shenzhen"]
["China","Urban","Suzhou","Living Wage Benchmark",3.5,2,1.78,2016,24,5.5,167.2,526.01119999999992,1110.9566930835049,264.00895664152608,328.76404494382018,1034.2916853932581,2184.4654077484647,519.11873496929297,585.19999999999993,1841.0391999999997,3888.3484257922673,924.03134824534141,2011,null,"World Bank, 2016",6.5860000000000003,200.21440000000001,30.985931801111512,51.900027517344917,47.579167736861613,393.68,60.927393990949597,102.05061590489169,93.554543302817777,700.75040000000001,108.45076130389029,181.6500963107072,166.52708707901564,2019,"urban","ILO",1416,204.96830995447817,1165.2448420912083,336.49977981302067,2520.48,364.84359171897114,2074.1358189223506,598.96960806717675,2019,"GLWC",3875,560.91257137966306,501.04988230407236,{"$error":"#REF!"},6897.5,998.42437705580028,891.86879050124878,{"$error":"#REF!"},2019,"Calculated from GLWC",1763.7142857142858,255.30052004620535,1451.3834564626775,419.13098078809054,6173,893.55182016171875,5079.8420976193711,1466.9584327583168,"Chinese Yuan Renminbi","CNY",4.2080265276453197,"Urban Suzhou"]
["Colombia","Urban-Rural","Caribbean coast","Living Wage Benchmark",4,2,1.61,2019,29,5.5,167.2,950.53199999999993,548555.04873624374,406.51426758813142,415.40372670807449,2361.5701863354034,1362869.6863012265,1009.9733356226866,668.8,3802.1279999999997,2194220.194944975,1626.0570703525257,2018,null," DANE. Gran Encuesta Integrada de Hogares GEIH 2018",8468.1907894736851,257433,87.097017365334978,422.33343720450932,190.77426721184614,639585.09316770185,216.39010525549062,1049.275620383874,473.97333468781648,1029732,348.38806946133991,1689.3337488180373,763.09706884738455,2021,null,"Wage Indicator",908526,245.88954862754366,1727.3740791084942,673.27569461922019,1462726.86,395.88217329034529,2781.072267364676,1083.9738683369446,2021,"GLWC",1717518,458.78902337061481,388.1355137715401,{"$error":"#REF!"},2765203.98,738.65032762668989,624.89817717217966,{"$error":"#REF!"},2021,"Calculated from  GLWC",635387.25,171.9654518485946,1208.057299236377,475.21798193346706,2541549,687.86180739437839,4832.2291969455082,1900.8719277338682,"Colombian peso","COP",1349.411552,"Urban-Rural Caribbean coast"]
["Costa Rica","Rural","Limón and Heredia Provinces","Living Wage Benchmark",4,2,1.56,2019,11,5.5,167.2,950.53199999999993,98195.656398719933,287.59167078444187,428.71794871794867,2437.2615384615383,251783.73435569214,737.41454047292791,668.8,3802.1279999999997,392782.62559487973,1150.3666831377675,2018,null,"Instituto Nacional de Estadística y Censos (INEC) ",277.46710526315792,8435,14.619414238553487,70.889539642745859,24.70410435688467,21628.205128205129,37.485677534752533,181.76805036601502,63.343857325345311,33740,58.477656954213948,283.55815857098344,98.816417427538681,2019,"urban","ILO",320978,546.53661443114095,3107.0606530410359,940.06805077227364,500725.68,852.59711851257987,4847.0146187440159,1466.5061592047468,2021,"GLWC",446085,119.15968361919975,100.80909234184298,{"$error":"#REF!"},695892.6,185.88910644595163,157.26218405327506,{"$error":"#REF!"},2021,"Calculated from  GLWC",155705.75,266.20879193283963,1870.1167633281984,455.12111149573974,622823,1064.8351677313585,7480.4670533127937,1820.484445982959,"Costa Rican colón","CRC",341.441239,"Rural Limón and Heredia Provinces"]
["Cote d'Ivoire","Rural",null,"Living Wage Reference Value",5.5,2,1.61,2015,59,3.2,97.28,275.69152000000003,57513.073979748297,168.442084348658,332.3229813664596,941.80332919254658,196473.23409230783,575.42326951404903,535.04,1516.3033600000001,316321.90688861563,926.431463917619,2015,null,"Ministère De L´Économie Et Des Finances",737,22404.799999999999,37.896408471706216,107.39842160881543,65.618318588634224,76538.136645962732,129.45978049340633,366.88901791831353,224.16195791148337,123226.4,208.43024659438419,590.6913188484848,360.90075223748823,2013,null,"Wage Indicator",60000,121.48217391222506,231.27390471758068,175.72569785572972,96600,195.58629999868236,372.3509865953049,282.91837354772485,2020,"GLWC",100590,27.224349877102711,23.835092471242433,{"$error":"#REF!"},161949.90000000002,43.831203302135364,38.374498878700322,{"$error":"#REF!"},2020,"Calculated from  GLWC",26496.50181818182,46.033957758745288,323.38855325518568,77.716620545743012,145730.76,253.1867676730991,1778.6370429035212,427.44141300158657,"West African CFA franc","XOF",341.441239,"Rural"]
["Cote d'Ivoire","Rural","Cocoa growing areas","Living Income Benchmark",6,2,1.65,2015,59,3.2,97.28,275.69152000000003,57513.073979748297,168.442084348658,353.74545454545461,1002.5146181818183,209138.45083544837,612.51667035875641,583.68000000000006,1654.14912,345078.44387848978,1010.652506091948,2015,null,"Ministère De L´Économie Et Des Finances",737,22404.799999999999,37.896408471706216,107.39842160881543,65.618318588634224,81472,137.80512171529534,390.53971494114705,238.61206759503352,134428.79999999999,227.37845083023728,644.39052965289261,393.70991153180529,2013,null,"Wage Indicator",60000,121.48217391222506,231.27390471758068,175.72569785572972,99000,200.44558695517134,381.60194278400809,289.94740146195403,null,null,null,{"$error":"#N/A"},{"$error":"#N/A"},{"$error":"#REF!"},0,{"$error":"#N/A"},{"$error":"#N/A"},{"$error":"#REF!"},2018,"LICoP",43676,78.632241397219602,381.28773853511785,129.87649993308767,262056,471.79344838331758,2287.7264312107072,779.25899959852609,"West African CFA franc","XOF",341.441239,"Rural Cocoa growing areas"]
["Democratic Republic of Congo","Rural",null,null,null,null,null,null,null,null,null,null,null,null,null,null,null,null,null,null,null,null,null,null,null,null,null,null,null,null,null,null,null,null,null,null,null,null,null,null,null,null,null,null,null,null,null,null,null,2021,"GLWC",380033,191.02991369213677,161.61130698354771,{"$error":"#DIV/0!"},0,0,0,{"$error":"#DIV/0!"},null,null,null,null,null,{"$error":"#DIV/0!"},null,null,null,null,"Congolese franc","CDF",null,"Rural"]
["Dominican Republic","Rural","Northern Region","Living Wage Benchmark",4,2,1.67,2019,12,5.5,167.2,950.53199999999993,8576.5003133333266,387.44074535648417,400.47904191616766,2276.7233532934133,20542.515720558866,928.00178528499202,668.8,3802.1279999999997,34306.001253333307,1549.7629814259367,2019,null,"Ministerio de Economía, Planificación y Desarrollo (MEPYD)",168.81578947368422,5132,100.0490140093639,568.77864464323375,231.83651052613206,12292.215568862275,239.63835690865605,1362.3440590257096,555.29703120031627,20528,400.19605603745561,2275.114578572935,927.34604210452824,2019,"urban","ILO",12015,234.2340029856795,1331.6203069735877,542.77390373567357,20065.05,391.17078498608475,2223.8059126458916,906.43241923857488,2021,"GLWC",18622,{"$error":"#DIV/0!"},{"$error":"#DIV/0!"},{"$error":"#REF!"},31098.739999999998,{"$error":"#DIV/0!"},{"$error":"#DIV/0!"},{"$error":"#REF!"},2021,"Calculated from GLWC",7278.75,128.77151867979455,904.61991872555677,333.05174725481385,29115,515.08607471917821,3618.4796749022271,1332.2069890192554,"Dominican peso","DOP",22.136289009670602,"Rural Northern Region"]
["Ecuador","Rural","Southern Coastal Region","Living Wage Benchmark",4,2,1.61,2019,25,5.5,167.2,950.53199999999993,167.2,318.45032790096826,415.40372670807449,2361.5701863354034,415.40372670807449,791.18093888439319,668.8,3802.1279999999997,668.8,1273.801311603873,2019,null,"Instituto Nacional de Estadistica y Censos",2.7960526315789473,85,85,483.22499999999997,161.89161406448747,211.18012422360246,211.18012422360246,1200.5590062111801,402.21519022232906,340,340,1932.8999999999999,647.56645625794988,2019,"urban","ILO",394,394,2239.89,750.41524636950669,634.34,634.34,3606.2229000000002,1208.1685466549056,2021,"GLWC",462,462,390.85199999999998,{"$error":"#REF!"},743.82,743.82,629.27171999999996,{"$error":"#REF!"},2021,"Calculated from  GLWC",170.75,170.75,1199.51875,321.98857469142104,683,683,4798.0749999999998,1287.9542987656841,"United States dollar","USD",0.525042637268051,"Rural Southern Coastal Region"]
["Egypt, Arab Rep.","Rural",null,"Living Wage Reference Value",5,2,1.53,2017,29,3.2,97.28,369.08032000000003,1729.8848603453871,400.06659658839283,317.90849673202615,1206.1448366013074,5653.2184978607429,null,486.4,1845.4016000000001,8649.4243017269364,2000.3329829419642,null,null,null,null,null,{"$error":"#N/A"},{"$error":"#N/A"},0,null,{"$error":"#N/A"},{"$error":"#N/A"},null,0,{"$error":"#N/A"},{"$error":"#N/A"},0,2019,null,"Wage Indicator",2000,119.2564467195005,677.97289960036028,462.53551985941527,3060,182.46236348083576,1037.2985363885512,707.67934538490545,2020,"GLWC",3957,251.09185748035847,219.83252745564877,{"$error":"#REF!"},6054.21,384.17054194494847,336.34376700714262,{"$error":"#REF!"},2020,"Calculated from  GLWC",1127.9159999999999,71.572030205159464,502.79351219124527,282.18124745452803,5639.58,357.86015102579734,2513.9675609562264,1410.9062372726403,"Egyptian pound","EGP",4.32399224303441,"Rural"]
["El Salvador","Rural",null,"Living Wage Reference Value",4.5,2,1.59,2019,6,3.2,97.28,553.03679999999997,851.2,196.85511725216716,275.32075471698113,1565.1984905660374,2409.0566037735848,557.13712429858629,437.76,2488.6655999999998,3830.4,885.84802763475216,2011,null,"World Bank, 2016",2.71,82.384,9.4153142857142864,15.770223521097837,19.052763134049034,233.1622641509434,26.647115902964959,44.632708078578787,53.922914530327461,370.72800000000001,42.36891428571429,70.96600584494027,85.737434103220664,2019,"urban","ILO",2660,304,1728.2399999999998,615.17224141302233,4229.4000000000005,483.36,2747.9015999999997,978.1238638467056,2020,"GLWC",3136,358.4,313.7814926804931,{"$error":"#REF!"},4986.2400000000007,569.85599999999999,498.91257336198407,{"$error":"#REF!"},2020,"Calculated from  GLWC",994.63333333333344,113.67238095238096,798.54847619047632,226.96715555255705,4475.8500000000004,511.52571428571434,3593.4681428571434,1021.3521999865067,"Salvadoran colon","SVC",4.32399224303441,"Rural"]
["Ethiopia","Non-Metropolitan Urban","Ziway Region","Living Wage Benchmark",5,2,1.65,2015,31,1.9,57.76,163.69183999999998,1188.5187837999999,114.62304825101793,175.03030303030306,496.03587878787874,3601.5720721212124,347.34257045763013,288.8,818.4591999999999,5942.5939189999999,573.1152412550897,2015,"2015/16","Planning and Development Commission ",19.682191780821917,598.33863013698624,29.078244069660386,82.40774369341753,57.70493374396743,1813.1473640514737,88.115891120182994,249.72043543459858,174.86343558778012,2991.6931506849314,145.39122034830194,412.03871846708762,288.52466871983717,null,null,null,null,{"$error":"#N/A"},{"$error":"#N/A"},0,null,null,null,0,2019,"GLWC",4847,166.73690004214004,148.94211398466288,{"$error":"#REF!"},{"$f":"AZ32*G32","v":7997.5499999999993},275.11588506953103,245.75448807469374,{"$error":"#REF!"},2019,"Calculated from  GLWC",1304,44.857626914576151,255.01560900936539,125.76027990187781,6520,224.28813457288075,1275.0780450468269,628.80139950938906,"Ethiopian birr","ETB",10.3689336650445,"Non-Metropolitan Urban Ziway Region"]
["Gabon","Urban",null,null,null,null,null,null,null,null,null,null,null,null,null,null,null,null,null,null,null,null,null,null,null,null,null,null,null,null,null,null,null,null,null,null,null,null,null,null,null,null,null,null,null,null,null,null,null,2021,"GLWC",268721,484.5923574919301,409.96513443817287,{"$error":"#DIV/0!"},0,0,0,{"$error":"#DIV/0!"},null,null,null,null,null,{"$error":"#DIV/0!"},null,null,null,null,null,null,null,"Urban"]
["Gabon","Rural",null,null,null,null,null,null,null,null,null,null,null,null,null,null,null,null,null,null,null,null,null,null,null,null,null,null,null,null,null,null,null,null,null,null,null,null,null,null,null,null,null,null,null,null,null,null,null,2021,"GLWC",200770,362.05435233440932,306.29798207491029,{"$error":"#DIV/0!"},0,0,0,{"$error":"#DIV/0!"},null,null,null,null,null,{"$error":"#DIV/0!"},null,null,null,null,null,null,null,"Rural"]
["Ghana","Peri-Urban","Lower Volta Region","Living Wage Benchmark",4.5,2,1.78,2016,29,3.2,97.28,306.04287999999997,380.34696533333369,185.5213079028085,245.93258426966293,773.70391011235949,961.55131685393349,469.01454245092037,437.76,1377.1929599999999,1711.5613440000016,834.84588556263827,2012,"2012/13","Ghana Statistical Service",3.6,109.44,59.971504767471487,107.70887920028051,53.381395902789826,276.67415730337081,151.61335474922566,272.29772831531591,134.95296716997427,492.48,269.8717714536217,484.68995640126229,240.21628156255423,2020,null,"Wage Indicator",319,57.007974861687188,400.48102340335254,155.59818432922108,567.82000000000005,101.4741952538032,712.85622165796758,276.96476810601354,2021,"GLWC",1456,{"$error":"#DIV/0!"},{"$error":"#DIV/0!"},{"$error":"#REF!"},2591.6799999999998,{"$error":"#DIV/0!"},{"$error":"#DIV/0!"},{"$error":"#REF!"},2021,"Calculated from  GLWC",496.88888888888891,88.798210930499863,623.80743178676164,254.93752509082722,2236,399.59194918724938,2807.1334430404272,1147.2188629087225,"Ghana cedi","GHS",2.0501524575958201,"Peri-Urban Lower Volta Region"]
["Ghana","Rural","Cocoa growing areas of Ashanti, Central, Eastern, Western Regions","Living Income Benchmark",5,2,1.56,2016,29,3.2,97.28,306.04287999999997,380.34696533333369,185.5213079028085,311.79487179487177,980.90666666666652,1219.0607863247874,594.61957661156566,486.4,1530.2143999999998,1901.7348266666684,927.60653951404242,2012,"2012/14","Ghana Statistical Service",3.6,109.44,59.971504767471487,107.70887920028051,53.381395902789826,350.76923076923077,192.21636143420349,345.22076666756573,171.09421763714687,547.20000000000005,299.85752383735746,538.54439600140256,266.90697951394912,2020,null,"Wage Indicator",319,57.007974861687188,400.48102340335254,155.59818432922108,497.64000000000004,88.932440784232014,624.75039650922997,242.73316755358488,null,null,null,{"$error":"#N/A"},{"$error":"#N/A"},{"$error":"#REF!"},0,{"$error":"#N/A"},{"$error":"#N/A"},{"$error":"#REF!"},2019,"LICoP",336.6,64.515304655605277,366.769506967116,164.18291174048844,1683,322.5765232780264,1833.8475348355801,820.91455870244215,"Ghana cedi","GHS",2.0501524575958201,"Rural Cocoa growing areas of Ashanti, Central, Eastern, Western Regions"]
["Guatemala","Rural","Central Valley Area","Living Wage Benchmark",5,2,1.53,2014,49,5.5,167.2,380.54719999999992,1292.8294133333327,326.60075692763087,546.40522875816987,1243.6183006535946,4224.9327233115446,1067.3227350576171,836,1902.7359999999996,6464.1470666666637,1633.0037846381545,2014,null,"Instituto Nacional de Estadística",27.994520547945207,851.03342465753428,110.06308112673803,250.50357264445572,214.99213879054955,2781.1549825409616,359.68327165600664,818.63912628907087,702.58868885800507,4255.1671232876715,550.31540563369015,1252.5178632222785,1074.9606939527478,2019,"urban","ILO",2773,360.28435569450897,2048.2165621232834,700.5285381195232,4242.6900000000005,551.23506421259879,3133.7713400486236,1071.8086633228706,2021,"GLWC",3242,419.40491591203102,354.81655886157824,{"$error":"#REF!"},4960.26,641.68952134540746,542.86933505821469,{"$error":"#REF!"},2021,"Calculated from  GLWC",945,122.38316940032246,859.7417650372654,240.89926764461234,4725,611.91584700161229,4298.708825186327,1204.4963382230617,"Guatemalan quetzal","GTQ",3.95843973386688,"Rural Central Valley Area"]
["Honduras","Rural",null,"Living Wage Reference Value",4.5,2,1.65,2019,29,3.2,97.28,553.03679999999997,2384.1906656407523,225.92638879623286,265.30909090909091,1508.2821818181817,6502.3381790202338,616.16287853518054,437.76,2488.6655999999998,10728.857995383385,1016.6687495830478,2011,null,"World Bank, 2016",66.228999999999999,2013.3616,106.43053984988022,178.26631719032292,190.78655167318948,5490.9861818181816,290.26510868149154,486.18086506451709,520.32695910869859,9060.127199999999,478.93742932446099,802.19842735645318,858.53948252935265,2019,"urban","ILO",8484,346.16506636569437,1967.9484022889724,803.94555274886523,13998.599999999999,571.17235950339568,3247.1148637768042,1326.5101620356274,2020,"GLWC",6852,278.74189670648093,244.04031367508765,{"$error":"#REF!"},11305.8,459.92412956569353,402.66651756389462,{"$error":"#REF!"},2020,"Calculated from  GLWC",2311.4666666666662,94.031319737372115,660.57002115503906,224.32210085401786,10401.599999999999,423.1409388181745,2972.5650951976759,1009.4494538430804,"Honduran lempira","HNL",10.5529534568496,"Rural"]
["India","Urban","Tiruppur, Tamil Nadu","Living Wage Benchmark",4,2,1.58,2011,62,3.2,97.28,162.939578815771,4540.1029973333361,213.31857310819188,246.27848101265823,412.50526282473669,11493.931638818573,540.04702052706807,389.12,651.758315263084,18160.411989333345,853.27429243276754,2012,null,"World Bank, 2016",29.222999999999999,888.37919999999997,16.624722961580481,29.858018139612174,41.740855534402158,2249.0612658227847,42.087906231849317,75.589919340790317,105.67305198582825,3553.5167999999999,66.498891846321925,119.4320725584487,166.96342213760863,2019,null,"ILO",4757,67.551505201415182,384.0303070700453,223.50956638465993,7516.06,106.73137821823599,606.76788517067155,353.1451148877627,2019,"GLWC",15570,221.10089047425572,197.50417587711075,{"$error":"#REF!"},24600.600000000002,349.33940694932403,312.056597885835,{"$error":"#REF!"},2019,"Calculated from  GLWC",5366,76.199574713221338,433.19458224466325,252.12367736390271,21464,304.79829885288535,1732.778328978653,1008.4947094556109,"Indian rupee","INR",21.283205354231701,"Urban Tiruppur, Tamil Nadu"]
["India","Rural","Bhadohi, Uttar Pradesh","Living Wage Benchmark",5,2,1.546,2011,62,3.2,97.28,162.939578815771,4540.1029973333361,213.31857310819188,314.61836998706337,526.97147094363197,14683.38614920225,689.90482893981846,486.4,814.69789407885503,22700.51498666668,1066.5928655409593,2012,null,"World Bank, 2016",29.222999999999999,888.37919999999997,16.624722961580481,29.858018139612174,41.740855534402158,2873.1539456662354,53.766891855046836,96.565388549845323,134.99629862355161,4441.8959999999997,83.123614807902413,149.29009069806088,208.70427767201079,2019,null,"ILO",4757,67.551505201415182,384.0303070700453,223.50956638465993,7354.3220000000001,104.43462704138787,593.71085473029007,345.54578963068428,2019,"GLWC",10627,150.90810295888988,134.80262537225792,{"$error":"#REF!"},16429.342000000001,233.30392717444377,208.40485882551076,{"$error":"#REF!"},2019,"Calculated from  GLWC",3285.6,46.656974036108835,265.24489739527871,154.3752430761906,16428,233.28487018054417,1326.2244869763936,771.876215380953,"Indian rupee","INR",21.283205354231701,"Rural Bhadohi, Uttar Pradesh"]
["India","Rural","Rural Nilgiris, Tamil Nadu","Living Wage Benchmark",4,2,1.73,2011,62,3.2,97.28,162.939578815771,4540.1029973333361,213.31857310819188,224.92485549132948,376.73891055669594,10497.347970712915,493.22213435420088,389.12,651.758315263084,18160.411989333345,853.27429243276754,2012,null,"World Bank, 2016",29.222999999999999,888.37919999999997,16.624722961580481,29.858018139612174,41.740855534402158,2054.0559537572253,38.438665807122497,69.035880091588837,96.510648634455862,3553.5167999999999,66.498891846321925,119.4320725584487,166.96342213760863,2019,null,"ILO",4757,67.551505201415182,384.0303070700453,223.50956638465993,8229.61,116.86410399844826,664.37243123117833,386.6715498454617,2020,"GLWC",12666,170.93217319199201,149.65221108064682,{"$error":"#REF!"},21912.18,295.71265962214619,258.89832516951901,{"$error":"#REF!"},2020,"Calculated from  GLWC",4739.75,63.964611391658302,449.35139502639959,231.47538612459832,18959,255.85844556663321,1797.4055801055983,925.90154449839326,"Indian rupee","INR",21.283205354231701,"Rural Rural Nilgiris, Tamil Nadu"]
["Kenya","Rural","Mount Kenya","Living Wage Benchmark",5.5,2,1.71,2015,67,3.2,97.28,275.69152000000003,9550.8693333333376,232.64955952061644,312.88888888888886,886.72711111111118,30719.170370370382,null,535.04,1516.3033600000001,52529.781333333354,1279.5725773633903,2005,null,"World Bank, 2016",85.084000000000003,2586.5536000000002,34.234452881252338,45.996832614283946,63.005841113988417,8319.3244444444463,110.11081336075314,147.94302887635186,null,14226.044800000001,188.28949084688787,252.9825793785617,346.5321261269363,2020,"agriculture, unskilled worker","Wage Indicator",6736,63.278070766314251,444.52844713335764,164.08217704973364,11518.56,108.20550101039737,760.14364459804153,280.58052275504451,2016,"GLWC",13943,137.36381921924342,124.09741884883536,{"$error":"#REF!"},23842.53,234.89213086490625,212.20658623150845,{"$error":"#REF!"},2016,"Calculated from  GLWC",3995.818181818182,39.366050804004779,123.84559582939904,93.228160889198932,21977,216.5132794220263,681.15077706169473,512.7548848905941,"Kenyan shilling","KES",41.052600112432103,"Rural Mount Kenya"]
["Kenya","Non-metropolitan Urban","Lake Naivasha","Living Wage Benchmark",5,2,1.69,2015,67,3.2,97.28,275.69152000000003,9550.8693333333376,232.64955952061644,287.81065088757396,815.65538461538472,28257.009861932951,null,486.4,1378.4576000000002,47754.346666666686,1163.2477976030821,2005,null,"World Bank, 2016",85.084000000000003,2586.5536000000002,34.234452881252338,45.996832614283946,63.005841113988417,7652.5254437869826,101.28536355400101,136.08530359255607,null,12932.768,171.17226440626169,229.98416307141974,315.02920556994206,2019,"urban","ILO",15125,148.29696492597412,843.06824560416283,368.42976957797231,25561.25,250.62187072489627,1424.7853350710352,622.64631058677321,2019,"GLWC",29702,291.22092246157246,260.14073559618691,{"$error":"#REF!"},50196.38,492.16335896005745,439.63784315755589,{"$error":"#REF!"},2019,"Calculated from  GLWC",7924.4,77.696824387397641,441.70644664235562,193.03040436652455,39622,388.48412193698823,2208.532233211778,965.15202183262272,"Kenyan shilling","KES",41.052600112432103,"Non-metropolitan Urban Lake Naivasha"]
["Madagascar","Rural",null,"Living Income Reference Value",5,2,1.78,2012,79,1.9,57.76,103.73701454932664,126781.27466666685,3088.2641859333348,162.24719101123597,291.39610828462537,356127.17602996307,8674.8993986891419,288.8,518.68507274663318,633906.37333333422,15441.320929666672,2010,null,"World Bank, 2016",1134.3240000000001,34483.4496,16.499652910356708,24.796480766398158,839.98210845498329,96863.622471910101,46.347339635833443,69.653035860668979,2359.5003046488291,172417.24799999999,82.498264551783535,123.98240383199079,4199.9105422749162,2021,"agriculture, lowest","Wage Indicator",170442,44.998169728603862,316.11214234344214,4151.795490010496,303386.76,80.096742116914882,562.67961337132704,7390.1959722186839,null,null,null,{"$error":"#N/A"},{"$error":"#N/A"},{"$error":"#REF!"},0,{"$error":"#N/A"},{"$error":"#N/A"},{"$error":"#REF!"},2020,"GLWC",102538.6,27.071081813950901,190.17434974300508,2581.4050815694773,512693,135.3554090697545,950.87174871502543,12907.025407847386,"Malagasy ariary","MGA",41.052600112432103,"Rural"]
["Malawi","Rural","Southern Region","Living Wage Benchmark",5,2,1.59,2016,69,1.9,57.76,181.71295999999998,41471.968799999995,1010.215398937445,181.63522012578616,571.42440251572316,130414.99622641508,3176.7779840800158,288.8,908.56479999999988,207359.84399999998,5051.0769946872251,2016,null,"The National Statistics Office of Malawi/ The World Bank",376.50684931506851,11445.808219178081,15.941126063436997,50.150782595572792,278.80836263308709,35993.107607478247,50.129327243512563,157.70686350809052,876.75585733675189,57229.04109589041,79.705630317184983,250.75391297786396,1394.0418131654355,2020,null,"Wage Indicator",35000,46.696085581486024,328.04000120993936,852.56475604820037,55650,74.246776074562788,521.5836019238036,1355.5779621166387,2019,"GLWC",101361,135.95636612095862,121.44659385301404,{"$error":"#REF!"},161163.99000000002,216.17062213232421,193.10008422629232,{"$error":"#REF!"},2019,"Calculated from  GLWC",27092.2,36.338996874756909,206.58719723299299,659.93871096597309,135461,181.69498437378454,1032.935986164965,3299.6935548298652,"Malawi kwacha","MWK",41.052600112432103,"Rural Southern Region"]
["Mexico","Non-metropolitan Urban & Rural","Michoacán, northwestern regions","Living Wage Benchmark",4,2,1.63,2018,23,5.5,167.2,810.75279999999998,3214.7543999999998,343.09059340210393,410.30674846625766,1989.5774233128834,7888.9678527607366,841.94010650823066,668.8,3243.0111999999999,12859.017599999999,1372.3623736084157,2021,null,"Conseja Nacional de Evaluación de la Politíca de Desarolla Social",71.28289473684211,2167,100.95034007267306,709.17613901052823,231.27033153834685,5317.7914110429456,247.73089588386028,1740.3095435841185,567.53455592232365,8668,403.80136029069223,2836.7045560421129,925.08132615338741,2019,"urban","ILO",2759,143.35446326509407,814.97012366205968,294.45078205551408,4497.17,233.66777512210331,1328.4013015691571,479.9547747504879,2020,"GLWC",11782,548.86797726637474,480.53742519856593,{"$error":"#REF!"},19204.66,894.65480294419081,783.27600307366242,{"$error":"#REF!"},2020,"Calculated from  GLWC",4166,194.07435013509735,1363.3723096990589,453.37188514250221,16664,776.29740054038939,5453.4892387962354,1813.4875405700088,"Mexican peso","MXN",9.3699870000000001,"Non-metropolitan Urban & Rural Michoacán, northwestern regions"]
["Morocco","Rural",null,"Living Wage Reference Value",4.5,2,1.56,2013,7,3.2,97.28,185.19857462529475,817.68742102088549,87.266654801216418,280.61538461538458,534.22665757296556,2358.7137144833232,251.73073500350887,437.76,833.39358581382635,3679.5933945939846,392.69994660547388,2007,null,"World Bank, 2016",10.454999999999998,317.83199999999994,38.796272938112878,50.548863022993238,33.920217818872104,916.82307692307666,111.91232578301792,145.81402795094203,97.846782169823356,1430.2439999999997,174.58322822150797,227.46988360346958,152.64098018492444,2021,"agriculture","Wage Indicator",1904,200.48758660626544,1408.4252959090147,203.2019895011594,2970.2400000000002,312.7606351057741,2197.1434616180632,316.99510362180865,2020,"GLWC",2249,236.81543186843012,207.33342550628242,{"$error":"#REF!"},3508.44,369.43207371475103,323.44014378980057,{"$error":"#REF!"},2020,"Calculated from  GLWC",726.96,76.547508381980421,537.74624638341243,76.743075071880781,3271.32,344.46378771891187,2419.858108725356,345.3438378234635,"Moroccan dirham","MAD",9.3699870000000001,"Rural"]
["Mozambique","Rural",null,"Living Income Reference Value",5.5,2,1.71,2014,64,1.9,57.76,131.46176,1810.9312416065427,76.768772018282633,185.77777777777777,422.83022222222223,5824.632648442097,246.91710298278042,317.68,723.03967999999998,9960.1218288359851,422.22824610055449,2009,null,"World Bank, 2016",22.91,696.46399999999994,25.309121599554715,39.228120436740227,29.524415287854307,2240.088888888889,81.403607483947908,126.17231719419371,94.961569639297494,3830.5519999999997,139.20016879755093,215.75466240207123,162.38428408319868,2021,"agriculture","Wage Indicator",4390,63.197293601094074,443.96098754768587,186.1003341359789,7506.9,108.06737205787087,759.17328870654285,318.23157137252394,null,null,null,{"$error":"#N/A"},{"$error":"#N/A"},{"$error":"#REF!"},0,{"$error":"#N/A"},{"$error":"#N/A"},{"$error":"#REF!"},2020,"GLWC",1658.3636363636363,23.873369846161896,167.71042316928734,71.305447139870864,9121,131.30353415389044,922.40732743108038,392.17995926928972,"Mozambique Metical","MZN",23.589425673961099,"Rural"]
["Nicaragua","Urban","Managua Free Trade Zone","Living Wage Benchmark",4,2,1.68,2014,13,3.2,97.28,221.40928,2525.2818276768076,9.1704854153505835,231.61904761904762,527.1649523809524,6012.575780182875,21.834489084168055,389.12,885.63711999999998,10101.12731070723,36.681941661402334,2016,null,"INIDE Instituto Nacional de información de Desarrollo",50.167123287671231,1525.0805479452054,53.285439046029232,167.63599123880795,5.5382843882549464,3631.1441617742985,126.87009296673627,399.13331247335225,13.186391400607015,6100.3221917808214,213.14175618411693,670.54396495523179,22.153137553019786,2019,null,"ILO",5919,178.70435125300901,1015.9342368733561,21.49467143768122,9943.92,300.22331010505513,1706.7695179472382,36.111048015304448,2019,"GLWC",12101,365.34910534087891,326.35768134182098,{"$error":"#REF!"},20329.68,613.78649697267656,548.28090465425919,{"$error":"#REF!"},2019,"Calculated from  GLWC",4489.5,135.54539363919309,770.57556283881263,16.303484950070928,17958,542.18157455677238,3082.3022513552505,65.213939800283711,"Nicaraguan córdoba","NIO",275.370573454019,"Urban Managua Free Trade Zone"]
["Nicaragua","Rural-Urban","Northwest","Living Wage Benchmark",4,2,1.62,2014,13,3.2,97.28,221.40928,2525.2818276768076,9.1704854153505835,240.19753086419752,546.68958024691358,6235.2637720414996,22.643173865063165,389.12,885.63711999999998,10101.12731070723,36.681941661402334,2016,null,"INIDE Instituto Nacional de información de Desarrollo",50.167123287671231,1525.0805479452054,53.285439046029232,167.63599123880795,5.5382843882549464,3765.6309825807539,131.56898529883759,413.91602775014303,13.674776267296163,6100.3221917808214,213.14175618411693,670.54396495523179,22.153137553019786,2021,"agriculture","Wage Indicator",4415,128.55932387087611,903.12925019290469,16.032940428680956,7152.3,208.26610467081932,1463.0693853125058,25.97336349446315,2020,"GLWC",9900,288.27572057116049,252.38723745637131,{"$error":"#REF!"},16038.000000000002,467.00666732528003,408.86732467932154,{"$error":"#REF!"},2020,"Calculated from  GLWC",3728.75,108.57657505855704,762.75043978636324,13.94773644144421,14915,434.30630023422816,3051.001759145453,55.79094576577684,"Nicaraguan córdoba","NIO",275.370573454019,"Rural-Urban Northwest"]
["Nigeria","Rural",null,"Living Income Reference Value",5,2,1.71,2018,71,3.2,97.28,471.71072000000004,29775.821192496362,219.92484075911568,284.44444444444446,1379.2711111111112,87063.804656422115,643.05508993893477,486.4,2358.5536000000002,148879.10596248182,1099.6242037955785,2010,null,"World Bank, 2016",137.93999999999997,4193.3759999999993,27.900504000399202,41.930234204166467,30.972363216484613,12261.333333333332,81.58042105379883,122.60302398879085,90.562465545276652,20966.879999999997,139.502520001996,209.65117102083235,154.86181608242308,2019,null,"Wage Indicator",30000,97.745037782039219,555.68053979089291,221.58063014013973,51300,167.14401460728706,950.21372304242686,378.90287753963895,null,null,null,{"$error":"#N/A"},{"$error":"#N/A"},{"$error":"#REF!"},0,{"$error":"#N/A"},{"$error":"#N/A"},{"$error":"#REF!"},2020,"GLWC",27735.599999999999,77.298677219108271,543.02320746423561,226.65318054281079,138678,386.49338609554138,2715.1160373211783,1133.2659027140539,"Nigerian naira","NGN",135.39089577020499,"Rural"]
["Pakistan","Rural","Sialkot","Living Wage Benchmark",5.5,2,1.647,2018,36,3.2,97.28,471.71072000000004,11851.045420233544,330.43407506559925,324.85731633272616,1575.2331268973894,39575.44007971129,1103.4531954224626,535.04,2594.4089600000002,65180.749811284491,1817.3874128607958,2013,"2013/ 13","World Bank Group",99.671052631578945,3030,29.814354220720602,56.759620734489062,84.483284971583132,10118.397085610201,99.562202922867826,189.54336007267142,282.12390245519566,16665,163.97894821396332,312.17791403968982,464.65806734370722,2019,null,"ILO",18696,124.60988275510083,708.40718346274821,521.286962319709,30792.312000000002,205.23247689765105,1166.7466311631463,858.55962694056075,2019,"GLWC",21890,145.89807089800797,130.32728268512571,{"$error":"#REF!"},36052.83,240.29412276901914,214.64903458240204,{"$error":"#REF!"},2019,"Calculated from  GLWC",6555.090909090909,43.690046514272865,248.37791443364122,182.77082946777597,36053,240.29525582850076,1366.0785293850267,1005.2395620727679,"Pakistan rupee","PKR",35.865082673089397,"Rural Sialkot"]
["Pakistan","Urban","Sialkot","Living Wage Benchmark",5,2,1.534,2018,36,3.2,97.28,471.71072000000004,11851.045420233544,330.43407506559925,317.07953063885265,1537.5186440677967,38627.918579639976,1077.0341429778332,486.4,2358.5536000000002,59255.227101167722,1652.1703753279962,2013,"2013/14","World Bank Group",99.671052631578945,3030,29.814354220720602,56.759620734489062,84.483284971583132,9876.1408083441984,97.178468776794645,185.0052827069396,275.36924697386939,15150,149.071771103603,283.79810367244534,422.41642485791567,2019,null,"ILO",18696,124.60988275510083,708.40718346274821,521.286962319709,28679.664000000001,191.15156014632467,1086.6966194318559,799.65420019843361,2019,"GLWC",25806,171.99842930991292,153.6421131554296,{"$error":"#REF!"},39586.404000000002,263.84559056140642,235.68700158042901,{"$error":"#REF!"},2019,"Calculated from  GLWC",7949.8,52.9858603940148,301.22461633997409,221.65848807494771,39749,264.92930197007399,1506.1230816998705,1108.2924403747386,"Pakistan rupee","PKR",35.865082673089397,"Urban Sialkot"]
["Panama","Rural",null,"Living Wage Reference Value",4,2,1.68,2019,12,5.5,167.2,950.53199999999993,167.2,348.27764812270459,398.09523809523807,2263.1714285714284,398.09523809523807,829.23249553024903,668.8,3802.1279999999997,668.8,1393.1105924908184,2011,null,"World Bank, 2016",4.1760000000000002,126.9504,126.9504,212.63615035458113,264.43771973825716,302.26285714285717,302.26285714285717,506.27654846328841,629.61361842442193,507.80160000000001,507.80160000000001,850.54460141832453,1057.7508789530286,2019,null,"ILO",458,458,2603.73,954.01413181937028,769.43999999999994,769.43999999999994,4374.2663999999995,1602.743741456542,2020,"GLWC",569,569,498.16313988616236,{"$error":"#REF!"},955.92,955.92,836.91407500875277,{"$error":"#REF!"},2020,"Calculated from  GLWC",215.45999999999998,215.45999999999998,1513.6064999999999,437.74897496802009,861.83999999999992,861.83999999999992,6054.4259999999995,1750.9958998720804,"United States dollar","USD",0.48007674595612398,"Rural"]
["Papua New Guinea","Rural",null,"Living Income Reference Value",5,2,1.67,2009,66,3.2,97.28,150.78008697675347,268.02034346666636,126.79102022092134,291.25748502994014,451.4373861579445,802.45611816367182,379.6138329967705,486.4,753.90043488376728,1340.1017173333319,633.95510110460668,2010,null,"World Bank, 2016",4.032,122.5728,45.075226322516848,67.741242110963228,57.984890856868091,366.98443113772458,134.95576743268518,202.81809015258452,173.6074576552937,612.86400000000003,225.37613161258423,338.70621055481615,289.92445428434047,2016,null,"Wage Indicator",683,217.99987622055866,685.82761058987751,323.10333495882367,1140.6099999999999,325,265,539.58256938123554,null,null,null,{"$error":"#N/A"},{"$error":"#N/A"},{"$error":"#REF!"},0,{"$error":"#N/A"},{"$error":"#N/A"},{"$error":"#REF!"},2020,"GLWC",318.60000000000002,92.081606513592092,646.87328575798449,154.95047774943791,1593,460.40803256796045,3234.3664287899223,774.75238874718957,"Papua New Guinean kina","PGK",2.1138748075349998,"Rural"]
["Peru","Rural",null,"LW & LI Reference Value",5,2,1.72,2019,21,5.5,167.2,950.53199999999993,557.99079938095292,263.96586845728524,486.04651162790697,2763.1744186046512,1622.0662772702119,767.34264086420126,836,4752.66,2789.9539969047646,1319.8293422864263,2018,null,"Instituto Nacional de Estadistica e Informatica",11.315789473684211,344,104.66735154994088,507.53198766566334,162.73432975964181,1000,304.26555683122348,1475.3836850746027,473.06491209198197,1720,523.33675774970436,2537.6599383283165,813.67164879820905,2018,null,"Wage Indicator",930,282.96696785303783,1372.1068271193806,439.95036824554325,1599.6,486.70318470722503,2360.0237426453346,756.71463338233434,2020,"GLWC",1582,452.65425382409524,396.30169484681755,{"$error":"#REF!"},2721.04,778.56531657744381,681.63891513652618,{"$error":"#REF!"},2020,"GLWC",410,117.31241723633316,824.11973108524057,194.81652012796852,2050,586.56208618166579,4120.5986554262026,974.08260063984255,"Peruvian sol","PEN",2.1138748075349998,"Rural"]
["Rwanda","Rural",null,"LW & LI Reference Value",5,2,1.69,2016,57,1.9,57.76,181.71295999999998,45471.647896280003,143.11207465359365,170.88757396449705,537.61230769230758,134531.50265171597,423.40850489228887,288.8,908.56479999999988,227358.2394814,715.5603732679682,2011,null,"World Bank, 2016",366.46,11140.383999999998,18.557826099638987,31.083515300282674,35.061924087605597,32959.715976331354,54.904810945677475,91.963063018587803,103.73350321776802,55701.919999999991,92.789130498194936,155.41757650141338,175.30962043802796,2019,null,"ILO",2906,3.2312207208635715,18.369489798109402,9.1459999402697321,4911.1399999999994,5.4607630182594358,31.044437758804889,15.456739899055844,2020,"GLWC",147111,155.95719659322242,136.54152327367871,{"$error":"#REF!"},248617.59,263.56766224254591,230.75517433251702,{"$error":"#REF!"},2020,"GLWC",37526.6,39.783179596870525,279.47683666801544,122.41214270090741,187633,198.91589798435263,1397.3841833400772,612.06071350453703,"Rwandan franc","RWF",317.73453083078601,"Rural"]
["South Africa","Rural","Western Cape Province","Living Wage Benchmark",4.5,2,1.64,2014,57,5.5,167.2,380.54719999999992,1814.5640111005341,3991.6223845155223,458.78048780487808,1044.1843902439023,4978.9866158246368,10952.622396536495,752.4,1712.4623999999997,8165.5380499524035,17962.30073031985,2019,null,"Department Statistics South Africa - Republic of South Africa",26.644736842105264,810,56.061465855484812,318.70943338843114,1781.813213355106,2222.560975609756,153.82719289614735,874.50759161459769,4889.1216220109618,3645,252.27659634968165,1434.1924502479401,8018.159460097977,2019,null,"ILO",3547,245.4938510980304,1395.6325434923028,7802.5820589760015,5817.08,402.60991580076984,2288.8373713273763,12796.234576720643,2021,"GLWC",4596,310.77151937250659,262.91270538914057,{"$error":"#REF!"},7537.44,509.66529177091076,431.17683683819052,{"$error":"#REF!"},2019,"Calculated from  GLWC",1544.4444444444443,106.89360430606843,607.69014047999895,3397.4216276592556,6950,481.02121937730794,2734.6056321599954,15288.39732446665,"South African rand","ZAR",0.454593104332632,"Rural Western Cape Province"]
["Sri Lanka","Rural","Estate Sector","Living Wage Benchmark",4.5,2,1.76,2016,11,3.2,97.28,306.04287999999997,14162.184613624291,31153.540338926097,248.72727272727272,782.49599999999987,36210.131114380289,79653.938366572402,437.76,1377.1929599999999,63729.830761309313,140190.93152516746,2016,null,"Department of Census and Statistics, Sri Lanka",137.03947368421052,4166,28.616240435824007,90.026692411102331,9164.2393170831747,10651.704545454546,73.166523841595463,230.18188400565936,23431.2937084513,18747,128.77308196120802,405.12011584996048,41239.076926874288,2019,null,"ILO",13182,73.747548338051118,419.25481230182055,28997.360220304949,23200.32,129.79568507496998,737.88846965120422,51035.353987736707,2019,"GLWC",23785,133.06671500686892,118.86533712158936,{"$error":"#REF!"},41861.599999999999,234.19741841208929,209.20299333399728,{"$error":"#REF!"},2019,"Calculated from  GLWC",8412,47.061475999065848,267.54449105468933,18504.460186102657,37854,211.77664199579633,1203.950209746102,83270.070837461957,"Sri Lankan rupee","LKR",0.454593104332632,"Rural Estate Sector"]
["Tanzania","Rural",null,"LW & LI Reference Value",5.5,null,1.73,2017,77,3.2,97.28,369.08032000000003,216823.17653333367,476960.98877619836,309.27167630057801,1173.3767398843931,689322.23753371974,1516349.9643173937,535.04,2029.9417600000002,1192527.4709333351,2623285.4382690908,2012,null,"World Bank, 2016",847.87199999999996,25775.308799999999,16.399653962433451,29.453794004585898,56699.735553269311,81944.623352601149,52.137628204268196,93.639229494348243,180259.27488033596,141764.19839999999,90.198096793383982,161.99586702522245,311848.54554298118,2013,"Agriculture","Wage Indicator",100000,62.595621331961929,119.16755600805965,219976.93992038345,173000,108.29042490429414,206.15987189394318,380560.10606226337,2020,"GLWC",317779,138.51733026251893,121.27280873853245,{"$error":"#REF!"},549757.67000000004,239.63498135415773,209.80195911766114,{"$error":"#REF!"},2020,"GLWC",83289.454545454544,36.305208596722203,255.04409039197347,186286.26243724601,458092,199.6786472819721,1402.7424971558542,1024574.4434048531,"Tanzanian shilling","TZS",0.454593104332632,"Rural"]
["Tanzania","Urban",null,"Living Wage Reference Value",5,null,1.69,2017,77,3.2,97.28,369.08032000000003,216823.17653333367,476960.98877619836,287.81065088757396,1091.9536094674556,641488.6879684428,1411127.1857283975,486.4,1845.4016000000001,1084115.8826666684,2384804.943880992,2012,null,"World Bank, 2016",847.87199999999996,25775.308799999999,16.399653962433451,29.453794004585898,56699.735553269311,76258.310059171592,48.519686279388907,87.141402380431657,167750.69690316363,128876.54399999999,81.998269812167251,147.26897002292949,283498.67776634655,2013,"Agriculture","Wage Indicator",100000,62.595621331961929,119.16755600805965,219976.93992038345,169000,105.78660005101565,201.39316965362079,371761.02846544806,2020,"GLWC",425608,185.51913090031169,162.42318586687389,{"$error":"#REF!"},719277.52,313.52733122152677,274.49518411501685,{"$error":"#REF!"},2020,"Calculated from  GLWC",122132.24399999999,53.236470559258308,373.98620567878959,273162.54358968436,610661.22,266.18235279629153,1869.9310283939481,1365812.7179484218,"Tanzanian shilling","TZS",0.454593104332632,"Urban"]
["Tunisia","Rural",null,"Living Wage Reference Value",4.5,2,1.46,2015,3,3.2,97.28,275.69152000000003,190.82687999999999,217.51718736675821,299.83561643835617,849.73413698630145,588.16504109589039,670.42968708932324,437.76,1240.61184,858.72095999999999,978.82734315041205,2010,null,"World Bank, 2016",2.7789999999999999,84.4816,59.020259885426853,88.698516691716762,96.297754363764284,260.38849315068495,181.9117599208362,273.38583911830511,296.80814701160227,380.16719999999998,265.59116948442085,399.14332511272545,433.33989463693922,2021,"non-agriculture, 48h/w","Wage Indicator",429,152.54101688085046,1071.6006435879747,489.00277246234538,626.34,233,189,713.94404779502429,2020,"GLWC",695,247.12355881629622,216.35825659010342,{"$error":"#REF!"},1014.6999999999999,360.80039587179249,315.88305462155097,{"$error":"#REF!"},2020,"Calculated from  GLWC",215.10666666666668,76.486223009751697,537.31571664350565,256.54666545039299,967.98,344.18800354388264,2417.9207248957755,1154.4599945267685,"Tunisian dinar","TND",0.87729563953143896,"Rural"]
["Turkey","Rural",null,"Living Income Reference Value",4,2,1.58,2019,10,5.5,167.2,950.53199999999993,950.53199999999993,501.46398285636508,423.29113924050625,2406.4101265822783,2406.4101265822783,1269.5290705224431,668.8,3802.1279999999997,3802.1279999999997,2005.8559314254603,2011,null,"World Bank, 2016",3.1019999999999999,94.300799999999995,56.300512684963962,94.300799999999995,49.749461096040442,238.73620253164555,142.53294350623787,238.73620253164555,125.94800277478592,377.20319999999998,225.20205073985585,377.20319999999998,198.99784438416177,2021,null,"Wage Indicator",3578,509.3238434163701,3578,1887.6146522790125,5653.2400000000007,769,626,2982.4311506008403,null,null,null,{"$error":"#N/A"},{"$error":"#N/A"},{"$error":"#REF!"},0,{"$error":"#N/A"},{"$error":"#N/A"},{"$error":"#REF!"},2020,"GLWC",887.75,126.37010676156584,887.75,524.86673344502356,3551,505.48042704626334,3551,2099.4669337800942,"Turkish lira","TRY",1.8955139999999999,"Rural"]
["Uganda","Rural","Lake Victoria Basin","Living Wage Benchmark",5,2,1.78,2016,41,1.9,57.76,181.71295999999998,197544.8608986075,151.73504673897222,162.24719101123597,510.42966292134821,554901.29465900979,426.22204140160727,288.8,908.56479999999988,987724.30449303752,758.67523369486105,2016,null,"Uganda Bureau of Statistics",1006.9407894736843,30611,8.9503283049590241,28.157732847401089,23.512439121920075,85985.955056179781,25.141371643143327,79.094755189328893,66.046177308764257,153055,44.751641524795119,140.78866423700543,117.56219560960038,2017,null,"Wage Indicator",130000,35.998870053730151,136.5797129838522,99.853552182209327,231400,64.077988695639675,243.11188911125691,177.73932288433261,2019,"GLWC",652311,176.10754808417775,157.31269139395025,{"$error":"#REF!"},1161113.58,313.4714355898364,280.01659068123143,{"$error":"#REF!"},2019,"Calculated from  GLWC",197859.6,53.417110888696001,303.67627540223674,151.97679917962358,989298,267.08555444348002,1518.3813770111838,759.88399589811786,"Ugandan shilling","UGX",1301.9066138256201,"Rural Lake Victoria Basin"]
["Vietnam","Rural","Economic Zone 4","Living Wage Benchmark",4,2,1.87,2018,7,3.2,97.28,471.71072000000004,2198727.4240000001,294.43550135821437,208.08556149732618,1009.0068877005348,4703160.2652406413,629.80855905500391,389.12,1886.8428800000002,8794909.6960000005,1177.7420054328575,2016,"2016/ 20","ILO, rural ",23026.315789473687,700000,31.912467445009266,100.39662258199915,93.738245450996857,1497326.2032085562,68.261962449217677,214.75213386523882,200.50961593796117,2800000,127.64986978003706,401.58649032799661,374.95298180398743,2021,"region 4","Wage Indicator",3070000,132.27987232478878,929.26610308164129,411.10916219222906,5740900,247.36336124735504,1737.7276127626694,768.7741332994683,2020,"GLWC",4618167,198.98714694936575,174.21452007255752,{"$error":"#REF!"},{"$f":"AZ65*G65","v":8635972.290000001},372.10596479531398,325.78115253568257,{"$error":"#REF!"},2020,"Calculated from  GLWC",1932298.5,83.258696701426999,584.89234432752471,262.58153301888927,7729194,333.03478680570799,2339.5693773100988,1050.3261320755571,"Vietnamese dong","VND",7467.6029685869898,"Rural Economic Zone 4"]
["Vietnam","Urban","Ho Chi Minh City","Living Wage Benchmark",4,2,1.78,2018,7,3.2,97.28,471.71072000000004,2198727.4240000001,294.43550135821437,218.6067415730337,1060.0240898876405,4940960.503370787,661.65281204093117,389.12,1886.8428800000002,8794909.6960000005,1177.7420054328575,2016,"2016/ 20","ILO, urban",29605.263157894737,900000,41.030315286440484,129.08137189114177,120.52060129413881,2022471.9101123596,92.202955699866251,290.07049863177923,270.83281189694117,3600000,164.12126114576193,516.32548756456708,482.08240517655526,2021,"region 1","Wage Indicator",4420000,190.44854582266009,1337.9010344041872,591.89006413343725,7867600,338.99841156433496,2381.4638412394534,1053.5643141575183,2020,"GLWC",7446294,320.84521811493187,280.90204090262756,{"$error":"#REF!"},13254403.32,571.10448824457876,500.00563280667706,{"$error":"#REF!"},2020,"Calculated from  GLWC",2965673,127.78464032477959,897.6870982815766,403.00759058330198,11862692,511.13856129911835,3590.7483931263064,1612.0303623332079,"Vietnamese dong","VND",7467.6029685869898,"Urban Ho Chi Minh City"]
[]
[{"$f":"SUM(IF(A7:A66<>\"\",1/COUNTIF(A7:A66,A7:A66)))","v":42}]

{"sheet":"hide_Benchmarks","index":7,"n_rows":44,"n_cols":51,"rows_kept":44,"cut":false,"hidden":true,"merged":[]}
[]
["Countries",null,"Locality",null,"Region",null,"Commodity ",null,"Currency ",null,null,"Argentina","Bangladesh","Brazil","Burkina Faso","Cameroon","Chile","China","Colombia","Costa Rica","Cote d'Ivoire","Dominican Republic","Ecuador","Egypt, Arab Rep.","El Salvador","Ethiopia","Ghana","Guatemala","Honduras","India","Kenya","Madagascar","Malawi","Mexico","Morocco","Mozambique","Nicaragua","Nigeria","Pakistan","Panama","Papua New Guinea","Peru","Rwanda","South Africa","Sri Lanka","Tanzania","Tunisia","Turkey","Uganda","Vietnam","Other Country"]
["Argentina",null,"Urban",null,"Satellite Cities and Districts Surrounding Dhaka",null,"Banana",null,"EUR",null,null,"Urban","Urban Satellite Cities and Districts Surrounding Dhaka","Urban Minas Gerais South/Southwestern Region","Rural","Rural","Non-Metropolitan Urban","Urban Zhengzhou","Urban-Rural Caribbean coast","Rural Limón and Heredia Provinces","Rural","Rural Northern Region","Rural Southern Coastal Region","Rural","Rural","Non-Metropolitan Urban Ziway Region","Peri-Urban Lower Volta Region","Rural Central Valley Area","Rural","Urban Tiruppur, Tamil Nadu","Rural Mount Kenya","Rural","Rural Southern Region","Non-metropolitan Urban & Rural Michoacán, northwestern regions","Rural","Rural","Urban Managua Free Trade Zone","Rural","Rural Sialkot","Rural","Rural","Rural","Rural","Rural Western Cape Province","Rural Estate Sector","Rural","Rural","Rural","Rural Lake Victoria Basin","Rural Economic Zone 4","Rural"]
["Bangladesh",null,"Rural",null,"Dhaka City",null,"Cocao",null,"LCU",null,null,"Rural","Urban Dhaka City","Non-metropolitan State of São Paulo, non-metropolitan areas",null,null,null,"Urban Chengdu",null,null,"Rural Cocoa growing areas",null,null,null,null,null,"Rural Cocoa growing areas of Ashanti, Central, Eastern, Western Regions",null,null,"Rural Bhadohi, Uttar Pradesh","Non-metropolitan Urban Lake Naivasha",null,null,null,null,null,"Rural-Urban Northwest",null,"Urban Sialkot",null,null,null,null,null,null,"Urban",null,null,null,"Urban Ho Chi Minh City","Urban"]
["Belize",null,"Non-metropolitan",null,"Minas Gerais South/Southwestern Region",null,"Coffee",null,"USD",null,null,null,null,null,null,null,null,"Urban Hangzhou",null,null,null,null,null,null,null,null,null,null,null,"Rural Rural Nilgiris, Tamil Nadu",null,null,null,null,null,null,null,null,null,null,null,null,null,null,null,null,null,null,null,null,"Urban-Rural"]
["Brazil",null,"Non-Metropolitan Urban",null,"State of São Paulo, non-metropolitan areas",null,"Orange",null,null,null,null,null,null,null,null,null,null,"Urban Shanghai",null,null,null,null,null,null,null,null,null,null,null,null,null,null,null,null,null,null,null,null,null,null,null,null,null,null,null,null,null,null,null,null,"Non-metropolitan"]
["Burkina Faso",null,"Urban-Rural",null,"Zhengzhou",null,"Palmoil",null,null,null,null,null,null,null,null,null,null,"Urban Shenzhen",null,null,null,null,null,null,null,null,null,null,null,null,null,null,null,null,null,null,null,null,null,null,null,null,null,null,null,null,null,null,null,null,"Peri-Urban"]
["Cameroon",null,"Peri-Urban",null,"Chengdu",null,"Soy",null,null,null,null,null,null,null,null,null,null,"Urban Suzhou"]
["Chile",null,"Non-metropolitan Urban & Rural",null,"Hangzhou",null,"Vanila"]
["China",null,"Rural-Urban",null,"Shanghai"]
["Colombia",null,null,null,"Shenzhen"]
["Costa Rica",null,null,null,"Suzhou"]
["Cote d'Ivoire",null,"Production Scenario",null,"Caribbean coast"]
["Democratic Republic of Congo",null,"Business as ususal",null,"Limón and Heredia Provinces"]
["Dominican Republic",null,"Good Agricultural Practices",null,"Cocoa growing areas"]
["Ecuador",null,"Model data",null,"Northern Region"]
["Egypt, Arab Rep.",null,"Other data",null,"Southern Coastal Region"]
["El Salvador",null,null,null,"Ziway Region"]
["Ethiopia",null,null,null,"Lower Volta Region"]
["Gabon",null,null,null,"Cocoa growing areas of Ashanti, Central, Eastern, Western Regions"]
["Ghana",null,null,null,"Central Valley Area"]
["Guatemala",null,null,null,"Tiruppur, Tamil Nadu"]
["Honduras",null,null,null,"Bhadohi, Uttar Pradesh"]
["India",null,null,null,"Rural Nilgiris, Tamil Nadu"]
["Kenya",null,null,null,"Mount Kenya"]
["Madagascar",null,null,null,"Lake Naivasha"]
["Malawi",null,null,null,"Southern Region"]
["Mexico",null,null,null,"Michoacán, northwestern regions"]
["Morocco",null,null,null,"Managua Free Trade Zone"]
["Mozambique",null,null,null,"Northwest"]
["Nicaragua",null,null,null,"Sialkot"]
["Nigeria",null,null,null,"Western Cape Province"]
["Pakistan",null,null,null,"Estate Sector"]
["Panama",null,null,null,"Lake Victoria Basin"]
["Papua New Guinea",null,null,null,"Economic Zone 4"]
["Peru",null,null,null,"Ho Chi Minh City"]
["Rwanda"]
["South Africa"]
["Sri Lanka"]
["Tanzania"]
["Tunisia"]
["Turkey"]
["Uganda"]
["Vietnam"]